{"text_format":"3","workbook":"xlsx","n_sheets":13,"sheets":["NOMBRE","Filtro","P1","P2","P3","P4","P5","P6","P7","P9","P11","P12","P13"],"not_rendered":{"macros":1,"external_links":1,"defined_names":9,"comments":1,"pivot_tables":1},"read":"whole","date_system":"1900"}

{"sheet":"NOMBRE","index":0,"n_rows":40,"n_cols":33,"rows_kept":40,"hidden":true,"merged":[[0,0,0,1],[0,2,0,7],[8,0,8,1],[14,0,14,1],[16,1,18,1]]}
[null,null,"CÓDIGOS"]
["NOMBRE DE COMUNA",{"$nulls":7},{"$f":"IF(OR(NOMBRE!C2=\"\",NOMBRE!D2=\"\",NOMBRE!E2=\"\",NOMBRE!F2=\"\",NOMBRE!G2=\"\"),\"Falta Cód. Com.\",\"\")","v":"Falta Cód. Com."},{"$nulls":23},{"$f":"IF(I2>\"\",1,0)","v":1}]
["NOMBRE ESTABLECIMIENTO/ESTRATEGIA",{"$nulls":7},{"$f":"IF(OR(NOMBRE!C3=\"\",NOMBRE!D3=\"\",NOMBRE!E3=\"\",NOMBRE!F3=\"\",NOMBRE!G3=\"\",NOMBRE!H3=\"\"),\"Falta Cód. Est.\",\"\")","v":"Falta Cód. Est."},{"$nulls":23},{"$f":"IF(I3>\"\",1,0)","v":1}]
["TIPO DE ESTABLECIMIENTO/ESTRATEGIA",{"$nulls":7},{"$f":"IF(OR(NOMBRE!B4=\"\"),\"Falta Tipo. Est.\",\"\")","v":"Falta Tipo. Est."},{"$nulls":23},{"$f":"IF(I4>\"\",1,0)","v":1}]
["DEPENDENCIA",{"$nulls":7},{"$f":"IF(OR(NOMBRE!B5=\"\"),\"Falta Dependencia. Est.\",\"\")","v":"Falta Dependencia. Est."},{"$nulls":23},{"$f":"IF(I5>\"\",1,0)","v":1}]
["MES:",{"$nulls":7},{"$f":"IF(OR(NOMBRE!C6=\"\",NOMBRE!D6=\"\"),\"Falta Cód. Mes.\",\"\")","v":"Falta Cód. Mes."},{"$nulls":23},{"$f":"IF(I6>\"\",1,0)","v":1}]
["AÑO:",2023,{"$nulls":30},{"$f":"SUM(AG2:AG6)","v":5}]
[]
["Versión 1.1: Junio 2023 "]
[]
["Director/a Servicio de Salud o Director/a Establecimiento",{"$nulls":25},"JUNIO","Establecimiento de Mayor Complejidad (EMAYC)","SERVICIO DE SALUD"]
["Jefe/a de Estadísticas",{"$nulls":25},"DICIEMBRE","Establecimiento de Mediana Complejidad (EMEDC)","MUNICIPAL"]
[{"$nulls":27},"Establecimiento de Menor Complejidad (EMENC)","Organizaciones sin fines de lucro y ONG (Delegado)"]
[{"$nulls":27},"Centros de Diagnóstico Terapeutico (CDT)"]
["MINSAL - DEIS",{"$nulls":26},"Centro de Referencia de Salud (CRS)"]
[{"$nulls":27},"Consultorio General Urbano (CGU)"]
[null,"SERIE P\n",{"$nulls":25},"Consultorio General Urbano (CGU) - CESFAM"]
[{"$nulls":27},"Consultorio General Urbano(CGU) con SAPU/SUR/SAR"]
[{"$nulls":27},"Consultorio General Urbano (CGU) - CESFAM con SAPU/SAR"]
[{"$nulls":27},"Consultorio General Rural (CGR)"]
[{"$nulls":27},"Consultorio General Rural (CGR) - CESFAM"]
[{"$nulls":27},"Consultorio General Rural (CGR) con SAPU/SAR/SUR"]
[{"$nulls":27},"Consultorio General Rural (CGR) - CESFAM con SAPU/SAR/SUR"]
[{"$nulls":27},"Posta de Salud Rural (PSR)"]
[{"$nulls":27},"Centro Comunitario de Salud Familiar (CECOF)"]
[{"$nulls":27},"Consultorio de Salud Mental (COSAM)"]
[{"$nulls":27},"Programa de Reparación y Atención Integral de Salud (PRAIS)"]
[{"$nulls":27},"Centro de Atención Funcionarios (CAF)"]
[{"$nulls":27},"Unidad de Salud de Funcionarios (USF)"]
[{"$nulls":27},"ClÍnica Dental Móvil (CDM)"]
[{"$nulls":27},"Dirección Servicio de Salud (DSS)"]
[{"$nulls":27},"Servicio de Atención Primaria de Urgencia (SAPU)"]
[{"$nulls":27},"Servicio de Atención Primaria de Urgencia de Alta Resolutividad (SAR)"]
[{"$nulls":27},"Servicio de Urgencia Rural (SUR)"]
[{"$nulls":27},"Laboratorio Clínico o Dental"]
[{"$nulls":27},"Servicio de Atención Primaria de Urgencia Dental (SAPUDENT)"]
[{"$nulls":27},"Centro de Rehabilitación (CR)"]
[{"$nulls":27},"Hospital de Campaña"]
[{"$nulls":27},"Centro Oncologico"]
[{"$nulls":27},"SAMU"]

{"sheet":"Filtro","index":1,"n_rows":629,"n_cols":51,"rows_kept":629}
["Mes","(Todas)"]
["Comuna/ Hospital","(Todas)"]
["Establecimiento","(Todas)"]
[]
["Etiquetas de fila","Suma de Col01","Suma de Col02","Suma de Col03","Suma de Col04","Suma de Col05","Suma de Col06","Suma de Col07","Suma de Col08","Suma de Col09","Suma de Col10","Suma de Col11","Suma de Col12","Suma de Col13","Suma de Col14","Suma de Col15","Suma de Col16","Suma de Col17","Suma de Col18","Suma de Col19","Suma de Col20","Suma de Col21","Suma de Col22","Suma de Col23","Suma de Col24","Suma de Col25","Suma de Col26","Suma de Col27","Suma de Col28","Suma de Col29","Suma de Col30","Suma de Col31","Suma de Col32","Suma de Col33","Suma de Col34","Suma de Col35","Suma de Col36","Suma de Col37","Suma de Col38","Suma de Col39","Suma de Col40","Suma de Col41","Suma de col42","Suma de col43","Suma de col44","Suma de col45","Suma de col46","Suma de col47","Suma de col48","Suma de col49","Suma de col50"]
["P1010100",6906,0,50,382,1112,1502,1357,1097,913,544,131,{"$nulls":3},94,243,7]
["P1010201",13647,305,2224,2791,2377,2256,1909,1302,727,186,14,{"$nulls":3},152,418,3]
["P1010202",4737,20,173,328,624,740,681,823,992,462,40,{"$nulls":3},54,160,0]
["P1010203",6655,86,979,1629,1457,1107,803,495,233,52,6,{"$nulls":3},112,287,2]
["P1010301",1702,32,251,209,243,265,224,227,139,111,32,{"$nulls":3},21,96,4]
["P1010302",649,46,277,73,65,60,39,50,22,5,16,{"$nulls":3},1,41,5]
["P1020100",6,6,1,4,1]
["P1020200",172,82,8,63,25]
["P1030101",1282,1,34,260,391,381,192,52,1,0]
["P1030102",1089,1,39,247,344,298,152,32,2,0]
["P1030103",824,3,77,227,261,164,92,21,1,0]
["P1030104",127,1,22,36,34,25,8,1,0,0]
["P1030201",228,0,11,46,60,61,42,8,0,0]
["P1030202",196,0,7,41,60,59,20,8,1,0]
["P1030203",151,0,20,42,59,26,2,1,1,0]
["P1030204",6,null,2,1,2,1]
["P1030301",3794]
["P1030303",4]
["P1030304",67]
["P1030401",34]
["P1030403",316]
["P1030404",672]
["P1040500",9777,185,1824,2326,2124,1728,1015,546,244,47,2,{"$nulls":3},111,795,6]
["P1040501",771,189,14,208,107]
["P1040502",348,348]
["P1040503",108,216]
["P1040504",70,210]
["P1040505",42,113]
["P1040506",20]
["P1040507",5]
["P1040508",13438,171,1278,2352,2825,2569,1863,1319,1070,345,10,{"$nulls":3},206,793,7]
["P1050100",34]
["P1050101",703]
["P1050102",588]
["P1050103",51]
["P1050104",237]
["P1060010",3273,0,11,102,185,302,515,723,855,545,150,{"$nulls":3},31,46,0]
["P1060040",2635]
["P1060050",1220]
["P1060060",607]
["P1060070",39]
["P1060080",11]
["P1060090",4886,115,1320,1190,865,665,456,271,187,54,7,{"$nulls":3},55,239,3]
["P1060100",1030,227,18,385,120]
["P1060101",868,166,15,390,87]
["P1060102",446,83,8,230,59]
["P1060103",109,27,1,75,12]
["P1060104",4,1,0,2,0]
["P1060106",3,4,2,2]
["P1060107",78,137,94,62]
["P1060108",380,451,337,169]
["P1060109",501,669,475,235]
["P1060110",465,557,456,210]
["P1060111",210,290,220,111]
["P1060112",50,62,48,24]
["P1060113",2,3,2,2]
["P1060115",36]
["P1060116",120]
["P1060117",30]
["P1060118",13]
["P1060119",9]
["P1060120",30]
["P1060121",14]
["P1060122",15]
["P1060123",14]
["P1060124",1221,3,36,151,289,336,217,147,65,12,4,{"$nulls":3},29,63,2]
["P11000140",12,2,10,0,0,0,0,1,1,0,0,1,5,0,2,0,2,0,0,0,0,0,0,0,0,0,0,0,0,0,0,0,0,0,7]
["P11000150",4,null,4,{"$nulls":13},1,{"$nulls":3},2,null,1,{"$nulls":18},0,0,1,1,0,0]
["P11000160",7,null,7,{"$nulls":15},1,null,1,null,5,{"$nulls":18},0,0,0,0,0,0]
["P11000170",2228,1805,423,0,0,0,0,1,0,1,0,2,3,6,8,86,11,261,27,378,54,267,64,236,57,150,50,158,51,108,48,86,26,26,13,21,11,12,0,6,0,16,16,5,294,0,0]
["P11000180",81,60,21,0,0,0,0,0,0,0,0,0,0,0,0,6,1,13,0,12,3,13,7,11,2,1,3,4,1,0,0,0,4,0,0,0,0,0,0,0,0,0,0,0,5,0,0]
["P11000190",5,null,5,{"$nulls":13},1,{"$nulls":3},2,null,2,{"$nulls":18},0,0,1,1,0,0]
["P11000200",1934,1577,357,0,0,0,0,1,0,0,0,2,3,5,5,68,9,212,23,327,39,231,50,219,50,136,43,139,44,96,42,76,25,26,12,21,11,12,0,6,1,12,0,4,143,0,0]
["P1200190",2989,70,576,731,670,520,326,183,58,5,0,{"$nulls":3},40,332,2]
["P1200200",566,7,94,104,111,80,50,47,24,27,15,2,3,2,14,25,3]
["P1200210",36,4,14,2,5,1,2,1,2,1,2,2,0,0,0,2,0]
["P1200220",1087,0,21,53,71,78,73,80,147,207,175,104,47,31,7,36,2]
["P1200230",16,1,1,1,1,1,2,5,8,2,0,1,0,0,0,0,0]
["P1200240",2859,0,0,19,127,356,647,718,565,321,195,{"$nulls":3},48,144,7]
["P1200250",5,{"$nulls":4},2,1,1,1,{"$nulls":5},0,0,0]
["P1200270",391,5,52,121,134,78,37,12,1,0,0,{"$nulls":3},12,16,0]
["P1200280",62,4,10,23,17,8,0,2]
["P1200290",148,3,24,54,46,21,2,2]
["P1200300",40,1,3,14,15,7,0,1]
["P1200310",73,36,6,16,12,3,0,0]
["P1200320",9,0,5,4,0,0,0,0]
["P1200330",450,10,83,202,128,30,3,13]
["P1200340",22]
["P1200350",325,4,42,52,62,58,43,19,40,3,0,0,2,0,1,7,0]
["P1206010",9159,0]
["P1206020",9600,0]
["P1206030",8490,0]
["P1206040",7797,0]
["P1206050",7612,0]
["P1206060",7449,0]
["P1206070",7027,0]
["P1206080",5711,0]
["P1207010",2685,2238,320,73,18,21,5,8,1,1,0]
["P1207020",2816,2324,286,53,102,15,11,23,1,1,0]
["P1207030",6595]
["P1207040",5254]
["P1207050",2930]
["P1207060",1245]
["P1207070",466]
["P1207080",165]
["P1207090",7941]
["P1207100",6222]
["P1207110",2747]
["P1207120",780]
["P1207130",257]
["P1207140",68]
["P1207150",5844,0]
["P1207160",2394,0]
["P1207170",1361,1115,170,34,13,17,10,2,0,0,0]
["P1207180",24064]
["P1207190",163]
["P1208020",2487,2042,243,52,112,12,8,15,3,0,0]
["P1208030",2321,1950,204,38,92,10,6,19,2,0,0]
["P1208040",2350,2022,181,46,80,7,3,8,3,0,0]
["P1208050",2199,1938,165,25,58,3,2,7,1,0,0]
["P1208060",2141,1824,191,31,85,1,4,4,1,0,0]
["P1208070",1718,1500,146,19,47,2,0,2,1,1,0]
["P1208080",635,570,53,7,2,1,0,1,0,1,0]
["P1208090",176,164,5,5,0,2,0,0,0,0,0]
["P1208100",48,46,1,1,0,0,0,0,0,0,0]
["P1220020",10659]
["P1220030",6998]
["P1220070",26273]
["P1220090",8522]
["P1220091",2,3,0,1,0,0,0,1,0,0,0]
["P1220092",9,7,0,1,0,1,0,1,0,0,0]
["P1220093",13,12,0,0,0,3,0,0,0,0,0]
["P1220094",10,11,0,0,0,1,1,1,0,0,0]
["P1220095",18,15,0,1,0,1,1,1,0,0,0]
["P1220096",10,11,1,0,0,1,1,0,0,0,0]
["P1220097",12,9,0,0,1,1,1,0,1,1,0]
["P1220098",6,5,0,1,0,0,0,0,0,0,0]
["P1220099",1,1]
["P1220101",1,{"$nulls":8},1]
["P1230001",564,0]
["P1230002",198,0]
["P1230003",48,0]
["P1230004",9,9,0,0,0,0,0,0,0,0,0]
["P1240010",2782,0]
["P1240011",2950,0]
["P1240012",2577,0]
["P1240013",2547,0]
["P1240014",2342,0]
["P1240015",2136,0]
["P1240016",1500,0]
["P1240017",1702,1321,93,23,282,0]
["P1240018",1794,1533,63,24,206,0]
["P1240019",1586,1382,65,17,149,0]
["P1240020",1549,1383,46,7,129,0]
["P1240021",1371,1219,59,10,101,0]
["P1240022",1323,1178,37,10,109,0]
["P1240023",875,792,26,2,62,0]
["P1240024",117,107,2,2,6,0]
["P1240025",2,2,0,0,0,0]
["P1240026",1,{"$nulls":3},1]
["P1240028",3,0,1,0,2,0]
["P1240030",1,1]
["P1240032",1,0,1,0,0,0]
["P1240033",2,1,0,0,1,0]
["P1240034",1,1,0,0,0,0]
["P1310020",2870,1315,1555,332,395,353,309,390,470,223,346,12,9,5,26,33,47]
["P1310030",199,102,97,19,11,24,19,29,34,30,33,0,0,0,0,4,0]
["P1310040",27,26,1,{"$nulls":4},1,0,20,1,5,0,0,0,1,1]
["P1310050",442,8,434,{"$nulls":4},4,48,4,136,0,55,0,195,5,10,129,30]
["P1310060",21,7,14,{"$nulls":4},1,3,4,10,2,0,0,1,0,0,21,0]
["P1310070",660,335,325,140,144,195,181,{"$nulls":8},5,12,434,36]
["P1310080",533,239,294,{"$nulls":4},157,194,82,100,0,0,0,0,7,11,423,32]
["P1310090",1257,580,677,12,14,179,148,201,272,171,217,13,7,4,19,18,10,794,293]
["P1320010",159,69,90,9,18,22,21,25,27,12,24,1,0,null,null,2,4,105,20]
["P1600100",20831,116,1366,2881,3757,3939,3329,2601,1981,861]
["P1600101",20071,211,1923,3051,3561,3596,3049,2228,1653,799]
["P1600102",16819,387,3087,3594,3128,2611,1667,1199,818,328]
["P1600103",887,42,294,230,187,91,51,26,20,3]
["P1600105",222,1,17,40,48,57,41,15,5,1,0,{"$nulls":3},3,9,0]
["P1600106",174,1,34,47,48,32,10,5,1,0,0,{"$nulls":3},0,12,0]
["P1600107",6,0,1,3,2,0,0,0,0,0,0,{"$nulls":3},0,1,0]
["P1600108",83,2,11,29,13,15,9,4,2,0,0,{"$nulls":3},0,12,1]
["P1600109",6,0,0,2,1,2,1,0,0,0,0,{"$nulls":3},0,2,0]
["P1600110",78,7,7,23,30,11,0,3]
["P1600111",6,6,4,6,6,6]
["P1600112",165,153,154,53,48,47]
["P1600113",767,706,692,159,139,138]
["P1600114",1009,942,924,219,180,174]
["P1600115",857,783,773,212,169,168]
["P1600116",429,394,384,108,85,85]
["P1600117",104,99,95,21,16,14]
["P1600118",4,4,4,1,1,1]
["P1600120",null,97,133,null,234,270]
["P2060000",29091,15177,14278,173,179,277,253,301,314,269,265,302,317,265,295,403,368,1244,1257,1613,1518,1529,1502,2796,2689,3022,2925,2983,2765,152,200,339,355]
["P2070101",1557,862,695,8,12,22,18,21,32,15,12,10,18,13,10,25,11,56,52,112,59,110,72,174,122,172,158,145,135,5,10,20,26]
["P2070102",222,132,90,9,3,5,7,7,5,2,1,3,2,5,2,3,0,4,3,21,8,19,8,24,21,19,15,14,18,1,0,4,5]
["P2070201",3490,1840,1650,13,6,14,15,15,10,20,19,34,19,25,21,41,34,161,137,200,177,164,160,276,286,437,391,489,426,8,4,8,15]
["P2070202",6425,3248,3177,14,9,39,32,68,61,50,43,62,74,69,74,105,110,361,337,406,412,338,367,610,563,609,644,602,530,18,17,32,31]
["P2070301",877,499,378,11,19,15,16,16,19,14,5,12,10,10,1,18,8,35,23,40,29,47,40,111,66,102,83,81,64,0,5,14,14]
["P2070302",138,83,55,5,4,3,4,4,3,5,0,0,1,2,2,1,0,6,5,13,4,5,1,10,12,20,8,9,12,0,0,1,13]
["P2070401",3720,1953,1767,10,10,25,33,47,45,34,20,38,30,35,33,48,37,205,188,275,210,253,203,359,330,356,344,297,314,11,18,37,55]
["P2070402",660,403,257,11,2,11,9,18,9,8,4,12,4,8,4,15,3,42,22,86,31,58,29,66,45,37,51,35,50,5,3,7,4]
["P2070501",915,523,392,null,null,17,17,16,27,17,11,8,14,13,11,20,11,51,38,48,32,54,33,109,57,104,82,79,62,4,7,18,17]
["P2070502",107,74,33,null,null,2,4,8,2,3,0,1,1,5,2,3,0,3,1,11,3,6,0,7,11,18,4,7,7,0,0,1,3]
["P2070503",6727,3393,3334,null,null,39,29,68,65,54,49,62,77,74,78,108,117,384,360,436,439,357,394,634,593,630,710,655,572,36,39,66,64]
["P2070504",3647,1907,1740,null,null,17,6,14,10,22,22,39,19,24,27,50,36,168,156,209,187,174,174,291,299,447,436,503,463,22,22,25,19]
["P2070505",17718,8929,8789,null,null,202,205,195,208,172,183,188,204,148,176,222,203,634,696,911,851,934,902,1753,1721,1930,1852,1831,1773,87,99,211,231]
["P2070506",13,5,8,null,null,0,1,0,0,0,0,1,0,0,0,0,0,0,1,1,0,0,1,1,1,1,3,1,1,0,0,1,1]
["P2090300",6168,320,535,711,530,724,482,746,2244,null,48,22]
["P2090400",998,27,74,105,67,102,69,135,432,195,7,3]
["P2100100",407,7,33,49,30,39,54,37,161,174,2,5]
["P2100200",117,60,57,4,2]
["P2100500",9,7,2,0,0]
["P2100600",53,25,28,2,0]
["P2200700",2495]
["P2200800",1588]
["P2300000",12,12,0,1,0]
["P2300100",53,35,18,3,2]
["P2300200",276,174,102,3,3]
["P2300300",12,9,3,0,0]
["P2300400",136,94,42,1,2]
["P2300530",12914,6259,6655,695,788,2097,2220,3467,3647,0]
["P2300540",697,350,347,32,29,103,117,215,201,3]
["P2300550",236,122,114,17,17,34,31,71,66,4]
["P2300560",56,31,25,3,8,15,5,13,12,14]
["P2300570",9609,1391,1927,1751,1669,1584,1287]
["P2300580",4269,687,899,729,609,710,635]
["P2400100",2565,1378,1187,13,8,11,4,7,6,15,19,27,16,16,22,36,17,101,102,130,113,107,116,220,216,352,290,372,297,14,10,20,17]
["P2400110",5608,2749,2859,12,17,37,22,45,38,44,52,48,44,42,60,84,99,272,308,316,342,314,344,495,592,557,565,557,457,20,30,39,42]
["P2400120",761,453,308,2,7,6,6,4,2,9,4,9,4,4,2,20,6,39,27,30,26,33,28,79,62,99,64,122,77,4,6,7,10]
["P2400130",3392,1716,1676,18,28,24,13,19,35,26,29,34,27,21,32,47,34,138,155,153,156,158,166,284,379,404,369,422,290,12,20,23,18]
["P2400140",16129,8041,8574,79,84,161,154,145,180,133,163,167,191,155,179,208,225,660,702,878,885,822,885,1634,1527,1801,1769,1694,1630,78,93,144,128]
["P2400150",17285,8714,8726,2587,2552,2152,1996,1694,1706,1381,1411,1058,1061,144,153,293,287]
["P2400160",1554,1008,546,190,98,247,131,219,129,218,122,143,73,4,8,4,4]
["P2400170",2976,1472,1530,371,365,305,327,276,300,275,309,271,229,13,10,16,13]
["P2400180",3561,1728,1833,493,469,394,412,362,377,287,333,221,269,13,9,29,26]
["P2400190",608,319,289,92,80,94,64,71,64,46,51,25,33,4,3,14,11]
["P2400200",64,31,33,7,10,8,4,7,7,8,6,1,6,1,2,1,1]
["P2400210",6561,3212,3349,1072,1126,863,824,561,616,395,425,321,358,55,63,144,170]
["P2400220",871,429,442,125,110,108,95,74,93,63,93,64,55,9,10,7,11]
["P2400230",2904,1493,1411,408,333,347,306,293,289,268,278,194,221,12,15,30,26]
["P2400240",1428,732,696,245,251,171,139,134,158,117,86,80,71,8,9,37,34]
["P2400250",198,109,89,35,28,27,15,19,25,15,11,15,10,5,2,7,1]
["P2400260",9366,4728,4638,1385,1400,1182,1110,894,874,688,696,579,558,61,63,145,150]
["P2400270",8391,4160,4231,1245,1276,1063,999,831,837,649,667,423,505,32,33,105,118]
["P2400280",2651,1329,1322,356,324,316,279,250,267,232,259,192,206,11,10,11,11]
["P2400290",3209,1701,1535,382,325,343,315,353,334,355,320,288,241,13,13,20,13]
["P2400300",584,297,287,85,81,85,64,69,60,45,55,22,30,5,3,10,12]
["P2400310",59,31,28,8,7,6,3,6,9,9,5,2,4,0,0,1,1]
["P2400320",3566,1731,1835,528,471,396,416,357,375,285,328,223,272,21,23,47,36]
["P2400330",3032,1508,1550,403,373,307,323,287,309,284,310,271,235,14,17,17,22]
["P2400340",1518,988,530,187,95,240,131,216,121,208,120,145,70,7,3,14,4]
["P2400350",8525,4158,4367,1422,1521,1114,1054,756,833,550,594,397,447,59,62,153,150]
["P2400360",7,3,4,0,3,2,1,0,0,0,0,1,0,0,0,0,0]
["P2500200",14,8,6,0,0,0,0,0,0,0,0,0,0,0,0,0,0,0,0,0,0,0,0,0,0,0,0,0,0,0,1,4,0,2,3,1,1,1,1,0,0,0,0,0,0]
["P2500300",1,0,1,{"$nulls":33},1,0,0,0,0,0,0,0,0]
["P2500400",119,49,70,0,0,0,0,0,1,1,1,3,2,1,0,0,0,1,5,2,6,2,4,9,8,5,4,1,0,8,8,7,9,4,14,4,3,3,3,0,4,1,0,1,1]
["P2500500",821,609,212,0,0,0,0,0,0,0,0,0,0,1,0,0,0,0,0,4,0,3,1,41,20,84,31,33,10,132,55,99,34,126,37,73,13,32,12,8,4,1,3,3,0]
["P2500600",9,6,3,0,0,0,0,0,0,0,0,0,0,0,0,0,0,0,0,0,0,0,0,0,0,1,0,0,0,2,0,0,1,1,0,0,0,2,2,1,0,0,0,0,0]
["P2500700",52,28,24,0,0,0,0,0,0,0,0,0,0,0,0,0,2,0,0,0,1,1,0,2,0,2,0,0,0,3,1,3,1,6,6,0,2,8,7,6,4,0,0,0,1]
["P2501400",3,0,3,0,0,0,0,0,0,0,0,0,0,0,0,0,0,0,0,0,0,0,0,0,0,0,1,0,0,0,0,0,0,0,0,0,2,0,0,0,0,0,0,0,0]
["P2501600",1489,835,654,3,4,17,6,20,10,17,13,14,12,10,8,18,13,74,61,115,91,66,38,107,107,88,56,17,13,102,77,85,52,114,97,58,49,5,3,0,3,4,5,2,5]
["P2501700",32,18,14,{"$nulls":8},1,{"$nulls":5},2,2,2,2,1,null,2,2,2,1,null,null,3,2,3,1,2,4,{"$nulls":6},0,0,0,0]
["P2501800",160,80,80,72,74,0,0,0,0,0,0,0,0,0,0,0,0,0,0,0,2,0,2,1,0,3,0,4,2,0,0,0,0]
["P2501801",18,8,10,1,1,2,3,1,1,1,2,3,3,0,0,0,0]
["P2501802",2434,1230,1204,27,8]
["P2501803",812,401,419,3,6]
["P2501804",2045,971,1074,18,17]
["P2501805",971,484,487,4,3]
["P2501806",2203,1032,1171,27,30]
["P2501807",688,374,317,7,3]
["P2501808",71,42,29,0,0]
["P2501809",38,20,18,1,0]
["P2501810",139,86,54,4,2]
["P2501811",107,78,29,2,2]
["P2501812",208,106,105,3,4]
["P2501813",19,15,4,0,0]
["P2501814",109,72,37,3,2]
["P2501815",206,126,82,4,4]
["P2501816",24,15,9,0,1]
["P2501817",95,68,27,1,1]
["P2501818",559]
["P2501819",938]
["P2501820",1403]
["P2501821",3486]
["P2501822",10612]
["P2501823",1,0,1,{"$nulls":37},1,0,0,0,0]
["P2501824",64,29,35,0,0,0,0,0,0,0,1,0,0,1,0,0,0,1,0,1,3,0,0,3,3,4,2,0,0,2,4,1,1,8,8,2,2,4,8,6,4,0,0,0,0]
["P2501825",55,33,22,0,0,0,0,0,0,0,0,0,0,0,0,0,0,1,0,1,1,2,1,5,3,1,2,1,0,1,2,7,3,8,4,5,3,1,2,0,1,0,0,0,0]
["P2501826",43,25,18,0,0,0,0,0,0,0,0,0,0,0,0,0,0,0,0,0,0,0,0,0,0,1,1,3,1,2,2,5,3,6,5,3,5,1,0,4,1,0,0,0,0]
["P2501827",15,12,3,0,0,0,0,0,0,0,0,1,0,0,0,0,0,1,0,1,0,2,0,2,0,1,0,0,0,0,0,1,1,1,1,1,0,0,1,1,0,0,0,0,0]
["P2501828",22,11,11,0,0,0,0,0,1,0,0,0,0,0,0,0,1,1,2,1,1,0,0,0,1,0,0,1,0,2,0,0,0,1,0,3,4,2,1,0,0,0,0,0,0]
["P2501829",78,45,33,0,0,0,1,1,0,1,0,1,1,2,2,1,1,9,6,13,4,4,2,3,3,0,0,0,0,0,0,1,2,0,3,3,2,4,4,2,2,0,0,0,0]
["P2501830",9,6,3,{"$nulls":16},1,null,2,{"$nulls":9},1,1,null,null,1,null,0,1,1,1,0,0,0,0]
["P2501831",31,16,15,0,0,0,0,0,0,0,0,0,1,2,0,2,0,1,2,0,0,3,1,3,1,1,1,0,0,1,2,1,1,0,2,1,1,0,1,1,2,0,0,0,0]
["P2501832",6,4,2,0,0,0,0,0,0,0,0,0,0,0,0,0,0,0,1,1,0,0,0,0,0,0,0,0,0,0,0,0,0,2,0,1,0,0,1,0,0,0,0,0,0]
["P2501833",155,86,69,0,0,1,1,2,1,1,0,1,2,3,0,3,3,10,3,12,7,13,7,4,4,7,3,0,0,4,10,7,4,6,8,7,9,5,5,0,3,1,0,0,0]
["P2501834",42,17,25,0,0,0,0,0,0,0,0,1,1,0,0,0,0,1,0,1,0,2,0,1,0,0,0,0,0,3,6,1,2,3,6,0,5,2,4,2,1,0,0,0,0]
["P2501835",5,1,4,{"$nulls":16},1,{"$nulls":4},1,{"$nulls":5},1,{"$nulls":3},1,{"$nulls":3},1,null,null,0,0,0,0]
["P2501836",42,27,15,0,0,0,0,1,0,0,0,0,0,0,0,0,0,3,0,3,0,0,0,4,4,1,0,0,0,1,1,3,3,2,1,1,3,6,3,2,0,0,0,0,0]
["P2501837",2,0,2,{"$nulls":21},1,null,1,{"$nulls":14},0,0,0,0]
["P2501838",86,47,39,0,0,0,1,1,1,0,0,0,0,4,2,1,2,9,3,5,9,12,5,7,4,3,5,0,0,2,2,2,1,3,5,1,1,0,0,0,0,1,0,0,0]
["P2501839",5,3,2,{"$nulls":14},1,{"$nulls":15},2,2,{"$nulls":6},0,0,0,0]
["P2501840",28,13,15,0,0,0,0,0,0,0,0,0,0,0,0,0,1,2,2,0,1,1,0,1,0,0,1,0,0,0,4,1,0,3,2,3,1,2,2,0,1,0,1,0,0]
["P2501841",4,2,2,{"$nulls":17},1,1,{"$nulls":12},1,null,null,1,{"$nulls":3},0,0,0,0]
["P2501842",47,27,20,0,0,0,0,0,0,0,0,0,0,0,0,0,0,3,2,4,0,4,0,1,2,3,2,0,0,0,4,2,3,2,4,3,1,3,2,2,0,0,0,0,0]
["P2501843",73,42,31,0,0,0,1,0,0,0,0,0,0,0,0,0,3,5,0,1,0,2,0,3,2,2,2,0,0,2,1,2,3,6,4,7,6,8,6,4,3,0,0,1,1]
["P2501844",1,1,0,1,{"$nulls":37},0,0,0,0]
["P2501846",4,1,3,{"$nulls":11},1,{"$nulls":11},1,null,null,1,1,{"$nulls":10},0,0,0,0]
["P2501847",633,330,303,0,0,0,0,0,0,0,0,0,0,0,0,0,0,1,1,4,3,7,5,10,10,16,10,6,7,27,32,63,46,78,67,103,98,125,102,61,64,0,0,0,2]
["P2501848",61,34,27,0,0,0,0,1,1,1,0,0,0,0,1,3,0,4,2,6,4,2,2,5,4,2,3,0,0,2,4,3,3,4,0,1,2,0,1,0,0,0,0,0,0]
["P2501850",21,12,9,0,0,0,0,0,0,0,0,0,0,1,0,1,0,0,0,1,0,0,1,0,0,0,0,0,0,1,2,1,2,4,1,1,3,1,0,1,0,0,0,0,0]
["P2501851",6,2,4,{"$nulls":27},1,{"$nulls":3},1,1,1,null,1,1,null,0,0,0,0]
["P2501852",24,15,9,0,0,0,0,0,0,0,0,0,0,0,0,0,2,1,0,1,0,0,0,1,4,0,0,0,0,2,0,2,1,4,0,0,2,1,0,3,0,0,0,0,0]
["P2501853",1,0,1,{"$nulls":17},1,{"$nulls":20},0,0,0,0]
["P2501854",7,3,4,{"$nulls":22},1,{"$nulls":10},1,0,3,2,0,0,0,0,0]
["P2501855",34,10,24,0,0,0,0,0,0,0,3,2,0,2,5,1,3,4,7,0,3,0,0,0,0,0,0,0,0,0,1,0,0,0,1,1,0,0,1,0,0,0,0,0,0]
["P2501858",2681,1589,1092,1,0,5,6,9,7,9,7,17,10,11,9,15,12,77,42,100,76,65,36,117,94,136,96,28,18,189,115,174,92,222,170,198,129,151,116,70,65,4,4,3,2]
["P2501859",48,33,15,0,0,0,0,3,3,0,0,0,1,1,0,1,0,0,1,1,1,4,1,1,3,3,1,0,0,5,1,3,1,7,0,2,2,1,0,1,1,0,0,0,0]
["P2501860",21,10,11,0,0,0,0,0,1,0,0,0,0,0,0,2,1,0,0,0,0,0,2,0,1,0,0,0,0,1,1,0,4,3,0,2,0,0,1,2,0,0,0,0,0]
["P2501861",8308,4235,4073,437,424,357,373,407,368,367,344,400,362,426,427,518,519,425,413,464,480,434,363,14,13,32,45,9,12,4,2,12,7]
["P2501862",7670,3809,3861,664,638,623,677,438,430,398,363,328,319,269,322,435,432,263,272,220,202,171,206,24,25,20,43,3,1,9,12,5,6]
["P2501863",11117,5675,5442,1230,1068,963,990,763,692,517,436,433,403,311,331,561,573,329,335,276,298,292,316,21,20,36,55,3,6,4,5,10,3]
["P2501864",2847,1420,1427,81,5,38,26,63,68,120,106,151,148,168,202,229,227,199,212,184,223,187,210,0,1,37,56,3,3,10,11,7,7]
["P2501865",1919,959,960,43,0,6,8,26,45,76,85,105,117,127,149,145,162,127,114,160,134,144,146,2,6,14,16,2,0,9,9,8,7]
["P2501866",1190,587,603,13,1,3,2,13,15,33,47,49,57,81,103,128,119,85,89,98,85,84,85,3,1,9,8,2,1,2,3,3,1]
["P2501867",753,409,344,12,0,0,1,12,6,20,16,32,30,58,54,75,65,70,63,76,54,54,55,1,0,8,5,4,1,3,2,2,2]
["P2501868",611,341,270,4,0,0,0,4,6,14,16,27,34,54,50,92,65,61,34,48,41,37,24,1,1,13,17,3,0,1,2,1,1]
["P2501869",9188,4717,4471,197,219,388,364,346,378,434,389,610,469,500,501,606,665,586,567,457,491,593,428,54,0,14,41,3,2,0,0,15,13]
["P3120500",290,129,161,4,4,6,3,1,2,5,1,1,0,2,1,0,0,1,0,2,2,2,1,1,2,8,5,6,9,7,16,20,18,19,33,44,64,null,0,0,0,1]
["P3120600",16,12,4,3,0,0,1,5,2,2,0,2,0,0,1,0,0,0,0,0,0,0,0,0,0,0,0,0,0,{"$nulls":9},0,0,0,0]
["P3120700",2217,1064,1153,17,14,30,32,41,31,60,85,68,57,58,85,67,80,91,86,82,86,82,92,90,88,99,86,74,90,65,73,42,54,43,41,55,73,null,53,68,3,5]
["P3120800",1554,752,802,0,1,1,0,0,1,1,2,5,0,12,4,10,10,5,25,11,33,18,54,21,75,43,96,66,69,97,85,132,79,127,107,203,161,null,0,0,0,1]
["P3130200",336,174,162,0,0,0,0,0,1,0,0,0,0,0,1,1,1,1,1,1,4,0,3,1,2,7,6,5,8,22,17,23,14,31,29,82,75,null,1,0,0,2]
["P3140200",882,448,434,0,0,0,0,0,0,0,0,0,0,1,0,0,0,0,3,3,2,5,3,27,28,23,27,35,35,69,46,77,65,75,74,133,152,null,14,18,0,3]
["P3140300",11976,2780,9196,0,0,0,0,0,0,1,2,0,4,1,6,1,10,6,17,3,44,17,119,43,274,152,807,382,1330,435,1570,503,1604,466,1334,770,2075,null,13,54,4,17]
["P3140400",3551,1250,2301,4,3,19,10,19,24,26,22,32,10,30,21,29,31,37,25,34,23,35,26,44,44,55,48,57,42,77,94,111,149,150,252,491,1477,null,1,3,0,0]
["P3160800",3867,1428,2439,4,3,19,10,18,24,25,23,31,9,29,22,34,27,38,26,35,27,37,28,47,43,61,54,62,53,98,109,137,156,183,282,570,1543,null,0,2,1,3]
["P3160910",1674,565,1109,0,0,0,0,0,0,2,0,0,0,0,0,1,3,0,1,3,2,3,6,5,4,6,6,16,14,64,114,72,146,111,225,282,588,null,0,0,0,0]
["P3160920",640,206,434,0,0,0,0,0,0,0,0,0,4,3,2,1,2,4,3,1,4,5,2,3,5,9,12,9,18,20,23,19,34,38,50,94,275,null,0,0,0,0]
["P3160950",492,278,214,278,214,{"$nulls":32},1,0,0,1,4]
["P3160960",337,195,142,195,142,{"$nulls":32},0,1,0,3,2]
["P3160970",21,9,12,9,12,{"$nulls":32},0,0,0,0,0]
["P3160980",8183,3019,5164,92,102,828,620,680,537,349,305,126,249,110,220,62,210,47,222,64,217,42,267,50,295,73,340,98,344,113,358,92,341,102,230,91,307,1542,2,7,15,34]
["P3160990",4495,1611,2884,98,63,412,308,338,275,177,155,43,92,48,102,35,121,33,114,19,118,28,146,45,161,42,221,51,204,64,198,50,207,46,162,82,237,543,1,3,9,11]
["P3161000",546,132,414,2,0,6,9,13,8,3,8,2,6,3,7,5,16,5,15,1,18,5,20,7,27,10,33,14,56,10,42,16,51,12,40,18,58,99,0,0,1,1]
["P3161010",3106,1496,1610,{"$nulls":16},5,6,14,17,18,29,58,77,113,147,182,244,254,249,295,250,557,591,714,2,0,1,1]
["P3161020",476,239,237,{"$nulls":16},0,0,1,1,6,6,8,7,13,15,31,29,42,33,50,49,88,97,112,0,0,0,1]
["P3161030",1257,680,577,15,18,35,27,13,12,4,1,2,4,0,5,2,9,2,10,7,14,7,11,10,17,28,31,46,45,79,61,116,65,108,97,206,150,null,2,0,5,5]
["P3161040",23788,4245,19543,1,2,7,3,11,16,56,163,71,355,54,456,58,599,77,837,94,964,148,1345,251,1756,351,2411,501,2681,513,2186,582,1961,528,1641,942,2167,null,15,29,3,55]
["P3161041",7946,2959,4987,95,72,771,532,708,549,366,294,102,218,93,168,56,171,40,198,44,197,35,255,58,277,71,353,104,358,109,380,101,374,95,267,111,324]
["P3161042",2382,797,1585,54,42,246,208,157,141,63,94,22,54,24,71,16,77,20,63,13,66,20,76,13,98,23,106,25,106,32,106,24,101,22,77,23,99]
["P3161043",978,316,662,21,26,87,74,63,53,26,31,4,21,10,34,5,42,6,30,12,27,9,42,12,44,10,45,12,52,13,42,7,39,7,20,12,40]
["P3161044",1370,489,881,16,14,102,93,71,62,52,42,33,40,25,43,19,54,16,45,15,41,12,43,8,52,17,56,15,58,20,55,21,56,22,51,25,76]
["P3161045",2343,1136,1207,{"$nulls":16},5,4,10,9,16,21,47,53,85,101,144,190,189,205,229,190,411,434]
["P3161046",424,180,244,{"$nulls":16},1,2,2,4,2,4,8,11,9,32,29,34,33,29,36,44,60,84]
["P3161047",608,278,330,{"$nulls":16},0,1,4,3,6,7,7,11,23,28,28,39,46,42,52,41,112,158]
["P3161050",54,28,26,0,1,0,3,3,2,3,0,3,0,4,0,1,1,1,1,0,0,1,1,1,3,0,1,0,3,3,4,3,3,3,1,2,2,null,0,0,0,0]
["P3170100",318,110,208,0,0,0,0,0,0,0,0,0,1,0,0,0,2,0,1,1,3,1,11,3,17,4,25,17,32,22,34,18,33,14,17,30,32,null,0,0,0,0]
["P3170200",96,31,65,0,1,1,1,3,1,1,2,0,3,1,0,1,1,3,0,0,0,2,2,1,0,1,0,0,4,2,2,3,4,6,10,6,34,null,0,0,0,0]
["P3170400",66,28,38,0,0,1,0,0,0,0,0,0,0,0,0,0,1,1,0,1,0,0,1,3,1,2,1,1,4,5,6,3,9,8,9,3,6]
["P3170500",19,11,8,{"$nulls":8},2,{"$nulls":5},1,{"$nulls":4},1,null,null,2,1,null,null,1,3,2,null,3,2,null,1]
["P3170600",30,13,17,null,null,3,{"$nulls":10},1,{"$nulls":6},1,1,null,null,1,3,2,3,2,4,3,2,1,3]
["P3170800",1284,631,653,{"$nulls":16},2,3,8,6,9,11,28,27,61,68,89,99,107,118,131,106,196,215]
["P3170900",642,336,306,{"$nulls":16},0,2,3,3,3,2,15,9,42,33,45,48,63,65,73,48,92,96]
["P3171000",274,117,157,{"$nulls":16},4,0,1,1,1,2,5,7,6,13,20,28,13,26,24,25,43,55]
["P3171100",4056,1340,2716,50,53,317,250,262,209,113,96,59,126,60,107,33,120,24,131,23,117,33,174,32,187,43,219,50,213,77,244,52,181,62,125,50,164]
["P3171200",2039,659,1380,15,17,146,118,101,116,61,47,34,70,34,48,19,56,11,60,8,53,14,92,20,96,24,93,24,129,39,131,30,97,46,73,33,84]
["P3171300",640,233,407,12,25,61,43,37,29,15,11,1,14,11,20,5,10,4,19,5,14,4,23,8,30,3,29,22,31,15,40,7,29,13,22,10,18]
["P3171400",396,252,144,0,1,0,0,0,1,0,0,0,0,0,0,0,1,0,1,4,3,3,6,5,5,6,3,19,19,33,19,44,19,53,31,85,35]
["P3171500",192,139,53,0,1,0,0,0,0,0,0,0,0,0,0,0,1,0,0,2,1,2,2,1,1,4,1,16,6,20,7,30,4,32,16,32,13]
["P3171600",79,47,32,0,0,0,0,0,0,0,0,0,0,0,0,0,1,0,0,2,0,0,1,0,0,2,1,1,8,4,2,5,4,6,4,27,11]
["P3171610",350,122,228,0,0,1,0,0,0,0,1,2,1,0,1,2,1,2,0,1,1,0,3,5,0,2,2,7,5,8,12,18,22,18,33,56,146,null,0,0,0,0]
["P3171611",329,172,157,0,0,0,0,0,1,0,0,0,0,0,1,1,1,1,1,1,4,0,3,1,2,7,6,5,8,21,17,23,14,30,29,82,70,null,1,0,0,2]
["P3171612",3296,1175,2121,4,3,17,10,19,22,26,19,30,9,27,21,30,27,37,24,32,20,33,24,44,41,53,42,56,42,68,87,105,140,133,229,461,1361,null,1,3,1,3]
["P3171613",719,166,553,0,0,0,0,0,0,0,0,0,0,0,0,0,1,1,0,0,0,0,0,1,1,0,2,3,4,8,17,11,35,26,60,116,433,null,0,0,0,2]
["P3171614",256,91,165,0,0,0,0,0,0,0,0,0,0,0,0,0,0,0,0,0,0,0,0,0,1,1,0,2,2,12,6,13,6,13,30,50,120,null,0,0,0,0]
["P3171615",299,99,200,0,0,1,0,0,0,0,1,2,0,0,1,1,0,0,0,1,1,0,2,5,0,3,2,5,5,7,7,17,21,16,31,41,129,null,0,0,1,1]
["P4150100",105696,38177,67519,65,53,96,179,178,418,360,794,590,1383,1035,2411,1689,3694,2603,5905,3865,8309,5175,9226,5917,9545,5729,8677,4799,7274,6076,9651,361,679,222,432]
["P4150601",80650,29449,51201,18,12,44,50,84,172,196,359,324,710,573,1371,996,2281,1646,3780,2673,5779,3877,6692,4689,7385,4745,7173,4139,6365,5445,9072,165,316,161,318]
["P4150602",42192,16081,26111,14,9,28,47,53,152,122,312,249,541,407,857,717,1387,1194,2210,1733,3320,2373,3742,2714,3945,2472,3501,1939,2759,2066,3329,155,292,78,161]
["P4150603",60163,19933,40230,24,27,46,96,78,193,168,371,287,647,507,1182,893,1910,1448,3166,2045,5190,2839,6030,3234,6283,3155,5557,2500,4302,2709,5276,154,365,104,206]
["P4150701",8004,3272,4732,{"$nulls":16},563,1115,789,1292,726,1058,543,672,368,358,283,237,21,29,19,19]
["P4150703",27848,9323,18525,11,8,28,46,52,97,114,197,142,363,260,673,385,1062,651,1746,1039,2342,1278,2700,1375,2709,1450,2431,1276,1993,1262,2158,88,185,45,113]
["P4150801",56393,22683,33710,25,14,36,58,68,158,143,335,287,591,515,1000,894,1566,1401,2519,2101,3879,3002,4475,3637,4762,3493,4408,2867,3756,4214,6189,139,217,102,169]
["P4170300",2133,785,1348,0,1,1,2,0,3,6,9,12,12,14,22,24,50,48,86,66,146,110,195,129,190,114,195,134,212,127,225,1,8,5,9]
["P4170500",1627,1128,499,0,1,0,1,0,2,4,4,30,20,18,37,104,26,115,37,147,74,194,100,155,42,208,73,82,28,71,54,1,0,3,2]
["P4180200",40523,14280,26243,8,7,28,28,40,99,110,213,191,457,333,855,554,1472,972,2401,1523,3672,2205,4198,2754,4664,2951,4374,2611,3803,null,null,71,135,62,146]
["P4180300",16185,5848,10337,8,5,9,22,21,68,42,113,75,245,138,363,277,592,423,902,639,1435,886,1669,1212,1816,1130,1699,988,1408,null,null,34,64,18,45]
["P4180500",22442,9131,13311,5,5,11,19,19,57,53,115,93,225,155,363,303,614,534,916,817,1467,1106,1759,1463,1912,1459,1783,1269,1598,1844,2478,41,68,27,60]
["P4180800",11019,4303,6716,13,9,13,24,30,40,33,86,89,128,128,213,220,365,346,571,525,917,657,1083,719,1057,626,910,439,633,465,680,28,38,17,29]
["P4190100",21455,6171,15284,29,31,32,75,58,163,103,262,161,429,260,738,410,1066,551,1640,725,2088,895,2051,905,2074,786,1838,656,1525,600,1304,134,277,75,150]
["P4190500",4455,1707,2748,1,0,1,2,2,6,5,15,12,22,32,41,36,69,65,155,121,240,170,307,271,403,281,421,300,398,410,669,6,7,5,6]
["P4190600",1569,882,687,0,2,0,0,0,1,3,7,5,9,13,21,41,24,46,40,102,76,133,100,174,111,145,100,113,86,107,110,5,1,2,1]
["P4190800",47373,16811,30755,40,44,57,106,119,279,214,509,355,841,582,1417,902,2086,1278,3029,1858,4214,2500,4485,2699,4270,2383,3622,1797,2674,2027,3179,145,315,123,241,13748]
["P4190801",13238,4866,8372,12,2,10,30,28,47,53,105,97,189,135,333,240,485,423,877,613,1135,789,1398,858,1381,728,1013,472,670,408,707,42,97,17,27,3895]
["P4190803",588,265,323,0,0,0,0,0,0,2,2,0,0,0,4,5,9,8,17,18,15,21,18,36,34,33,37,46,48,96,139,2,3,2,1,280]
["P4190804",437,207,230,0,0,1,0,1,3,1,2,4,4,2,9,13,9,13,24,23,24,29,30,37,25,30,35,24,34,29,31,1,1,0,1,157]
["P4190805",23464,8664,14800,5,4,17,22,26,65,56,150,126,270,205,455,344,751,583,1171,932,1880,1248,2219,1455,2295,1393,2033,1086,1615,1188,1870,46,89,45,87]
["P4190806",26990,9991,16999,12,11,20,40,28,94,74,192,143,331,250,557,411,885,709,1394,1092,2191,1407,2526,1701,2592,1570,2238,1260,1825,1314,2123,53,101,53,98]
["P4190807",3875,1503,2372,0,0,0,1,1,6,9,7,5,14,15,39,46,46,61,135,109,186,203,296,269,376,255,377,241,360,289,529,3,2,3,5]
["P4190808",28320,10614,17706,14,6,20,44,30,90,71,195,151,367,254,547,431,938,724,1529,1108,2359,1519,2488,1825,2737,1712,2353,1344,1911,1411,2142,46,108,40,101]
["P4190809",20048,7120,12928,11,7,19,27,30,74,67,167,120,280,179,490,351,749,558,1180,776,1806,993,2007,1213,2099,1272,1677,848,1301,683,1064,39,80,35,61]
["P4190810",4847,1747,3100,0,0,1,0,2,1,2,3,4,4,6,15,12,42,34,51,41,107,122,204,198,310,261,465,336,632,728,1266,11,22,10,11,1560]
["P4190811",1890,721,1169,0,0,0,0,0,1,0,2,0,6,3,8,9,16,12,31,17,35,28,60,80,125,111,139,128,182,333,564,5,4,4,1,711]
["P4190812",37658,13594,24064,6,5,15,24,41,70,77,145,132,288,259,589,412,1058,769,1764,1227,2700,1731,3233,2100,3532,2282,3501,2002,2969,2541,4186,53,108,58,147]
["P4190900",3451,1854,1597,0,0,1,0,1,1,2,1,8,8,19,20,37,25,73,90,136,127,215,194,295,225,363,250,312,279,392,377,6,7,11,8]
["P4190910",3641,1830,1811,0,0,0,0,4,0,3,5,8,10,15,24,34,36,74,82,109,133,243,221,308,246,317,270,283,291,432,493,10,14,9,6]
["P4190920",7915,3038,4877,1,0,6,7,8,32,20,50,38,87,60,144,115,252,176,377,273,516,372,662,508,772,476,651,464,594,521,733,24,38,7,16]
["P4190930",3511,1907,1604,0,0,0,0,4,0,3,3,2,6,16,23,40,31,90,94,136,135,270,225,324,231,350,239,285,249,387,368,7,8,7,2]
["P4190940",3736,2000,1736,0,0,0,0,3,0,3,3,6,8,20,24,44,33,81,96,133,137,263,221,329,240,359,250,331,322,428,402,13,19,8,2]
["P4190950",18041,6581,11460,11,12,13,22,25,58,49,142,107,249,157,377,277,623,462,1007,748,1560,1019,1851,1160,1888,1051,1490,793,1133,709,1048,20,31,10,25]
["P4190960",7167,2749,4418,8,6,11,22,13,41,38,72,71,115,110,196,175,321,243,475,359,725,475,751,453,620,340,480,237,306,216,288,18,28,19,35]
["P4190970",127,64,63,0,0,0,0,0,0,0,1,1,4,2,3,4,8,1,8,13,9,13,18,6,4,9,3,4,1,11,4,0,0,0,0]
["P4200100",9671,3847,5824,{"$nulls":26},3847,5824,15,18,6,10]
["P4200200",3284,1270,2014,{"$nulls":26},1270,2014,12,27,3,8]
["P4200300",22939,8622,14317,41,43,30,42,28,95,79,169,181,342,213,443,391,684,555,1127,818,1740,1149,2079,1437,2282,1442,1925,1090,1563,1168,1783,28,65,31,66]
["P4200400",8756,3298,5458,1,1,2,5,8,19,23,36,33,79,61,150,133,236,210,413,351,585,494,722,549,770,537,796,416,632,480,1014,19,40,31,72]
["P4200500",23340,6448,16892,27,29,59,98,89,241,198,474,285,860,494,1392,756,2089,1070,3034,1497,4283,1973,4392,{"$nulls":8},41,100,44,118]
["P4200600",18221,6542,11679,7,11,11,16,27,67,44,103,80,208,114,327,227,538,404,884,596,1438,862,1638,1125,1845,1099,1630,914,1293,1032,1681,25,42,17,38]
["P4200700",3376,1407,1969,7,3,4,9,10,14,15,19,31,31,36,67,56,80,95,146,122,206,195,260,212,307,222,292,175,227,227,308,16,23,13,7]
["P4200800",604,362,242,0,0,0,0,0,2,3,5,5,5,8,11,20,15,35,25,52,34,56,47,67,33,58,21,30,20,28,24,2,0,0,0]
["P4200900",29949,11159,18790,0,0,9,6,8,30,40,70,86,157,146,340,344,628,591,1230,1200,2308,1546,2691,1972,3007,1914,2892,1566,2354,1737,3077,57,103,31,67]
["P4201100",1601,771,830,0,0,0,0,1,0,0,0,3,0,2,8,17,21,32,33,52,51,101,109,145,117,145,158,131,130,142,203,6,10,5,5]
["P4201200",1723,913,810,0,0,0,0,0,0,2,1,3,4,3,5,16,14,38,46,60,75,115,109,177,113,180,129,177,139,142,175,4,10,5,4]
["P4201500",14533,5339,9194,17,33,24,58,42,119,99,198,183,326,295,615,513,1002,914,1580,1359,2444,1893,2819,{"$nulls":8},32,43,39,80]
["P4201600",16137,6733,9404,{"$nulls":20},1877,2579,1797,2397,1485,2006,1574,2422,13,39,14,14]
["P4201700",13755,4098,9657,{"$nulls":20},1330,3387,1221,2589,816,1866,731,1815,25,36,11,21]
["P4301010",46087,16841,29246,6,9,21,29,53,88,94,198,169,390,334,777,532,1362,968,2199,1545,3411,2219,3997,2685,4166,2739,4167,2465,3618,3011,4835,69,133,84,188]
["P4301020",16968,6236,10732,1,1,3,3,3,10,8,15,25,67,58,129,135,273,259,606,412,1010,725,1444,1040,1708,1198,1861,1052,1628,1317,1977,31,75,13,54,5544]
["P4301030",1424,694,730,0,0,0,1,3,5,8,12,10,14,24,41,36,39,61,71,88,125,138,152,110,108,99,86,62,52,55,24,8,3,2,0]
["P4301040",20777,7704,13073,5,4,14,23,19,60,50,141,113,258,187,420,310,673,562,1082,838,1722,1101,1950,1304,2001,1223,1761,945,1399,1033,1579,32,72,39,72]
["P4301050",4776,1984,2792,2,5,3,4,12,29,17,48,64,79,98,167,128,212,218,311,285,483,384,556,331,437,215,259,141,128,86,74,13,19,11,13]
["P4301060",167,132,35,0,0,0,0,0,0,2,1,26,1,2,1,6,4,3,2,13,5,6,5,11,2,49,6,5,4,9,4,0,0,0,0]
["P4301070",9844,3658,6186,1,0,2,4,4,17,11,27,32,60,46,88,99,209,211,372,291,618,452,807,640,966,656,939,531,867,682,1212,10,19,11,30]
["P4301080",36647,13299,23348,4,5,15,21,37,65,73,135,130,279,260,581,402,1034,766,1736,1200,2674,1728,3117,2040,3376,2208,3470,1954,2894,2482,3961,53,113,61,139]
["P4302100",227,95,132,3,4,5,5,3,2,4,3,5,6,5,7,6,6,6,10,9,10,15,18,6,15,10,18,10,14,8,14,0,0,0,0]
["P4302101",1188,607,581,0,0,0,0,4,0,5,2,1,3,7,9,9,6,17,25,11,85,115,53,95,118,112,124,85,67,146,89,0,0,0,0]
["P4302102",1545,674,871,0,0,1,2,1,6,4,9,9,11,13,30,30,49,43,65,100,126,115,121,125,138,87,137,81,101,65,76,0,3,2,4]
["P4302103",9900,3577,6323,2,1,8,9,15,24,32,49,105,82,74,180,133,305,210,493,374,740,536,890,609,920,570,993,473,783,436,854,3,3,2,8]
["P4302104",4936,1860,3076,7,6,10,11,9,33,15,58,33,60,46,165,79,255,121,282,177,361,219,474,328,485,353,399,229,253,234,234,6,7,15,24]
["P5180100",11091,4830,6261,1335,2132,1458,1823,1067,1225,662,769,239,245,58,59,10,8,1,0,27,23,7,8,12,8]
["P5180200",9235,3683,5552,1060,1689,971,1478,800,1192,503,726,257,359,82,94,9,12,1,2,9,20,10,7,2,4]
["P5190200",2987,1197,1790,206,271,246,326,250,306,254,393,162,287,78,179,21,65,5,16,0,3,2,0,26,57]
["P5190300",11297,5098,6199,1168,1571,1285,1335,1132,1288,864,1039,487,681,234,361,49,95,8,14,23,16,8,8,51,51]
["P5190400",9691,3910,5781,1151,1602,1025,1508,837,1237,570,863,305,484,103,198,20,44,8,6,14,22,4,5,23,18]
["P5200100",7293,2142,5151,675,1703,573,1407,451,1016,285,689,160,362,54,118,8,31,2,4,12,20,4,6,7,16]
["P5300100",3585,1210,2375,152,261,161,349,226,462,288,530,220,447,131,265,27,52,5,9,7,5,1,2,45,52]
["P5300200",774,254,520,29,31,29,37,45,69,50,146,46,115,43,91,7,28,5,3,2,4,0,0,22,20]
["P5300400",183,65,118,12,34,19,35,20,27,8,14,6,7,2,4,1,2,0,0,0,0,0,0,0,0]
["P5300500",5117,2151,2966,640,1059,637,894,530,634,272,325,98,100,23,22,1,5,0,0,5,11,8,4,2,0]
["P5300510",4375,1563,2812,201,327,227,458,338,591,375,668,271,445,118,258,26,56,7,9,10,15,2,1,5,3]
["P5300520",866,265,601,33,22,27,53,48,83,56,134,52,134,30,111,17,57,2,7,0,2,0,1,15,30]
["P5300530",925,283,642,38,31,36,45,41,134,72,159,55,113,26,104,9,41,6,15,0,0,0,1,31,50]
["P5300540",10257,4291,5966,1400,2225,1323,1882,994,1214,518,663,220,205,35,61,5,6,0,0,18,21,12,7,4,3]
["P5300550",4354,1597,2757,297,635,391,701,366,636,366,512,173,310,69,100,7,23,1,1,4,16,5,8,10,8]
["P5300560",2573,934,1639,161,280,158,279,184,348,228,381,147,271,75,152,18,23,5,6,0,2,0,0,1,11]
["P5300570",3197,619,2578,88,595,135,699,167,552,134,442,60,195,30,74,4,17,1,3,0,1,4,13,1,3]
["P5300580",1350,284,1066,null,null,56,270,74,318,69,266,63,161,20,47,2,4,0,0,0,0,0,6,0,0]
["P5300590",374,85,289,null,null,9,27,12,58,17,65,24,84,14,39,8,12,1,2,0,2,0,1,0,1]
["P5300600",3918,881,3039,2002,755,1043,807,731,2095,1058]
["P5400100",11046,4683,6363,1536,2289,1355,1886,1039,1263,602,752,266,319,64,109,5,15,0,1,19,24,11,8,5,2]
["P5400200",7935,3022,4913,533,1099,725,1165,706,1160,638,934,342,540,159,240,35,52,10,6,10,15,5,6,15,22]
["P6221000",34774,10413,24361,154,114,1422,942,1404,2024,1212,2392,614,1555,545,1522,518,1532,513,1447,488,1511,515,1507,537,1797,522,1845,523,1733,466,1608,421,1318,328,955,485,1230,161,692,73,173,92,198,148,778,2493,179,26]
["P6221100",1224,265,959,3,5,50,32,66,91,60,107,5,46,10,79,13,75,4,64,5,71,21,79,4,95,7,78,6,68,5,62,1,28,1,31,6,12,12,47,2,6,4,15,31,157,62,2,0]
["P6221200",456,241,215,0,0,0,1,2,8,42,18,12,13,21,22,19,26,31,17,23,19,24,24,19,23,19,17,14,14,9,8,6,4,2,4,3,1,0,5,1,0,1,1,44,10,4,0,0]
["P6221500",270,33,237,0,0,6,7,12,61,7,74,2,16,0,17,1,20,2,9,1,6,1,11,0,7,0,7,1,12,0,9,0,3,0,0,0,2,2,11,0,0,1,3,8,61,14,3,1]
["P6221600",3342,598,2744,0,0,6,10,43,131,76,211,55,157,41,165,30,167,29,143,24,180,25,172,33,235,32,238,55,250,31,228,45,171,40,139,40,175,15,69,5,14,3,14,14,26,121,4,0]
["P6221700",96,null,96,{"$nulls":5},0,null,7,null,16,null,18,null,25,null,14,null,11,null,3,null,1,null,1,{"$nulls":11},53,null,1,null,3,0,0,1,0,0]
["P6221800",406,106,300,0,0,0,0,3,6,5,20,9,26,16,29,10,24,17,23,10,18,5,35,10,24,4,26,10,26,2,19,1,14,3,5,1,5,1,5,0,3,0,1,0,2,19,0,0]
["P6222300",322,112,210,0,0,0,0,0,0,0,0,0,0,0,3,0,0,0,0,1,0,1,1,1,0,4,4,3,7,10,27,17,33,20,51,60,96,null,null,0,1,4,0,0,0,19,0,0]
["P6222400",523,301,222,0,0,0,0,4,5,8,4,34,13,34,10,30,5,30,18,26,12,31,12,32,28,25,27,22,33,13,21,4,13,4,12,4,9,0,1,1,1,2,1,0,0,71,0,2]
["P6222500",267,34,233,0,0,2,5,9,52,9,99,2,30,2,16,1,5,2,11,4,8,1,4,0,3,2,2,1,0,0,0,0,0,0,0,0,0,2,7,1,4,0,1,1,6,13,1,1]
["P6222600",1046,722,324,6,10,287,129,305,119,106,48,7,9,6,3,3,2,1,2,0,1,0,1,0,0,1,0,0,0,0,0,0,0,0,0,0,0,0,null,8,3,8,3,13,90,130,0,0]
["P6222800",363,188,175,1,0,18,4,27,20,20,15,15,20,9,18,14,14,7,17,17,14,17,19,15,11,12,21,8,6,5,5,3,5,0,7,2,0,0,4,1,0,1,1,12,13,33,0,0]
["P6222900",1407,296,1111,0,0,0,0,11,26,42,121,42,99,28,90,24,89,22,76,16,78,27,73,24,114,12,100,15,97,20,72,7,40,5,25,3,17,9,30,4,11,0,5,4,22,112,4,2]
["P6223060",185,120,65,0,2,40,23,56,29,21,10,2,2,2,0,0,0,0,0,0,0,0,0,0,0,0,1,0,0,0,0,0,0,0,0,0,0,0,null,1,0,0,1,5,20,14,1,0]
["P6223070",89,47,42,3,2,23,23,21,18,{"$nulls":28},0,null,0,0,0,0,0,5,10,0,0]
["P6223080",2421,1134,1287,17,32,511,436,424,516,172,288,11,15,{"$nulls":24},0,null,10,11,16,14,7,205,310,13,4]
["P6223090",3147,1263,1884,1,3,44,22,96,126,103,247,136,118,148,120,147,134,102,123,96,132,92,137,85,165,80,175,53,136,39,104,21,69,13,45,7,28,3,20,8,12,6,4,27,54,1013,4,6]
["P6223100",90,18,72,0,0,3,1,7,5,3,29,1,3,1,2,0,3,1,1,1,2,0,7,0,5,0,4,1,7,0,1,0,2,0,0,0,0,2,2,0,0,0,0,6,6,61,1,0]
["P6223110",13,6,7,0,0,0,0,0,0,0,0,0,0,1,1,0,2,0,0,0,1,0,1,0,0,2,0,0,2,1,0,0,0,2,0,0,0,1,2,0,0,0,0,0,0,11,0,0]
["P6223140",51,4,47,0,0,0,3,1,6,1,18,2,2,0,2,0,1,0,4,0,2,0,5,0,3,0,1,0,0,0,0,0,0,0,0,0,0,1,2,0,0,0,1,3,3,45,1,0]
["P6223170",2602,1031,1571,0,1,17,14,63,57,74,160,113,107,120,112,122,123,82,107,80,119,84,119,75,145,72,155,52,124,38,97,20,62,13,42,6,27,3,19,8,12,3,1,3,30,989,3,5]
["P6223180",252,45,207,0,1,0,0,4,4,0,12,2,4,3,10,2,12,2,14,2,9,3,16,0,26,9,26,4,21,4,22,8,17,1,7,1,6,0,0,0,0,0,0,0,0,91,0,0]
["P6223190",125,27,98,0,0,0,0,2,3,3,10,1,7,3,5,1,6,0,9,3,15,3,8,3,8,0,7,2,7,4,7,0,1,1,0,1,5,0,1,0,0,0,0,0,0,16,0,2]
["P6223200",200,44,156,0,0,0,0,1,26,12,37,2,17,5,5,4,11,3,9,4,11,2,8,5,10,1,9,2,5,1,6,1,1,0,0,1,1,0,3,1,5,0,0,2,9,72,1,1]
["P6223210",1,null,1,{"$nulls":17},1,{"$nulls":17},0,null,0,null,0,0,0,0,0,0]
["P6223220",524,138,386,0,1,0,0,1,2,7,13,16,22,15,21,18,36,13,38,14,35,12,40,12,43,10,50,9,33,8,20,2,17,0,9,1,6,2,3,0,1,0,1,0,0,146,0,0]
["P6223260",42,38,4,0,0,10,1,19,1,8,1,1,0,0,0,0,0,0,0,0,0,0,0,0,0,0,1,0,0,0,0,0,0,0,0,0,0,0,null,2,0,1,0,1,2,23,0,0]
["P6223270",6,6,0,0,0,3,0,1,0,2,0,0,0,0,0,0,0,0,0,0,0,0,0,0,0,0,0,0,0,0,0,0,0,0,0,0,0,0,null,0,0,0,0,0,0,4,0,0]
["P6223290",97,49,48,0,0,6,3,25,17,18,28,0,0,{"$nulls":24},0,null,2,0,0,0,1,8,29,0,1]
["P6223310",25,8,17,0,0,0,0,0,0,0,0,0,0,0,0,0,0,0,0,0,0,1,0,0,1,0,1,0,1,1,1,1,1,2,4,3,8,null,null,0,0,0,0,0,0,2,0,0]
["P6223330",755,511,244,0,0,0,0,0,1,12,2,51,13,75,23,81,18,55,24,55,20,55,22,43,27,42,30,20,27,9,16,7,8,4,9,2,4,0,0,2,4,1,0,0,1,217,0,0]
["P6223350",78,5,73,0,0,0,0,2,16,3,41,0,7,0,1,0,2,0,3,0,2,0,1,0,0,0,0,0,0,0,0,0,0,0,0,0,0,1,2,0,0,0,0,0,3,36,0,0]
["P6223360",109,65,44,0,0,1,0,7,3,6,6,11,6,4,1,9,3,11,1,4,1,4,7,3,4,2,3,3,1,0,6,0,2,0,0,0,0,0,0,0,0,0,0,0,1,26,0,0]
["P6223370",421,72,349,0,0,0,0,5,6,2,49,5,31,8,33,9,35,7,20,4,25,6,21,12,26,5,38,5,26,2,20,0,12,2,6,0,1,1,2,0,3,0,0,0,1,132,2,1]
["P6227500",5554,896,4658,0,1,6,3,32,165,125,361,73,245,63,274,45,294,41,252,45,322,42,341,72,457,66,462,71,456,61,393,64,303,49,211,61,241,23,155,4,39,6,36,14,67,176,9,5]
["P6227600",1017,213,804,0,0,0,4,8,51,32,106,20,69,21,45,11,46,17,58,17,48,18,49,14,85,15,76,19,62,8,61,8,28,5,11,4,11,4,18,1,6,1,6,2,16,95,7,1]
["P6227601",32579,9670,22909,129,90,1317,861,1270,1844,1137,2212,594,1462,511,1425,481,1428,481,1373,445,1423,480,1437,503,1719,491,1769,503,1665,436,1535,401,1258,305,912,440,1167,127,592,60,163,69,178,102,676,1594,60,24]
["P6227602",5512,1879,3633,54,34,211,155,224,315,200,330,89,189,67,192,79,187,77,202,84,190,97,175,99,240,105,262,79,270,100,273,109,205,72,171,133,243,38,93,10,19,18,29,61,187,275,20,7]
["P6227603",213,100,113,0,0,1,1,6,5,5,17,23,8,9,9,11,7,4,8,5,7,5,6,7,12,7,10,1,11,10,6,1,3,5,2,0,1,0,0,3,1,0,0,1,2,87,0,2]
["P6230100",364,136,228,0,0,0,0,0,1,1,0,1,0,1,0,0,0,1,0,0,2,0,0,2,1,2,5,5,5,7,13,12,22,24,43,80,136,null,null,0,0,1,2,0,0,43,0,0]
["P6230200",92,28,64,0,0,0,0,0,1,0,0,0,0,1,1,0,0,0,0,1,0,0,1,1,0,0,1,2,4,2,3,2,6,6,12,13,35,null,null,0,0,0,0,0,0,24,0,0]
["P6230300",917,395,522,65,70,93,76,140,157,84,158,13,61,21,28]
["P6230400",25,9,16,0,0,0,0,0,0,0,0,0,0,1,0,0,0,0,0,0,0,0,0,0,0,0,0,1,0,0,2,3,1,2,3,2,10,null,null,0,0,0,0,0,0,1,0,0]
["P6230500",16,5,11,0,0,0,0,0,0,0,0,0,0,0,0,0,0,0,0,0,0,0,1,0,0,0,0,0,0,0,1,0,0,2,6,3,3,null,null,0,0,0,0,0,0,0,0,0]
["P6230800",774,168,606,null,null,3,3,14,87,52,148,19,47,17,40,11,48,8,32,4,17,6,28,5,42,8,39,6,21,7,28,4,15,4,16,1,3,9,18,1,6,1,7,7,65,78,5,7]
["P6230900",431,117,314,null,null,1,1,9,42,28,80,19,38,17,17,5,23,8,18,3,11,6,14,7,23,4,17,0,11,4,10,0,5,5,4,1,1,3,15,0,4,0,4,8,24,21,4,4]
["P6231000",478,126,352,1,1,13,5,14,52,18,53,8,32,7,26,8,23,7,23,5,26,6,21,8,28,10,19,10,21,7,19,4,9,1,4,1,5,2,14,1,4,0,5,1,35,44,2,0]
["P6231300",191,64,127,0,0,2,0,4,13,14,13,7,14,3,6,3,15,5,5,5,3,4,6,0,4,2,14,5,12,3,9,7,11,0,1,0,3,0,3,0,4,0,1,0,1,2,0,0]
["P6231400",2592,622,1970,1,2,16,23,36,77,60,149,54,145,34,144,39,142,45,152,43,150,61,158,42,163,46,131,54,152,33,144,30,134,26,94,20,78,17,50,0,12,4,10,3,10,42,4,1]
["P6231500",7442,1697,5745,4,2,68,66,120,308,200,531,141,397,144,398,107,409,93,401,110,398,100,426,115,438,93,449,96,423,113,380,84,329,60,219,56,182,39,190,17,61,5,41,26,68,161,12,5]
["P6231600",228,99,129,3,2,2,2,12,16,8,14,6,10,5,16,10,15,15,11,13,13,7,15,7,17,6,22,9,9,7,11,5,12,7,8,8,6,0,1,0,0,0,0,0,2,8,0,0]
["P6231900",63,11,52,null,null,0,0,3,14,4,15,1,0,1,2,0,5,1,3,0,1,0,7,0,3,0,0,0,2,1,0,0,0,0,0,0,0,1,3,0,0,0,0,3,5,39,0,0]
["P6232000",78,18,60,null,null,0,0,1,11,4,24,3,6,3,1,1,5,0,1,3,4,1,1,1,4,0,1,1,1,0,0,0,1,0,0,0,0,0,2,0,0,0,0,0,5,53,1,0]
["P6232100",99,14,85,0,1,2,1,0,6,3,16,0,5,3,8,0,12,0,5,2,7,1,6,0,4,1,7,1,4,0,1,1,1,0,0,0,1,0,0,0,0,0,0,0,0,28,0,0]
["P6232400",5,4,1,0,0,0,0,1,0,0,0,1,1,1,0,1,0,0,0,0,0,0,0,0,0,0,0,0,0,0,0,0,0,0,0,0,0,0,0,0,0,0,0,0,1,4,0,0]
["P6232500",33,8,25,0,0,0,0,1,2,2,6,1,3,2,3,0,2,0,1,1,0,0,1,0,1,0,3,0,1,0,0,0,2,0,0,1,0,0,0,0,0,0,0,0,0,6,0,0]
["P6232600",85,22,63,0,0,0,3,4,5,4,8,0,3,5,8,2,7,1,4,1,2,2,5,1,3,0,7,1,4,1,1,0,3,0,0,0,0,0,0,1,0,0,0,0,0,30,0,0]
["P6232700",8,4,4,0,0,0,0,0,0,1,0,0,0,1,0,1,0,1,1,0,1,0,0,0,1,0,0,0,0,0,0,0,1,0,0,0,0,0,0,0,0,0,0,0,0,1,0,0]
["P6241010",776,568,208,57,14,274,72,136,69,63,34,19,9,8,4,3,1,3,0,3,0,1,3,1,1,0,0,0,0,0,0,0,1,0,0,0,0,0,0,1,1,4,0,3,20,106,1,0]
["P6241020",79,61,18,0,1,9,2,21,4,20,8,5,2,2,0,2,0,2,0,0,1,0,0,0,0,0,0,0,0,0,0,0,0,0,0,0,0,0,0,1,0,1,0,0,2,0,1,1]
["P6241040",3,2,1,null,null,1,null,1,null,null,1,{"$nulls":26},0,0,0,0,0,0,0,0,0,0,0]
["P6241050",126,93,33,8,2,38,5,25,13,16,6,2,0,2,2,1,0,0,0,0,0,0,2,0,3,1,0,0,0,0,0,0,0,0,0,0,0,0,0,1,0,1,0,0,3,28,0,0]
["P6241060",113,87,26,1,1,26,3,20,7,12,8,13,1,8,5,2,1,4,0,0,0,1,0,0,0,0,0,0,0,0,0,0,0,0,0,0,0,0,0,0,0,0,0,0,0,17,0,1]
["P6241070",7,5,2,0,0,1,0,2,1,0,1,1,0,0,0,0,0,1,0,0,0,0,0,0,0,0,0,0,0,0,0,0,0,0,0,0,0,0,0,0,0,0,0,0,2,1,0,0]
["P6241090",2,1,1,0,0,0,0,1,0,0,1,0,0,0,0,0,0,0,0,0,0,0,0,0,0,0,0,0,0,0,0,0,0,0,0,0,0,0,0,0,0,0,0,0,0,0,0,0]
["P6241100",7,6,1,0,0,0,0,2,0,1,1,2,0,1,0,0,0,0,0,0,0,0,0,0,0,0,0,0,0,0,0,0,0,0,0,0,0,0,0,0,0,0,0,0,1,3,0,0]
["P6241110",280,205,75,0,0,0,0,1,0,2,3,6,2,7,5,19,8,20,10,24,10,30,6,27,9,27,11,19,6,17,6,6,0,2,1,3,0,0,3,1,0,1,0,1,2,21,0,0]
["P6241111",144,98,46,0,0,0,0,1,0,5,1,2,4,2,5,7,2,10,6,10,2,15,6,10,6,15,9,12,3,7,2,4,4,3,1,0,0,0,0,1,0,2,0,2,0,12,0,0]
["P6241112",174,120,54,0,0,0,0,2,2,15,6,15,5,19,7,20,10,24,1,11,5,6,7,2,4,2,2,2,4,3,1,2,0,0,1,0,1,0,5,2,0,1,0,8,1,9,1,0]
["P6241113",192,103,89,0,0,0,0,0,2,6,3,6,3,11,6,22,12,14,6,7,10,7,6,10,1,5,6,3,6,5,8,1,6,2,7,4,7,0,4,0,0,2,3,0,4,2,0,0]
["P6241114",354,231,123,0,0,0,0,3,0,29,18,23,10,23,10,40,22,36,11,27,14,21,16,14,8,7,8,4,4,1,2,3,0,0,0,0,0,1,8,1,0,0,2,14,12,30,0,2]
["P6241115",1203,241,962,0,0,2,4,12,70,36,144,26,79,17,79,20,77,19,55,12,73,22,65,16,81,20,72,22,56,7,39,5,29,4,25,1,14,6,17,2,2,0,4,5,14,30,1,0]
["P6241116",1648,463,1185,0,1,70,54,69,93,66,90,26,59,19,84,16,95,20,76,17,65,23,56,17,82,13,80,33,69,20,79,27,49,14,43,13,122,13,40,1,6,5,16,18,47,39,3,0]
["P6241117",11,5,6,0,0,0,0,0,0,0,0,0,0,0,0,0,1,0,1,3,1,1,0,1,0,0,1,0,1,0,1,0,0,0,0,0,0,0,0,0,0,0,0,0,0,5,0,0]
["P6241118",9,6,3,0,0,0,0,0,0,0,0,0,0,0,0,0,1,0,1,1,1,2,0,1,0,1,0,0,0,0,0,1,0,0,0,0,0,0,0,0,0,0,0,0,0,1,0,0]
["P6241119",43,27,16,0,0,0,0,0,0,2,3,4,4,11,1,1,1,3,0,2,4,1,1,0,1,2,1,0,0,1,0,0,0,0,0,0,0,0,0,0,0,0,0,0,0,16,0,0]
["P6241120",25,15,10,0,0,0,0,0,0,1,0,3,1,3,2,4,0,3,3,1,3,0,0,0,1,0,0,0,0,0,0,0,0,0,0,0,0,0,1,0,0,0,0,0,0,8,0,0]
["P6241121",23,16,7,0,0,0,0,0,0,0,0,5,0,1,2,2,0,2,0,0,2,2,0,4,0,0,3,0,0,0,0,0,0,0,0,0,0,0,0,0,0,0,0,0,0,3,0,0]
["P6241122",11,1,10,0,0,0,0,0,0,0,1,0,1,0,0,1,1,0,0,0,4,0,0,0,0,0,1,0,0,0,2,0,0,0,0,0,0,0,0,0,0,0,0,0,0,3,0,0]
["P6241123",17,7,10,0,0,0,1,1,1,2,1,0,1,1,1,1,1,0,0,0,0,0,0,1,1,0,1,0,0,1,0,0,0,0,2,0,0,0,0,0,0,1,0,0,0,6,0,0]
["P7010100",128245,61296,52601,17250,0,0,0,0,0]
["P7010200",19252,10739,6958,1591,0]
["P7010300",12773,7208,4666,920,0]
["P7010400",44636,39108,4546,982]
["P7010500",11282,8957,1860,465]
["P7010600",5890,4964,528,398]
["P7200100",3794,2027,1220,552,0]
["P7200200",1250,776,365,119,0,5]
["P7200300",1605,1324,233,48]
["P7200400",637,556,62,19]
["P7200500",8300,4342,2490,1482]
["P7200700",1836,731,716,398]
["P7200800",862,304,421,144]
["P7200900",574,303,126,145]
["P7201000",133,52,54,29]
["P7201100",133,51,60,22]
["P7201300",8350,6089,1881,414,null,0]
["P7201400",1665,1113,426,129,null,0]
["P7201500",632,389,155,88]
["P9100100",8383,3723,4660,6260,2899,3361,2123,824,1299,495,204,291,249,97,152]
["P9100110",387,206,181,283,163,120,104,43,61,30,15,15,4,1,3]
["P9100120",1731,826,905,1326,683,643,405,143,262,108,34,74,25,6,19]
["P9100130",2205,884,1321,1671,701,970,534,183,351,144,58,86,65,28,37]
["P9100140",439,238,201,304,161,143,135,77,58,25,14,11,14,6,8]
["P9100150",80,49,31,57,34,23,23,15,8,6,3,3,1,1,0]
["P9100160",3386,1424,1962,2493,1070,1423,893,354,539,186,79,107,152,63,89]
["P9100170",283,174,109,259,163,96,24,11,13,13,7,6,6,4,2]
["P9100180",1090,569,521,962,501,461,128,68,60,57,25,32,27,15,12]
["P9100190",1079,373,706,676,264,412,403,109,294,52,18,34,37,13,24]
["P9100200",198,72,126,126,57,69,72,15,57,18,7,11,14,7,7]
["P9100210",4871,2175,2696,3574,1607,1967,1297,568,729,302,123,179,159,59,100]
["P9100220",3985,1730,2255,2860,1260,1600,1125,470,655,238,102,136,182,74,108]
["P9100230",1752,775,977,1329,621,708,423,154,269,101,38,63,47,22,25]
["P9100240",1804,865,939,1431,721,710,373,144,229,125,45,80,22,9,13]
["P9100250",438,237,201,302,157,145,136,80,56,23,14,9,13,6,7]
["P9100260",77,47,30,54,32,22,23,15,8,7,3,4,1,1,0]
["P9100270",2223,889,1334,1690,710,980,533,179,354,135,54,81,70,30,40]
["P9100280",1710,806,904,1308,666,642,402,140,262,113,40,73,25,8,17]
["P9100290",358,198,160,263,161,102,95,37,58,29,15,14,5,2,3]
["P9100300",3425,1463,1962,2557,1118,1439,868,345,523,193,77,116,157,64,93]
["P9100310",4,2,2,4,2,2,0,0,0,0,0,0,0,0,0]
["P9100320",8161,3637,4524,6174,2852,3322,1987,785,1202,484,189,295,279,110,169]
["P9100330",74,40,34,24,14,10,50,26,24,8,6,2,5,2,3]
["P9100340",14,10,4,14,10,4,0,null,null,1,1,0,1,1,0]
["P9100350",124,66,58,0,null,null,124,66,58,8,5,3,2,0,2]
["P9100360",1,1,0,1,1,0,0,0,0,0,0,0,0,0,0]
["P9100440",6994,3147,3847,5821,2692,3129,1173,455,718,445,176,269,255,101,154]
["P9100450",230,74,156,76,31,45,154,43,111,6,2,4,8,2,6]
["P9100460",842,299,543,113,31,82,729,268,461,53,24,29,24,5,19]
["P9100470",693,162,531,96,17,79,597,145,452,38,11,27,13,2,11]
["P9100480",329,89,240,29,6,23,300,83,217,16,6,10,2,0,2]
["P9100490",30,2,28,1,0,1,29,2,27,0,0,0,2,0,2]
["P9100500",2,0,2,0,0,0,2,0,2,0,0,0,0,0,0]
["P9100510",12,0,12,1,0,1,11,0,11,0,0,0,0,0,0]
["P9100520",10,1,9,1,0,1,9,1,8,0,0,0,0,0,0]
["P9100530",94,11,83,47,6,41,47,5,42,7,2,5,3,0,3]
["P9100570",4715,2232,2483,239,101,138,152,72,80,575,255,320]
["P9100580",1526,558,968,81,27,54,53,13,40,237,63,174]
["P9100590",4484,2142,2342,216,91,125,140,57,83,534,247,287]
["P9100600",1371,559,812,75,27,48,52,18,34,250,92,158]
["P9100610",1495,690,805,57,17,40,62,27,35,278,133,145]
["P9100620",481,200,281,29,13,16,29,7,22,76,28,48]
["P9100630",1212,568,644,40,11,29,52,21,31,285,139,146]
["P9100640",448,175,273,17,6,11,11,2,9,98,38,60]
["P9100650",2190,903,1287,65,19,46,66,23,43,488,194,294]
["P9100660",1348,247,1101,53,12,41,57,8,49,331,67,264]
["P9100670",1086,387,699,23,2,21,42,15,27,294,112,182]
["P9100680",1339,136,1203,30,2,28,40,3,37,332,61,271]
["P9100690",1025,453,572,27,7,20,35,14,21,313,145,168]
["P9100700",575,108,467,26,2,24,23,1,22,190,53,137]
["P9100710",700,217,483,242,62,180,458,155,303,37,6,31,15,3,12]
["P9100711",505,112,393,317,58,259,188,54,134,27,4,23,15,2,13]
["P9100712",153,62,91,88,34,54,65,28,37,15,6,9,8,4,4]
["P9100713",911,311,600,553,195,358,358,116,242,60,17,43,23,4,19]
["P9100714",399,151,248,307,131,176,92,20,72,41,15,26,7,1,6]
["P9100715",322,127,195,92,33,59,230,94,136,14,0,14,10,4,6]
["P9100716",384,205,179,268,140,128,116,65,51,27,14,13,11,6,5]
["P9100717",3481,1506,1975,2700,1237,1463,781,269,512,232,84,148,88,37,51]
["P9100718",46,27,19,15,11,4,31,16,15,4,3,1,3,2,1]
["P9100719",1371,608,763,1013,471,542,358,137,221,76,31,45,46,17,29]
["Total general",2457234,874068,1194044,135289,89433,91466,79859,56683,69485,40094,41370,25674,34893,17791,36924,28052,47387,37600,69527,51211,99855,66101,112891,78101,121251,77903,115082,66858,98494,67337,111594,8819,17369,7177,13910,34773,18610,3903,2614,619,807,460,641,630,3241,9491,350,112]

{"sheet":"P1","index":2,"n_rows":178,"n_cols":114,"rows_kept":178,"merged":[[5,3,5,16],[6,1,6,7],[8,1,9,2],[8,3,9,3],[8,4,8,16],[8,17,9,17],[8,18,9,18],[8,19,9,19],[10,1,10,2],[12,1,18,1],[19,1,20,1],[21,1,22,1],[23,1,23,2],[24,1,24,2],[25,1,26,1],[27,1,28,1],[29,1,29,2],[30,1,30,2],[31,1,32,1],[33,1,34,1],[35,1,35,2],[36,1,36,6],[37,1,38,1],[37,2,38,2],[37,3,38,3],[37,4,38,4],[37,5,38,5],[37,6,38,6],[50,1,51,1],[50,2,51,2],[50,3,51,3],[57,1,57,12],[58,1,59,1],[58,2,59,2],[58,3,59,3],[58,4,58,12],[60,1,64,1],[65,1,69,1],[77,1,77,5],[84,1,84,2],[86,1,87,2],[86,3,87,3],[86,4,86,8],[86,9,87,9],[86,10,87,10],[88,1,88,2],[90,1,90,2],[91,1,91,2],[92,1,92,2],[93,1,93,2],[94,1,94,2],[96,1,97,1],[96,2,96,3],[96,4,97,4],[96,5,97,5],[109,1,110,1],[109,2,110,2],[109,3,110,3],[109,4,109,12],[111,1,115,1],[130,1,130,8]]}
[null,"DATOS DEL ESTABLECIMIENTO"]
[null,{"$f":"CONCATENATE(\"COMUNA: \",NOMBRE!$B$2,\" - \",\"( \",NOMBRE!$C$2,NOMBRE!$D$2,NOMBRE!$E$2,NOMBRE!$F$2,NOMBRE!$G$2,\" )\")","v":"COMUNA:  - (  )"}]
[null,{"$f":"CONCATENATE(\"ESTABLECIMIENTO/ESTRATEGIA: \",NOMBRE!$B$3,\" - \",\"( \",NOMBRE!$C$3,NOMBRE!$D$3,NOMBRE!$E$3,NOMBRE!$F$3,NOMBRE!$G$3,NOMBRE!$H$3,\" )\")","v":"ESTABLECIMIENTO/ESTRATEGIA:  - (  )"}]
[null,{"$f":"CONCATENATE(\"MES: \",NOMBRE!$B$6,\" - \",\"( \",NOMBRE!$C$6,NOMBRE!$D$6,\" )\")","v":"MES:  - (  )"}]
[null,{"$f":"CONCATENATE(\"AÑO: \",NOMBRE!$B$7)","v":"AÑO: 2023"}]
[{"$nulls":3},"REM-P1. POBLACIÓN EN CONTROL PROGRAMA DE SALUD DE LA MUJER"]
[null,"ATENCIÓN PRIMARIA DE SALUD"]
[null,"SECCION A: POBLACIÓN EN CONTROL SEGÚN MÉTODO DE REGULACIÓN DE FERTILIDAD Y SALUD SEXUAL"]
[null,"MÉTODOS",null,"TOTAL","GRUPO DE EDAD (en años)",{"$nulls":12},"Pueblos Originarios"," Migrantes","PV-VIH (personas viviendo con VIH)"]
[{"$nulls":4},"Menor \nde 15 años","15 a 19 años","20 a 24 años","25 a 29 años","30 a 34 años","35 a 39 años","40 a 44 años","45 a 49 años","50 a 54 años","55 a 59 años","60 a 64 años","65 a 69 años","70 y más años"]
["P1010100","D . I . U T con Cobre",null,{"$f":"SUM(E11:N11)","v":7088},{"$f":"IFERROR(VLOOKUP($A11,Filtro!$A$5:$AY$629,3,FALSE),0)","v":0},{"$f":"IFERROR(VLOOKUP($A11,Filtro!$A$5:$AY$629,4,FALSE),0)","v":50},{"$f":"IFERROR(VLOOKUP($A11,Filtro!$A$5:$AY$629,5,FALSE),0)","v":382},{"$f":"IFERROR(VLOOKUP($A11,Filtro!$A$5:$AY$629,6,FALSE),0)","v":1112},{"$f":"IFERROR(VLOOKUP($A11,Filtro!$A$5:$AY$629,7,FALSE),0)","v":1502},{"$f":"IFERROR(VLOOKUP($A11,Filtro!$A$5:$AY$629,8,FALSE),0)","v":1357},{"$f":"IFERROR(VLOOKUP($A11,Filtro!$A$5:$AY$629,9,FALSE),0)","v":1097},{"$f":"IFERROR(VLOOKUP($A11,Filtro!$A$5:$AY$629,10,FALSE),0)","v":913},{"$f":"IFERROR(VLOOKUP($A11,Filtro!$A$5:$AY$629,11,FALSE),0)","v":544},{"$f":"IFERROR(VLOOKUP($A11,Filtro!$A$5:$AY$629,12,FALSE),0)","v":131},{"$f":"IFERROR(VLOOKUP($A11,Filtro!$A$5:$AY$629,13,FALSE),0)","v":0},{"$f":"IFERROR(VLOOKUP($A11,Filtro!$A$5:$AY$629,14,FALSE),0)","v":0},{"$f":"IFERROR(VLOOKUP($A11,Filtro!$A$5:$AY$629,15,FALSE),0)","v":0},{"$f":"IFERROR(VLOOKUP($A11,Filtro!$A$5:$AY$629,16,FALSE),0)","v":94},{"$f":"IFERROR(VLOOKUP($A11,Filtro!$A$5:$AY$629,17,FALSE),0)","v":243},{"$f":"IFERROR(VLOOKUP($A11,Filtro!$A$5:$AY$629,18,FALSE),0)","v":7},{"$nulls":60},{"$f":"IF($R11>$D11,\"* La celda 'Pueblos Originarios' debe ser menor o igual al Total en control. \",\"\")","v":""},{"$f":"IF($S11>$D11,\"* La celda 'Población Migrantes' debe ser menor o igual al Total en control. \",\"\")","v":""},{"$f":"IF($T11>$D11,\"* La celda 'Personas Viviendo con VIH' debe ser menor o igual al Total en control. \",\"\")","v":""},{"$f":"IF(AND($D11<>0,$R11=\"\"),\"* No olvide escribir en la celda de 'Pueblos Originarios' (Digite CERO si no tiene). \",\"\")","v":""},{"$f":"IF(AND($D11<>0,$S11=\"\"),\"* No olvide escribir en la celda de 'Población Migrantes' (Digite CERO si no tiene). \",\"\")","v":""},{"$f":"IF(AND($D11<>0,$T11=\"\"),\"* No olvide escribir en la celda de 'PV-VIH' (Digite CERO si no tiene). \",\"\")","v":""},{"$nulls":20},{"$f":"IF($R11>$D11,1,0)","v":0},{"$f":"IF($S11>$D11,1,0)","v":0},{"$f":"IF($T11>$D11,1,0)","v":0},{"$f":"IF(AND($D11<>0,$R11=\"\"),1,0)","v":0},{"$f":"IF(AND($D11<>0,$S11=\"\"),1,0)","v":0},{"$f":"IF(AND($D11<>0,$T11=\"\"),1,0)","v":0}]
["P1060124","D . I . U con Levonorgestrel",null,{"$f":"SUM(E12:N12)","v":1260},{"$f":"IFERROR(VLOOKUP($A12,Filtro!$A$5:$AY$629,3,FALSE),0)","v":3},{"$f":"IFERROR(VLOOKUP($A12,Filtro!$A$5:$AY$629,4,FALSE),0)","v":36},{"$f":"IFERROR(VLOOKUP($A12,Filtro!$A$5:$AY$629,5,FALSE),0)","v":151},{"$f":"IFERROR(VLOOKUP($A12,Filtro!$A$5:$AY$629,6,FALSE),0)","v":289},{"$f":"IFERROR(VLOOKUP($A12,Filtro!$A$5:$AY$629,7,FALSE),0)","v":336},{"$f":"IFERROR(VLOOKUP($A12,Filtro!$A$5:$AY$629,8,FALSE),0)","v":217},{"$f":"IFERROR(VLOOKUP($A12,Filtro!$A$5:$AY$629,9,FALSE),0)","v":147},{"$f":"IFERROR(VLOOKUP($A12,Filtro!$A$5:$AY$629,10,FALSE),0)","v":65},{"$f":"IFERROR(VLOOKUP($A12,Filtro!$A$5:$AY$629,11,FALSE),0)","v":12},{"$f":"IFERROR(VLOOKUP($A12,Filtro!$A$5:$AY$629,12,FALSE),0)","v":4},{"$f":"IFERROR(VLOOKUP($A12,Filtro!$A$5:$AY$629,13,FALSE),0)","v":0},{"$f":"IFERROR(VLOOKUP($A12,Filtro!$A$5:$AY$629,14,FALSE),0)","v":0},{"$f":"IFERROR(VLOOKUP($A12,Filtro!$A$5:$AY$629,15,FALSE),0)","v":0},{"$f":"IFERROR(VLOOKUP($A12,Filtro!$A$5:$AY$629,16,FALSE),0)","v":29},{"$f":"IFERROR(VLOOKUP($A12,Filtro!$A$5:$AY$629,17,FALSE),0)","v":63},{"$f":"IFERROR(VLOOKUP($A12,Filtro!$A$5:$AY$629,18,FALSE),0)","v":2},{"$nulls":60},"","","","","","",{"$nulls":20},0,0,0,0,0,0]
["P1010201","HORMONAL","Oral Combinado",14091,{"$f":"IFERROR(VLOOKUP($A13,Filtro!$A$5:$AY$629,3,FALSE),0)","v":305},{"$f":"IFERROR(VLOOKUP($A13,Filtro!$A$5:$AY$629,4,FALSE),0)","v":2224},{"$f":"IFERROR(VLOOKUP($A13,Filtro!$A$5:$AY$629,5,FALSE),0)","v":2791},{"$f":"IFERROR(VLOOKUP($A13,Filtro!$A$5:$AY$629,6,FALSE),0)","v":2377},{"$f":"IFERROR(VLOOKUP($A13,Filtro!$A$5:$AY$629,7,FALSE),0)","v":2256},{"$f":"IFERROR(VLOOKUP($A13,Filtro!$A$5:$AY$629,8,FALSE),0)","v":1909},{"$f":"IFERROR(VLOOKUP($A13,Filtro!$A$5:$AY$629,9,FALSE),0)","v":1302},{"$f":"IFERROR(VLOOKUP($A13,Filtro!$A$5:$AY$629,10,FALSE),0)","v":727},{"$f":"IFERROR(VLOOKUP($A13,Filtro!$A$5:$AY$629,11,FALSE),0)","v":186},{"$f":"IFERROR(VLOOKUP($A13,Filtro!$A$5:$AY$629,12,FALSE),0)","v":14},{"$f":"IFERROR(VLOOKUP($A13,Filtro!$A$5:$AY$629,13,FALSE),0)","v":0},{"$f":"IFERROR(VLOOKUP($A13,Filtro!$A$5:$AY$629,14,FALSE),0)","v":0},{"$f":"IFERROR(VLOOKUP($A13,Filtro!$A$5:$AY$629,15,FALSE),0)","v":0},{"$f":"IFERROR(VLOOKUP($A13,Filtro!$A$5:$AY$629,16,FALSE),0)","v":152},{"$f":"IFERROR(VLOOKUP($A13,Filtro!$A$5:$AY$629,17,FALSE),0)","v":418},{"$f":"IFERROR(VLOOKUP($A13,Filtro!$A$5:$AY$629,18,FALSE),0)","v":3},{"$nulls":60},"","","","","","",{"$nulls":20},0,0,0,0,0,0]
["P1010202",null,"Oral Progestágeno",4883,{"$f":"IFERROR(VLOOKUP($A14,Filtro!$A$5:$AY$629,3,FALSE),0)","v":20},{"$f":"IFERROR(VLOOKUP($A14,Filtro!$A$5:$AY$629,4,FALSE),0)","v":173},{"$f":"IFERROR(VLOOKUP($A14,Filtro!$A$5:$AY$629,5,FALSE),0)","v":328},{"$f":"IFERROR(VLOOKUP($A14,Filtro!$A$5:$AY$629,6,FALSE),0)","v":624},{"$f":"IFERROR(VLOOKUP($A14,Filtro!$A$5:$AY$629,7,FALSE),0)","v":740},{"$f":"IFERROR(VLOOKUP($A14,Filtro!$A$5:$AY$629,8,FALSE),0)","v":681},{"$f":"IFERROR(VLOOKUP($A14,Filtro!$A$5:$AY$629,9,FALSE),0)","v":823},{"$f":"IFERROR(VLOOKUP($A14,Filtro!$A$5:$AY$629,10,FALSE),0)","v":992},{"$f":"IFERROR(VLOOKUP($A14,Filtro!$A$5:$AY$629,11,FALSE),0)","v":462},{"$f":"IFERROR(VLOOKUP($A14,Filtro!$A$5:$AY$629,12,FALSE),0)","v":40},{"$f":"IFERROR(VLOOKUP($A14,Filtro!$A$5:$AY$629,13,FALSE),0)","v":0},{"$f":"IFERROR(VLOOKUP($A14,Filtro!$A$5:$AY$629,14,FALSE),0)","v":0},{"$f":"IFERROR(VLOOKUP($A14,Filtro!$A$5:$AY$629,15,FALSE),0)","v":0},{"$f":"IFERROR(VLOOKUP($A14,Filtro!$A$5:$AY$629,16,FALSE),0)","v":54},{"$f":"IFERROR(VLOOKUP($A14,Filtro!$A$5:$AY$629,17,FALSE),0)","v":160},{"$f":"IFERROR(VLOOKUP($A14,Filtro!$A$5:$AY$629,18,FALSE),0)","v":0},{"$nulls":60},"","","","","","",{"$nulls":20},0,0,0,0,0,0]
["P1010203",null,"Inyectable Combinado",6847,{"$f":"IFERROR(VLOOKUP($A15,Filtro!$A$5:$AY$629,3,FALSE),0)","v":86},{"$f":"IFERROR(VLOOKUP($A15,Filtro!$A$5:$AY$629,4,FALSE),0)","v":979},{"$f":"IFERROR(VLOOKUP($A15,Filtro!$A$5:$AY$629,5,FALSE),0)","v":1629},{"$f":"IFERROR(VLOOKUP($A15,Filtro!$A$5:$AY$629,6,FALSE),0)","v":1457},{"$f":"IFERROR(VLOOKUP($A15,Filtro!$A$5:$AY$629,7,FALSE),0)","v":1107},{"$f":"IFERROR(VLOOKUP($A15,Filtro!$A$5:$AY$629,8,FALSE),0)","v":803},{"$f":"IFERROR(VLOOKUP($A15,Filtro!$A$5:$AY$629,9,FALSE),0)","v":495},{"$f":"IFERROR(VLOOKUP($A15,Filtro!$A$5:$AY$629,10,FALSE),0)","v":233},{"$f":"IFERROR(VLOOKUP($A15,Filtro!$A$5:$AY$629,11,FALSE),0)","v":52},{"$f":"IFERROR(VLOOKUP($A15,Filtro!$A$5:$AY$629,12,FALSE),0)","v":6},{"$f":"IFERROR(VLOOKUP($A15,Filtro!$A$5:$AY$629,13,FALSE),0)","v":0},{"$f":"IFERROR(VLOOKUP($A15,Filtro!$A$5:$AY$629,14,FALSE),0)","v":0},{"$f":"IFERROR(VLOOKUP($A15,Filtro!$A$5:$AY$629,15,FALSE),0)","v":0},{"$f":"IFERROR(VLOOKUP($A15,Filtro!$A$5:$AY$629,16,FALSE),0)","v":112},{"$f":"IFERROR(VLOOKUP($A15,Filtro!$A$5:$AY$629,17,FALSE),0)","v":287},{"$f":"IFERROR(VLOOKUP($A15,Filtro!$A$5:$AY$629,18,FALSE),0)","v":2},{"$nulls":60},"","","","","","",{"$nulls":20},0,0,0,0,0,0]
["P1040508",null,"Inyectable Progestágeno",13802,{"$f":"IFERROR(VLOOKUP($A16,Filtro!$A$5:$AY$629,3,FALSE),0)","v":171},{"$f":"IFERROR(VLOOKUP($A16,Filtro!$A$5:$AY$629,4,FALSE),0)","v":1278},{"$f":"IFERROR(VLOOKUP($A16,Filtro!$A$5:$AY$629,5,FALSE),0)","v":2352},{"$f":"IFERROR(VLOOKUP($A16,Filtro!$A$5:$AY$629,6,FALSE),0)","v":2825},{"$f":"IFERROR(VLOOKUP($A16,Filtro!$A$5:$AY$629,7,FALSE),0)","v":2569},{"$f":"IFERROR(VLOOKUP($A16,Filtro!$A$5:$AY$629,8,FALSE),0)","v":1863},{"$f":"IFERROR(VLOOKUP($A16,Filtro!$A$5:$AY$629,9,FALSE),0)","v":1319},{"$f":"IFERROR(VLOOKUP($A16,Filtro!$A$5:$AY$629,10,FALSE),0)","v":1070},{"$f":"IFERROR(VLOOKUP($A16,Filtro!$A$5:$AY$629,11,FALSE),0)","v":345},{"$f":"IFERROR(VLOOKUP($A16,Filtro!$A$5:$AY$629,12,FALSE),0)","v":10},{"$f":"IFERROR(VLOOKUP($A16,Filtro!$A$5:$AY$629,13,FALSE),0)","v":0},{"$f":"IFERROR(VLOOKUP($A16,Filtro!$A$5:$AY$629,14,FALSE),0)","v":0},{"$f":"IFERROR(VLOOKUP($A16,Filtro!$A$5:$AY$629,15,FALSE),0)","v":0},{"$f":"IFERROR(VLOOKUP($A16,Filtro!$A$5:$AY$629,16,FALSE),0)","v":206},{"$f":"IFERROR(VLOOKUP($A16,Filtro!$A$5:$AY$629,17,FALSE),0)","v":793},{"$f":"IFERROR(VLOOKUP($A16,Filtro!$A$5:$AY$629,18,FALSE),0)","v":7},{"$nulls":60},"","","","","","",{"$nulls":20},0,0,0,0,0,0]
["P1040500",null,"Implante Etonogestrel (3 años)",10041,{"$f":"IFERROR(VLOOKUP($A17,Filtro!$A$5:$AY$629,3,FALSE),0)","v":185},{"$f":"IFERROR(VLOOKUP($A17,Filtro!$A$5:$AY$629,4,FALSE),0)","v":1824},{"$f":"IFERROR(VLOOKUP($A17,Filtro!$A$5:$AY$629,5,FALSE),0)","v":2326},{"$f":"IFERROR(VLOOKUP($A17,Filtro!$A$5:$AY$629,6,FALSE),0)","v":2124},{"$f":"IFERROR(VLOOKUP($A17,Filtro!$A$5:$AY$629,7,FALSE),0)","v":1728},{"$f":"IFERROR(VLOOKUP($A17,Filtro!$A$5:$AY$629,8,FALSE),0)","v":1015},{"$f":"IFERROR(VLOOKUP($A17,Filtro!$A$5:$AY$629,9,FALSE),0)","v":546},{"$f":"IFERROR(VLOOKUP($A17,Filtro!$A$5:$AY$629,10,FALSE),0)","v":244},{"$f":"IFERROR(VLOOKUP($A17,Filtro!$A$5:$AY$629,11,FALSE),0)","v":47},{"$f":"IFERROR(VLOOKUP($A17,Filtro!$A$5:$AY$629,12,FALSE),0)","v":2},{"$f":"IFERROR(VLOOKUP($A17,Filtro!$A$5:$AY$629,13,FALSE),0)","v":0},{"$f":"IFERROR(VLOOKUP($A17,Filtro!$A$5:$AY$629,14,FALSE),0)","v":0},{"$f":"IFERROR(VLOOKUP($A17,Filtro!$A$5:$AY$629,15,FALSE),0)","v":0},{"$f":"IFERROR(VLOOKUP($A17,Filtro!$A$5:$AY$629,16,FALSE),0)","v":111},{"$f":"IFERROR(VLOOKUP($A17,Filtro!$A$5:$AY$629,17,FALSE),0)","v":795},{"$f":"IFERROR(VLOOKUP($A17,Filtro!$A$5:$AY$629,18,FALSE),0)","v":6},{"$nulls":60},"","","","","","",{"$nulls":20},0,0,0,0,0,0]
["P1200190",null,"Implante Levonorgestrel (5 años)",3139,{"$f":"IFERROR(VLOOKUP($A18,Filtro!$A$5:$AY$629,3,FALSE),0)","v":70},{"$f":"IFERROR(VLOOKUP($A18,Filtro!$A$5:$AY$629,4,FALSE),0)","v":576},{"$f":"IFERROR(VLOOKUP($A18,Filtro!$A$5:$AY$629,5,FALSE),0)","v":731},{"$f":"IFERROR(VLOOKUP($A18,Filtro!$A$5:$AY$629,6,FALSE),0)","v":670},{"$f":"IFERROR(VLOOKUP($A18,Filtro!$A$5:$AY$629,7,FALSE),0)","v":520},{"$f":"IFERROR(VLOOKUP($A18,Filtro!$A$5:$AY$629,8,FALSE),0)","v":326},{"$f":"IFERROR(VLOOKUP($A18,Filtro!$A$5:$AY$629,9,FALSE),0)","v":183},{"$f":"IFERROR(VLOOKUP($A18,Filtro!$A$5:$AY$629,10,FALSE),0)","v":58},{"$f":"IFERROR(VLOOKUP($A18,Filtro!$A$5:$AY$629,11,FALSE),0)","v":5},{"$f":"IFERROR(VLOOKUP($A18,Filtro!$A$5:$AY$629,12,FALSE),0)","v":0},{"$f":"IFERROR(VLOOKUP($A18,Filtro!$A$5:$AY$629,13,FALSE),0)","v":0},{"$f":"IFERROR(VLOOKUP($A18,Filtro!$A$5:$AY$629,14,FALSE),0)","v":0},{"$f":"IFERROR(VLOOKUP($A18,Filtro!$A$5:$AY$629,15,FALSE),0)","v":0},{"$f":"IFERROR(VLOOKUP($A18,Filtro!$A$5:$AY$629,16,FALSE),0)","v":40},{"$f":"IFERROR(VLOOKUP($A18,Filtro!$A$5:$AY$629,17,FALSE),0)","v":332},{"$f":"IFERROR(VLOOKUP($A18,Filtro!$A$5:$AY$629,18,FALSE),0)","v":2},{"$nulls":60},"","","","","","",{"$nulls":20},0,0,0,0,0,0]
["P1600105",null,"Anillo Vaginal",{"$f":"SUM(E19:N19)","v":225},{"$f":"IFERROR(VLOOKUP($A19,Filtro!$A$5:$AY$629,3,FALSE),0)","v":1},{"$f":"IFERROR(VLOOKUP($A19,Filtro!$A$5:$AY$629,4,FALSE),0)","v":17},{"$f":"IFERROR(VLOOKUP($A19,Filtro!$A$5:$AY$629,5,FALSE),0)","v":40},{"$f":"IFERROR(VLOOKUP($A19,Filtro!$A$5:$AY$629,6,FALSE),0)","v":48},{"$f":"IFERROR(VLOOKUP($A19,Filtro!$A$5:$AY$629,7,FALSE),0)","v":57},{"$f":"IFERROR(VLOOKUP($A19,Filtro!$A$5:$AY$629,8,FALSE),0)","v":41},{"$f":"IFERROR(VLOOKUP($A19,Filtro!$A$5:$AY$629,9,FALSE),0)","v":15},{"$f":"IFERROR(VLOOKUP($A19,Filtro!$A$5:$AY$629,10,FALSE),0)","v":5},{"$f":"IFERROR(VLOOKUP($A19,Filtro!$A$5:$AY$629,11,FALSE),0)","v":1},{"$f":"IFERROR(VLOOKUP($A19,Filtro!$A$5:$AY$629,12,FALSE),0)","v":0},{"$f":"IFERROR(VLOOKUP($A19,Filtro!$A$5:$AY$629,13,FALSE),0)","v":0},{"$f":"IFERROR(VLOOKUP($A19,Filtro!$A$5:$AY$629,14,FALSE),0)","v":0},{"$f":"IFERROR(VLOOKUP($A19,Filtro!$A$5:$AY$629,15,FALSE),0)","v":0},{"$f":"IFERROR(VLOOKUP($A19,Filtro!$A$5:$AY$629,16,FALSE),0)","v":3},{"$f":"IFERROR(VLOOKUP($A19,Filtro!$A$5:$AY$629,17,FALSE),0)","v":9},{"$f":"IFERROR(VLOOKUP($A19,Filtro!$A$5:$AY$629,18,FALSE),0)","v":0},{"$nulls":60},"","","","","","",{"$nulls":20},0,0,0,0,0,0]
["P1010301"," SÓLO PRESERVATIVO  MAC                                                                                                                                                                                                                               ","Mujer",{"$f":"SUM(E20:Q20)","v":1733},{"$f":"IFERROR(VLOOKUP($A20,Filtro!$A$5:$AY$629,3,FALSE),0)","v":32},{"$f":"IFERROR(VLOOKUP($A20,Filtro!$A$5:$AY$629,4,FALSE),0)","v":251},{"$f":"IFERROR(VLOOKUP($A20,Filtro!$A$5:$AY$629,5,FALSE),0)","v":209},{"$f":"IFERROR(VLOOKUP($A20,Filtro!$A$5:$AY$629,6,FALSE),0)","v":243},{"$f":"IFERROR(VLOOKUP($A20,Filtro!$A$5:$AY$629,7,FALSE),0)","v":265},{"$f":"IFERROR(VLOOKUP($A20,Filtro!$A$5:$AY$629,8,FALSE),0)","v":224},{"$f":"IFERROR(VLOOKUP($A20,Filtro!$A$5:$AY$629,9,FALSE),0)","v":227},{"$f":"IFERROR(VLOOKUP($A20,Filtro!$A$5:$AY$629,10,FALSE),0)","v":139},{"$f":"IFERROR(VLOOKUP($A20,Filtro!$A$5:$AY$629,11,FALSE),0)","v":111},{"$f":"IFERROR(VLOOKUP($A20,Filtro!$A$5:$AY$629,12,FALSE),0)","v":32},{"$f":"IFERROR(VLOOKUP($A20,Filtro!$A$5:$AY$629,13,FALSE),0)","v":0},{"$f":"IFERROR(VLOOKUP($A20,Filtro!$A$5:$AY$629,14,FALSE),0)","v":0},{"$f":"IFERROR(VLOOKUP($A20,Filtro!$A$5:$AY$629,15,FALSE),0)","v":0},{"$f":"IFERROR(VLOOKUP($A20,Filtro!$A$5:$AY$629,16,FALSE),0)","v":21},{"$f":"IFERROR(VLOOKUP($A20,Filtro!$A$5:$AY$629,17,FALSE),0)","v":96},{"$f":"IFERROR(VLOOKUP($A20,Filtro!$A$5:$AY$629,18,FALSE),0)","v":4},{"$nulls":60},"","","","","","",{"$nulls":20},0,0,0,0,0,0]
["P1010302",null,"Hombres",{"$f":"SUM(E21:Q21)","v":653},{"$f":"IFERROR(VLOOKUP($A21,Filtro!$A$5:$AY$629,3,FALSE),0)","v":46},{"$f":"IFERROR(VLOOKUP($A21,Filtro!$A$5:$AY$629,4,FALSE),0)","v":277},{"$f":"IFERROR(VLOOKUP($A21,Filtro!$A$5:$AY$629,5,FALSE),0)","v":73},{"$f":"IFERROR(VLOOKUP($A21,Filtro!$A$5:$AY$629,6,FALSE),0)","v":65},{"$f":"IFERROR(VLOOKUP($A21,Filtro!$A$5:$AY$629,7,FALSE),0)","v":60},{"$f":"IFERROR(VLOOKUP($A21,Filtro!$A$5:$AY$629,8,FALSE),0)","v":39},{"$f":"IFERROR(VLOOKUP($A21,Filtro!$A$5:$AY$629,9,FALSE),0)","v":50},{"$f":"IFERROR(VLOOKUP($A21,Filtro!$A$5:$AY$629,10,FALSE),0)","v":22},{"$f":"IFERROR(VLOOKUP($A21,Filtro!$A$5:$AY$629,11,FALSE),0)","v":5},{"$f":"IFERROR(VLOOKUP($A21,Filtro!$A$5:$AY$629,12,FALSE),0)","v":16},{"$f":"IFERROR(VLOOKUP($A21,Filtro!$A$5:$AY$629,13,FALSE),0)","v":0},{"$f":"IFERROR(VLOOKUP($A21,Filtro!$A$5:$AY$629,14,FALSE),0)","v":0},{"$f":"IFERROR(VLOOKUP($A21,Filtro!$A$5:$AY$629,15,FALSE),0)","v":0},{"$f":"IFERROR(VLOOKUP($A21,Filtro!$A$5:$AY$629,16,FALSE),0)","v":1},{"$f":"IFERROR(VLOOKUP($A21,Filtro!$A$5:$AY$629,17,FALSE),0)","v":41},{"$f":"IFERROR(VLOOKUP($A21,Filtro!$A$5:$AY$629,18,FALSE),0)","v":5},{"$nulls":60},"","","","","","",{"$nulls":20},0,0,0,0,0,0]
["P1200240","ESTERILIZACIÓN QUIRURGICA","Mujer",{"$f":"SUM(E22:N22)","v":2948},{"$f":"IFERROR(VLOOKUP($A22,Filtro!$A$5:$AY$629,3,FALSE),0)","v":0},{"$f":"IFERROR(VLOOKUP($A22,Filtro!$A$5:$AY$629,4,FALSE),0)","v":0},{"$f":"IFERROR(VLOOKUP($A22,Filtro!$A$5:$AY$629,5,FALSE),0)","v":19},{"$f":"IFERROR(VLOOKUP($A22,Filtro!$A$5:$AY$629,6,FALSE),0)","v":127},{"$f":"IFERROR(VLOOKUP($A22,Filtro!$A$5:$AY$629,7,FALSE),0)","v":356},{"$f":"IFERROR(VLOOKUP($A22,Filtro!$A$5:$AY$629,8,FALSE),0)","v":647},{"$f":"IFERROR(VLOOKUP($A22,Filtro!$A$5:$AY$629,9,FALSE),0)","v":718},{"$f":"IFERROR(VLOOKUP($A22,Filtro!$A$5:$AY$629,10,FALSE),0)","v":565},{"$f":"IFERROR(VLOOKUP($A22,Filtro!$A$5:$AY$629,11,FALSE),0)","v":321},{"$f":"IFERROR(VLOOKUP($A22,Filtro!$A$5:$AY$629,12,FALSE),0)","v":195},{"$f":"IFERROR(VLOOKUP($A22,Filtro!$A$5:$AY$629,13,FALSE),0)","v":0},{"$f":"IFERROR(VLOOKUP($A22,Filtro!$A$5:$AY$629,14,FALSE),0)","v":0},{"$f":"IFERROR(VLOOKUP($A22,Filtro!$A$5:$AY$629,15,FALSE),0)","v":0},{"$f":"IFERROR(VLOOKUP($A22,Filtro!$A$5:$AY$629,16,FALSE),0)","v":48},{"$f":"IFERROR(VLOOKUP($A22,Filtro!$A$5:$AY$629,17,FALSE),0)","v":144},{"$f":"IFERROR(VLOOKUP($A22,Filtro!$A$5:$AY$629,18,FALSE),0)","v":7},{"$nulls":60},"","","","","","",{"$nulls":20},0,0,0,0,0,0]
["P1200250",null,"Hombres",{"$f":"SUM(E23:N23)","v":5},{"$f":"IFERROR(VLOOKUP($A23,Filtro!$A$5:$AY$629,3,FALSE),0)","v":0},{"$f":"IFERROR(VLOOKUP($A23,Filtro!$A$5:$AY$629,4,FALSE),0)","v":0},{"$f":"IFERROR(VLOOKUP($A23,Filtro!$A$5:$AY$629,5,FALSE),0)","v":0},{"$f":"IFERROR(VLOOKUP($A23,Filtro!$A$5:$AY$629,6,FALSE),0)","v":0},{"$f":"IFERROR(VLOOKUP($A23,Filtro!$A$5:$AY$629,7,FALSE),0)","v":2},{"$f":"IFERROR(VLOOKUP($A23,Filtro!$A$5:$AY$629,8,FALSE),0)","v":1},{"$f":"IFERROR(VLOOKUP($A23,Filtro!$A$5:$AY$629,9,FALSE),0)","v":1},{"$f":"IFERROR(VLOOKUP($A23,Filtro!$A$5:$AY$629,10,FALSE),0)","v":1},{"$f":"IFERROR(VLOOKUP($A23,Filtro!$A$5:$AY$629,11,FALSE),0)","v":0},{"$f":"IFERROR(VLOOKUP($A23,Filtro!$A$5:$AY$629,12,FALSE),0)","v":0},{"$f":"IFERROR(VLOOKUP($A23,Filtro!$A$5:$AY$629,13,FALSE),0)","v":0},{"$f":"IFERROR(VLOOKUP($A23,Filtro!$A$5:$AY$629,14,FALSE),0)","v":0},{"$f":"IFERROR(VLOOKUP($A23,Filtro!$A$5:$AY$629,15,FALSE),0)","v":0},{"$f":"IFERROR(VLOOKUP($A23,Filtro!$A$5:$AY$629,16,FALSE),0)","v":0},{"$f":"IFERROR(VLOOKUP($A23,Filtro!$A$5:$AY$629,17,FALSE),0)","v":0},{"$f":"IFERROR(VLOOKUP($A23,Filtro!$A$5:$AY$629,18,FALSE),0)","v":0},{"$nulls":60},"","","","","","",{"$nulls":20},0,0,0,0,0,0]
[null," TOTAL",null,{"$f":"SUM(D11:D23)","v":66715},{"$f":"SUM(E11:E23)","v":919},7685,11031,11961,11498,9123,6923,5034,2091,450,0,0,0,871,3381,45]
["P1060010"," Mujeres en control con enfermedad cardiovascular (DM-HTA)\n",null,{"$f":"IFERROR(VLOOKUP($A25,Filtro!$A$5:$AY$629,2,FALSE),0)","v":3273},{"$f":"IFERROR(VLOOKUP($A25,Filtro!$A$5:$AY$629,3,FALSE),0)","v":0},{"$f":"IFERROR(VLOOKUP($A25,Filtro!$A$5:$AY$629,4,FALSE),0)","v":11},{"$f":"IFERROR(VLOOKUP($A25,Filtro!$A$5:$AY$629,5,FALSE),0)","v":102},{"$f":"IFERROR(VLOOKUP($A25,Filtro!$A$5:$AY$629,6,FALSE),0)","v":185},{"$f":"IFERROR(VLOOKUP($A25,Filtro!$A$5:$AY$629,7,FALSE),0)","v":302},{"$f":"IFERROR(VLOOKUP($A25,Filtro!$A$5:$AY$629,8,FALSE),0)","v":515},{"$f":"IFERROR(VLOOKUP($A25,Filtro!$A$5:$AY$629,9,FALSE),0)","v":723},{"$f":"IFERROR(VLOOKUP($A25,Filtro!$A$5:$AY$629,10,FALSE),0)","v":855},{"$f":"IFERROR(VLOOKUP($A25,Filtro!$A$5:$AY$629,11,FALSE),0)","v":545},{"$f":"IFERROR(VLOOKUP($A25,Filtro!$A$5:$AY$629,12,FALSE),0)","v":150},{"$f":"IFERROR(VLOOKUP($A25,Filtro!$A$5:$AY$629,13,FALSE),0)","v":0},{"$f":"IFERROR(VLOOKUP($A25,Filtro!$A$5:$AY$629,14,FALSE),0)","v":0},{"$f":"IFERROR(VLOOKUP($A25,Filtro!$A$5:$AY$629,15,FALSE),0)","v":0},{"$f":"IFERROR(VLOOKUP($A25,Filtro!$A$5:$AY$629,16,FALSE),0)","v":31},{"$f":"IFERROR(VLOOKUP($A25,Filtro!$A$5:$AY$629,17,FALSE),0)","v":46},{"$f":"IFERROR(VLOOKUP($A25,Filtro!$A$5:$AY$629,18,FALSE),0)","v":0},{"$nulls":60},{"$f":"IF($R25>$D25,\"* La celda 'Pueblos Originarios' debe ser menor o igual al Total en control. \",\"\")","v":""},{"$f":"IF($S25>$D25,\"* La celda 'Población Migrantes' debe ser menor o igual al Total en control. \",\"\")","v":""},{"$f":"IF($T25>$D25,\"* La celda 'Personas Viviendo con VIH' debe ser menor o igual al Total en control. \",\"\")","v":""},{"$f":"IF(AND($D25<>0,$R25=\"\"),\"* No olvide escribir en la celda de 'Pueblos Originarios' (Digite CERO si no tiene). \",\"\")","v":""},{"$f":"IF(AND($D25<>0,$S25=\"\"),\"* No olvide escribir en la celda de 'Población Migrantes' (Digite CERO si no tiene). \",\"\")","v":""},{"$f":"IF(AND($D25<>0,$T25=\"\"),\"* No olvide escribir en la celda de 'PV-VIH' (Digite CERO si no tiene). \",\"\")","v":""},{"$nulls":20},{"$f":"IF($R25>$D25,1,0)","v":0},{"$f":"IF($S25>$D25,1,0)","v":0},{"$f":"IF($T25>$D25,1,0)","v":0},{"$f":"IF(AND($D25<>0,$R25=\"\"),1,0)","v":0},{"$f":"IF(AND($D25<>0,$S25=\"\"),1,0)","v":0},{"$f":"IF(AND($D25<>0,$T25=\"\"),1,0)","v":0}]
["P1600106","Mujeres con Retiro de Implante Anticipado en el semestre (antes de los 3 años)","En APS",{"$f":"IFERROR(VLOOKUP($A26,Filtro!$A$5:$AY$629,2,FALSE),0)","v":174},{"$f":"IFERROR(VLOOKUP($A26,Filtro!$A$5:$AY$629,3,FALSE),0)","v":1},{"$f":"IFERROR(VLOOKUP($A26,Filtro!$A$5:$AY$629,4,FALSE),0)","v":34},{"$f":"IFERROR(VLOOKUP($A26,Filtro!$A$5:$AY$629,5,FALSE),0)","v":47},{"$f":"IFERROR(VLOOKUP($A26,Filtro!$A$5:$AY$629,6,FALSE),0)","v":48},{"$f":"IFERROR(VLOOKUP($A26,Filtro!$A$5:$AY$629,7,FALSE),0)","v":32},{"$f":"IFERROR(VLOOKUP($A26,Filtro!$A$5:$AY$629,8,FALSE),0)","v":10},{"$f":"IFERROR(VLOOKUP($A26,Filtro!$A$5:$AY$629,9,FALSE),0)","v":5},{"$f":"IFERROR(VLOOKUP($A26,Filtro!$A$5:$AY$629,10,FALSE),0)","v":1},{"$f":"IFERROR(VLOOKUP($A26,Filtro!$A$5:$AY$629,11,FALSE),0)","v":0},{"$f":"IFERROR(VLOOKUP($A26,Filtro!$A$5:$AY$629,12,FALSE),0)","v":0},{"$f":"IFERROR(VLOOKUP($A26,Filtro!$A$5:$AY$629,13,FALSE),0)","v":0},{"$f":"IFERROR(VLOOKUP($A26,Filtro!$A$5:$AY$629,14,FALSE),0)","v":0},{"$f":"IFERROR(VLOOKUP($A26,Filtro!$A$5:$AY$629,15,FALSE),0)","v":0},{"$f":"IFERROR(VLOOKUP($A26,Filtro!$A$5:$AY$629,16,FALSE),0)","v":0},{"$f":"IFERROR(VLOOKUP($A26,Filtro!$A$5:$AY$629,17,FALSE),0)","v":12},{"$f":"IFERROR(VLOOKUP($A26,Filtro!$A$5:$AY$629,18,FALSE),0)","v":0},{"$nulls":60},"","","","","","",{"$nulls":20},0,0,0,0,0,0]
["P1600107",null,"En Extrasistema ",{"$f":"IFERROR(VLOOKUP($A27,Filtro!$A$5:$AY$629,2,FALSE),0)","v":6},{"$f":"IFERROR(VLOOKUP($A27,Filtro!$A$5:$AY$629,3,FALSE),0)","v":0},{"$f":"IFERROR(VLOOKUP($A27,Filtro!$A$5:$AY$629,4,FALSE),0)","v":1},{"$f":"IFERROR(VLOOKUP($A27,Filtro!$A$5:$AY$629,5,FALSE),0)","v":3},{"$f":"IFERROR(VLOOKUP($A27,Filtro!$A$5:$AY$629,6,FALSE),0)","v":2},{"$f":"IFERROR(VLOOKUP($A27,Filtro!$A$5:$AY$629,7,FALSE),0)","v":0},{"$f":"IFERROR(VLOOKUP($A27,Filtro!$A$5:$AY$629,8,FALSE),0)","v":0},{"$f":"IFERROR(VLOOKUP($A27,Filtro!$A$5:$AY$629,9,FALSE),0)","v":0},{"$f":"IFERROR(VLOOKUP($A27,Filtro!$A$5:$AY$629,10,FALSE),0)","v":0},{"$f":"IFERROR(VLOOKUP($A27,Filtro!$A$5:$AY$629,11,FALSE),0)","v":0},{"$f":"IFERROR(VLOOKUP($A27,Filtro!$A$5:$AY$629,12,FALSE),0)","v":0},{"$f":"IFERROR(VLOOKUP($A27,Filtro!$A$5:$AY$629,13,FALSE),0)","v":0},{"$f":"IFERROR(VLOOKUP($A27,Filtro!$A$5:$AY$629,14,FALSE),0)","v":0},{"$f":"IFERROR(VLOOKUP($A27,Filtro!$A$5:$AY$629,15,FALSE),0)","v":0},{"$f":"IFERROR(VLOOKUP($A27,Filtro!$A$5:$AY$629,16,FALSE),0)","v":0},{"$f":"IFERROR(VLOOKUP($A27,Filtro!$A$5:$AY$629,17,FALSE),0)","v":1},{"$f":"IFERROR(VLOOKUP($A27,Filtro!$A$5:$AY$629,18,FALSE),0)","v":0}]
["P1600108","Mujeres con Retiro de Implante Anticipado en el semestre (antes de los 5 años)","En APS",{"$f":"IFERROR(VLOOKUP($A28,Filtro!$A$5:$AY$629,2,FALSE),0)","v":83},{"$f":"IFERROR(VLOOKUP($A28,Filtro!$A$5:$AY$629,3,FALSE),0)","v":2},{"$f":"IFERROR(VLOOKUP($A28,Filtro!$A$5:$AY$629,4,FALSE),0)","v":11},{"$f":"IFERROR(VLOOKUP($A28,Filtro!$A$5:$AY$629,5,FALSE),0)","v":29},{"$f":"IFERROR(VLOOKUP($A28,Filtro!$A$5:$AY$629,6,FALSE),0)","v":13},{"$f":"IFERROR(VLOOKUP($A28,Filtro!$A$5:$AY$629,7,FALSE),0)","v":15},{"$f":"IFERROR(VLOOKUP($A28,Filtro!$A$5:$AY$629,8,FALSE),0)","v":9},{"$f":"IFERROR(VLOOKUP($A28,Filtro!$A$5:$AY$629,9,FALSE),0)","v":4},{"$f":"IFERROR(VLOOKUP($A28,Filtro!$A$5:$AY$629,10,FALSE),0)","v":2},{"$f":"IFERROR(VLOOKUP($A28,Filtro!$A$5:$AY$629,11,FALSE),0)","v":0},{"$f":"IFERROR(VLOOKUP($A28,Filtro!$A$5:$AY$629,12,FALSE),0)","v":0},{"$f":"IFERROR(VLOOKUP($A28,Filtro!$A$5:$AY$629,13,FALSE),0)","v":0},{"$f":"IFERROR(VLOOKUP($A28,Filtro!$A$5:$AY$629,14,FALSE),0)","v":0},{"$f":"IFERROR(VLOOKUP($A28,Filtro!$A$5:$AY$629,15,FALSE),0)","v":0},{"$f":"IFERROR(VLOOKUP($A28,Filtro!$A$5:$AY$629,16,FALSE),0)","v":0},{"$f":"IFERROR(VLOOKUP($A28,Filtro!$A$5:$AY$629,17,FALSE),0)","v":12},{"$f":"IFERROR(VLOOKUP($A28,Filtro!$A$5:$AY$629,18,FALSE),0)","v":1}]
["P1600109",null,"En Extrasistema ",{"$f":"IFERROR(VLOOKUP($A29,Filtro!$A$5:$AY$629,2,FALSE),0)","v":6},{"$f":"IFERROR(VLOOKUP($A29,Filtro!$A$5:$AY$629,3,FALSE),0)","v":0},{"$f":"IFERROR(VLOOKUP($A29,Filtro!$A$5:$AY$629,4,FALSE),0)","v":0},{"$f":"IFERROR(VLOOKUP($A29,Filtro!$A$5:$AY$629,5,FALSE),0)","v":2},{"$f":"IFERROR(VLOOKUP($A29,Filtro!$A$5:$AY$629,6,FALSE),0)","v":1},{"$f":"IFERROR(VLOOKUP($A29,Filtro!$A$5:$AY$629,7,FALSE),0)","v":2},{"$f":"IFERROR(VLOOKUP($A29,Filtro!$A$5:$AY$629,8,FALSE),0)","v":1},{"$f":"IFERROR(VLOOKUP($A29,Filtro!$A$5:$AY$629,9,FALSE),0)","v":0},{"$f":"IFERROR(VLOOKUP($A29,Filtro!$A$5:$AY$629,10,FALSE),0)","v":0},{"$f":"IFERROR(VLOOKUP($A29,Filtro!$A$5:$AY$629,11,FALSE),0)","v":0},{"$f":"IFERROR(VLOOKUP($A29,Filtro!$A$5:$AY$629,12,FALSE),0)","v":0},{"$f":"IFERROR(VLOOKUP($A29,Filtro!$A$5:$AY$629,13,FALSE),0)","v":0},{"$f":"IFERROR(VLOOKUP($A29,Filtro!$A$5:$AY$629,14,FALSE),0)","v":0},{"$f":"IFERROR(VLOOKUP($A29,Filtro!$A$5:$AY$629,15,FALSE),0)","v":0},{"$f":"IFERROR(VLOOKUP($A29,Filtro!$A$5:$AY$629,16,FALSE),0)","v":0},{"$f":"IFERROR(VLOOKUP($A29,Filtro!$A$5:$AY$629,17,FALSE),0)","v":2},{"$f":"IFERROR(VLOOKUP($A29,Filtro!$A$5:$AY$629,18,FALSE),0)","v":0},{"$nulls":60},"","","","","","",{"$nulls":20},0,0,0,0,0,0]
["P1060090","Método de Regulación de Fertilidad más Preservativo",null,{"$f":"IFERROR(VLOOKUP($A30,Filtro!$A$5:$AY$629,2,FALSE),0)","v":4886},{"$f":"IFERROR(VLOOKUP($A30,Filtro!$A$5:$AY$629,3,FALSE),0)","v":115},{"$f":"IFERROR(VLOOKUP($A30,Filtro!$A$5:$AY$629,4,FALSE),0)","v":1320},{"$f":"IFERROR(VLOOKUP($A30,Filtro!$A$5:$AY$629,5,FALSE),0)","v":1190},{"$f":"IFERROR(VLOOKUP($A30,Filtro!$A$5:$AY$629,6,FALSE),0)","v":865},{"$f":"IFERROR(VLOOKUP($A30,Filtro!$A$5:$AY$629,7,FALSE),0)","v":665},{"$f":"IFERROR(VLOOKUP($A30,Filtro!$A$5:$AY$629,8,FALSE),0)","v":456},{"$f":"IFERROR(VLOOKUP($A30,Filtro!$A$5:$AY$629,9,FALSE),0)","v":271},{"$f":"IFERROR(VLOOKUP($A30,Filtro!$A$5:$AY$629,10,FALSE),0)","v":187},{"$f":"IFERROR(VLOOKUP($A30,Filtro!$A$5:$AY$629,11,FALSE),0)","v":54},{"$f":"IFERROR(VLOOKUP($A30,Filtro!$A$5:$AY$629,12,FALSE),0)","v":7},{"$f":"IFERROR(VLOOKUP($A30,Filtro!$A$5:$AY$629,13,FALSE),0)","v":0},{"$f":"IFERROR(VLOOKUP($A30,Filtro!$A$5:$AY$629,14,FALSE),0)","v":0},{"$f":"IFERROR(VLOOKUP($A30,Filtro!$A$5:$AY$629,15,FALSE),0)","v":0},{"$f":"IFERROR(VLOOKUP($A30,Filtro!$A$5:$AY$629,16,FALSE),0)","v":55},{"$f":"IFERROR(VLOOKUP($A30,Filtro!$A$5:$AY$629,17,FALSE),0)","v":239},{"$f":"IFERROR(VLOOKUP($A30,Filtro!$A$5:$AY$629,18,FALSE),0)","v":3},{"$nulls":60},"","","","","","",{"$nulls":20},0,0,0,0,0,0]
["P1200270","Gestantes que reciben preservativo",null,{"$f":"IFERROR(VLOOKUP($A31,Filtro!$A$5:$AY$629,2,FALSE),0)","v":391},{"$f":"IFERROR(VLOOKUP($A31,Filtro!$A$5:$AY$629,3,FALSE),0)","v":5},{"$f":"IFERROR(VLOOKUP($A31,Filtro!$A$5:$AY$629,4,FALSE),0)","v":52},{"$f":"IFERROR(VLOOKUP($A31,Filtro!$A$5:$AY$629,5,FALSE),0)","v":121},{"$f":"IFERROR(VLOOKUP($A31,Filtro!$A$5:$AY$629,6,FALSE),0)","v":134},{"$f":"IFERROR(VLOOKUP($A31,Filtro!$A$5:$AY$629,7,FALSE),0)","v":78},{"$f":"IFERROR(VLOOKUP($A31,Filtro!$A$5:$AY$629,8,FALSE),0)","v":37},{"$f":"IFERROR(VLOOKUP($A31,Filtro!$A$5:$AY$629,9,FALSE),0)","v":12},{"$f":"IFERROR(VLOOKUP($A31,Filtro!$A$5:$AY$629,10,FALSE),0)","v":1},{"$f":"IFERROR(VLOOKUP($A31,Filtro!$A$5:$AY$629,11,FALSE),0)","v":0},{"$f":"IFERROR(VLOOKUP($A31,Filtro!$A$5:$AY$629,12,FALSE),0)","v":0},{"$f":"IFERROR(VLOOKUP($A31,Filtro!$A$5:$AY$629,13,FALSE),0)","v":0},{"$f":"IFERROR(VLOOKUP($A31,Filtro!$A$5:$AY$629,14,FALSE),0)","v":0},{"$f":"IFERROR(VLOOKUP($A31,Filtro!$A$5:$AY$629,15,FALSE),0)","v":0},{"$f":"IFERROR(VLOOKUP($A31,Filtro!$A$5:$AY$629,16,FALSE),0)","v":12},{"$f":"IFERROR(VLOOKUP($A31,Filtro!$A$5:$AY$629,17,FALSE),0)","v":16},{"$f":"IFERROR(VLOOKUP($A31,Filtro!$A$5:$AY$629,18,FALSE),0)","v":0},{"$nulls":60},"","","","","","",{"$nulls":20},0,0,0,0,0,0]
["P1200200","PRESERVATIVO/PRACTICA SEXUAL SEGURA","Mujer",{"$f":"IFERROR(VLOOKUP($A32,Filtro!$A$5:$AY$629,2,FALSE),0)","v":566},{"$f":"IFERROR(VLOOKUP($A32,Filtro!$A$5:$AY$629,3,FALSE),0)","v":7},{"$f":"IFERROR(VLOOKUP($A32,Filtro!$A$5:$AY$629,4,FALSE),0)","v":94},{"$f":"IFERROR(VLOOKUP($A32,Filtro!$A$5:$AY$629,5,FALSE),0)","v":104},{"$f":"IFERROR(VLOOKUP($A32,Filtro!$A$5:$AY$629,6,FALSE),0)","v":111},{"$f":"IFERROR(VLOOKUP($A32,Filtro!$A$5:$AY$629,7,FALSE),0)","v":80},{"$f":"IFERROR(VLOOKUP($A32,Filtro!$A$5:$AY$629,8,FALSE),0)","v":50},{"$f":"IFERROR(VLOOKUP($A32,Filtro!$A$5:$AY$629,9,FALSE),0)","v":47},{"$f":"IFERROR(VLOOKUP($A32,Filtro!$A$5:$AY$629,10,FALSE),0)","v":24},{"$f":"IFERROR(VLOOKUP($A32,Filtro!$A$5:$AY$629,11,FALSE),0)","v":27},{"$f":"IFERROR(VLOOKUP($A32,Filtro!$A$5:$AY$629,12,FALSE),0)","v":15},{"$f":"IFERROR(VLOOKUP($A32,Filtro!$A$5:$AY$629,13,FALSE),0)","v":2},{"$f":"IFERROR(VLOOKUP($A32,Filtro!$A$5:$AY$629,14,FALSE),0)","v":3},{"$f":"IFERROR(VLOOKUP($A32,Filtro!$A$5:$AY$629,15,FALSE),0)","v":2},{"$f":"IFERROR(VLOOKUP($A32,Filtro!$A$5:$AY$629,16,FALSE),0)","v":14},{"$f":"IFERROR(VLOOKUP($A32,Filtro!$A$5:$AY$629,17,FALSE),0)","v":25},{"$f":"IFERROR(VLOOKUP($A32,Filtro!$A$5:$AY$629,18,FALSE),0)","v":3},{"$nulls":60},"","","","","","",{"$nulls":20},0,0,0,0,0,0]
["P1200210",null,"Hombres",{"$f":"IFERROR(VLOOKUP($A33,Filtro!$A$5:$AY$629,2,FALSE),0)","v":36},{"$f":"IFERROR(VLOOKUP($A33,Filtro!$A$5:$AY$629,3,FALSE),0)","v":4},{"$f":"IFERROR(VLOOKUP($A33,Filtro!$A$5:$AY$629,4,FALSE),0)","v":14},{"$f":"IFERROR(VLOOKUP($A33,Filtro!$A$5:$AY$629,5,FALSE),0)","v":2},{"$f":"IFERROR(VLOOKUP($A33,Filtro!$A$5:$AY$629,6,FALSE),0)","v":5},{"$f":"IFERROR(VLOOKUP($A33,Filtro!$A$5:$AY$629,7,FALSE),0)","v":1},{"$f":"IFERROR(VLOOKUP($A33,Filtro!$A$5:$AY$629,8,FALSE),0)","v":2},{"$f":"IFERROR(VLOOKUP($A33,Filtro!$A$5:$AY$629,9,FALSE),0)","v":1},{"$f":"IFERROR(VLOOKUP($A33,Filtro!$A$5:$AY$629,10,FALSE),0)","v":2},{"$f":"IFERROR(VLOOKUP($A33,Filtro!$A$5:$AY$629,11,FALSE),0)","v":1},{"$f":"IFERROR(VLOOKUP($A33,Filtro!$A$5:$AY$629,12,FALSE),0)","v":2},{"$f":"IFERROR(VLOOKUP($A33,Filtro!$A$5:$AY$629,13,FALSE),0)","v":2},{"$f":"IFERROR(VLOOKUP($A33,Filtro!$A$5:$AY$629,14,FALSE),0)","v":0},{"$f":"IFERROR(VLOOKUP($A33,Filtro!$A$5:$AY$629,15,FALSE),0)","v":0},{"$f":"IFERROR(VLOOKUP($A33,Filtro!$A$5:$AY$629,16,FALSE),0)","v":0},{"$f":"IFERROR(VLOOKUP($A33,Filtro!$A$5:$AY$629,17,FALSE),0)","v":2},{"$f":"IFERROR(VLOOKUP($A33,Filtro!$A$5:$AY$629,18,FALSE),0)","v":0},{"$nulls":60},"","","","","","",{"$nulls":20},0,0,0,0,0,0]
["P1200220","LUBRICANTES","Mujer",{"$f":"IFERROR(VLOOKUP($A34,Filtro!$A$5:$AY$629,2,FALSE),0)","v":1087},{"$f":"IFERROR(VLOOKUP($A34,Filtro!$A$5:$AY$629,3,FALSE),0)","v":0},{"$f":"IFERROR(VLOOKUP($A34,Filtro!$A$5:$AY$629,4,FALSE),0)","v":21},{"$f":"IFERROR(VLOOKUP($A34,Filtro!$A$5:$AY$629,5,FALSE),0)","v":53},{"$f":"IFERROR(VLOOKUP($A34,Filtro!$A$5:$AY$629,6,FALSE),0)","v":71},{"$f":"IFERROR(VLOOKUP($A34,Filtro!$A$5:$AY$629,7,FALSE),0)","v":78},{"$f":"IFERROR(VLOOKUP($A34,Filtro!$A$5:$AY$629,8,FALSE),0)","v":73},{"$f":"IFERROR(VLOOKUP($A34,Filtro!$A$5:$AY$629,9,FALSE),0)","v":80},{"$f":"IFERROR(VLOOKUP($A34,Filtro!$A$5:$AY$629,10,FALSE),0)","v":147},{"$f":"IFERROR(VLOOKUP($A34,Filtro!$A$5:$AY$629,11,FALSE),0)","v":207},{"$f":"IFERROR(VLOOKUP($A34,Filtro!$A$5:$AY$629,12,FALSE),0)","v":175},{"$f":"IFERROR(VLOOKUP($A34,Filtro!$A$5:$AY$629,13,FALSE),0)","v":104},{"$f":"IFERROR(VLOOKUP($A34,Filtro!$A$5:$AY$629,14,FALSE),0)","v":47},{"$f":"IFERROR(VLOOKUP($A34,Filtro!$A$5:$AY$629,15,FALSE),0)","v":31},{"$f":"IFERROR(VLOOKUP($A34,Filtro!$A$5:$AY$629,16,FALSE),0)","v":7},{"$f":"IFERROR(VLOOKUP($A34,Filtro!$A$5:$AY$629,17,FALSE),0)","v":36},{"$f":"IFERROR(VLOOKUP($A34,Filtro!$A$5:$AY$629,18,FALSE),0)","v":2},{"$nulls":60},"","","","","","",{"$nulls":20},0,0,0,0,0,0]
["P1200230",null,"Hombres",{"$f":"IFERROR(VLOOKUP($A35,Filtro!$A$5:$AY$629,2,FALSE),0)","v":16},{"$f":"IFERROR(VLOOKUP($A35,Filtro!$A$5:$AY$629,3,FALSE),0)","v":1},{"$f":"IFERROR(VLOOKUP($A35,Filtro!$A$5:$AY$629,4,FALSE),0)","v":1},{"$f":"IFERROR(VLOOKUP($A35,Filtro!$A$5:$AY$629,5,FALSE),0)","v":1},{"$f":"IFERROR(VLOOKUP($A35,Filtro!$A$5:$AY$629,6,FALSE),0)","v":1},{"$f":"IFERROR(VLOOKUP($A35,Filtro!$A$5:$AY$629,7,FALSE),0)","v":1},{"$f":"IFERROR(VLOOKUP($A35,Filtro!$A$5:$AY$629,8,FALSE),0)","v":2},{"$f":"IFERROR(VLOOKUP($A35,Filtro!$A$5:$AY$629,9,FALSE),0)","v":5},{"$f":"IFERROR(VLOOKUP($A35,Filtro!$A$5:$AY$629,10,FALSE),0)","v":8},{"$f":"IFERROR(VLOOKUP($A35,Filtro!$A$5:$AY$629,11,FALSE),0)","v":2},{"$f":"IFERROR(VLOOKUP($A35,Filtro!$A$5:$AY$629,12,FALSE),0)","v":0},{"$f":"IFERROR(VLOOKUP($A35,Filtro!$A$5:$AY$629,13,FALSE),0)","v":1},{"$f":"IFERROR(VLOOKUP($A35,Filtro!$A$5:$AY$629,14,FALSE),0)","v":0},{"$f":"IFERROR(VLOOKUP($A35,Filtro!$A$5:$AY$629,15,FALSE),0)","v":0},{"$f":"IFERROR(VLOOKUP($A35,Filtro!$A$5:$AY$629,16,FALSE),0)","v":0},{"$f":"IFERROR(VLOOKUP($A35,Filtro!$A$5:$AY$629,17,FALSE),0)","v":0},{"$f":"IFERROR(VLOOKUP($A35,Filtro!$A$5:$AY$629,18,FALSE),0)","v":0},{"$nulls":60},"","","","","","",{"$nulls":20},0,0,0,0,0,0]
["P1200350","CONDON FEMENINO",null,{"$f":"IFERROR(VLOOKUP($A36,Filtro!$A$5:$AY$629,2,FALSE),0)","v":325},{"$f":"IFERROR(VLOOKUP($A36,Filtro!$A$5:$AY$629,3,FALSE),0)","v":4},{"$f":"IFERROR(VLOOKUP($A36,Filtro!$A$5:$AY$629,4,FALSE),0)","v":42},{"$f":"IFERROR(VLOOKUP($A36,Filtro!$A$5:$AY$629,5,FALSE),0)","v":52},{"$f":"IFERROR(VLOOKUP($A36,Filtro!$A$5:$AY$629,6,FALSE),0)","v":62},{"$f":"IFERROR(VLOOKUP($A36,Filtro!$A$5:$AY$629,7,FALSE),0)","v":58},{"$f":"IFERROR(VLOOKUP($A36,Filtro!$A$5:$AY$629,8,FALSE),0)","v":43},{"$f":"IFERROR(VLOOKUP($A36,Filtro!$A$5:$AY$629,9,FALSE),0)","v":19},{"$f":"IFERROR(VLOOKUP($A36,Filtro!$A$5:$AY$629,10,FALSE),0)","v":40},{"$f":"IFERROR(VLOOKUP($A36,Filtro!$A$5:$AY$629,11,FALSE),0)","v":3},{"$f":"IFERROR(VLOOKUP($A36,Filtro!$A$5:$AY$629,12,FALSE),0)","v":0},{"$f":"IFERROR(VLOOKUP($A36,Filtro!$A$5:$AY$629,13,FALSE),0)","v":0},{"$f":"IFERROR(VLOOKUP($A36,Filtro!$A$5:$AY$629,14,FALSE),0)","v":2},{"$f":"IFERROR(VLOOKUP($A36,Filtro!$A$5:$AY$629,15,FALSE),0)","v":0},{"$f":"IFERROR(VLOOKUP($A36,Filtro!$A$5:$AY$629,16,FALSE),0)","v":1},{"$f":"IFERROR(VLOOKUP($A36,Filtro!$A$5:$AY$629,17,FALSE),0)","v":7},{"$f":"IFERROR(VLOOKUP($A36,Filtro!$A$5:$AY$629,18,FALSE),0)","v":0},{"$nulls":60},"","","","","","",{"$nulls":20},0,0,0,0,0,0]
[null,"SECCION B: GESTANTES EN CONTROL CON EVALUACIÓN RIESGO BIOPSICOSOCIAL "]
[null,"GRUPOS DE EDAD","TOTAL DE GESTANTES EN CONTROL","EN RIESGO \nPSICO-\nSOCIAL","QUE PRESENTAN VIOLENCIA DE GÉNERO","GESTANTES QUE PRESENTAN ARO","MIGRANTES"]
[]
["P1020100","Menos de 15 años",{"$f":"IFERROR(VLOOKUP($A40,Filtro!$A$5:$AY$629,2,FALSE),0)","v":6},{"$f":"IFERROR(VLOOKUP($A40,Filtro!$A$5:$AY$629,3,FALSE),0)","v":6},{"$f":"IFERROR(VLOOKUP($A40,Filtro!$A$5:$AY$629,4,FALSE),0)","v":1},{"$f":"IFERROR(VLOOKUP($A40,Filtro!$A$5:$AY$629,5,FALSE),0)","v":4},{"$f":"IFERROR(VLOOKUP($A40,Filtro!$A$5:$AY$629,6,FALSE),0)","v":1},{"$f":"($CB40&$CC40&$CD40&$CE40&$CF40&$CG40&$CH40&$CI40&$CJ40&$CK40&$CM40&$CN40&$CO40&$CP40&$CQ40&$CR40&$CS40&$CT40&$CU40&$CV40&$CW40&$CX40&$CY40&$CZ40&$DA40)","v":""},{"$nulls":71},{"$f":"IF($D40<$E40,\"* Las Gestantes Menores de 15 años con violencia de género deben estar incluidas en las Gestantes con riesgo psicosocial. \",\"\")","v":""},{"$f":"IF($C40<$D40,\"* Las Gestantes Menores de 15 años con Riesgo Psicosocial deben estar incluidas en el Total de Gestantes en Control misma edad. \",\"\")","v":""},{"$f":"IF($C40<$F40,\"* Las Gestantes Menores de 15 años que presentan ARO deben estar incluidas en el Total de Gestantes en Control misma edad. \",\"\")","v":""},{"$f":"IF($C40<$G40,\"* Las Gestantes Menores de 15 años que pertenecen a 'Población Migrantes' deben estar incluidas en el Total de Gestantes en Control misma edad. \",\"\")","v":""},null,{"$f":"IF(AND(C40<>0,G40=\"\"),\"* No olvide escribir en la celda de 'Población Migrantes' (Digite CERO si no tiene). \",\"\")","v":""},{"$nulls":20},{"$f":"IF($D40<$E40,1,0)","v":0},{"$f":"IF($C40<$D40,1,0)","v":0},{"$f":"IF($C40<$F40,1,0)","v":0},{"$f":"IF($C40<$G40,1,0)","v":0},null,{"$f":"IF(AND(C40<>0,G40=\"\"),1,0)","v":0}]
["P1020200","15 a 19 años",{"$f":"IFERROR(VLOOKUP($A41,Filtro!$A$5:$AY$629,2,FALSE),0)","v":172},{"$f":"IFERROR(VLOOKUP($A41,Filtro!$A$5:$AY$629,3,FALSE),0)","v":82},{"$f":"IFERROR(VLOOKUP($A41,Filtro!$A$5:$AY$629,4,FALSE),0)","v":8},{"$f":"IFERROR(VLOOKUP($A41,Filtro!$A$5:$AY$629,5,FALSE),0)","v":63},{"$f":"IFERROR(VLOOKUP($A41,Filtro!$A$5:$AY$629,6,FALSE),0)","v":25},"",{"$nulls":71},{"$f":"IF($D41<$E41,\"* Las Gestantes de 15 a 19 años con violencia de género deben estar incluidas en las Gestantes con riesgo psicosocial. \",\"\")","v":""},{"$f":"IF($C41<$D41,\"* Las Gestantes de 15 a 19 años con Riesgo Psicosocial deben estar incluidas en el Total de Gestantes en Control misma edad. \",\"\")","v":""},{"$f":"IF($C41<$F41,\"* Las Gestantes de 15 a 19 años que presentan ARO deben estar incluidas en el Total de Gestantes en Control misma edad. \",\"\")","v":""},{"$f":"IF($C41<$G41,\"* Las Gestantes de 15 a 19 años que pertenecen a 'Población Migrantes' deben estar incluidas en el Total de Gestantes en Control misma edad. \",\"\")","v":""},null,"",{"$nulls":20},0,0,0,0,null,0]
["P1040501","20 a 24 años",{"$f":"IFERROR(VLOOKUP($A42,Filtro!$A$5:$AY$629,2,FALSE),0)","v":771},{"$f":"IFERROR(VLOOKUP($A42,Filtro!$A$5:$AY$629,3,FALSE),0)","v":189},{"$f":"IFERROR(VLOOKUP($A42,Filtro!$A$5:$AY$629,4,FALSE),0)","v":14},{"$f":"IFERROR(VLOOKUP($A42,Filtro!$A$5:$AY$629,5,FALSE),0)","v":208},{"$f":"IFERROR(VLOOKUP($A42,Filtro!$A$5:$AY$629,6,FALSE),0)","v":107},"",{"$nulls":71},{"$f":"IF($D42<$E42,\"* Las Gestantes de 20 a 24 años con violencia de género deben estar incluidas en las Gestantes con riesgo psicosocial. \",\"\")","v":""},{"$f":"IF($C42<$D42,\"* Las Gestantes de 20 a 24 años con Riesgo Psicosocial deben estar incluidas en el Total de Gestantes en Control misma edad. \",\"\")","v":""},{"$f":"IF($C42<$F42,\"* Las Gestantes de 20 a 24 años que presentan ARO deben estar incluidas en el Total de Gestantes en Control misma edad. \",\"\")","v":""},{"$f":"IF($C42<$G42,\"* Las Gestantes de 20 a 24 años que pertenecen a 'Población Migrantes' deben estar incluidas en el Total de Gestantes en Control misma edad. \",\"\")","v":""},null,"",{"$nulls":20},0,0,0,0,null,0]
["P1060100","25 a 29 años",{"$f":"IFERROR(VLOOKUP($A43,Filtro!$A$5:$AY$629,2,FALSE),0)","v":1030},{"$f":"IFERROR(VLOOKUP($A43,Filtro!$A$5:$AY$629,3,FALSE),0)","v":227},{"$f":"IFERROR(VLOOKUP($A43,Filtro!$A$5:$AY$629,4,FALSE),0)","v":18},{"$f":"IFERROR(VLOOKUP($A43,Filtro!$A$5:$AY$629,5,FALSE),0)","v":385},{"$f":"IFERROR(VLOOKUP($A43,Filtro!$A$5:$AY$629,6,FALSE),0)","v":120},"",{"$nulls":71},{"$f":"IF($D43<$E43,\"* Las Gestantes de 25 a 29 años con violencia de género deben estar incluidas en las Gestantes con riesgo psicosocial. \",\"\")","v":""},{"$f":"IF($C43<$D43,\"* Las Gestantes de 25 a 29 años con Riesgo Psicosocial deben estar incluidas en el Total de Gestantes en Control misma edad. \",\"\")","v":""},{"$f":"IF($C43<$F43,\"* Las Gestantes de 25 a 29 años que presentan ARO deben estar incluidas en el Total de Gestantes en Control misma edad. \",\"\")","v":""},{"$f":"IF($C43<$G43,\"* Las Gestantes de 25 a 29 años que pertenecen a 'Población Migrantes' deben estar incluidas en el Total de Gestantes en Control misma edad. \",\"\")","v":""},null,"",{"$nulls":20},0,0,0,0,null,0]
["P1060101","30 a 34 años",{"$f":"IFERROR(VLOOKUP($A44,Filtro!$A$5:$AY$629,2,FALSE),0)","v":868},{"$f":"IFERROR(VLOOKUP($A44,Filtro!$A$5:$AY$629,3,FALSE),0)","v":166},{"$f":"IFERROR(VLOOKUP($A44,Filtro!$A$5:$AY$629,4,FALSE),0)","v":15},{"$f":"IFERROR(VLOOKUP($A44,Filtro!$A$5:$AY$629,5,FALSE),0)","v":390},{"$f":"IFERROR(VLOOKUP($A44,Filtro!$A$5:$AY$629,6,FALSE),0)","v":87},"",{"$nulls":71},{"$f":"IF($D44<$E44,\"* Las Gestantes de 30 a 34 años con violencia de género deben estar incluidas en las Gestantes con riesgo psicosocial. \",\"\")","v":""},{"$f":"IF($C44<$D44,\"* Las Gestantes de 30 a 34 años con Riesgo Psicosocial deben estar incluidas en el Total de Gestantes en Control misma edad. \",\"\")","v":""},{"$f":"IF($C44<$F44,\"* Las Gestantes de 30 a 34 años que presentan ARO deben estar incluidas en el Total de Gestantes en Control misma edad. \",\"\")","v":""},{"$f":"IF($C44<$G44,\"* Las Gestantes de 30 a 34 años que pertenecen a 'Población Migrantes' deben estar incluidas en el Total de Gestantes en Control misma edad. \",\"\")","v":""},null,"",{"$nulls":20},0,0,0,0,null,0]
["P1060102","35 a 39 años",{"$f":"IFERROR(VLOOKUP($A45,Filtro!$A$5:$AY$629,2,FALSE),0)","v":446},{"$f":"IFERROR(VLOOKUP($A45,Filtro!$A$5:$AY$629,3,FALSE),0)","v":83},{"$f":"IFERROR(VLOOKUP($A45,Filtro!$A$5:$AY$629,4,FALSE),0)","v":8},{"$f":"IFERROR(VLOOKUP($A45,Filtro!$A$5:$AY$629,5,FALSE),0)","v":230},{"$f":"IFERROR(VLOOKUP($A45,Filtro!$A$5:$AY$629,6,FALSE),0)","v":59},"",{"$nulls":71},{"$f":"IF($D45<$E45,\"* Las Gestantes de 35 a 39 años con violencia de género deben estar incluidas en las Gestantes con riesgo psicosocial. \",\"\")","v":""},{"$f":"IF($C45<$D45,\"* Las Gestantes de 35 a 39 años con Riesgo Psicosocial deben estar incluidas en el Total de Gestantes en Control misma edad. \",\"\")","v":""},{"$f":"IF($C45<$F45,\"* Las Gestantes de 35 a 39 años que presentan ARO deben estar incluidas en el Total de Gestantes en Control misma edad. \",\"\")","v":""},{"$f":"IF($C45<$G45,\"* Las Gestantes de 35 a 39 años que pertenecen a 'Población Migrantes' deben estar incluidas en el Total de Gestantes en Control misma edad. \",\"\")","v":""},null,"",{"$nulls":20},0,0,0,0,null,0]
["P1060103","40 a 44 años",{"$f":"IFERROR(VLOOKUP($A46,Filtro!$A$5:$AY$629,2,FALSE),0)","v":109},{"$f":"IFERROR(VLOOKUP($A46,Filtro!$A$5:$AY$629,3,FALSE),0)","v":27},{"$f":"IFERROR(VLOOKUP($A46,Filtro!$A$5:$AY$629,4,FALSE),0)","v":1},{"$f":"IFERROR(VLOOKUP($A46,Filtro!$A$5:$AY$629,5,FALSE),0)","v":75},{"$f":"IFERROR(VLOOKUP($A46,Filtro!$A$5:$AY$629,6,FALSE),0)","v":12},"",{"$nulls":71},{"$f":"IF($D46<$E46,\"* Las Gestantes de 40 a 44 años con violencia de género deben estar incluidas en las Gestantes con riesgo psicosocial. \",\"\")","v":""},{"$f":"IF($C46<$D46,\"* Las Gestantes de 40 a 44 años con Riesgo Psicosocial deben estar incluidas en el Total de Gestantes en Control misma edad. \",\"\")","v":""},{"$f":"IF($C46<$F46,\"* Las Gestantes de 40 a 44 años que presentan ARO deben estar incluidas en el Total de Gestantes en Control misma edad. \",\"\")","v":""},{"$f":"IF($C46<$G46,\"* Las Gestantes de 40 a 44 años que pertenecen a 'Población Migrantes' deben estar incluidas en el Total de Gestantes en Control misma edad. \",\"\")","v":""},null,"",{"$nulls":20},0,0,0,0,null,0]
["P1060104","45 a 49 años",{"$f":"IFERROR(VLOOKUP($A47,Filtro!$A$5:$AY$629,2,FALSE),0)","v":4},{"$f":"IFERROR(VLOOKUP($A47,Filtro!$A$5:$AY$629,3,FALSE),0)","v":1},{"$f":"IFERROR(VLOOKUP($A47,Filtro!$A$5:$AY$629,4,FALSE),0)","v":0},{"$f":"IFERROR(VLOOKUP($A47,Filtro!$A$5:$AY$629,5,FALSE),0)","v":2},{"$f":"IFERROR(VLOOKUP($A47,Filtro!$A$5:$AY$629,6,FALSE),0)","v":0},"",{"$nulls":71},{"$f":"IF($D47<$E47,\"* Las Gestantes de 45 a 49 años con violencia de género deben estar incluidas en las Gestantes con riesgo psicosocial. \",\"\")","v":""},{"$f":"IF($C47<$D47,\"* Las Gestantes de 45 a 49 años con Riesgo Psicosocial deben estar incluidas en el Total de Gestantes en Control misma edad. \",\"\")","v":""},{"$f":"IF($C47<$F47,\"* Las Gestantes de 45 a 49 años que presentan ARO deben estar incluidas en el Total de Gestantes en Control misma edad. \",\"\")","v":""},{"$f":"IF($C47<$G47,\"* Las Gestantes de 45 a 49 años que pertenecen a 'Población Migrantes' deben estar incluidas en el Total de Gestantes en Control misma edad. \",\"\")","v":""},null,"",{"$nulls":20},0,0,0,0,null,0]
["P1060105","50 a 54 años",{"$f":"IFERROR(VLOOKUP($A48,Filtro!$A$5:$AY$629,2,FALSE),0)","v":0},{"$f":"IFERROR(VLOOKUP($A48,Filtro!$A$5:$AY$629,3,FALSE),0)","v":0},{"$f":"IFERROR(VLOOKUP($A48,Filtro!$A$5:$AY$629,4,FALSE),0)","v":0},{"$f":"IFERROR(VLOOKUP($A48,Filtro!$A$5:$AY$629,5,FALSE),0)","v":0},{"$f":"IFERROR(VLOOKUP($A48,Filtro!$A$5:$AY$629,6,FALSE),0)","v":0},"",{"$nulls":71},{"$f":"IF($D48<$E48,\"* Las Gestantes de 50 a 54 años con violencia de género deben estar incluidas en las Gestantes con riesgo psicosocial. \",\"\")","v":""},{"$f":"IF($C48<$D48,\"* Las Gestantes de 50 a 54 años con Riesgo Psicosocial deben estar incluidas en el Total de Gestantes en Control misma edad. \",\"\")","v":""},{"$f":"IF($C48<$F48,\"* Las Gestantes de 50 a 54 años que presentan ARO deben estar incluidas en el Total de Gestantes en Control misma edad. \",\"\")","v":""},{"$f":"IF($C48<$G48,\"* Las Gestantes de 50 a 54 años que pertenecen a 'Población Migrantes' deben estar incluidas en el Total de Gestantes en Control misma edad. \",\"\")","v":""},null,"",{"$nulls":20},0,0,0,0,null,0]
[null,"TOTAL",{"$f":"SUM(C40:C48)","v":3406},{"$f":"SUM(D40:D48)","v":781},{"$f":"SUM(E40:E48)","v":65},{"$f":"SUM(F40:F48)","v":1357},{"$f":"SUM(G40:G48)","v":411}]
[null,"SECCION C: GESTANTES EN RIESGO PSICOSOCIAL CON VISITA DOMICILIARIA INTEGRAL REALIZADA EN EL SEMESTRE"]
[null,"N° VDI","N° Gestantes \ncon VDI","TOTAL de Visitas"]
[]
["P1040502","1 Visita",{"$f":"IFERROR(VLOOKUP($A53,Filtro!$A$5:$AY$629,2,FALSE),0)","v":348},{"$f":"IFERROR(VLOOKUP($A53,Filtro!$A$5:$AY$629,3,FALSE),0)","v":348},{"$f":"($CB53&$CC53&$CD53&$CE53&$CF53&$CG53&$CH53&$CI53&$CJ53&$CK53&$CM53&$CN53&$CO53&$CP53&$CQ53&$CR53&$CS53&$CT53&$CU53&$CV53&$CW53&$CX53&$CY53&$CZ53&$DA53)","v":""},{"$nulls":74},{"$f":"IF($D$53<>$C$53*1,\"* NO ALTERE LAS FÓRMULAS, el Total de Visitas equivale a 1 visita por gestante. \",\"\")","v":""},{"$nulls":25},{"$f":"IF($D$53<>$C$53*1,1,0)","v":0}]
["P1040503","2 Visitas",{"$f":"IFERROR(VLOOKUP($A54,Filtro!$A$5:$AY$629,2,FALSE),0)","v":108},{"$f":"IFERROR(VLOOKUP($A54,Filtro!$A$5:$AY$629,3,FALSE),0)","v":216},{"$f":"($CB54&$CC54&$CD54&$CE54&$CF54&$CG54&$CH54&$CI54&$CJ54&$CK54&$CM54&$CN54&$CO54&$CP54&$CQ54&$CR54&$CS54&$CT54&$CU54&$CV54&$CW54&$CX54&$CY54&$CZ54&$DA54)","v":""},{"$nulls":74},{"$f":"IF($D$54<>$C$54*2,\"* NO ALTERE LAS FÓRMULAS, el Total de Visitas equivale a 2 visitas por gestante. \",\"\")","v":""},{"$nulls":25},{"$f":"IF($D$54<>$C$54*2,1,0)","v":0}]
["P1040504","3 Visitas",{"$f":"IFERROR(VLOOKUP($A55,Filtro!$A$5:$AY$629,2,FALSE),0)","v":70},{"$f":"IFERROR(VLOOKUP($A55,Filtro!$A$5:$AY$629,3,FALSE),0)","v":210},{"$f":"($CB55&$CC55&$CD55&$CE55&$CF55&$CG55&$CH55&$CI55&$CJ55&$CK55&$CM55&$CN55&$CO55&$CP55&$CQ55&$CR55&$CS55&$CT55&$CU55&$CV55&$CW55&$CX55&$CY55&$CZ55&$DA55)","v":""},{"$nulls":74},{"$f":"IF($D$55<>$C$55*3,\"* NO ALTERE LAS FÓRMULAS, el Total de Visitas equivale a 3 visitas por gestante. \",\"\")","v":""},{"$nulls":25},{"$f":"IF($D$55<>$C$55*3,1,0)","v":0}]
["P1040505","4 y más visitas",{"$f":"IFERROR(VLOOKUP($A56,Filtro!$A$5:$AY$629,2,FALSE),0)","v":42},{"$f":"IFERROR(VLOOKUP($A56,Filtro!$A$5:$AY$629,3,FALSE),0)","v":113},{"$f":"($CB56&$CC56&$CD56&$CE56&$CF56&$CG56&$CH56&$CI56&$CJ56&$CK56&$CM56&$CN56&$CO56&$CP56&$CQ56&$CR56&$CS56&$CT56&$CU56&$CV56&$CW56&$CX56&$CY56&$CZ56&$DA56)","v":""}]
[null,"TOTAL",{"$f":"SUM(C53:C56)","v":568},{"$f":"SUM(D53:D56)","v":887}]
[null,"SECCION D: GESTANTES Y MUJERES DE 8° MES POST-PARTO EN CONTROL, SEGÚN ESTADO NUTRICIONAL"]
[null,"POBLACION","ESTADO\nNUTRICIONAL","TOTAL","GRUPOS DE EDAD (en años)"]
[{"$nulls":4},"Menos 15 años","15 a 19 años","20 a 24 años","25 a 29 años","30 a 34 años","35 a 39 años","40 a 44 años","45 a 49 años","50 a 54 años"]
["P1030101","GESTANTES EN CONTROL\n(Información a la fecha de corte)","OBESA",{"$f":"SUM(E61:M61)","v":1312},{"$f":"IFERROR(VLOOKUP($A61,Filtro!$A$5:$AY$629,3,FALSE),0)","v":1},{"$f":"IFERROR(VLOOKUP($A61,Filtro!$A$5:$AY$629,4,FALSE),0)","v":34},{"$f":"IFERROR(VLOOKUP($A61,Filtro!$A$5:$AY$629,5,FALSE),0)","v":260},{"$f":"IFERROR(VLOOKUP($A61,Filtro!$A$5:$AY$629,6,FALSE),0)","v":391},{"$f":"IFERROR(VLOOKUP($A61,Filtro!$A$5:$AY$629,7,FALSE),0)","v":381},{"$f":"IFERROR(VLOOKUP($A61,Filtro!$A$5:$AY$629,8,FALSE),0)","v":192},{"$f":"IFERROR(VLOOKUP($A61,Filtro!$A$5:$AY$629,9,FALSE),0)","v":52},{"$f":"IFERROR(VLOOKUP($A61,Filtro!$A$5:$AY$629,10,FALSE),0)","v":1},{"$f":"IFERROR(VLOOKUP($A61,Filtro!$A$5:$AY$629,11,FALSE),0)","v":0},{"$f":"($CB61&$CC61&$CD61&$CE61&$CF61&$CG61&$CH61&$CI61&$CJ61&$CK61&$CM61&$CN61&$CO61&$CP61&$CQ61&$CR61&$CS61&$CT61&$CU61&$CV61&$CW61&$CX61&$CY61&$CZ61&$DA61)","v":""}]
["P1030102",null,"SOBREPESO",{"$f":"SUM(E62:M62)","v":1115},{"$f":"IFERROR(VLOOKUP($A62,Filtro!$A$5:$AY$629,3,FALSE),0)","v":1},{"$f":"IFERROR(VLOOKUP($A62,Filtro!$A$5:$AY$629,4,FALSE),0)","v":39},{"$f":"IFERROR(VLOOKUP($A62,Filtro!$A$5:$AY$629,5,FALSE),0)","v":247},{"$f":"IFERROR(VLOOKUP($A62,Filtro!$A$5:$AY$629,6,FALSE),0)","v":344},{"$f":"IFERROR(VLOOKUP($A62,Filtro!$A$5:$AY$629,7,FALSE),0)","v":298},{"$f":"IFERROR(VLOOKUP($A62,Filtro!$A$5:$AY$629,8,FALSE),0)","v":152},{"$f":"IFERROR(VLOOKUP($A62,Filtro!$A$5:$AY$629,9,FALSE),0)","v":32},{"$f":"IFERROR(VLOOKUP($A62,Filtro!$A$5:$AY$629,10,FALSE),0)","v":2},{"$f":"IFERROR(VLOOKUP($A62,Filtro!$A$5:$AY$629,11,FALSE),0)","v":0},""]
["P1030103",null,"NORMAL",{"$f":"SUM(E63:M63)","v":846},{"$f":"IFERROR(VLOOKUP($A63,Filtro!$A$5:$AY$629,3,FALSE),0)","v":3},{"$f":"IFERROR(VLOOKUP($A63,Filtro!$A$5:$AY$629,4,FALSE),0)","v":77},{"$f":"IFERROR(VLOOKUP($A63,Filtro!$A$5:$AY$629,5,FALSE),0)","v":227},{"$f":"IFERROR(VLOOKUP($A63,Filtro!$A$5:$AY$629,6,FALSE),0)","v":261},{"$f":"IFERROR(VLOOKUP($A63,Filtro!$A$5:$AY$629,7,FALSE),0)","v":164},{"$f":"IFERROR(VLOOKUP($A63,Filtro!$A$5:$AY$629,8,FALSE),0)","v":92},{"$f":"IFERROR(VLOOKUP($A63,Filtro!$A$5:$AY$629,9,FALSE),0)","v":21},{"$f":"IFERROR(VLOOKUP($A63,Filtro!$A$5:$AY$629,10,FALSE),0)","v":1},{"$f":"IFERROR(VLOOKUP($A63,Filtro!$A$5:$AY$629,11,FALSE),0)","v":0},""]
["P1030104",null,"BAJO PESO",{"$f":"SUM(E64:M64)","v":127},{"$f":"IFERROR(VLOOKUP($A64,Filtro!$A$5:$AY$629,3,FALSE),0)","v":1},{"$f":"IFERROR(VLOOKUP($A64,Filtro!$A$5:$AY$629,4,FALSE),0)","v":22},{"$f":"IFERROR(VLOOKUP($A64,Filtro!$A$5:$AY$629,5,FALSE),0)","v":36},{"$f":"IFERROR(VLOOKUP($A64,Filtro!$A$5:$AY$629,6,FALSE),0)","v":34},{"$f":"IFERROR(VLOOKUP($A64,Filtro!$A$5:$AY$629,7,FALSE),0)","v":25},{"$f":"IFERROR(VLOOKUP($A64,Filtro!$A$5:$AY$629,8,FALSE),0)","v":8},{"$f":"IFERROR(VLOOKUP($A64,Filtro!$A$5:$AY$629,9,FALSE),0)","v":1},{"$f":"IFERROR(VLOOKUP($A64,Filtro!$A$5:$AY$629,10,FALSE),0)","v":0},{"$f":"IFERROR(VLOOKUP($A64,Filtro!$A$5:$AY$629,11,FALSE),0)","v":0},""]
[null,null,"TOTAL",{"$f":"SUM(E65:M65)","v":3400},{"$f":"SUM(E61:E64)","v":6},{"$f":"SUM(F61:F64)","v":172},770,1030,868,444,106,4,0,{"$f":" CB65 & CC65 & CD65 & CE65 & CF65 & CG65 & CH65 & CI65 & CJ65","v":"* Las gestantes20-24 años, según Estado Nutricional debe ser igual al Total de gestantes en Control de esa edad en Sección B. * Las gestantes 35-39 años, según Estado Nutricional debe ser igual al Total de gestantes en Control de esa edad en Sección B. * Las gestantes 40-44 años, según Estado Nutricional debe ser igual al Total de gestantes en Control de esa edad en Sección B. "},{"$nulls":65},{"$f":"IF($C$40<>$E65,\"* Las Gestantes Menores de 15 años, según Estado Nutricional debe ser igual al Total de gestantes en Control de esa edad en Sección B. \",\"\")","v":""},{"$f":"IF($C$41<>$F65,\"* Las gestantes 15-19 años, según Estado Nutricional debe ser igual al Total de gestantes en Control de esa edad en Sección B. \",\"\")","v":""},{"$f":"IF($C$42<>$G65,\"* Las gestantes20-24 años, según Estado Nutricional debe ser igual al Total de gestantes en Control de esa edad en Sección B. \",\"\")","v":"* Las gestantes20-24 años, según Estado Nutricional debe ser igual al Total de gestantes en Control de esa edad en Sección B. "},{"$f":"IF($C$43<>$H65,\"* Las gestantes 25-29 años, según Estado Nutricional debe ser igual al Total de gestantes en Control de esa edad en Sección B. \",\"\")","v":""},{"$f":"IF($C$44<>$I65,\"* Las gestantes30-34 años, según Estado Nutricional debe ser igual al Total de gestantes en Control de esa edad en Sección B. \",\"\")","v":""},{"$f":"IF($C$45<>$J65,\"* Las gestantes 35-39 años, según Estado Nutricional debe ser igual al Total de gestantes en Control de esa edad en Sección B. \",\"\")","v":"* Las gestantes 35-39 años, según Estado Nutricional debe ser igual al Total de gestantes en Control de esa edad en Sección B. "},{"$f":"IF($C$46<>$K65,\"* Las gestantes 40-44 años, según Estado Nutricional debe ser igual al Total de gestantes en Control de esa edad en Sección B. \",\"\")","v":"* Las gestantes 40-44 años, según Estado Nutricional debe ser igual al Total de gestantes en Control de esa edad en Sección B. "},{"$f":"IF($C$47<>$L65,\"* Las gestantes 45-49 años, según Estado Nutricional debe ser igual al Total de gestantes en Control de esa edad en Sección B. \",\"\")","v":""},{"$f":"IF($C$48<>$M65,\"* Las gestantes 50-54 años, según Estado Nutricional debe ser igual al Total de gestantes en Control de esa edad en Sección B. \",\"\")","v":""},{"$nulls":17},{"$f":"IF($C$40<>$E65,1,0)","v":0},{"$f":"IF($C$41<>$F65,1,0)","v":0},{"$f":"IF($C$42<>$G65,1,0)","v":1},{"$f":"IF($C$43<>$H65,1,0)","v":0},{"$f":"IF($C$44<>$I65,1,0)","v":0},{"$f":"IF($C$45<>$J65,1,0)","v":1},{"$f":"IF($C$46<>$K65,1,0)","v":1},{"$f":"IF($C$47<>$L65,1,0)","v":0},{"$f":"IF($C$48<>$M65,1,0)","v":0}]
["P1030201","CONTROL AL 8º MES POST-PARTO\n(Información del semestre)","OBESA",{"$f":"SUM(E66:M66)","v":228},{"$f":"IFERROR(VLOOKUP($A66,Filtro!$A$5:$AY$629,3,FALSE),0)","v":0},{"$f":"IFERROR(VLOOKUP($A66,Filtro!$A$5:$AY$629,4,FALSE),0)","v":11},{"$f":"IFERROR(VLOOKUP($A66,Filtro!$A$5:$AY$629,5,FALSE),0)","v":46},{"$f":"IFERROR(VLOOKUP($A66,Filtro!$A$5:$AY$629,6,FALSE),0)","v":60},{"$f":"IFERROR(VLOOKUP($A66,Filtro!$A$5:$AY$629,7,FALSE),0)","v":61},{"$f":"IFERROR(VLOOKUP($A66,Filtro!$A$5:$AY$629,8,FALSE),0)","v":42},{"$f":"IFERROR(VLOOKUP($A66,Filtro!$A$5:$AY$629,9,FALSE),0)","v":8},{"$f":"IFERROR(VLOOKUP($A66,Filtro!$A$5:$AY$629,10,FALSE),0)","v":0},{"$f":"IFERROR(VLOOKUP($A66,Filtro!$A$5:$AY$629,11,FALSE),0)","v":0},""]
["P1030202",null,"SOBREPESO",196,{"$f":"IFERROR(VLOOKUP($A67,Filtro!$A$5:$AY$629,3,FALSE),0)","v":0},{"$f":"IFERROR(VLOOKUP($A67,Filtro!$A$5:$AY$629,4,FALSE),0)","v":7},{"$f":"IFERROR(VLOOKUP($A67,Filtro!$A$5:$AY$629,5,FALSE),0)","v":41},{"$f":"IFERROR(VLOOKUP($A67,Filtro!$A$5:$AY$629,6,FALSE),0)","v":60},{"$f":"IFERROR(VLOOKUP($A67,Filtro!$A$5:$AY$629,7,FALSE),0)","v":59},{"$f":"IFERROR(VLOOKUP($A67,Filtro!$A$5:$AY$629,8,FALSE),0)","v":20},{"$f":"IFERROR(VLOOKUP($A67,Filtro!$A$5:$AY$629,9,FALSE),0)","v":8},{"$f":"IFERROR(VLOOKUP($A67,Filtro!$A$5:$AY$629,10,FALSE),0)","v":1},{"$f":"IFERROR(VLOOKUP($A67,Filtro!$A$5:$AY$629,11,FALSE),0)","v":0},""]
["P1030203",null,"NORMAL",151,{"$f":"IFERROR(VLOOKUP($A68,Filtro!$A$5:$AY$629,3,FALSE),0)","v":0},{"$f":"IFERROR(VLOOKUP($A68,Filtro!$A$5:$AY$629,4,FALSE),0)","v":20},{"$f":"IFERROR(VLOOKUP($A68,Filtro!$A$5:$AY$629,5,FALSE),0)","v":42},{"$f":"IFERROR(VLOOKUP($A68,Filtro!$A$5:$AY$629,6,FALSE),0)","v":59},{"$f":"IFERROR(VLOOKUP($A68,Filtro!$A$5:$AY$629,7,FALSE),0)","v":26},{"$f":"IFERROR(VLOOKUP($A68,Filtro!$A$5:$AY$629,8,FALSE),0)","v":2},{"$f":"IFERROR(VLOOKUP($A68,Filtro!$A$5:$AY$629,9,FALSE),0)","v":1},{"$f":"IFERROR(VLOOKUP($A68,Filtro!$A$5:$AY$629,10,FALSE),0)","v":1},{"$f":"IFERROR(VLOOKUP($A68,Filtro!$A$5:$AY$629,11,FALSE),0)","v":0},""]
["P1030204",null,"BAJO PESO",6,{"$f":"IFERROR(VLOOKUP($A69,Filtro!$A$5:$AY$629,3,FALSE),0)","v":0},{"$f":"IFERROR(VLOOKUP($A69,Filtro!$A$5:$AY$629,4,FALSE),0)","v":2},{"$f":"IFERROR(VLOOKUP($A69,Filtro!$A$5:$AY$629,5,FALSE),0)","v":1},{"$f":"IFERROR(VLOOKUP($A69,Filtro!$A$5:$AY$629,6,FALSE),0)","v":2},{"$f":"IFERROR(VLOOKUP($A69,Filtro!$A$5:$AY$629,7,FALSE),0)","v":1},{"$f":"IFERROR(VLOOKUP($A69,Filtro!$A$5:$AY$629,8,FALSE),0)","v":0},{"$f":"IFERROR(VLOOKUP($A69,Filtro!$A$5:$AY$629,9,FALSE),0)","v":0},{"$f":"IFERROR(VLOOKUP($A69,Filtro!$A$5:$AY$629,10,FALSE),0)","v":0},{"$f":"IFERROR(VLOOKUP($A69,Filtro!$A$5:$AY$629,11,FALSE),0)","v":0},""]
[null,null,"TOTAL",{"$f":"SUM(E70:M70)","v":581},{"$f":"SUM(E66:E69)","v":0},{"$f":"SUM(F66:F69)","v":40},{"$f":"SUM(G66:G69)","v":130},{"$f":"SUM(H66:H69)","v":181},147,64,{"$f":"SUM(K66:K69)","v":17},2,0]
[null,"SECCION E: MUJERES Y GESTANTES EN CONTROL CON CONSULTA NUTRICIONAL "]
[null,"MUJERES","TOTAL"]
["P1050100","Gestantes con malnutrición por déficit (bajo peso)",{"$f":"IFERROR(VLOOKUP($A73,Filtro!$A$5:$AY$629,2,FALSE),0)","v":34},{"$f":"($CB73&$CC73&$CD73&$CE73&$CF73&$CG73&$CH73&$CI73&$CJ73&$CK73&$CM73&$CN73&$CO73&$CP73&$CQ73&$CR73&$CS73&$CT73&$CU73&$CV73&$CW73&$CX73&$CY73&$CZ73&$DA73)","v":""},{"$nulls":75},{"$f":"IF($C$73<=$D$64,\"\",\"* Gestantes malnutricion no debe ser mayor que Gestantes en Control Bajo Peso (Seccion D). \")","v":""},{"$nulls":25},{"$f":"IF($C$73<=$D$64,0,1)","v":0}]
["P1050101","Gestantes con malnutrición por exceso - Obesa",{"$f":"IFERROR(VLOOKUP($A74,Filtro!$A$5:$AY$629,2,FALSE),0)","v":703},{"$f":"($CB74&$CC74&$CD74&$CE74&$CF74&$CG74&$CH74&$CI74&$CJ74&$CK74&$CM74&$CN74&$CO74&$CP74&$CQ74&$CR74&$CS74&$CT74&$CU74&$CV74&$CW74&$CX74&$CY74&$CZ74&$DA74)","v":""},{"$nulls":75},{"$f":"IF($C$74<=$D$61,\"\",\"* Gestantes malnutricion no debe ser mayor que Gestantes en Control Obesa (Seccion D). \")","v":""},{"$nulls":25},{"$f":"IF($C$74<=$D$61,0,1)","v":0}]
["P1050102","Gestantes con malnutrición por exceso - Sobrepeso",{"$f":"IFERROR(VLOOKUP($A75,Filtro!$A$5:$AY$629,2,FALSE),0)","v":588},{"$f":"($CB75&$CC75&$CD75&$CE75&$CF75&$CG75&$CH75&$CI75&$CJ75&$CK75&$CM75&$CN75&$CO75&$CP75&$CQ75&$CR75&$CS75&$CT75&$CU75&$CV75&$CW75&$CX75&$CY75&$CZ75&$DA75)","v":""},{"$nulls":75},{"$f":"IF($C$75<=$D$62,\"\",\"* Gestantes malnutricion no debe ser mayor que Gestantes en Control Sobrepeso (Seccion D). \")","v":""},{"$nulls":25},{"$f":"IF($C$75<=$D$62,0,1)","v":0}]
["P1050103","En 3º mes post parto",{"$f":"IFERROR(VLOOKUP($A76,Filtro!$A$5:$AY$629,2,FALSE),0)","v":51},{"$f":"($CB76&$CC76&$CD76&$CE76&$CF76&$CG76&$CH76&$CI76&$CJ76&$CK76&$CM76&$CN76&$CO76&$CP76&$CQ76&$CR76&$CS76&$CT76&$CU76&$CV76&$CW76&$CX76&$CY76&$CZ76&$DA76)","v":""}]
["P1050104","En 6º mes post parto",{"$f":"IFERROR(VLOOKUP($A77,Filtro!$A$5:$AY$629,2,FALSE),0)","v":237},{"$f":"($CB77&$CC77&$CD77&$CE77&$CF77&$CG77&$CH77&$CI77&$CJ77&$CK77&$CM77&$CN77&$CO77&$CP77&$CQ77&$CR77&$CS77&$CT77&$CU77&$CV77&$CW77&$CX77&$CY77&$CZ77&$DA77)","v":""}]
[null,"SECCION F: MUJERES EN CONTROL DE CLIMATERIO "]
[null,"Población","45 a 64 años"]
["P1030301","Población en Control",{"$f":"IFERROR(VLOOKUP($A80,Filtro!$A$5:$AY$629,2,FALSE),0)","v":3794},{"$f":"($CB80&$CC80&$CD80&$CE80&$CF80&$CG80&$CH80&$CI80&$CJ80&$CK80&$CM80&$CN80&$CO80&$CP80&$CQ80&$CR80&$CS80&$CT80&$CU80&$CV80&$CW80&$CX80&$CY80&$CZ80&$DA80)","v":""}]
["P1060040","Mujeres con pauta aplicada MRS*",{"$f":"IFERROR(VLOOKUP($A81,Filtro!$A$5:$AY$629,2,FALSE),0)","v":2635},{"$f":"($CB81&$CC81&$CD81&$CE81&$CF81&$CG81&$CH81&$CI81&$CJ81&$CK81&$CM81&$CN81&$CO81&$CP81&$CQ81&$CR81&$CS81&$CT81&$CU81&$CV81&$CW81&$CX81&$CY81&$CZ81&$DA81)","v":""},{"$nulls":75},{"$f":"IF($C81>$C80,\"* El Nº de mujeres con pauta aplicada MRS no debe ser mayor a la población de mujeres en control por climaterio. \",\"\")","v":""},{"$nulls":25},{"$f":"IF($C81>$C80,1,0)","v":0}]
["P1060050","Mujeres con MRS elevado*",{"$f":"IFERROR(VLOOKUP($A82,Filtro!$A$5:$AY$629,2,FALSE),0)","v":1220},{"$f":"($CB82&$CC82&$CD82&$CE82&$CF82&$CG82&$CH82&$CI82&$CJ82&$CK82&$CM82&$CN82&$CO82&$CP82&$CQ82&$CR82&$CS82&$CT82&$CU82&$CV82&$CW82&$CX82&$CY82&$CZ82&$DA82)","v":""},{"$nulls":75},{"$f":"IF($C82>$C81,\"* El Nº de mujeres con puntaje elevado de MRS no debe ser mayor al Nº de mujeres con pauta aplicada MRS. \",\"\")","v":""},{"$nulls":25},{"$f":"IF($C82>$C81,1,0)","v":0}]
["P1060060","Mujeres con aplicación de terapia hormonal de la menopausia según MRS*",{"$f":"IFERROR(VLOOKUP($A83,Filtro!$A$5:$AY$629,2,FALSE),0)","v":607},{"$f":"($CB83&$CC83&$CD83&$CE83&$CF83&$CG83&$CH83&$CI83&$CJ83&$CK83&$CM83&$CN83&$CO83&$CP83&$CQ83&$CR83&$CS83&$CT83&$CU83&$CV83&$CW83&$CX83&$CY83&$CZ83&$DA83)","v":""},{"$nulls":75},{"$f":"IF($C83>$C82,\"* El Nº de mujeres con aplicación de terapia hormonal de reemplazo según MRS no debe ser mayor que el numero de mujeres con puntaje elevado de MRS. \",\"\")","v":""},{"$nulls":25},{"$f":"IF($C83>$C82,1,0)","v":0}]
["P1200340","Mujeres que asisten a Talleres Educativos",{"$f":"IFERROR(VLOOKUP($A84,Filtro!$A$5:$AY$629,2,FALSE),0)","v":22},{"$f":"($CB84&$CC84&$CD84&$CE84&$CF84&$CG84&$CH84&$CI84&$CJ84&$CK84&$CM84&$CN84&$CO84&$CP84&$CQ84&$CR84&$CS84&$CT84&$CU84&$CV84&$CW84&$CX84&$CY84&$CZ84&$DA84)","v":""}]
[null,"* MRS: Menopause Rating Scale"]
[null,"SECCION F.1: POBLACIÓN EN CONTROL CLIMATERIO SEGÚN TIPO TERAPIA REEMPLAZO HORMONAL"]
[null,"MÉTODOS",null,"TOTAL","GRUPO DE EDAD (en años)",{"$nulls":4},"Pueblos Originarios"," Migrantes"]
[{"$nulls":4},"Menor \nde 45 años","45 a 49 años","50 a 54 años","55 a 60 años","60 a 64 años"]
["P1200280","Estradiol Micronizado 1mg",null,{"$f":"SUM(E89:I89)","v":62},{"$f":"IFERROR(VLOOKUP($A89,Filtro!$A$5:$AY$629,3,FALSE),0)","v":4},{"$f":"IFERROR(VLOOKUP($A89,Filtro!$A$5:$AY$629,4,FALSE),0)","v":10},{"$f":"IFERROR(VLOOKUP($A89,Filtro!$A$5:$AY$629,5,FALSE),0)","v":23},{"$f":"IFERROR(VLOOKUP($A89,Filtro!$A$5:$AY$629,6,FALSE),0)","v":17},{"$f":"IFERROR(VLOOKUP($A89,Filtro!$A$5:$AY$629,7,FALSE),0)","v":8},{"$f":"IFERROR(VLOOKUP($A89,Filtro!$A$5:$AY$629,8,FALSE),0)","v":0},{"$f":"IFERROR(VLOOKUP($A89,Filtro!$A$5:$AY$629,9,FALSE),0)","v":2},{"$f":"($CB89&$CC89&$CD89&$CE89&$CF89&$CG89&$CH89&$CI89&$CJ89&$CK89&$CM89&$CN89&$CO89&$CP89&$CQ89&$CR89&$CS89&$CT89&$CU89&$CV89&$CW89&$CX89&$CY89&$CZ89&$DA89)","v":""},{"$nulls":67},{"$f":"IF($J89>$D89,\"* La celda 'Pueblos Originarios' debe ser menor o igual al Total en control. \",\"\")","v":""},{"$f":"IF($K89>$D89,\"* La celda 'Población Migrantes' debe ser menor o igual al Total en control. \",\"\")","v":""},{"$f":"IF(AND($D89<>0,$J89=\"\"),\"* No olvide escribir en la celda de 'Pueblos Originarios' (Digite CERO si no tiene). \",\"\")","v":""},{"$f":"IF(AND($D89<>0,$K89=\"\"),\"* No olvide escribir en la celda de 'Población Migrantes' (Digite CERO si no tiene). \",\"\")","v":""},{"$nulls":22},{"$f":"IF($J89>$D89,1,0)","v":0},{"$f":"IF($K89>$D89,1,0)","v":0},{"$f":"IF(AND($D89<>0,$J89=\"\"),1,0)","v":0},{"$f":"IF(AND($D89<>0,$K89=\"\"),1,0)","v":0}]
["P1200290","Estradiol Gel",null,{"$f":"SUM(E90:I90)","v":148},{"$f":"IFERROR(VLOOKUP($A90,Filtro!$A$5:$AY$629,3,FALSE),0)","v":3},{"$f":"IFERROR(VLOOKUP($A90,Filtro!$A$5:$AY$629,4,FALSE),0)","v":24},{"$f":"IFERROR(VLOOKUP($A90,Filtro!$A$5:$AY$629,5,FALSE),0)","v":54},{"$f":"IFERROR(VLOOKUP($A90,Filtro!$A$5:$AY$629,6,FALSE),0)","v":46},{"$f":"IFERROR(VLOOKUP($A90,Filtro!$A$5:$AY$629,7,FALSE),0)","v":21},{"$f":"IFERROR(VLOOKUP($A90,Filtro!$A$5:$AY$629,8,FALSE),0)","v":2},{"$f":"IFERROR(VLOOKUP($A90,Filtro!$A$5:$AY$629,9,FALSE),0)","v":2},"",{"$nulls":67},"","","","",{"$nulls":22},0,0,0,0]
["P1200300","Progesterona Micronizada 100mg",null,40,{"$f":"IFERROR(VLOOKUP($A91,Filtro!$A$5:$AY$629,3,FALSE),0)","v":1},{"$f":"IFERROR(VLOOKUP($A91,Filtro!$A$5:$AY$629,4,FALSE),0)","v":3},{"$f":"IFERROR(VLOOKUP($A91,Filtro!$A$5:$AY$629,5,FALSE),0)","v":14},{"$f":"IFERROR(VLOOKUP($A91,Filtro!$A$5:$AY$629,6,FALSE),0)","v":15},{"$f":"IFERROR(VLOOKUP($A91,Filtro!$A$5:$AY$629,7,FALSE),0)","v":7},{"$f":"IFERROR(VLOOKUP($A91,Filtro!$A$5:$AY$629,8,FALSE),0)","v":0},{"$f":"IFERROR(VLOOKUP($A91,Filtro!$A$5:$AY$629,9,FALSE),0)","v":1},"",{"$nulls":67},"","","","",{"$nulls":22},0,0,0,0]
["P1200310","Progesterona Micronizada 200mg",null,73,{"$f":"IFERROR(VLOOKUP($A92,Filtro!$A$5:$AY$629,3,FALSE),0)","v":36},{"$f":"IFERROR(VLOOKUP($A92,Filtro!$A$5:$AY$629,4,FALSE),0)","v":6},{"$f":"IFERROR(VLOOKUP($A92,Filtro!$A$5:$AY$629,5,FALSE),0)","v":16},{"$f":"IFERROR(VLOOKUP($A92,Filtro!$A$5:$AY$629,6,FALSE),0)","v":12},{"$f":"IFERROR(VLOOKUP($A92,Filtro!$A$5:$AY$629,7,FALSE),0)","v":3},{"$f":"IFERROR(VLOOKUP($A92,Filtro!$A$5:$AY$629,8,FALSE),0)","v":0},{"$f":"IFERROR(VLOOKUP($A92,Filtro!$A$5:$AY$629,9,FALSE),0)","v":0},"",{"$nulls":67},"","","","",{"$nulls":22},0,0,0,0]
["P1200320","Nomegestrol 5mg comp.",null,9,{"$f":"IFERROR(VLOOKUP($A93,Filtro!$A$5:$AY$629,3,FALSE),0)","v":0},{"$f":"IFERROR(VLOOKUP($A93,Filtro!$A$5:$AY$629,4,FALSE),0)","v":5},{"$f":"IFERROR(VLOOKUP($A93,Filtro!$A$5:$AY$629,5,FALSE),0)","v":4},{"$f":"IFERROR(VLOOKUP($A93,Filtro!$A$5:$AY$629,6,FALSE),0)","v":0},{"$f":"IFERROR(VLOOKUP($A93,Filtro!$A$5:$AY$629,7,FALSE),0)","v":0},{"$f":"IFERROR(VLOOKUP($A93,Filtro!$A$5:$AY$629,8,FALSE),0)","v":0},{"$f":"IFERROR(VLOOKUP($A93,Filtro!$A$5:$AY$629,9,FALSE),0)","v":0},"",{"$nulls":67},"","","","",{"$nulls":22},0,0,0,0]
["P1200330","Tibolona 2,5mg comp.",null,453,{"$f":"IFERROR(VLOOKUP($A94,Filtro!$A$5:$AY$629,3,FALSE),0)","v":10},{"$f":"IFERROR(VLOOKUP($A94,Filtro!$A$5:$AY$629,4,FALSE),0)","v":83},{"$f":"IFERROR(VLOOKUP($A94,Filtro!$A$5:$AY$629,5,FALSE),0)","v":202},{"$f":"IFERROR(VLOOKUP($A94,Filtro!$A$5:$AY$629,6,FALSE),0)","v":128},{"$f":"IFERROR(VLOOKUP($A94,Filtro!$A$5:$AY$629,7,FALSE),0)","v":30},{"$f":"IFERROR(VLOOKUP($A94,Filtro!$A$5:$AY$629,8,FALSE),0)","v":3},{"$f":"IFERROR(VLOOKUP($A94,Filtro!$A$5:$AY$629,9,FALSE),0)","v":13},"",{"$nulls":67},"","","","",{"$nulls":22},0,0,0,0]
["P1600110","Terapia Dual",null,78,{"$f":"IFERROR(VLOOKUP($A95,Filtro!$A$5:$AY$629,3,FALSE),0)","v":7},{"$f":"IFERROR(VLOOKUP($A95,Filtro!$A$5:$AY$629,4,FALSE),0)","v":7},{"$f":"IFERROR(VLOOKUP($A95,Filtro!$A$5:$AY$629,5,FALSE),0)","v":23},{"$f":"IFERROR(VLOOKUP($A95,Filtro!$A$5:$AY$629,6,FALSE),0)","v":30},{"$f":"IFERROR(VLOOKUP($A95,Filtro!$A$5:$AY$629,7,FALSE),0)","v":11},{"$f":"IFERROR(VLOOKUP($A95,Filtro!$A$5:$AY$629,8,FALSE),0)","v":0},{"$f":"IFERROR(VLOOKUP($A95,Filtro!$A$5:$AY$629,9,FALSE),0)","v":3}]
[null,"SECCION G: GESTANTES EN CONTROL CON ECOGRAFÍA POR TRIMESTRE DE GESTACION (EN EL SEMESTRE)"]
[null,"Población","Primer trimestre",null,"Segundo trimestre 22-24 semanas","Tercer trimestre 30-34 semanas"]
[null,null,"<11 semanas","11- 13+6 semanas"]
["P1060106","Menor de 15",{"$f":"IFERROR(VLOOKUP($A99,Filtro!$A$5:$AY$629,2,FALSE),0)","v":3},{"$f":"IFERROR(VLOOKUP($A99,Filtro!$A$5:$AY$629,3,FALSE),0)","v":4},{"$f":"IFERROR(VLOOKUP($A99,Filtro!$A$5:$AY$629,4,FALSE),0)","v":2},{"$f":"IFERROR(VLOOKUP($A99,Filtro!$A$5:$AY$629,5,FALSE),0)","v":2}]
["P1060107","15 - 19 ",{"$f":"IFERROR(VLOOKUP($A100,Filtro!$A$5:$AY$629,2,FALSE),0)","v":78},{"$f":"IFERROR(VLOOKUP($A100,Filtro!$A$5:$AY$629,3,FALSE),0)","v":137},{"$f":"IFERROR(VLOOKUP($A100,Filtro!$A$5:$AY$629,4,FALSE),0)","v":94},{"$f":"IFERROR(VLOOKUP($A100,Filtro!$A$5:$AY$629,5,FALSE),0)","v":62}]
["P1060108","20 - 24",{"$f":"IFERROR(VLOOKUP($A101,Filtro!$A$5:$AY$629,2,FALSE),0)","v":380},{"$f":"IFERROR(VLOOKUP($A101,Filtro!$A$5:$AY$629,3,FALSE),0)","v":451},{"$f":"IFERROR(VLOOKUP($A101,Filtro!$A$5:$AY$629,4,FALSE),0)","v":337},{"$f":"IFERROR(VLOOKUP($A101,Filtro!$A$5:$AY$629,5,FALSE),0)","v":169}]
["P1060109","25 - 29",{"$f":"IFERROR(VLOOKUP($A102,Filtro!$A$5:$AY$629,2,FALSE),0)","v":501},{"$f":"IFERROR(VLOOKUP($A102,Filtro!$A$5:$AY$629,3,FALSE),0)","v":669},{"$f":"IFERROR(VLOOKUP($A102,Filtro!$A$5:$AY$629,4,FALSE),0)","v":475},{"$f":"IFERROR(VLOOKUP($A102,Filtro!$A$5:$AY$629,5,FALSE),0)","v":235}]
["P1060110","30 - 34",{"$f":"IFERROR(VLOOKUP($A103,Filtro!$A$5:$AY$629,2,FALSE),0)","v":465},{"$f":"IFERROR(VLOOKUP($A103,Filtro!$A$5:$AY$629,3,FALSE),0)","v":557},{"$f":"IFERROR(VLOOKUP($A103,Filtro!$A$5:$AY$629,4,FALSE),0)","v":456},{"$f":"IFERROR(VLOOKUP($A103,Filtro!$A$5:$AY$629,5,FALSE),0)","v":210}]
["P1060111","35 - 39",{"$f":"IFERROR(VLOOKUP($A104,Filtro!$A$5:$AY$629,2,FALSE),0)","v":210},{"$f":"IFERROR(VLOOKUP($A104,Filtro!$A$5:$AY$629,3,FALSE),0)","v":290},{"$f":"IFERROR(VLOOKUP($A104,Filtro!$A$5:$AY$629,4,FALSE),0)","v":220},{"$f":"IFERROR(VLOOKUP($A104,Filtro!$A$5:$AY$629,5,FALSE),0)","v":111}]
["P1060112","40 - 44",{"$f":"IFERROR(VLOOKUP($A105,Filtro!$A$5:$AY$629,2,FALSE),0)","v":50},{"$f":"IFERROR(VLOOKUP($A105,Filtro!$A$5:$AY$629,3,FALSE),0)","v":62},{"$f":"IFERROR(VLOOKUP($A105,Filtro!$A$5:$AY$629,4,FALSE),0)","v":48},{"$f":"IFERROR(VLOOKUP($A105,Filtro!$A$5:$AY$629,5,FALSE),0)","v":24}]
["P1060113","45 - 49",{"$f":"IFERROR(VLOOKUP($A106,Filtro!$A$5:$AY$629,2,FALSE),0)","v":2},{"$f":"IFERROR(VLOOKUP($A106,Filtro!$A$5:$AY$629,3,FALSE),0)","v":3},{"$f":"IFERROR(VLOOKUP($A106,Filtro!$A$5:$AY$629,4,FALSE),0)","v":2},{"$f":"IFERROR(VLOOKUP($A106,Filtro!$A$5:$AY$629,5,FALSE),0)","v":2}]
["P1060114","50 - 54",{"$f":"IFERROR(VLOOKUP($A107,Filtro!$A$5:$AY$629,2,FALSE),0)","v":0},{"$f":"IFERROR(VLOOKUP($A107,Filtro!$A$5:$AY$629,3,FALSE),0)","v":0},{"$f":"IFERROR(VLOOKUP($A107,Filtro!$A$5:$AY$629,4,FALSE),0)","v":0},{"$f":"IFERROR(VLOOKUP($A107,Filtro!$A$5:$AY$629,5,FALSE),0)","v":0}]
[null,"TOTAL",{"$f":"SUM(C99:C107)","v":1689},{"$f":"SUM(D99:D107)","v":2173},{"$f":"SUM(E99:E107)","v":1634},{"$f":"SUM(F99:F107)","v":815}]
[null,"SECCION H: MUJERES BAJO CONTROL DE REGULACIÓN DE FERTILIDAD SEGÚN ESTADO NUTRICIONAL "]
[null,"POBLACION","ESTADO\nNUTRICIONAL","TOTAL","GRUPOS DE EDAD (en años)"]
[{"$nulls":4},"Menos 15 años","15 a 19 años","20 a 24 años","25 a 29 años","30 a 34 años","35 a 39 años","40 a 44 años","45 a 49 años","50 a 54 años"]
["P1600100","MUJERES BAJO CONTROL DE REGULACIÓN DE FERTILIDAD SEGÚN ESTADO NUTRICIONAL ","OBESA",{"$f":"SUM(E112:M112)","v":20831},{"$f":"IFERROR(VLOOKUP($A112,Filtro!$A$5:$AY$629,3,FALSE),0)","v":116},{"$f":"IFERROR(VLOOKUP($A112,Filtro!$A$5:$AY$629,4,FALSE),0)","v":1366},{"$f":"IFERROR(VLOOKUP($A112,Filtro!$A$5:$AY$629,5,FALSE),0)","v":2881},{"$f":"IFERROR(VLOOKUP($A112,Filtro!$A$5:$AY$629,6,FALSE),0)","v":3757},{"$f":"IFERROR(VLOOKUP($A112,Filtro!$A$5:$AY$629,7,FALSE),0)","v":3939},{"$f":"IFERROR(VLOOKUP($A112,Filtro!$A$5:$AY$629,8,FALSE),0)","v":3329},{"$f":"IFERROR(VLOOKUP($A112,Filtro!$A$5:$AY$629,9,FALSE),0)","v":2601},{"$f":"IFERROR(VLOOKUP($A112,Filtro!$A$5:$AY$629,10,FALSE),0)","v":1981},{"$f":"IFERROR(VLOOKUP($A112,Filtro!$A$5:$AY$629,11,FALSE),0)","v":861}]
["P1600101",null,"SOBREPESO",{"$f":"SUM(E113:M113)","v":20071},{"$f":"IFERROR(VLOOKUP($A113,Filtro!$A$5:$AY$629,3,FALSE),0)","v":211},{"$f":"IFERROR(VLOOKUP($A113,Filtro!$A$5:$AY$629,4,FALSE),0)","v":1923},{"$f":"IFERROR(VLOOKUP($A113,Filtro!$A$5:$AY$629,5,FALSE),0)","v":3051},{"$f":"IFERROR(VLOOKUP($A113,Filtro!$A$5:$AY$629,6,FALSE),0)","v":3561},{"$f":"IFERROR(VLOOKUP($A113,Filtro!$A$5:$AY$629,7,FALSE),0)","v":3596},{"$f":"IFERROR(VLOOKUP($A113,Filtro!$A$5:$AY$629,8,FALSE),0)","v":3049},{"$f":"IFERROR(VLOOKUP($A113,Filtro!$A$5:$AY$629,9,FALSE),0)","v":2228},{"$f":"IFERROR(VLOOKUP($A113,Filtro!$A$5:$AY$629,10,FALSE),0)","v":1653},{"$f":"IFERROR(VLOOKUP($A113,Filtro!$A$5:$AY$629,11,FALSE),0)","v":799}]
["P1600102",null,"NORMAL",{"$f":"SUM(E114:M114)","v":16819},{"$f":"IFERROR(VLOOKUP($A114,Filtro!$A$5:$AY$629,3,FALSE),0)","v":387},{"$f":"IFERROR(VLOOKUP($A114,Filtro!$A$5:$AY$629,4,FALSE),0)","v":3087},{"$f":"IFERROR(VLOOKUP($A114,Filtro!$A$5:$AY$629,5,FALSE),0)","v":3594},{"$f":"IFERROR(VLOOKUP($A114,Filtro!$A$5:$AY$629,6,FALSE),0)","v":3128},{"$f":"IFERROR(VLOOKUP($A114,Filtro!$A$5:$AY$629,7,FALSE),0)","v":2611},{"$f":"IFERROR(VLOOKUP($A114,Filtro!$A$5:$AY$629,8,FALSE),0)","v":1667},{"$f":"IFERROR(VLOOKUP($A114,Filtro!$A$5:$AY$629,9,FALSE),0)","v":1199},{"$f":"IFERROR(VLOOKUP($A114,Filtro!$A$5:$AY$629,10,FALSE),0)","v":818},{"$f":"IFERROR(VLOOKUP($A114,Filtro!$A$5:$AY$629,11,FALSE),0)","v":328}]
["P1600103",null,"BAJO PESO",{"$f":"SUM(E115:M115)","v":944},{"$f":"IFERROR(VLOOKUP($A115,Filtro!$A$5:$AY$629,3,FALSE),0)","v":42},{"$f":"IFERROR(VLOOKUP($A115,Filtro!$A$5:$AY$629,4,FALSE),0)","v":294},{"$f":"IFERROR(VLOOKUP($A115,Filtro!$A$5:$AY$629,5,FALSE),0)","v":230},{"$f":"IFERROR(VLOOKUP($A115,Filtro!$A$5:$AY$629,6,FALSE),0)","v":187},{"$f":"IFERROR(VLOOKUP($A115,Filtro!$A$5:$AY$629,7,FALSE),0)","v":91},{"$f":"IFERROR(VLOOKUP($A115,Filtro!$A$5:$AY$629,8,FALSE),0)","v":51},{"$f":"IFERROR(VLOOKUP($A115,Filtro!$A$5:$AY$629,9,FALSE),0)","v":26},{"$f":"IFERROR(VLOOKUP($A115,Filtro!$A$5:$AY$629,10,FALSE),0)","v":20},{"$f":"IFERROR(VLOOKUP($A115,Filtro!$A$5:$AY$629,11,FALSE),0)","v":3}]
[null,null,"TOTAL",{"$f":"SUM(E116:M116)","v":58665},{"$f":"SUM(E112:E115)","v":756},{"$f":"SUM(F112:F115)","v":6670},9756,10633,10237,8096,6054,4472,1991]
[null,"SECCION I: GESTANTES EN CONTROL CON TEST DE VIH/SIFILIS TOMADO (EN EL SEMESTRE, RED PÚBLICA O EXTRASISTEMA)"]
[null,"Población","TOTAL GESTANTES BAJO CONTROL","GESTANTES EN CONTROL CON RESULTADO 1° VIH","GESTANTES EN CONTROL CON RESULTADO 1° TAMIZAJE SIFILIS","TOTAL GESTANTES EN CONTROL >34 sem","GESTANTES EN CONTROL CON RESULTADO 2° VIH","GESTANTES EN CONTROL CON RESULTADO TAMIZAJE SIFILIS 3° TRIMESTRE GESTACION "]
["P1600111","Menor de 15",{"$f":"IFERROR(VLOOKUP($A119,Filtro!$A$5:$AY$629,2,FALSE),0)","v":6},{"$f":"IFERROR(VLOOKUP($A119,Filtro!$A$5:$AY$629,3,FALSE),0)","v":6},{"$f":"IFERROR(VLOOKUP($A119,Filtro!$A$5:$AY$629,4,FALSE),0)","v":4},{"$f":"IFERROR(VLOOKUP($A119,Filtro!$A$5:$AY$629,5,FALSE),0)","v":6},{"$f":"IFERROR(VLOOKUP($A119,Filtro!$A$5:$AY$629,6,FALSE),0)","v":6},{"$f":"IFERROR(VLOOKUP($A119,Filtro!$A$5:$AY$629,7,FALSE),0)","v":6}]
["P1600112","15 - 19 ",{"$f":"IFERROR(VLOOKUP($A120,Filtro!$A$5:$AY$629,2,FALSE),0)","v":165},{"$f":"IFERROR(VLOOKUP($A120,Filtro!$A$5:$AY$629,3,FALSE),0)","v":153},{"$f":"IFERROR(VLOOKUP($A120,Filtro!$A$5:$AY$629,4,FALSE),0)","v":154},{"$f":"IFERROR(VLOOKUP($A120,Filtro!$A$5:$AY$629,5,FALSE),0)","v":53},{"$f":"IFERROR(VLOOKUP($A120,Filtro!$A$5:$AY$629,6,FALSE),0)","v":48},{"$f":"IFERROR(VLOOKUP($A120,Filtro!$A$5:$AY$629,7,FALSE),0)","v":47}]
["P1600113","20 - 24",{"$f":"IFERROR(VLOOKUP($A121,Filtro!$A$5:$AY$629,2,FALSE),0)","v":767},{"$f":"IFERROR(VLOOKUP($A121,Filtro!$A$5:$AY$629,3,FALSE),0)","v":706},{"$f":"IFERROR(VLOOKUP($A121,Filtro!$A$5:$AY$629,4,FALSE),0)","v":692},{"$f":"IFERROR(VLOOKUP($A121,Filtro!$A$5:$AY$629,5,FALSE),0)","v":159},{"$f":"IFERROR(VLOOKUP($A121,Filtro!$A$5:$AY$629,6,FALSE),0)","v":139},{"$f":"IFERROR(VLOOKUP($A121,Filtro!$A$5:$AY$629,7,FALSE),0)","v":138}]
["P1600114","25 - 29",{"$f":"IFERROR(VLOOKUP($A122,Filtro!$A$5:$AY$629,2,FALSE),0)","v":1009},{"$f":"IFERROR(VLOOKUP($A122,Filtro!$A$5:$AY$629,3,FALSE),0)","v":942},{"$f":"IFERROR(VLOOKUP($A122,Filtro!$A$5:$AY$629,4,FALSE),0)","v":924},{"$f":"IFERROR(VLOOKUP($A122,Filtro!$A$5:$AY$629,5,FALSE),0)","v":219},{"$f":"IFERROR(VLOOKUP($A122,Filtro!$A$5:$AY$629,6,FALSE),0)","v":180},{"$f":"IFERROR(VLOOKUP($A122,Filtro!$A$5:$AY$629,7,FALSE),0)","v":174}]
["P1600115","30 - 34",{"$f":"IFERROR(VLOOKUP($A123,Filtro!$A$5:$AY$629,2,FALSE),0)","v":857},{"$f":"IFERROR(VLOOKUP($A123,Filtro!$A$5:$AY$629,3,FALSE),0)","v":783},{"$f":"IFERROR(VLOOKUP($A123,Filtro!$A$5:$AY$629,4,FALSE),0)","v":773},{"$f":"IFERROR(VLOOKUP($A123,Filtro!$A$5:$AY$629,5,FALSE),0)","v":212},{"$f":"IFERROR(VLOOKUP($A123,Filtro!$A$5:$AY$629,6,FALSE),0)","v":169},{"$f":"IFERROR(VLOOKUP($A123,Filtro!$A$5:$AY$629,7,FALSE),0)","v":168}]
["P1600116","35 - 39",{"$f":"IFERROR(VLOOKUP($A124,Filtro!$A$5:$AY$629,2,FALSE),0)","v":429},{"$f":"IFERROR(VLOOKUP($A124,Filtro!$A$5:$AY$629,3,FALSE),0)","v":394},{"$f":"IFERROR(VLOOKUP($A124,Filtro!$A$5:$AY$629,4,FALSE),0)","v":384},{"$f":"IFERROR(VLOOKUP($A124,Filtro!$A$5:$AY$629,5,FALSE),0)","v":108},{"$f":"IFERROR(VLOOKUP($A124,Filtro!$A$5:$AY$629,6,FALSE),0)","v":85},{"$f":"IFERROR(VLOOKUP($A124,Filtro!$A$5:$AY$629,7,FALSE),0)","v":85}]
["P1600117","40 - 44",{"$f":"IFERROR(VLOOKUP($A125,Filtro!$A$5:$AY$629,2,FALSE),0)","v":104},{"$f":"IFERROR(VLOOKUP($A125,Filtro!$A$5:$AY$629,3,FALSE),0)","v":99},{"$f":"IFERROR(VLOOKUP($A125,Filtro!$A$5:$AY$629,4,FALSE),0)","v":95},{"$f":"IFERROR(VLOOKUP($A125,Filtro!$A$5:$AY$629,5,FALSE),0)","v":21},{"$f":"IFERROR(VLOOKUP($A125,Filtro!$A$5:$AY$629,6,FALSE),0)","v":16},{"$f":"IFERROR(VLOOKUP($A125,Filtro!$A$5:$AY$629,7,FALSE),0)","v":14}]
["P1600118","45 - 49",{"$f":"IFERROR(VLOOKUP($A126,Filtro!$A$5:$AY$629,2,FALSE),0)","v":4},{"$f":"IFERROR(VLOOKUP($A126,Filtro!$A$5:$AY$629,3,FALSE),0)","v":4},{"$f":"IFERROR(VLOOKUP($A126,Filtro!$A$5:$AY$629,4,FALSE),0)","v":4},{"$f":"IFERROR(VLOOKUP($A126,Filtro!$A$5:$AY$629,5,FALSE),0)","v":1},{"$f":"IFERROR(VLOOKUP($A126,Filtro!$A$5:$AY$629,6,FALSE),0)","v":1},{"$f":"IFERROR(VLOOKUP($A126,Filtro!$A$5:$AY$629,7,FALSE),0)","v":1}]
["P1600119","50 - 54",{"$f":"IFERROR(VLOOKUP($A127,Filtro!$A$5:$AY$629,2,FALSE),0)","v":0},{"$f":"IFERROR(VLOOKUP($A127,Filtro!$A$5:$AY$629,3,FALSE),0)","v":0},{"$f":"IFERROR(VLOOKUP($A127,Filtro!$A$5:$AY$629,4,FALSE),0)","v":0},{"$f":"IFERROR(VLOOKUP($A127,Filtro!$A$5:$AY$629,5,FALSE),0)","v":0},{"$f":"IFERROR(VLOOKUP($A127,Filtro!$A$5:$AY$629,6,FALSE),0)","v":0},{"$f":"IFERROR(VLOOKUP($A127,Filtro!$A$5:$AY$629,7,FALSE),0)","v":0}]
[null,"TOTAL",{"$f":"SUM(C119:C127)","v":3341},3087,3030,779,644,633]
["P1600120","Gestantes con Tamizajes resultado pendiente",0,{"$f":"IFERROR(VLOOKUP($A129,Filtro!$A$5:$AY$629,3,FALSE),0)","v":97},{"$f":"IFERROR(VLOOKUP($A129,Filtro!$A$5:$AY$629,4,FALSE),0)","v":133},0,{"$f":"IFERROR(VLOOKUP($A129,Filtro!$A$5:$AY$629,6,FALSE),0)","v":234},{"$f":"IFERROR(VLOOKUP($A129,Filtro!$A$5:$AY$629,7,FALSE),0)","v":270}]
[null,"NIVEL SECUNDARIO"]
[null,"SECCIÓN J: POBLACIÓN EN CONTROL POR PATOLOGÍAS DE ALTO RIESGO OBSTÉTRICO"]
[null,"PATOLOGÍA","TOTAL"]
["P1030303","Preeclampsia (PE) ",{"$f":"IFERROR(VLOOKUP($A133,Filtro!$A$5:$AY$629,2,FALSE),0)","v":4},{"$f":"($CB111&$CC111&$CD111&$CE111&$CF111&$CG111&$CH111&$CI111&$CJ111&$CK111&$CM111&$CN111&$CO111&$CP111&$CQ111&$CR111&$CS111&$CT111&$CU111&$CV111&$CW111&$CX111&$CY111&$CZ111&$DA111)","v":""}]
["P1060070","Sindrome Hipertensivo del Embarazo (SHE)",{"$f":"IFERROR(VLOOKUP($A134,Filtro!$A$5:$AY$629,2,FALSE),0)","v":39},""]
["P1030304","Factores de riesgo y condicionantes de Parto Prematuro",{"$f":"IFERROR(VLOOKUP($A135,Filtro!$A$5:$AY$629,2,FALSE),0)","v":67},""]
["P1030401","Retardo Crecimiento Intrauterino (RCIU)",{"$f":"IFERROR(VLOOKUP($A136,Filtro!$A$5:$AY$629,2,FALSE),0)","v":34},""]
["P1040506","Sífilis",{"$f":"IFERROR(VLOOKUP($A137,Filtro!$A$5:$AY$629,2,FALSE),0)","v":20},""]
["P1040507","VIH",{"$f":"IFERROR(VLOOKUP($A138,Filtro!$A$5:$AY$629,2,FALSE),0)","v":5},""]
["P1060115","Diabetes Pre Gestacional",{"$f":"IFERROR(VLOOKUP($A139,Filtro!$A$5:$AY$629,2,FALSE),0)","v":36},{"$f":"($CB130&$CC130&$CD130&$CE130&$CF130&$CG130&$CH130&$CI130&$CJ130&$CK130&$CM130&$CN130&$CO130&$CP130&$CQ130&$CR130&$CS130&$CT130&$CU130&$CV130&$CW130&$CX130&$CY130&$CZ130&$DA130)","v":""}]
["P1060116","Diabetes Gestacional",{"$f":"IFERROR(VLOOKUP($A140,Filtro!$A$5:$AY$629,2,FALSE),0)","v":120},""]
["P1030403","Cesárea anterior",{"$f":"IFERROR(VLOOKUP($A141,Filtro!$A$5:$AY$629,2,FALSE),0)","v":316},""]
["P1060080","Malformación Congénita",{"$f":"IFERROR(VLOOKUP($A142,Filtro!$A$5:$AY$629,2,FALSE),0)","v":11},""]
["P1060117","Anemia",{"$f":"IFERROR(VLOOKUP($A143,Filtro!$A$5:$AY$629,2,FALSE),0)","v":30},""]
["P1060118","Cardiopatías",{"$f":"IFERROR(VLOOKUP($A144,Filtro!$A$5:$AY$629,2,FALSE),0)","v":13},""]
["P1060119","Pielonefritis",{"$f":"IFERROR(VLOOKUP($A145,Filtro!$A$5:$AY$629,2,FALSE),0)","v":9},""]
["P1060120","Rh(-) sensibilizada",{"$f":"IFERROR(VLOOKUP($A146,Filtro!$A$5:$AY$629,2,FALSE),0)","v":30},""]
["P1060121","Placenta previa",{"$f":"IFERROR(VLOOKUP($A147,Filtro!$A$5:$AY$629,2,FALSE),0)","v":14},""]
["P1060122","Chagas",{"$f":"IFERROR(VLOOKUP($A148,Filtro!$A$5:$AY$629,2,FALSE),0)","v":15},""]
["P1060123","Colestasia Intrahépatica de Embarazo",{"$f":"IFERROR(VLOOKUP($A149,Filtro!$A$5:$AY$629,2,FALSE),0)","v":14},""]
["P1030404","Otras patologías del embarazo",{"$f":"IFERROR(VLOOKUP($A150,Filtro!$A$5:$AY$629,2,FALSE),0)","v":672},""]
[null,"TOTAL",{"$f":"SUM(C133:C150)","v":1449}]
[]
[]
[]
[]
[]
["CODIGOS ELIMINADOS"]
["P1060020"]
["P1200260"]
[null,{"$f":"SUM(D11:T36,C40:G49,C53:D57,D61:M70,C73:C77,C80:C84,D89:K95,C99:F108,,C133:C151,E112:M116)","v":473467},"datos"]
[null,{"$f":"SUM(DB$10:EA153)","v":3},"errores"]
["CODIGOS NUEVOS"]
["P1600105"]
["P1600106"]
["P1600107"]
["P1600108"]
["P1600109"]
["P1600110"]
["P1600111"]
["P1600112"]
["P1600113"]
["P1600114"]
["P1600115"]
["P1600116"]
["P1600117"]
["P1600118"]
["P1600119"]
["P1600120"]

{"sheet":"P2","index":3,"n_rows":299,"n_cols":120,"rows_kept":299,"merged":[[5,1,5,24],[7,1,9,2],[7,3,8,5],[7,6,7,31],[7,32,8,33],[7,34,8,35],[8,6,8,7],[8,8,8,9],[8,10,8,11],[8,12,8,13],[8,14,8,15],[8,16,8,17],[8,18,8,19],[8,20,8,21],[8,22,8,23],[8,24,8,25],[8,26,8,27],[8,28,8,29],[8,30,8,31],[10,1,10,2],[11,1,16,1],[17,1,22,1],[23,1,29,1],[30,1,37,1],[38,1,38,2],[39,1,39,13],[40,1,42,2],[40,3,41,5],[40,6,40,19],[41,6,41,7],[41,8,41,9],[41,10,41,11],[41,12,41,13],[41,14,41,15],[41,16,41,17],[41,18,41,19],[43,1,43,2],[44,1,51,1],[52,1,58,1],[59,1,62,1],[63,1,71,1],[72,1,72,2],[73,1,73,20],[75,1,75,2],[76,1,81,1],[82,1,87,1],[88,1,93,1],[94,1,99,1],[101,1,102,2],[101,3,102,3],[101,4,102,4],[101,5,102,5],[101,6,102,6],[101,7,102,7],[101,8,102,8],[101,9,102,9],[101,10,102,10],[101,11,102,11],[101,12,102,12],[101,13,102,13],[101,14,102,14],[103,1,106,1],[108,1,109,2],[108,3,109,3],[110,1,110,2],[111,1,111,2],[113,1,114,2],[113,3,114,3],[115,1,115,2],[116,1,116,2],[117,1,117,2],[118,1,118,2],[119,1,119,2],[120,1,120,2],[122,1,124,2],[122,3,123,5],[122,6,122,11],[122,12,124,12],[123,6,123,7],[123,8,123,9],[123,10,123,11],[125,1,125,2],[126,1,126,2],[127,1,127,2],[128,1,128,2],[129,1,129,2],[131,1,132,2],[131,3,132,3],[131,4,131,9],[133,1,133,2],[134,1,134,2],[135,1,135,2],[137,1,139,2],[137,3,138,5],[137,6,137,43],[137,44,138,45],[137,46,138,47],[138,6,138,7],[138,8,138,9],[138,10,138,11],[138,12,138,13],[138,14,138,15],[138,16,138,17],[138,18,138,19],[138,20,138,21],[138,22,138,23],[138,24,138,25],[138,26,138,27],[138,28,138,29],[138,30,138,31],[138,32,138,33],[138,34,138,35],[138,36,138,37],[138,38,138,39],[138,40,138,41],[138,42,138,43],[140,1,140,2],[141,1,141,2],[142,1,142,2],[143,1,143,2],[144,1,144,2],[145,1,145,2],[146,1,146,2],[147,1,147,2],[148,1,148,2],[149,1,149,2],[150,1,150,2],[151,1,151,2],[152,1,152,2],[153,1,153,2],[154,1,154,2],[155,1,155,2],[156,1,156,2],[157,1,157,2],[158,1,158,2],[159,1,159,2],[160,1,160,2],[161,1,161,2],[162,1,162,2],[163,1,163,2],[164,1,164,2],[165,1,165,2],[166,1,166,2],[167,1,167,2],[168,1,168,2],[169,1,169,2],[170,1,170,2],[171,1,171,2],[172,1,172,2],[173,1,173,2],[174,1,174,2],[175,1,175,2],[176,1,176,2],[177,1,177,2],[178,1,178,2],[179,1,179,2],[180,1,180,2],[181,1,181,2],[182,1,182,2],[183,1,183,2],[184,1,184,2],[186,1,188,2],[186,3,187,5],[186,6,186,43],[186,44,187,45],[186,46,187,47],[187,6,187,7],[187,8,187,9],[187,10,187,11],[187,12,187,13],[187,14,187,15],[187,16,187,17],[187,18,187,19],[187,20,187,21],[187,22,187,23],[187,24,187,25],[187,26,187,27],[187,28,187,29],[187,30,187,31],[187,32,187,33],[187,34,187,35],[187,36,187,37],[187,38,187,39],[187,40,187,41],[187,42,187,43],[189,1,189,2],[190,1,190,2],[191,1,191,2],[192,1,192,2],[194,1,196,2],[194,3,195,5],[194,6,194,25],[194,26,195,27],[194,28,195,29],[194,30,195,31],[194,32,195,33],[194,34,195,35],[195,6,195,7],[195,8,195,9],[195,10,195,11],[195,12,195,13],[195,14,195,15],[195,16,195,17],[195,18,195,19],[195,20,195,21],[195,22,195,23],[195,24,195,25],[197,1,197,2],[198,1,200,1],[201,1,207,1],[208,1,208,2]]}
[null,"DATOS DEL ESTABLECIMIENTO"]
[null,{"$f":"CONCATENATE(\"COMUNA: \",NOMBRE!$B$2,\" - \",\"( \",NOMBRE!$C$2,NOMBRE!$D$2,NOMBRE!$E$2,NOMBRE!$F$2,NOMBRE!$G$2,\" )\")","v":"COMUNA:  - (  )"}]
[null,{"$f":"CONCATENATE(\"ESTABLECIMIENTO/ESTRATEGIA: \",NOMBRE!$B$3,\" - \",\"( \",NOMBRE!$C$3,NOMBRE!$D$3,NOMBRE!$E$3,NOMBRE!$F$3,NOMBRE!$G$3,NOMBRE!$H$3,\" )\")","v":"ESTABLECIMIENTO/ESTRATEGIA:  - (  )"}]
[null,{"$f":"CONCATENATE(\"MES: \",NOMBRE!$B$6,\" - \",\"( \",NOMBRE!$C$6,NOMBRE!$D$6,\" )\")","v":"MES:  - (  )"}]
[null,{"$f":"CONCATENATE(\"AÑO: \",NOMBRE!$B$7)","v":"AÑO: 2023"}]
[null,"REM-P2. POBLACIÓN EN CONTROL PROGRAMA NACIONAL  DE SALUD DE LA INFANCIA "]
[null,"SECCION A: POBLACIÓN EN CONTROL, SEGÚN ESTADO NUTRICIONAL PARA NIÑOS MENOR DE UN MES- 59 MESES"]
[null,"INDICADOR NUTRICIONAL\nY\nPARÁMETROS DE MEDICIÓN",null,"TOTAL",null,null,"GRUPOS DE EDAD (en meses) Y SEXO",{"$nulls":25},"Pueblos Originarios",null," Migrantes"]
[{"$nulls":6},"Menor de 1 mes",null,"1 mes",null,"2 meses",null,"3 meses",null,"4 meses",null,"5 meses",null,"6 meses",null,"7 a 11 meses",null,"12 a 17 meses",null,"18 a 23 meses",null,"24 a 35 meses",null,"36 a 47 meses",null,"48 a 59 meses"]
[{"$nulls":3},"Ambos sexos","Hombres","Mujeres","Hombres","Mujeres","Hombres","Mujeres","Hombres","Mujeres","Hombres","Mujeres","Hombres","Mujeres","Hombres","Mujeres","Hombres","Mujeres","Hombres","Mujeres","Hombres","Mujeres","Hombres","Mujeres","Hombres","Mujeres","Hombres","Mujeres","Hombres","Mujeres","Hombres","Mujeres","Hombres","Mujeres"]
["P2060000","TOTAL DE NIÑOS EN CONTROL",null,{"$f":"SUM(E11:F11)","v":29824},{"$f":"+G11+I11+K11+M11+O11+Q11+S11+U11+W11+Y11+AA11+AC11+AE11","v":15177},{"$f":"+H11+J11+L11+N11+P11+R11+T11+V11+X11+Z11+AB11+AD11+AF11","v":14647},{"$f":"IFERROR(VLOOKUP($A11,Filtro!$A$5:$AY$629,5,FALSE),0)","v":173},{"$f":"IFERROR(VLOOKUP($A11,Filtro!$A$5:$AY$629,6,FALSE),0)","v":179},{"$f":"IFERROR(VLOOKUP($A11,Filtro!$A$5:$AY$629,7,FALSE),0)","v":277},{"$f":"IFERROR(VLOOKUP($A11,Filtro!$A$5:$AY$629,8,FALSE),0)","v":253},{"$f":"IFERROR(VLOOKUP($A11,Filtro!$A$5:$AY$629,9,FALSE),0)","v":301},{"$f":"IFERROR(VLOOKUP($A11,Filtro!$A$5:$AY$629,10,FALSE),0)","v":314},{"$f":"IFERROR(VLOOKUP($A11,Filtro!$A$5:$AY$629,11,FALSE),0)","v":269},{"$f":"IFERROR(VLOOKUP($A11,Filtro!$A$5:$AY$629,12,FALSE),0)","v":265},{"$f":"IFERROR(VLOOKUP($A11,Filtro!$A$5:$AY$629,13,FALSE),0)","v":302},{"$f":"IFERROR(VLOOKUP($A11,Filtro!$A$5:$AY$629,14,FALSE),0)","v":317},{"$f":"IFERROR(VLOOKUP($A11,Filtro!$A$5:$AY$629,15,FALSE),0)","v":265},{"$f":"IFERROR(VLOOKUP($A11,Filtro!$A$5:$AY$629,16,FALSE),0)","v":295},{"$f":"IFERROR(VLOOKUP($A11,Filtro!$A$5:$AY$629,17,FALSE),0)","v":403},{"$f":"IFERROR(VLOOKUP($A11,Filtro!$A$5:$AY$629,18,FALSE),0)","v":368},{"$f":"IFERROR(VLOOKUP($A11,Filtro!$A$5:$AY$629,19,FALSE),0)","v":1244},{"$f":"IFERROR(VLOOKUP($A11,Filtro!$A$5:$AY$629,20,FALSE),0)","v":1257},{"$f":"IFERROR(VLOOKUP($A11,Filtro!$A$5:$AY$629,21,FALSE),0)","v":1613},{"$f":"IFERROR(VLOOKUP($A11,Filtro!$A$5:$AY$629,22,FALSE),0)","v":1518},{"$f":"IFERROR(VLOOKUP($A11,Filtro!$A$5:$AY$629,23,FALSE),0)","v":1529},{"$f":"IFERROR(VLOOKUP($A11,Filtro!$A$5:$AY$629,24,FALSE),0)","v":1502},{"$f":"IFERROR(VLOOKUP($A11,Filtro!$A$5:$AY$629,25,FALSE),0)","v":2796},{"$f":"IFERROR(VLOOKUP($A11,Filtro!$A$5:$AY$629,26,FALSE),0)","v":2689},{"$f":"IFERROR(VLOOKUP($A11,Filtro!$A$5:$AY$629,27,FALSE),0)","v":3022},{"$f":"IFERROR(VLOOKUP($A11,Filtro!$A$5:$AY$629,28,FALSE),0)","v":2925},{"$f":"IFERROR(VLOOKUP($A11,Filtro!$A$5:$AY$629,29,FALSE),0)","v":2983},{"$f":"IFERROR(VLOOKUP($A11,Filtro!$A$5:$AY$629,30,FALSE),0)","v":2765},{"$f":"IFERROR(VLOOKUP($A11,Filtro!$A$5:$AY$629,31,FALSE),0)","v":152},{"$f":"IFERROR(VLOOKUP($A11,Filtro!$A$5:$AY$629,32,FALSE),0)","v":200},{"$f":"IFERROR(VLOOKUP($A11,Filtro!$A$5:$AY$629,33,FALSE),0)","v":339},{"$f":"IFERROR(VLOOKUP($A11,Filtro!$A$5:$AY$629,34,FALSE),0)","v":355},{"$f":" BO11 & BP11 & BQ11 & BR11 & BS11 & BT11 & BU11 & BV11 & BT12 & BO12 & BP12 & BQ12 & BR12 & BS12 & BU12 & BV12 & BW12 & BV13 & BW13","v":"* El Total de niños (as) en Control de 1 mes debe ser igual al Total de niños(as) según Diagnóstico Nutricional Integrado. * El Total de niños (as) en Control de 2 meses debe ser igual al Total de niños(as) según Diagnóstico Nutricional Integrado. * El Total de niños (as) en Control de 3 meses debe ser igual al Total de niños(as) según Diagnóstico Nutricional Integrado. * El Total de niños (as) en Control de 4 meses debe ser igual al Total de niños(as) según Diagnóstico Nutricional Integrado. * El Total de niños (as) en Control de 5 meses debe ser igual al Total de niños(as) según Diagnóstico Nutricional Integrado. * El Total de niños (as) en Control de 6 meses debe ser igual al Total de niños(as) según Diagnóstico Nutricional Integrado. * El Total de niños (as) en Control de 7 a 11 meses debe ser igual al Total de niños(as) según Diagnóstico Nutricional Integrado. * El Total de niños (as) en Control de 12 a 17 meses debe ser igual al Total de niños(as) según Diagnóstico Nutricional Integrado. * El Total de niños (as) en Control de 18 a 23 meses debe ser igual al Total de niños(as) según Diagnóstico Nutricional Integrado. * El Total de niños (as) en Control de 24 a 35 meses debe ser igual al Total de niños(as) según Diagnóstico Nutricional Integrado. * El Total de niños (as) en Control de 36 a 47 meses debe ser igual al Total de niños(as) según Diagnóstico Nutricional Integrado. * El Total de niños (as) en Control de 48 a 59 meses debe ser igual al Total de niños(as) según Diagnóstico Nutricional Integrado. * El Total de niños (as) en Control de Pueblos Originarios debe ser igual al Total de niños(as) según Diagnóstico Nutricional Integrado. * El Total de niños (as) en Control de Población Migrantes debe ser igual al Total de niños(as) según Diagnóstico Nutricional Integrado. "},{"$nulls":29},{"$f":"IF(I11+J11<>I38+J38,\"* El Total de niños (as) en Control de 1 mes debe ser igual al Total de niños(as) según Diagnóstico Nutricional Integrado. \",\"\")","v":"* El Total de niños (as) en Control de 1 mes debe ser igual al Total de niños(as) según Diagnóstico Nutricional Integrado. "},{"$f":"IF(K11+L11<>K38+L38,\"* El Total de niños (as) en Control de 2 meses debe ser igual al Total de niños(as) según Diagnóstico Nutricional Integrado. \",\"\")","v":"* El Total de niños (as) en Control de 2 meses debe ser igual al Total de niños(as) según Diagnóstico Nutricional Integrado. "},{"$f":"IF(M11+N11<>M38+N38,\"* El Total de niños (as) en Control de 3 meses debe ser igual al Total de niños(as) según Diagnóstico Nutricional Integrado. \",\"\")","v":"* El Total de niños (as) en Control de 3 meses debe ser igual al Total de niños(as) según Diagnóstico Nutricional Integrado. "},{"$f":"IF(O11+P11<>O38+P38,\"* El Total de niños (as) en Control de 4 meses debe ser igual al Total de niños(as) según Diagnóstico Nutricional Integrado. \",\"\")","v":"* El Total de niños (as) en Control de 4 meses debe ser igual al Total de niños(as) según Diagnóstico Nutricional Integrado. "},{"$f":"IF(Q11+R11<>Q38+R38,\"* El Total de niños (as) en Control de 5 meses debe ser igual al Total de niños(as) según Diagnóstico Nutricional Integrado. \",\"\")","v":"* El Total de niños (as) en Control de 5 meses debe ser igual al Total de niños(as) según Diagnóstico Nutricional Integrado. "},{"$f":"IF($S$11+$T$11<>$S$38+$T$38,\"* El Total de niños (as) en Control de 6 meses debe ser igual al Total de niños(as) según Diagnóstico Nutricional Integrado. \",\"\")","v":"* El Total de niños (as) en Control de 6 meses debe ser igual al Total de niños(as) según Diagnóstico Nutricional Integrado. "},{"$f":"IF($U$11+$V$11<>$U$38+$V$38,\"* El Total de niños (as) en Control de 7 a 11 meses debe ser igual al Total de niños(as) según Diagnóstico Nutricional Integrado. \",\"\")","v":"* El Total de niños (as) en Control de 7 a 11 meses debe ser igual al Total de niños(as) según Diagnóstico Nutricional Integrado. "},{"$f":"IF($W$11+$X$11<>$W$38+$X$38,\"* El Total de niños (as) en Control de 12 a 17 meses debe ser igual al Total de niños(as) según Diagnóstico Nutricional Integrado. \",\"\")","v":"* El Total de niños (as) en Control de 12 a 17 meses debe ser igual al Total de niños(as) según Diagnóstico Nutricional Integrado. "},{"$nulls":22},{"$f":"IF($G$11+$H$11<>$G$39+$H$39,1,0)","v":1},{"$f":"IF($I$11+$J$11<>$I$39+$J$39,1,0)","v":1},{"$f":"IF($K$11+$L$11<>$K$39+$L$39,1,0)","v":1}]
["P2400100","INDICADOR PESO/EDAD","+ 2 D.S. (>= +2.0)",2633,{"$f":"+G12+I12+K12+M12+O12+Q12+S12+U12+W12+Y12+AA12+AC12+AE12","v":1407},1226,{"$f":"IFERROR(VLOOKUP($A12,Filtro!$A$5:$AY$629,5,FALSE),0)","v":13},{"$f":"IFERROR(VLOOKUP($A12,Filtro!$A$5:$AY$629,6,FALSE),0)","v":8},{"$f":"IFERROR(VLOOKUP($A12,Filtro!$A$5:$AY$629,7,FALSE),0)","v":11},{"$f":"IFERROR(VLOOKUP($A12,Filtro!$A$5:$AY$629,8,FALSE),0)","v":4},{"$f":"IFERROR(VLOOKUP($A12,Filtro!$A$5:$AY$629,9,FALSE),0)","v":7},{"$f":"IFERROR(VLOOKUP($A12,Filtro!$A$5:$AY$629,10,FALSE),0)","v":6},{"$f":"IFERROR(VLOOKUP($A12,Filtro!$A$5:$AY$629,11,FALSE),0)","v":15},{"$f":"IFERROR(VLOOKUP($A12,Filtro!$A$5:$AY$629,12,FALSE),0)","v":19},{"$f":"IFERROR(VLOOKUP($A12,Filtro!$A$5:$AY$629,13,FALSE),0)","v":27},{"$f":"IFERROR(VLOOKUP($A12,Filtro!$A$5:$AY$629,14,FALSE),0)","v":16},{"$f":"IFERROR(VLOOKUP($A12,Filtro!$A$5:$AY$629,15,FALSE),0)","v":16},{"$f":"IFERROR(VLOOKUP($A12,Filtro!$A$5:$AY$629,16,FALSE),0)","v":22},{"$f":"IFERROR(VLOOKUP($A12,Filtro!$A$5:$AY$629,17,FALSE),0)","v":36},{"$f":"IFERROR(VLOOKUP($A12,Filtro!$A$5:$AY$629,18,FALSE),0)","v":17},{"$f":"IFERROR(VLOOKUP($A12,Filtro!$A$5:$AY$629,19,FALSE),0)","v":101},{"$f":"IFERROR(VLOOKUP($A12,Filtro!$A$5:$AY$629,20,FALSE),0)","v":102},{"$f":"IFERROR(VLOOKUP($A12,Filtro!$A$5:$AY$629,21,FALSE),0)","v":130},{"$f":"IFERROR(VLOOKUP($A12,Filtro!$A$5:$AY$629,22,FALSE),0)","v":113},{"$f":"IFERROR(VLOOKUP($A12,Filtro!$A$5:$AY$629,23,FALSE),0)","v":107},{"$f":"IFERROR(VLOOKUP($A12,Filtro!$A$5:$AY$629,24,FALSE),0)","v":116},{"$f":"IFERROR(VLOOKUP($A12,Filtro!$A$5:$AY$629,25,FALSE),0)","v":220},{"$f":"IFERROR(VLOOKUP($A12,Filtro!$A$5:$AY$629,26,FALSE),0)","v":216},{"$f":"IFERROR(VLOOKUP($A12,Filtro!$A$5:$AY$629,27,FALSE),0)","v":352},{"$f":"IFERROR(VLOOKUP($A12,Filtro!$A$5:$AY$629,28,FALSE),0)","v":290},{"$f":"IFERROR(VLOOKUP($A12,Filtro!$A$5:$AY$629,29,FALSE),0)","v":372},{"$f":"IFERROR(VLOOKUP($A12,Filtro!$A$5:$AY$629,30,FALSE),0)","v":297},{"$f":"IFERROR(VLOOKUP($A12,Filtro!$A$5:$AY$629,31,FALSE),0)","v":14},{"$f":"IFERROR(VLOOKUP($A12,Filtro!$A$5:$AY$629,32,FALSE),0)","v":10},{"$f":"IFERROR(VLOOKUP($A12,Filtro!$A$5:$AY$629,33,FALSE),0)","v":20},{"$f":"IFERROR(VLOOKUP($A12,Filtro!$A$5:$AY$629,34,FALSE),0)","v":17},{"$nulls":30},{"$f":"IF($Y$11+$Z$11<>$Y$38+$Z$38,\"* El Total de niños (as) en Control de 18 a 23 meses debe ser igual al Total de niños(as) según Diagnóstico Nutricional Integrado. \",\"\")","v":"* El Total de niños (as) en Control de 18 a 23 meses debe ser igual al Total de niños(as) según Diagnóstico Nutricional Integrado. "},{"$f":"IF($AA$11+$AB$11<>$AA$38+$AB$38,\"* El Total de niños (as) en Control de 24 a 35 meses debe ser igual al Total de niños(as) según Diagnóstico Nutricional Integrado. \",\"\")","v":"* El Total de niños (as) en Control de 24 a 35 meses debe ser igual al Total de niños(as) según Diagnóstico Nutricional Integrado. "},{"$f":"IF(AC11+AD11<>AC38+AD38,\"* El Total de niños (as) en Control de 36 a 47 meses debe ser igual al Total de niños(as) según Diagnóstico Nutricional Integrado. \",\"\")","v":"* El Total de niños (as) en Control de 36 a 47 meses debe ser igual al Total de niños(as) según Diagnóstico Nutricional Integrado. "},{"$f":"IF($AE$11+$AF$11<>$AE$38+$AF$38,\"* El Total de niños (as) en Control de 48 a 59 meses debe ser igual al Total de niños(as) según Diagnóstico Nutricional Integrado. \",\"\")","v":"* El Total de niños (as) en Control de 48 a 59 meses debe ser igual al Total de niños(as) según Diagnóstico Nutricional Integrado. "},null,{"$f":"IF($D11>=$W11+$X11,\"\",\"* El Total de Pueblos Originarios no debe ser mayor al total de niños en control. \")","v":""},{"$f":"IF($D11>=$Y11+$Z11,\"\",\"* El Total de Población Migrantes no debe ser mayor al total de niños en control. \")","v":""},{"$f":"IF($W$11+$X$11<>$U$39+$V$39,\"* El Total de niños (as) en Control de Pueblos Originarios debe ser igual al Total de niños(as) según Diagnóstico Nutricional Integrado. \",\"\")","v":"* El Total de niños (as) en Control de Pueblos Originarios debe ser igual al Total de niños(as) según Diagnóstico Nutricional Integrado. "},{"$f":"IF($Y$11+$Z$11<>$W$39+$X$39,\"* El Total de niños (as) en Control de Población Migrantes debe ser igual al Total de niños(as) según Diagnóstico Nutricional Integrado. \",\"\")","v":"* El Total de niños (as) en Control de Población Migrantes debe ser igual al Total de niños(as) según Diagnóstico Nutricional Integrado. "},{"$nulls":16},{"$f":"IF($M$11+$N$11<>$M$39+$N$39,1,0)","v":1},{"$f":"IF($O$11+$P$11<>$O$39+$P$39,1,0)","v":1},null,{"$f":"IF($Q$11+$R$11<>$Q$39+$R$39,1,0)","v":1},{"$f":"IF($S$11+$T$11<>$S$39+$T$39,1,0)","v":1},{"$f":"IF($D11>=$W11+$X11,0,1)","v":0},{"$f":"IF($D11>=$Y11+$Z11,0,1)","v":0},{"$f":"IF($W$11+$X$11<>$U$39+$V$39,1,0)","v":1},{"$f":"IF($Y$11+$Z$11<>$W$39+$X$39,1,0)","v":1}]
["P2400110",null,"+ 1 D.S. (+1.0 a +1.9)",5763,2823,2940,{"$f":"IFERROR(VLOOKUP($A13,Filtro!$A$5:$AY$629,5,FALSE),0)","v":12},{"$f":"IFERROR(VLOOKUP($A13,Filtro!$A$5:$AY$629,6,FALSE),0)","v":17},{"$f":"IFERROR(VLOOKUP($A13,Filtro!$A$5:$AY$629,7,FALSE),0)","v":37},{"$f":"IFERROR(VLOOKUP($A13,Filtro!$A$5:$AY$629,8,FALSE),0)","v":22},{"$f":"IFERROR(VLOOKUP($A13,Filtro!$A$5:$AY$629,9,FALSE),0)","v":45},{"$f":"IFERROR(VLOOKUP($A13,Filtro!$A$5:$AY$629,10,FALSE),0)","v":38},{"$f":"IFERROR(VLOOKUP($A13,Filtro!$A$5:$AY$629,11,FALSE),0)","v":44},{"$f":"IFERROR(VLOOKUP($A13,Filtro!$A$5:$AY$629,12,FALSE),0)","v":52},{"$f":"IFERROR(VLOOKUP($A13,Filtro!$A$5:$AY$629,13,FALSE),0)","v":48},{"$f":"IFERROR(VLOOKUP($A13,Filtro!$A$5:$AY$629,14,FALSE),0)","v":44},{"$f":"IFERROR(VLOOKUP($A13,Filtro!$A$5:$AY$629,15,FALSE),0)","v":42},{"$f":"IFERROR(VLOOKUP($A13,Filtro!$A$5:$AY$629,16,FALSE),0)","v":60},{"$f":"IFERROR(VLOOKUP($A13,Filtro!$A$5:$AY$629,17,FALSE),0)","v":84},{"$f":"IFERROR(VLOOKUP($A13,Filtro!$A$5:$AY$629,18,FALSE),0)","v":99},{"$f":"IFERROR(VLOOKUP($A13,Filtro!$A$5:$AY$629,19,FALSE),0)","v":272},{"$f":"IFERROR(VLOOKUP($A13,Filtro!$A$5:$AY$629,20,FALSE),0)","v":308},{"$f":"IFERROR(VLOOKUP($A13,Filtro!$A$5:$AY$629,21,FALSE),0)","v":316},{"$f":"IFERROR(VLOOKUP($A13,Filtro!$A$5:$AY$629,22,FALSE),0)","v":342},{"$f":"IFERROR(VLOOKUP($A13,Filtro!$A$5:$AY$629,23,FALSE),0)","v":314},{"$f":"IFERROR(VLOOKUP($A13,Filtro!$A$5:$AY$629,24,FALSE),0)","v":344},{"$f":"IFERROR(VLOOKUP($A13,Filtro!$A$5:$AY$629,25,FALSE),0)","v":495},{"$f":"IFERROR(VLOOKUP($A13,Filtro!$A$5:$AY$629,26,FALSE),0)","v":592},{"$f":"IFERROR(VLOOKUP($A13,Filtro!$A$5:$AY$629,27,FALSE),0)","v":557},{"$f":"IFERROR(VLOOKUP($A13,Filtro!$A$5:$AY$629,28,FALSE),0)","v":565},{"$f":"IFERROR(VLOOKUP($A13,Filtro!$A$5:$AY$629,29,FALSE),0)","v":557},{"$f":"IFERROR(VLOOKUP($A13,Filtro!$A$5:$AY$629,30,FALSE),0)","v":457},{"$f":"IFERROR(VLOOKUP($A13,Filtro!$A$5:$AY$629,31,FALSE),0)","v":20},{"$f":"IFERROR(VLOOKUP($A13,Filtro!$A$5:$AY$629,32,FALSE),0)","v":30},{"$f":"IFERROR(VLOOKUP($A13,Filtro!$A$5:$AY$629,33,FALSE),0)","v":39},{"$f":"IFERROR(VLOOKUP($A13,Filtro!$A$5:$AY$629,34,FALSE),0)","v":42},{"$nulls":37},{"$f":"IF(AND(E11<>0,W11=\"\"), \"* No olvide escribir en la celda de Pueblos Originarios (Digite CERO si no tiene). \",IF(AND(F11<>0,X11=\"\"), \"* No olvide escribir en la celda de Pueblos Originarios (Digite CERO si no tiene). \",\"\"))","v":""},{"$f":"IF(AND(E11<>0,Y11=\"\"), \"* No olvide escribir en la celda de Población Migrantes (Digite CERO si no tiene). \",IF(AND(F11<>0,Z11=\"\"), \"* No olvide escribir en la celda de Población Migrantes (Digite CERO si no tiene). \",\"\"))","v":""},{"$nulls":23},{"$f":"IF(AND(E11<>0,W11=\"\"), 1,IF(AND(F11<>0,X11=\"\"), 1,0))","v":0},{"$f":"IF(AND(E11<>0,Y11=\"\"), 1,IF(AND(F11<>0,Z11=\"\"), 1,0))","v":0}]
[null,null,"TOTAL",8396,{"$f":"+G14+I14+K14+M14+O14+Q14+S14+U14+W14+Y14+AA14+AC14+AE14","v":4230},{"$f":"+H14+J14+L14+N14+P14+R14+T14+V14+X14+Z14+AB14+AD14+AF14","v":4166},{"$f":"+SUM(G12:G13)","v":25},{"$f":"+SUM(H12:H13)","v":25},{"$f":"+SUM(I12:I13)","v":48},{"$f":"+SUM(J12:J13)","v":26},52,44,59,71,75,60,58,82,120,116,373,{"$f":"+SUM(V12:V13)","v":410},{"$f":"SUM(W12:W13)","v":446},{"$f":"SUM(X12:X13)","v":455},{"$f":"SUM(Y12:Y13)","v":421},460,715,808,909,855,929,754,{"$f":"+SUM(AG12:AG13)","v":34},{"$f":"+SUM(AH12:AH13)","v":40},{"$f":"+SUM(AI12:AI13)","v":59},{"$f":"+SUM(AJ12:AJ13)","v":59},{"$nulls":30},{"$f":"IF($D14>=$W14+$X14,\"\",\"* El Total de Pueblos Originarios no debe ser mayor al Total Indicador peso/edad\")","v":""},{"$f":"IF($D14>=$Y14+$Z14,\"\",\"* El Total de Población Migrante no debe ser mayor al Total Indicador peso/edad\")","v":""},null,{"$f":"IF(AND(E12<>0,W12=\"\"), \"* No olvide escribir en la celda de Pueblos Originarios (Digite CERO si no tiene). \",IF(AND(F12<>0,X12=\"\"), \"* No olvide escribir en la celda de Pueblos Originarios (Digite CERO si no tiene). \",\"\"))","v":""},{"$f":"IF(AND(E12<>0,Y12=\"\"), \"* No olvide escribir en la celda de Población Migrantes (Digite CERO si no tiene). \",IF(AND(F12<>0,Z12=\"\"), \"* No olvide escribir en la celda de Población Migrantes (Digite CERO si no tiene). \",\"\"))","v":""},{"$f":"IF(AND(E13<>0,W13=\"\"), \"* No olvide escribir en la celda de Pueblos Originarios (Digite CERO si no tiene). \",IF(AND(F13<>0,X13=\"\"), \"* No olvide escribir en la celda de Pueblos Originarios (Digite CERO si no tiene). \",\"\"))","v":""},{"$f":"IF(AND(E13<>0,Y13=\"\"), \"* No olvide escribir en la celda de Población Migrantes (Digite CERO si no tiene). \",IF(AND(F13<>0,Z13=\"\"), \"* No olvide escribir en la celda de Población Migrantes (Digite CERO si no tiene). \",\"\"))","v":""},{"$nulls":18},{"$f":"IF($D14>=$W14+$X14,0,1)","v":0},{"$f":"IF($D14>=$Y14+$Z14,0,1)","v":0},null,null,{"$f":"IF(AND(E12<>0,W12=\"\"), 1,IF(AND(F12<>0,X12=\"\"), 1,0))","v":0},{"$f":"IF(AND(E12<>0,Y12=\"\"), 1,IF(AND(F12<>0,Z12=\"\"), 1,0))","v":0},{"$f":"IF(AND(E13<>0,Y13=\"\"), 1,IF(AND(F13<>0,Z13=\"\"), 1,0))","v":0},{"$f":"IF(AND(E13<>0,Y13=\"\"), 1,IF(AND(F13<>0,Z13=\"\"), 1,0))","v":0}]
["P2070101",null,"- 1 D.S. (-1.0 a -1.9)",1594,{"$f":"+G15+I15+K15+M15+O15+Q15+S15+U15+W15+Y15+AA15+AC15+AE15","v":883},711,{"$f":"IFERROR(VLOOKUP($A15,Filtro!$A$5:$AY$629,5,FALSE),0)","v":8},{"$f":"IFERROR(VLOOKUP($A15,Filtro!$A$5:$AY$629,6,FALSE),0)","v":12},{"$f":"IFERROR(VLOOKUP($A15,Filtro!$A$5:$AY$629,7,FALSE),0)","v":22},{"$f":"IFERROR(VLOOKUP($A15,Filtro!$A$5:$AY$629,8,FALSE),0)","v":18},{"$f":"IFERROR(VLOOKUP($A15,Filtro!$A$5:$AY$629,9,FALSE),0)","v":21},{"$f":"IFERROR(VLOOKUP($A15,Filtro!$A$5:$AY$629,10,FALSE),0)","v":32},{"$f":"IFERROR(VLOOKUP($A15,Filtro!$A$5:$AY$629,11,FALSE),0)","v":15},{"$f":"IFERROR(VLOOKUP($A15,Filtro!$A$5:$AY$629,12,FALSE),0)","v":12},{"$f":"IFERROR(VLOOKUP($A15,Filtro!$A$5:$AY$629,13,FALSE),0)","v":10},{"$f":"IFERROR(VLOOKUP($A15,Filtro!$A$5:$AY$629,14,FALSE),0)","v":18},{"$f":"IFERROR(VLOOKUP($A15,Filtro!$A$5:$AY$629,15,FALSE),0)","v":13},{"$f":"IFERROR(VLOOKUP($A15,Filtro!$A$5:$AY$629,16,FALSE),0)","v":10},{"$f":"IFERROR(VLOOKUP($A15,Filtro!$A$5:$AY$629,17,FALSE),0)","v":25},{"$f":"IFERROR(VLOOKUP($A15,Filtro!$A$5:$AY$629,18,FALSE),0)","v":11},{"$f":"IFERROR(VLOOKUP($A15,Filtro!$A$5:$AY$629,19,FALSE),0)","v":56},{"$f":"IFERROR(VLOOKUP($A15,Filtro!$A$5:$AY$629,20,FALSE),0)","v":52},{"$f":"IFERROR(VLOOKUP($A15,Filtro!$A$5:$AY$629,21,FALSE),0)","v":112},{"$f":"IFERROR(VLOOKUP($A15,Filtro!$A$5:$AY$629,22,FALSE),0)","v":59},{"$f":"IFERROR(VLOOKUP($A15,Filtro!$A$5:$AY$629,23,FALSE),0)","v":110},{"$f":"IFERROR(VLOOKUP($A15,Filtro!$A$5:$AY$629,24,FALSE),0)","v":72},{"$f":"IFERROR(VLOOKUP($A15,Filtro!$A$5:$AY$629,25,FALSE),0)","v":174},{"$f":"IFERROR(VLOOKUP($A15,Filtro!$A$5:$AY$629,26,FALSE),0)","v":122},{"$f":"IFERROR(VLOOKUP($A15,Filtro!$A$5:$AY$629,27,FALSE),0)","v":172},{"$f":"IFERROR(VLOOKUP($A15,Filtro!$A$5:$AY$629,28,FALSE),0)","v":158},{"$f":"IFERROR(VLOOKUP($A15,Filtro!$A$5:$AY$629,29,FALSE),0)","v":145},{"$f":"IFERROR(VLOOKUP($A15,Filtro!$A$5:$AY$629,30,FALSE),0)","v":135},{"$f":"IFERROR(VLOOKUP($A15,Filtro!$A$5:$AY$629,31,FALSE),0)","v":5},{"$f":"IFERROR(VLOOKUP($A15,Filtro!$A$5:$AY$629,32,FALSE),0)","v":10},{"$f":"IFERROR(VLOOKUP($A15,Filtro!$A$5:$AY$629,33,FALSE),0)","v":20},{"$f":"IFERROR(VLOOKUP($A15,Filtro!$A$5:$AY$629,34,FALSE),0)","v":26},{"$nulls":30},{"$f":"IF($D17>=$W17+$X17,\"\",\"* El Total de Pueblos Originarios no debe ser mayor al Total Indicador peso/edad\")","v":""},{"$f":"IF($D17>=$Y17+$Z17,\"\",\"* El Total de Población Migrante no debe ser mayor al Total Indicador peso/edad\")","v":""},{"$nulls":5},{"$f":"IF(AND(E15<>0,W15=\"\"), \"* No olvide escribir en la celda de Pueblos Originarios (Digite CERO si no tiene). \",IF(AND(F15<>0,X15=\"\"), \"* No olvide escribir en la celda de Pueblos Originarios (Digite CERO si no tiene). \",\"\"))","v":""},{"$f":"IF(AND(E15<>0,Y15=\"\"), \"* No olvide escribir en la celda de Población Migrantes (Digite CERO si no tiene). \",IF(AND(F15<>0,Z15=\"\"), \"* No olvide escribir en la celda de Población Migrantes (Digite CERO si no tiene). \",\"\"))","v":""},{"$nulls":16},{"$f":"IF($D17>=$W17+$X17,0,1)","v":0},{"$f":"IF($D17>=$Y17+$Z17,0,1)","v":0},{"$nulls":5},{"$f":"IF(AND(E15<>0,W15=\"\"), 1,IF(AND(F15<>0,X15=\"\"), 1,0))","v":0},{"$f":"IF(AND(E15<>0,Y15=\"\"), 1,IF(AND(F15<>0,Z15=\"\"), 1,0))","v":0}]
["P2070102",null,"- 2 D.S. (<= -2.0)",228,135,{"$f":"+H16+J16+L16+N16+P16+R16+T16+V16+X16+Z16+AB16+AD16+AF16","v":93},{"$f":"IFERROR(VLOOKUP($A16,Filtro!$A$5:$AY$629,5,FALSE),0)","v":9},{"$f":"IFERROR(VLOOKUP($A16,Filtro!$A$5:$AY$629,6,FALSE),0)","v":3},{"$f":"IFERROR(VLOOKUP($A16,Filtro!$A$5:$AY$629,7,FALSE),0)","v":5},{"$f":"IFERROR(VLOOKUP($A16,Filtro!$A$5:$AY$629,8,FALSE),0)","v":7},{"$f":"IFERROR(VLOOKUP($A16,Filtro!$A$5:$AY$629,9,FALSE),0)","v":7},{"$f":"IFERROR(VLOOKUP($A16,Filtro!$A$5:$AY$629,10,FALSE),0)","v":5},{"$f":"IFERROR(VLOOKUP($A16,Filtro!$A$5:$AY$629,11,FALSE),0)","v":2},{"$f":"IFERROR(VLOOKUP($A16,Filtro!$A$5:$AY$629,12,FALSE),0)","v":1},{"$f":"IFERROR(VLOOKUP($A16,Filtro!$A$5:$AY$629,13,FALSE),0)","v":3},{"$f":"IFERROR(VLOOKUP($A16,Filtro!$A$5:$AY$629,14,FALSE),0)","v":2},{"$f":"IFERROR(VLOOKUP($A16,Filtro!$A$5:$AY$629,15,FALSE),0)","v":5},{"$f":"IFERROR(VLOOKUP($A16,Filtro!$A$5:$AY$629,16,FALSE),0)","v":2},{"$f":"IFERROR(VLOOKUP($A16,Filtro!$A$5:$AY$629,17,FALSE),0)","v":3},{"$f":"IFERROR(VLOOKUP($A16,Filtro!$A$5:$AY$629,18,FALSE),0)","v":0},{"$f":"IFERROR(VLOOKUP($A16,Filtro!$A$5:$AY$629,19,FALSE),0)","v":4},{"$f":"IFERROR(VLOOKUP($A16,Filtro!$A$5:$AY$629,20,FALSE),0)","v":3},{"$f":"IFERROR(VLOOKUP($A16,Filtro!$A$5:$AY$629,21,FALSE),0)","v":21},{"$f":"IFERROR(VLOOKUP($A16,Filtro!$A$5:$AY$629,22,FALSE),0)","v":8},{"$f":"IFERROR(VLOOKUP($A16,Filtro!$A$5:$AY$629,23,FALSE),0)","v":19},{"$f":"IFERROR(VLOOKUP($A16,Filtro!$A$5:$AY$629,24,FALSE),0)","v":8},{"$f":"IFERROR(VLOOKUP($A16,Filtro!$A$5:$AY$629,25,FALSE),0)","v":24},{"$f":"IFERROR(VLOOKUP($A16,Filtro!$A$5:$AY$629,26,FALSE),0)","v":21},{"$f":"IFERROR(VLOOKUP($A16,Filtro!$A$5:$AY$629,27,FALSE),0)","v":19},{"$f":"IFERROR(VLOOKUP($A16,Filtro!$A$5:$AY$629,28,FALSE),0)","v":15},{"$f":"IFERROR(VLOOKUP($A16,Filtro!$A$5:$AY$629,29,FALSE),0)","v":14},{"$f":"IFERROR(VLOOKUP($A16,Filtro!$A$5:$AY$629,30,FALSE),0)","v":18},{"$f":"IFERROR(VLOOKUP($A16,Filtro!$A$5:$AY$629,31,FALSE),0)","v":1},{"$f":"IFERROR(VLOOKUP($A16,Filtro!$A$5:$AY$629,32,FALSE),0)","v":0},{"$f":"IFERROR(VLOOKUP($A16,Filtro!$A$5:$AY$629,33,FALSE),0)","v":4},{"$f":"IFERROR(VLOOKUP($A16,Filtro!$A$5:$AY$629,34,FALSE),0)","v":5},{"$nulls":37},{"$f":"IF(AND(E16<>0,W16=\"\"), \"* No olvide escribir en la celda de Pueblos Originarios (Digite CERO si no tiene). \",IF(AND(F16<>0,X16=\"\"), \"* No olvide escribir en la celda de Pueblos Originarios (Digite CERO si no tiene). \",\"\"))","v":""},{"$f":"IF(AND(E16<>0,Y16=\"\"), \"* No olvide escribir en la celda de Población Migrantes (Digite CERO si no tiene). \",IF(AND(F16<>0,Z16=\"\"), \"* No olvide escribir en la celda de Población Migrantes (Digite CERO si no tiene). \",\"\"))","v":""},{"$nulls":23},{"$f":"IF(AND(E16<>0,W16=\"\"), 1,IF(AND(F16<>0,X16=\"\"), 1,0))","v":0},{"$f":"IF(AND(E16<>0,Y16=\"\"), 1,IF(AND(F16<>0,Z16=\"\"), 1,0))","v":0}]
[null,null,"TOTAL",1822,{"$f":"+G17+I17+K17+M17+O17+Q17+S17+U17+W17+Y17+AA17+AC17+AE17","v":1018},{"$f":"+H17+J17+L17+N17+P17+R17+T17+V17+X17+Z17+AB17+AD17+AF17","v":804},{"$f":"+SUM(G15:G16)","v":17},15,{"$f":"SUM(I15:I16)","v":27},{"$f":"SUM(J15:J16)","v":25},28,37,17,13,13,20,18,12,28,11,60,55,{"$f":"SUM(W15:W16)","v":133},{"$f":"SUM(X15:X16)","v":67},129,80,198,143,191,173,159,153,{"$f":"SUM(AG15:AG16)","v":6},{"$f":"SUM(AH15:AH16)","v":10},{"$f":"SUM(AI15:AI16)","v":24},{"$f":"SUM(AJ15:AJ16)","v":31}]
["P2070201","INDICADOR PESO/TALLA","+ 2 D.S. (>= +2.0)",3590,{"$f":"+G18+I18+K18+M18+O18+Q18+S18+U18+W18+Y18+AA18+AC18+AE18","v":1889},1701,{"$f":"IFERROR(VLOOKUP($A18,Filtro!$A$5:$AY$629,5,FALSE),0)","v":13},{"$f":"IFERROR(VLOOKUP($A18,Filtro!$A$5:$AY$629,6,FALSE),0)","v":6},{"$f":"IFERROR(VLOOKUP($A18,Filtro!$A$5:$AY$629,7,FALSE),0)","v":14},{"$f":"IFERROR(VLOOKUP($A18,Filtro!$A$5:$AY$629,8,FALSE),0)","v":15},{"$f":"IFERROR(VLOOKUP($A18,Filtro!$A$5:$AY$629,9,FALSE),0)","v":15},{"$f":"IFERROR(VLOOKUP($A18,Filtro!$A$5:$AY$629,10,FALSE),0)","v":10},{"$f":"IFERROR(VLOOKUP($A18,Filtro!$A$5:$AY$629,11,FALSE),0)","v":20},{"$f":"IFERROR(VLOOKUP($A18,Filtro!$A$5:$AY$629,12,FALSE),0)","v":19},{"$f":"IFERROR(VLOOKUP($A18,Filtro!$A$5:$AY$629,13,FALSE),0)","v":34},{"$f":"IFERROR(VLOOKUP($A18,Filtro!$A$5:$AY$629,14,FALSE),0)","v":19},{"$f":"IFERROR(VLOOKUP($A18,Filtro!$A$5:$AY$629,15,FALSE),0)","v":25},{"$f":"IFERROR(VLOOKUP($A18,Filtro!$A$5:$AY$629,16,FALSE),0)","v":21},{"$f":"IFERROR(VLOOKUP($A18,Filtro!$A$5:$AY$629,17,FALSE),0)","v":41},{"$f":"IFERROR(VLOOKUP($A18,Filtro!$A$5:$AY$629,18,FALSE),0)","v":34},{"$f":"IFERROR(VLOOKUP($A18,Filtro!$A$5:$AY$629,19,FALSE),0)","v":161},{"$f":"IFERROR(VLOOKUP($A18,Filtro!$A$5:$AY$629,20,FALSE),0)","v":137},{"$f":"IFERROR(VLOOKUP($A18,Filtro!$A$5:$AY$629,21,FALSE),0)","v":200},{"$f":"IFERROR(VLOOKUP($A18,Filtro!$A$5:$AY$629,22,FALSE),0)","v":177},{"$f":"IFERROR(VLOOKUP($A18,Filtro!$A$5:$AY$629,23,FALSE),0)","v":164},{"$f":"IFERROR(VLOOKUP($A18,Filtro!$A$5:$AY$629,24,FALSE),0)","v":160},{"$f":"IFERROR(VLOOKUP($A18,Filtro!$A$5:$AY$629,25,FALSE),0)","v":276},{"$f":"IFERROR(VLOOKUP($A18,Filtro!$A$5:$AY$629,26,FALSE),0)","v":286},{"$f":"IFERROR(VLOOKUP($A18,Filtro!$A$5:$AY$629,27,FALSE),0)","v":437},{"$f":"IFERROR(VLOOKUP($A18,Filtro!$A$5:$AY$629,28,FALSE),0)","v":391},{"$f":"IFERROR(VLOOKUP($A18,Filtro!$A$5:$AY$629,29,FALSE),0)","v":489},{"$f":"IFERROR(VLOOKUP($A18,Filtro!$A$5:$AY$629,30,FALSE),0)","v":426},{"$f":"IFERROR(VLOOKUP($A18,Filtro!$A$5:$AY$629,31,FALSE),0)","v":8},{"$f":"IFERROR(VLOOKUP($A18,Filtro!$A$5:$AY$629,32,FALSE),0)","v":4},{"$f":"IFERROR(VLOOKUP($A18,Filtro!$A$5:$AY$629,33,FALSE),0)","v":8},{"$f":"IFERROR(VLOOKUP($A18,Filtro!$A$5:$AY$629,34,FALSE),0)","v":15},{"$nulls":37},{"$f":"IF(AND(E18<>0,W18=\"\"), \"* No olvide escribir en la celda de Pueblos Originarios (Digite CERO si no tiene). \",IF(AND(F18<>0,X18=\"\"), \"* No olvide escribir en la celda de Pueblos Originarios (Digite CERO si no tiene). \",\"\"))","v":""},{"$f":"IF(AND(E18<>0,Y18=\"\"), \"* No olvide escribir en la celda de Población Migrantes (Digite CERO si no tiene). \",IF(AND(F18<>0,Z18=\"\"), \"* No olvide escribir en la celda de Población Migrantes (Digite CERO si no tiene). \",\"\"))","v":""},{"$nulls":23},{"$f":"IF(AND(E18<>0,W18=\"\"), 1,IF(AND(F18<>0,X18=\"\"), 1,0))","v":0},{"$f":"IF(AND(E18<>0,Y18=\"\"), 1,IF(AND(F18<>0,Z18=\"\"), 1,0))","v":0}]
["P2070202",null,"+ 1 D.S. (+1.0 a +1.9)",6589,3333,3256,{"$f":"IFERROR(VLOOKUP($A19,Filtro!$A$5:$AY$629,5,FALSE),0)","v":14},{"$f":"IFERROR(VLOOKUP($A19,Filtro!$A$5:$AY$629,6,FALSE),0)","v":9},{"$f":"IFERROR(VLOOKUP($A19,Filtro!$A$5:$AY$629,7,FALSE),0)","v":39},{"$f":"IFERROR(VLOOKUP($A19,Filtro!$A$5:$AY$629,8,FALSE),0)","v":32},{"$f":"IFERROR(VLOOKUP($A19,Filtro!$A$5:$AY$629,9,FALSE),0)","v":68},{"$f":"IFERROR(VLOOKUP($A19,Filtro!$A$5:$AY$629,10,FALSE),0)","v":61},{"$f":"IFERROR(VLOOKUP($A19,Filtro!$A$5:$AY$629,11,FALSE),0)","v":50},{"$f":"IFERROR(VLOOKUP($A19,Filtro!$A$5:$AY$629,12,FALSE),0)","v":43},{"$f":"IFERROR(VLOOKUP($A19,Filtro!$A$5:$AY$629,13,FALSE),0)","v":62},{"$f":"IFERROR(VLOOKUP($A19,Filtro!$A$5:$AY$629,14,FALSE),0)","v":74},{"$f":"IFERROR(VLOOKUP($A19,Filtro!$A$5:$AY$629,15,FALSE),0)","v":69},{"$f":"IFERROR(VLOOKUP($A19,Filtro!$A$5:$AY$629,16,FALSE),0)","v":74},{"$f":"IFERROR(VLOOKUP($A19,Filtro!$A$5:$AY$629,17,FALSE),0)","v":105},{"$f":"IFERROR(VLOOKUP($A19,Filtro!$A$5:$AY$629,18,FALSE),0)","v":110},{"$f":"IFERROR(VLOOKUP($A19,Filtro!$A$5:$AY$629,19,FALSE),0)","v":361},{"$f":"IFERROR(VLOOKUP($A19,Filtro!$A$5:$AY$629,20,FALSE),0)","v":337},{"$f":"IFERROR(VLOOKUP($A19,Filtro!$A$5:$AY$629,21,FALSE),0)","v":406},{"$f":"IFERROR(VLOOKUP($A19,Filtro!$A$5:$AY$629,22,FALSE),0)","v":412},{"$f":"IFERROR(VLOOKUP($A19,Filtro!$A$5:$AY$629,23,FALSE),0)","v":338},{"$f":"IFERROR(VLOOKUP($A19,Filtro!$A$5:$AY$629,24,FALSE),0)","v":367},{"$f":"IFERROR(VLOOKUP($A19,Filtro!$A$5:$AY$629,25,FALSE),0)","v":610},{"$f":"IFERROR(VLOOKUP($A19,Filtro!$A$5:$AY$629,26,FALSE),0)","v":563},{"$f":"IFERROR(VLOOKUP($A19,Filtro!$A$5:$AY$629,27,FALSE),0)","v":609},{"$f":"IFERROR(VLOOKUP($A19,Filtro!$A$5:$AY$629,28,FALSE),0)","v":644},{"$f":"IFERROR(VLOOKUP($A19,Filtro!$A$5:$AY$629,29,FALSE),0)","v":602},{"$f":"IFERROR(VLOOKUP($A19,Filtro!$A$5:$AY$629,30,FALSE),0)","v":530},{"$f":"IFERROR(VLOOKUP($A19,Filtro!$A$5:$AY$629,31,FALSE),0)","v":18},{"$f":"IFERROR(VLOOKUP($A19,Filtro!$A$5:$AY$629,32,FALSE),0)","v":17},{"$f":"IFERROR(VLOOKUP($A19,Filtro!$A$5:$AY$629,33,FALSE),0)","v":32},{"$f":"IFERROR(VLOOKUP($A19,Filtro!$A$5:$AY$629,34,FALSE),0)","v":31},{"$nulls":37},{"$f":"IF(AND(E19<>0,W19=\"\"), \"* No olvide escribir en la celda de Pueblos Originarios (Digite CERO si no tiene). \",IF(AND(F19<>0,X19=\"\"), \"* No olvide escribir en la celda de Pueblos Originarios (Digite CERO si no tiene). \",\"\"))","v":""},{"$f":"IF(AND(E19<>0,Y19=\"\"), \"* No olvide escribir en la celda de Población Migrantes (Digite CERO si no tiene). \",IF(AND(F19<>0,Z19=\"\"), \"* No olvide escribir en la celda de Población Migrantes (Digite CERO si no tiene). \",\"\"))","v":""},{"$nulls":23},{"$f":"IF(AND(E19<>0,W19=\"\"), 1,IF(AND(F19<>0,X19=\"\"), 1,0))","v":0},{"$f":"IF(AND(E19<>0,Y19=\"\"), 1,IF(AND(F19<>0,Z19=\"\"), 1,0))","v":0}]
[null,null,"TOTAL",10179,{"$f":"+G20+I20+K20+M20+O20+Q20+S20+U20+W20+Y20+AA20+AC20+AE20","v":5222},{"$f":"+H20+J20+L20+N20+P20+R20+T20+V20+X20+Z20+AB20+AD20+AF20","v":4957},{"$f":"SUM(G18:G19)","v":27},{"$f":"SUM(H18:H19)","v":15},{"$f":"+SUM(I18:I19)","v":53},{"$f":"+SUM(J18:J19)","v":47},{"$f":"+SUM(K18:K19)","v":83},71,70,62,96,93,94,95,146,144,522,474,606,589,502,527,886,849,1046,1035,1091,956,26,21,40,46,{"$nulls":30},{"$f":"IF($D20>=$W20+$X20,\"\",\"* El Total de Pueblos Originarios no debe ser mayor al Total Indicador peso/talla\")","v":""},{"$f":"IF($D20>=$Y20+$Z20,\"\",\"* El Total de Población Migrante no debe ser mayor al Total Indicador peso/talla\")","v":""},{"$nulls":23},{"$f":"IF($D20>=$W20+$X20,0,1)","v":0},{"$f":"IF($D20>=$Y20+$Z20,0,1)","v":0}]
["P2070301",null,"- 1 D.S. (-1.0 a -1.9)",895,{"$f":"+G21+I21+K21+M21+O21+Q21+S21+U21+W21+Y21+AA21+AC21+AE21","v":512},383,{"$f":"IFERROR(VLOOKUP($A21,Filtro!$A$5:$AY$629,5,FALSE),0)","v":11},{"$f":"IFERROR(VLOOKUP($A21,Filtro!$A$5:$AY$629,6,FALSE),0)","v":19},{"$f":"IFERROR(VLOOKUP($A21,Filtro!$A$5:$AY$629,7,FALSE),0)","v":15},{"$f":"IFERROR(VLOOKUP($A21,Filtro!$A$5:$AY$629,8,FALSE),0)","v":16},{"$f":"IFERROR(VLOOKUP($A21,Filtro!$A$5:$AY$629,9,FALSE),0)","v":16},{"$f":"IFERROR(VLOOKUP($A21,Filtro!$A$5:$AY$629,10,FALSE),0)","v":19},{"$f":"IFERROR(VLOOKUP($A21,Filtro!$A$5:$AY$629,11,FALSE),0)","v":14},{"$f":"IFERROR(VLOOKUP($A21,Filtro!$A$5:$AY$629,12,FALSE),0)","v":5},{"$f":"IFERROR(VLOOKUP($A21,Filtro!$A$5:$AY$629,13,FALSE),0)","v":12},{"$f":"IFERROR(VLOOKUP($A21,Filtro!$A$5:$AY$629,14,FALSE),0)","v":10},{"$f":"IFERROR(VLOOKUP($A21,Filtro!$A$5:$AY$629,15,FALSE),0)","v":10},{"$f":"IFERROR(VLOOKUP($A21,Filtro!$A$5:$AY$629,16,FALSE),0)","v":1},{"$f":"IFERROR(VLOOKUP($A21,Filtro!$A$5:$AY$629,17,FALSE),0)","v":18},{"$f":"IFERROR(VLOOKUP($A21,Filtro!$A$5:$AY$629,18,FALSE),0)","v":8},{"$f":"IFERROR(VLOOKUP($A21,Filtro!$A$5:$AY$629,19,FALSE),0)","v":35},{"$f":"IFERROR(VLOOKUP($A21,Filtro!$A$5:$AY$629,20,FALSE),0)","v":23},{"$f":"IFERROR(VLOOKUP($A21,Filtro!$A$5:$AY$629,21,FALSE),0)","v":40},{"$f":"IFERROR(VLOOKUP($A21,Filtro!$A$5:$AY$629,22,FALSE),0)","v":29},{"$f":"IFERROR(VLOOKUP($A21,Filtro!$A$5:$AY$629,23,FALSE),0)","v":47},{"$f":"IFERROR(VLOOKUP($A21,Filtro!$A$5:$AY$629,24,FALSE),0)","v":40},{"$f":"IFERROR(VLOOKUP($A21,Filtro!$A$5:$AY$629,25,FALSE),0)","v":111},{"$f":"IFERROR(VLOOKUP($A21,Filtro!$A$5:$AY$629,26,FALSE),0)","v":66},{"$f":"IFERROR(VLOOKUP($A21,Filtro!$A$5:$AY$629,27,FALSE),0)","v":102},{"$f":"IFERROR(VLOOKUP($A21,Filtro!$A$5:$AY$629,28,FALSE),0)","v":83},{"$f":"IFERROR(VLOOKUP($A21,Filtro!$A$5:$AY$629,29,FALSE),0)","v":81},{"$f":"IFERROR(VLOOKUP($A21,Filtro!$A$5:$AY$629,30,FALSE),0)","v":64},{"$f":"IFERROR(VLOOKUP($A21,Filtro!$A$5:$AY$629,31,FALSE),0)","v":0},{"$f":"IFERROR(VLOOKUP($A21,Filtro!$A$5:$AY$629,32,FALSE),0)","v":5},{"$f":"IFERROR(VLOOKUP($A21,Filtro!$A$5:$AY$629,33,FALSE),0)","v":14},{"$f":"IFERROR(VLOOKUP($A21,Filtro!$A$5:$AY$629,34,FALSE),0)","v":14},{"$nulls":37},{"$f":"IF(AND(E21<>0,W21=\"\"), \"* No olvide escribir en la celda de Pueblos Originarios (Digite CERO si no tiene). \",IF(AND(F21<>0,X21=\"\"), \"* No olvide escribir en la celda de Pueblos Originarios (Digite CERO si no tiene). \",\"\"))","v":""},{"$f":"IF(AND(E21<>0,Y21=\"\"), \"* No olvide escribir en la celda de Población Migrantes (Digite CERO si no tiene). \",IF(AND(F21<>0,Z21=\"\"), \"* No olvide escribir en la celda de Población Migrantes (Digite CERO si no tiene). \",\"\"))","v":""},{"$nulls":23},{"$f":"IF(AND(E21<>0,W21=\"\"), 1,IF(AND(F21<>0,X21=\"\"), 1,0))","v":0},{"$f":"IF(AND(E21<>0,Y21=\"\"), 1,IF(AND(F21<>0,Z21=\"\"), 1,0))","v":0}]
["P2070302",null,"- 2 D.S. (<= -2.0)",139,83,56,{"$f":"IFERROR(VLOOKUP($A22,Filtro!$A$5:$AY$629,5,FALSE),0)","v":5},{"$f":"IFERROR(VLOOKUP($A22,Filtro!$A$5:$AY$629,6,FALSE),0)","v":4},{"$f":"IFERROR(VLOOKUP($A22,Filtro!$A$5:$AY$629,7,FALSE),0)","v":3},{"$f":"IFERROR(VLOOKUP($A22,Filtro!$A$5:$AY$629,8,FALSE),0)","v":4},{"$f":"IFERROR(VLOOKUP($A22,Filtro!$A$5:$AY$629,9,FALSE),0)","v":4},{"$f":"IFERROR(VLOOKUP($A22,Filtro!$A$5:$AY$629,10,FALSE),0)","v":3},{"$f":"IFERROR(VLOOKUP($A22,Filtro!$A$5:$AY$629,11,FALSE),0)","v":5},{"$f":"IFERROR(VLOOKUP($A22,Filtro!$A$5:$AY$629,12,FALSE),0)","v":0},{"$f":"IFERROR(VLOOKUP($A22,Filtro!$A$5:$AY$629,13,FALSE),0)","v":0},{"$f":"IFERROR(VLOOKUP($A22,Filtro!$A$5:$AY$629,14,FALSE),0)","v":1},{"$f":"IFERROR(VLOOKUP($A22,Filtro!$A$5:$AY$629,15,FALSE),0)","v":2},{"$f":"IFERROR(VLOOKUP($A22,Filtro!$A$5:$AY$629,16,FALSE),0)","v":2},{"$f":"IFERROR(VLOOKUP($A22,Filtro!$A$5:$AY$629,17,FALSE),0)","v":1},{"$f":"IFERROR(VLOOKUP($A22,Filtro!$A$5:$AY$629,18,FALSE),0)","v":0},{"$f":"IFERROR(VLOOKUP($A22,Filtro!$A$5:$AY$629,19,FALSE),0)","v":6},{"$f":"IFERROR(VLOOKUP($A22,Filtro!$A$5:$AY$629,20,FALSE),0)","v":5},{"$f":"IFERROR(VLOOKUP($A22,Filtro!$A$5:$AY$629,21,FALSE),0)","v":13},{"$f":"IFERROR(VLOOKUP($A22,Filtro!$A$5:$AY$629,22,FALSE),0)","v":4},{"$f":"IFERROR(VLOOKUP($A22,Filtro!$A$5:$AY$629,23,FALSE),0)","v":5},{"$f":"IFERROR(VLOOKUP($A22,Filtro!$A$5:$AY$629,24,FALSE),0)","v":1},{"$f":"IFERROR(VLOOKUP($A22,Filtro!$A$5:$AY$629,25,FALSE),0)","v":10},{"$f":"IFERROR(VLOOKUP($A22,Filtro!$A$5:$AY$629,26,FALSE),0)","v":12},{"$f":"IFERROR(VLOOKUP($A22,Filtro!$A$5:$AY$629,27,FALSE),0)","v":20},{"$f":"IFERROR(VLOOKUP($A22,Filtro!$A$5:$AY$629,28,FALSE),0)","v":8},{"$f":"IFERROR(VLOOKUP($A22,Filtro!$A$5:$AY$629,29,FALSE),0)","v":9},{"$f":"IFERROR(VLOOKUP($A22,Filtro!$A$5:$AY$629,30,FALSE),0)","v":12},{"$f":"IFERROR(VLOOKUP($A22,Filtro!$A$5:$AY$629,31,FALSE),0)","v":0},{"$f":"IFERROR(VLOOKUP($A22,Filtro!$A$5:$AY$629,32,FALSE),0)","v":0},{"$f":"IFERROR(VLOOKUP($A22,Filtro!$A$5:$AY$629,33,FALSE),0)","v":1},{"$f":"IFERROR(VLOOKUP($A22,Filtro!$A$5:$AY$629,34,FALSE),0)","v":13},{"$nulls":37},{"$f":"IF(AND(E22<>0,W22=\"\"), \"* No olvide escribir en la celda de Pueblos Originarios (Digite CERO si no tiene). \",IF(AND(F22<>0,X22=\"\"), \"* No olvide escribir en la celda de Pueblos Originarios (Digite CERO si no tiene). \",\"\"))","v":""},{"$f":"IF(AND(E22<>0,Y22=\"\"), \"* No olvide escribir en la celda de Población Migrantes (Digite CERO si no tiene). \",IF(AND(F22<>0,Z22=\"\"), \"* No olvide escribir en la celda de Población Migrantes (Digite CERO si no tiene). \",\"\"))","v":""},{"$nulls":23},{"$f":"IF(AND(E22<>0,W22=\"\"), 1,IF(AND(F22<>0,X22=\"\"), 1,0))","v":0},{"$f":"IF(AND(E22<>0,Y22=\"\"), 1,IF(AND(F22<>0,Z22=\"\"), 1,0))","v":0}]
[null,null,"TOTAL",1034,{"$f":"+G23+I23+K23+M23+O23+Q23+S23+U23+W23+Y23+AA23+AC23+AE23","v":595},{"$f":"+H23+J23+L23+N23+P23+R23+T23+V23+X23+Z23+AB23+AD23+AF23","v":439},{"$f":"SUM(G21:G22)","v":16},23,{"$f":"SUM(I21:I22)","v":18},{"$f":"SUM(J21:J22)","v":20},{"$f":"SUM(K21:K22)","v":20},22,19,5,12,11,12,3,19,8,41,28,53,33,52,41,121,78,122,91,90,76,0,5,15,{"$f":"SUM(AJ21:AJ22)","v":27},{"$nulls":30},{"$f":"IF($D23>=$W23+$X23,\"\",\"* El Total de Pueblos Originarios no debe ser mayor al Total Indicador peso/talla. \")","v":""},{"$f":"IF($D23>=$Y23+$Z23,\"\",\"* El Total de Población Migrantes no debe ser mayor al Total Indicador peso/talla. \")","v":""},{"$nulls":23},{"$f":"IF($D23>=$W23+$X23,0,1)","v":0},{"$f":"IF($D23>=$Y23+$Z23,0,1)","v":0}]
["P2400120","INDICADOR TALLA/EDAD","+ 2 D.S. (>= +2.0)",771,{"$f":"+G24+I24+K24+M24+O24+Q24+S24+U24+W24+Y24+AA24+AC24+AE24","v":456},315,{"$f":"IFERROR(VLOOKUP($A24,Filtro!$A$5:$AY$629,5,FALSE),0)","v":2},{"$f":"IFERROR(VLOOKUP($A24,Filtro!$A$5:$AY$629,6,FALSE),0)","v":7},{"$f":"IFERROR(VLOOKUP($A24,Filtro!$A$5:$AY$629,7,FALSE),0)","v":6},{"$f":"IFERROR(VLOOKUP($A24,Filtro!$A$5:$AY$629,8,FALSE),0)","v":6},{"$f":"IFERROR(VLOOKUP($A24,Filtro!$A$5:$AY$629,9,FALSE),0)","v":4},{"$f":"IFERROR(VLOOKUP($A24,Filtro!$A$5:$AY$629,10,FALSE),0)","v":2},{"$f":"IFERROR(VLOOKUP($A24,Filtro!$A$5:$AY$629,11,FALSE),0)","v":9},{"$f":"IFERROR(VLOOKUP($A24,Filtro!$A$5:$AY$629,12,FALSE),0)","v":4},{"$f":"IFERROR(VLOOKUP($A24,Filtro!$A$5:$AY$629,13,FALSE),0)","v":9},{"$f":"IFERROR(VLOOKUP($A24,Filtro!$A$5:$AY$629,14,FALSE),0)","v":4},{"$f":"IFERROR(VLOOKUP($A24,Filtro!$A$5:$AY$629,15,FALSE),0)","v":4},{"$f":"IFERROR(VLOOKUP($A24,Filtro!$A$5:$AY$629,16,FALSE),0)","v":2},{"$f":"IFERROR(VLOOKUP($A24,Filtro!$A$5:$AY$629,17,FALSE),0)","v":20},{"$f":"IFERROR(VLOOKUP($A24,Filtro!$A$5:$AY$629,18,FALSE),0)","v":6},{"$f":"IFERROR(VLOOKUP($A24,Filtro!$A$5:$AY$629,19,FALSE),0)","v":39},{"$f":"IFERROR(VLOOKUP($A24,Filtro!$A$5:$AY$629,20,FALSE),0)","v":27},{"$f":"IFERROR(VLOOKUP($A24,Filtro!$A$5:$AY$629,21,FALSE),0)","v":30},{"$f":"IFERROR(VLOOKUP($A24,Filtro!$A$5:$AY$629,22,FALSE),0)","v":26},{"$f":"IFERROR(VLOOKUP($A24,Filtro!$A$5:$AY$629,23,FALSE),0)","v":33},{"$f":"IFERROR(VLOOKUP($A24,Filtro!$A$5:$AY$629,24,FALSE),0)","v":28},{"$f":"IFERROR(VLOOKUP($A24,Filtro!$A$5:$AY$629,25,FALSE),0)","v":79},{"$f":"IFERROR(VLOOKUP($A24,Filtro!$A$5:$AY$629,26,FALSE),0)","v":62},{"$f":"IFERROR(VLOOKUP($A24,Filtro!$A$5:$AY$629,27,FALSE),0)","v":99},{"$f":"IFERROR(VLOOKUP($A24,Filtro!$A$5:$AY$629,28,FALSE),0)","v":64},{"$f":"IFERROR(VLOOKUP($A24,Filtro!$A$5:$AY$629,29,FALSE),0)","v":122},{"$f":"IFERROR(VLOOKUP($A24,Filtro!$A$5:$AY$629,30,FALSE),0)","v":77},{"$f":"IFERROR(VLOOKUP($A24,Filtro!$A$5:$AY$629,31,FALSE),0)","v":4},{"$f":"IFERROR(VLOOKUP($A24,Filtro!$A$5:$AY$629,32,FALSE),0)","v":6},{"$f":"IFERROR(VLOOKUP($A24,Filtro!$A$5:$AY$629,33,FALSE),0)","v":7},{"$f":"IFERROR(VLOOKUP($A24,Filtro!$A$5:$AY$629,34,FALSE),0)","v":10},{"$nulls":37},{"$f":"IF(AND(E24<>0,U24=\"\"), \"* No olvide escribir en la celda de Pueblos Originarios (Digite CERO si no tiene). \",IF(AND(F24<>0,V24=\"\"), \"* No olvide escribir en la celda de Pueblos Originarios (Digite CERO si no tiene). \",\"\"))","v":""},{"$f":"IF(AND(E24<>0,W24=\"\"), \"* No olvide escribir en la celda de Población Migrantes (Digite CERO si no tiene). \",IF(AND(F24<>0,X24=\"\"), \"* No olvide escribir en la celda de Población Migrantes (Digite CERO si no tiene). \",\"\"))","v":""},{"$nulls":23},{"$f":"IF(AND(E24<>0,U24=\"\"), 1,IF(AND(F24<>0,V24=\"\"), 1,0))","v":0},{"$f":"IF(AND(E24<>0,W24=\"\"), 1,IF(AND(F24<>0,X24=\"\"), 1,0))","v":0}]
["P2400130",null,"+ 1 D.S. (+1.0 a +1.9)",3461,1748,1713,{"$f":"IFERROR(VLOOKUP($A25,Filtro!$A$5:$AY$629,5,FALSE),0)","v":18},{"$f":"IFERROR(VLOOKUP($A25,Filtro!$A$5:$AY$629,6,FALSE),0)","v":28},{"$f":"IFERROR(VLOOKUP($A25,Filtro!$A$5:$AY$629,7,FALSE),0)","v":24},{"$f":"IFERROR(VLOOKUP($A25,Filtro!$A$5:$AY$629,8,FALSE),0)","v":13},{"$f":"IFERROR(VLOOKUP($A25,Filtro!$A$5:$AY$629,9,FALSE),0)","v":19},{"$f":"IFERROR(VLOOKUP($A25,Filtro!$A$5:$AY$629,10,FALSE),0)","v":35},{"$f":"IFERROR(VLOOKUP($A25,Filtro!$A$5:$AY$629,11,FALSE),0)","v":26},{"$f":"IFERROR(VLOOKUP($A25,Filtro!$A$5:$AY$629,12,FALSE),0)","v":29},{"$f":"IFERROR(VLOOKUP($A25,Filtro!$A$5:$AY$629,13,FALSE),0)","v":34},{"$f":"IFERROR(VLOOKUP($A25,Filtro!$A$5:$AY$629,14,FALSE),0)","v":27},{"$f":"IFERROR(VLOOKUP($A25,Filtro!$A$5:$AY$629,15,FALSE),0)","v":21},{"$f":"IFERROR(VLOOKUP($A25,Filtro!$A$5:$AY$629,16,FALSE),0)","v":32},{"$f":"IFERROR(VLOOKUP($A25,Filtro!$A$5:$AY$629,17,FALSE),0)","v":47},{"$f":"IFERROR(VLOOKUP($A25,Filtro!$A$5:$AY$629,18,FALSE),0)","v":34},{"$f":"IFERROR(VLOOKUP($A25,Filtro!$A$5:$AY$629,19,FALSE),0)","v":138},{"$f":"IFERROR(VLOOKUP($A25,Filtro!$A$5:$AY$629,20,FALSE),0)","v":155},{"$f":"IFERROR(VLOOKUP($A25,Filtro!$A$5:$AY$629,21,FALSE),0)","v":153},{"$f":"IFERROR(VLOOKUP($A25,Filtro!$A$5:$AY$629,22,FALSE),0)","v":156},{"$f":"IFERROR(VLOOKUP($A25,Filtro!$A$5:$AY$629,23,FALSE),0)","v":158},{"$f":"IFERROR(VLOOKUP($A25,Filtro!$A$5:$AY$629,24,FALSE),0)","v":166},{"$f":"IFERROR(VLOOKUP($A25,Filtro!$A$5:$AY$629,25,FALSE),0)","v":284},{"$f":"IFERROR(VLOOKUP($A25,Filtro!$A$5:$AY$629,26,FALSE),0)","v":379},{"$f":"IFERROR(VLOOKUP($A25,Filtro!$A$5:$AY$629,27,FALSE),0)","v":404},{"$f":"IFERROR(VLOOKUP($A25,Filtro!$A$5:$AY$629,28,FALSE),0)","v":369},{"$f":"IFERROR(VLOOKUP($A25,Filtro!$A$5:$AY$629,29,FALSE),0)","v":422},{"$f":"IFERROR(VLOOKUP($A25,Filtro!$A$5:$AY$629,30,FALSE),0)","v":290},{"$f":"IFERROR(VLOOKUP($A25,Filtro!$A$5:$AY$629,31,FALSE),0)","v":12},{"$f":"IFERROR(VLOOKUP($A25,Filtro!$A$5:$AY$629,32,FALSE),0)","v":20},{"$f":"IFERROR(VLOOKUP($A25,Filtro!$A$5:$AY$629,33,FALSE),0)","v":23},{"$f":"IFERROR(VLOOKUP($A25,Filtro!$A$5:$AY$629,34,FALSE),0)","v":18},{"$nulls":37},{"$f":"IF(AND(E25<>0,U25=\"\"), \"* No olvide escribir en la celda de Pueblos Originarios (Digite CERO si no tiene). \",IF(AND(F25<>0,V25=\"\"), \"* No olvide escribir en la celda de Pueblos Originarios (Digite CERO si no tiene). \",\"\"))","v":""},{"$f":"IF(AND(E25<>0,W25=\"\"), \"* No olvide escribir en la celda de Población Migrantes (Digite CERO si no tiene). \",IF(AND(F25<>0,X25=\"\"), \"* No olvide escribir en la celda de Población Migrantes (Digite CERO si no tiene). \",\"\"))","v":""},{"$nulls":23},{"$f":"IF(AND(E25<>0,U25=\"\"), 1,IF(AND(F25<>0,V25=\"\"), 1,0))","v":0},{"$f":"IF(AND(E25<>0,W25=\"\"), 1,IF(AND(F25<>0,X25=\"\"), 1,0))","v":0}]
[null,null,"TOTAL",4232,{"$f":"+G26+I26+K26+M26+O26+Q26+S26+U26+W26+Y26+AA26+AC26+AE26","v":2204},{"$f":"+H26+J26+L26+N26+P26+R26+T26+V26+X26+Z26+AB26+AD26+AF26","v":2028},{"$f":"SUM(G24:G25)","v":20},35,{"$f":"SUM(I24:I25)","v":30},{"$f":"SUM(J24:J25)","v":19},23,37,35,33,43,31,25,34,67,40,177,182,183,182,191,194,363,441,503,433,544,367,16,26,30,28,{"$nulls":30},{"$f":"IF($D26>=$U26+$V26,\"\",\"* El Total de Pueblos Originarios no debe ser mayor al Total Indicador peso/talla. \")","v":""},{"$f":"IF($D26>=$W26+$X26,\"\",\"* El Total de Población Migrantes no debe ser mayor al Total Indicador peso/talla. \")","v":""},{"$nulls":23},{"$f":"IF($D26>=$U26+$V26,0,1)","v":0},{"$f":"IF($D26>=$W26+$X26,0,1)","v":0}]
["P2070401",null,"- 1 D.S. (-1.0 a -1.9)",3779,{"$f":"+G27+I27+K27+M27+O27+Q27+S27+U27+W27+Y27+AA27+AC27+AE27","v":1982},{"$f":"+H27+J27+L27+N27+P27+R27+T27+V27+X27+Z27+AB27+AD27+AF27","v":1797},{"$f":"IFERROR(VLOOKUP($A27,Filtro!$A$5:$AY$629,5,FALSE),0)","v":10},{"$f":"IFERROR(VLOOKUP($A27,Filtro!$A$5:$AY$629,6,FALSE),0)","v":10},{"$f":"IFERROR(VLOOKUP($A27,Filtro!$A$5:$AY$629,7,FALSE),0)","v":25},{"$f":"IFERROR(VLOOKUP($A27,Filtro!$A$5:$AY$629,8,FALSE),0)","v":33},{"$f":"IFERROR(VLOOKUP($A27,Filtro!$A$5:$AY$629,9,FALSE),0)","v":47},{"$f":"IFERROR(VLOOKUP($A27,Filtro!$A$5:$AY$629,10,FALSE),0)","v":45},{"$f":"IFERROR(VLOOKUP($A27,Filtro!$A$5:$AY$629,11,FALSE),0)","v":34},{"$f":"IFERROR(VLOOKUP($A27,Filtro!$A$5:$AY$629,12,FALSE),0)","v":20},{"$f":"IFERROR(VLOOKUP($A27,Filtro!$A$5:$AY$629,13,FALSE),0)","v":38},{"$f":"IFERROR(VLOOKUP($A27,Filtro!$A$5:$AY$629,14,FALSE),0)","v":30},{"$f":"IFERROR(VLOOKUP($A27,Filtro!$A$5:$AY$629,15,FALSE),0)","v":35},{"$f":"IFERROR(VLOOKUP($A27,Filtro!$A$5:$AY$629,16,FALSE),0)","v":33},{"$f":"IFERROR(VLOOKUP($A27,Filtro!$A$5:$AY$629,17,FALSE),0)","v":48},{"$f":"IFERROR(VLOOKUP($A27,Filtro!$A$5:$AY$629,18,FALSE),0)","v":37},{"$f":"IFERROR(VLOOKUP($A27,Filtro!$A$5:$AY$629,19,FALSE),0)","v":205},{"$f":"IFERROR(VLOOKUP($A27,Filtro!$A$5:$AY$629,20,FALSE),0)","v":188},{"$f":"IFERROR(VLOOKUP($A27,Filtro!$A$5:$AY$629,21,FALSE),0)","v":275},{"$f":"IFERROR(VLOOKUP($A27,Filtro!$A$5:$AY$629,22,FALSE),0)","v":210},{"$f":"IFERROR(VLOOKUP($A27,Filtro!$A$5:$AY$629,23,FALSE),0)","v":253},{"$f":"IFERROR(VLOOKUP($A27,Filtro!$A$5:$AY$629,24,FALSE),0)","v":203},{"$f":"IFERROR(VLOOKUP($A27,Filtro!$A$5:$AY$629,25,FALSE),0)","v":359},{"$f":"IFERROR(VLOOKUP($A27,Filtro!$A$5:$AY$629,26,FALSE),0)","v":330},{"$f":"IFERROR(VLOOKUP($A27,Filtro!$A$5:$AY$629,27,FALSE),0)","v":356},{"$f":"IFERROR(VLOOKUP($A27,Filtro!$A$5:$AY$629,28,FALSE),0)","v":344},{"$f":"IFERROR(VLOOKUP($A27,Filtro!$A$5:$AY$629,29,FALSE),0)","v":297},{"$f":"IFERROR(VLOOKUP($A27,Filtro!$A$5:$AY$629,30,FALSE),0)","v":314},{"$f":"IFERROR(VLOOKUP($A27,Filtro!$A$5:$AY$629,31,FALSE),0)","v":11},{"$f":"IFERROR(VLOOKUP($A27,Filtro!$A$5:$AY$629,32,FALSE),0)","v":18},{"$f":"IFERROR(VLOOKUP($A27,Filtro!$A$5:$AY$629,33,FALSE),0)","v":37},{"$f":"IFERROR(VLOOKUP($A27,Filtro!$A$5:$AY$629,34,FALSE),0)","v":55},{"$nulls":37},{"$f":"IF(AND(E27<>0,U27=\"\"), \"* No olvide escribir en la celda de Pueblos Originarios (Digite CERO si no tiene). \",IF(AND(F27<>0,V27=\"\"), \"* No olvide escribir en la celda de Pueblos Originarios (Digite CERO si no tiene). \",\"\"))","v":""},{"$f":"IF(AND(E27<>0,W27=\"\"), \"* No olvide escribir en la celda de Población Migrantes (Digite CERO si no tiene). \",IF(AND(F27<>0,X27=\"\"), \"* No olvide escribir en la celda de Población Migrantes (Digite CERO si no tiene). \",\"\"))","v":""},{"$nulls":23},{"$f":"IF(AND(E27<>0,U27=\"\"), 1,IF(AND(F27<>0,V27=\"\"), 1,0))","v":0},{"$f":"IF(AND(E27<>0,W27=\"\"), 1,IF(AND(F27<>0,X27=\"\"), 1,0))","v":0}]
["P2070402",null,"- 2 D.S. (<= -2.0)",670,407,263,{"$f":"IFERROR(VLOOKUP($A28,Filtro!$A$5:$AY$629,5,FALSE),0)","v":11},{"$f":"IFERROR(VLOOKUP($A28,Filtro!$A$5:$AY$629,6,FALSE),0)","v":2},{"$f":"IFERROR(VLOOKUP($A28,Filtro!$A$5:$AY$629,7,FALSE),0)","v":11},{"$f":"IFERROR(VLOOKUP($A28,Filtro!$A$5:$AY$629,8,FALSE),0)","v":9},{"$f":"IFERROR(VLOOKUP($A28,Filtro!$A$5:$AY$629,9,FALSE),0)","v":18},{"$f":"IFERROR(VLOOKUP($A28,Filtro!$A$5:$AY$629,10,FALSE),0)","v":9},{"$f":"IFERROR(VLOOKUP($A28,Filtro!$A$5:$AY$629,11,FALSE),0)","v":8},{"$f":"IFERROR(VLOOKUP($A28,Filtro!$A$5:$AY$629,12,FALSE),0)","v":4},{"$f":"IFERROR(VLOOKUP($A28,Filtro!$A$5:$AY$629,13,FALSE),0)","v":12},{"$f":"IFERROR(VLOOKUP($A28,Filtro!$A$5:$AY$629,14,FALSE),0)","v":4},{"$f":"IFERROR(VLOOKUP($A28,Filtro!$A$5:$AY$629,15,FALSE),0)","v":8},{"$f":"IFERROR(VLOOKUP($A28,Filtro!$A$5:$AY$629,16,FALSE),0)","v":4},{"$f":"IFERROR(VLOOKUP($A28,Filtro!$A$5:$AY$629,17,FALSE),0)","v":15},{"$f":"IFERROR(VLOOKUP($A28,Filtro!$A$5:$AY$629,18,FALSE),0)","v":3},{"$f":"IFERROR(VLOOKUP($A28,Filtro!$A$5:$AY$629,19,FALSE),0)","v":42},{"$f":"IFERROR(VLOOKUP($A28,Filtro!$A$5:$AY$629,20,FALSE),0)","v":22},{"$f":"IFERROR(VLOOKUP($A28,Filtro!$A$5:$AY$629,21,FALSE),0)","v":86},{"$f":"IFERROR(VLOOKUP($A28,Filtro!$A$5:$AY$629,22,FALSE),0)","v":31},{"$f":"IFERROR(VLOOKUP($A28,Filtro!$A$5:$AY$629,23,FALSE),0)","v":58},{"$f":"IFERROR(VLOOKUP($A28,Filtro!$A$5:$AY$629,24,FALSE),0)","v":29},{"$f":"IFERROR(VLOOKUP($A28,Filtro!$A$5:$AY$629,25,FALSE),0)","v":66},{"$f":"IFERROR(VLOOKUP($A28,Filtro!$A$5:$AY$629,26,FALSE),0)","v":45},{"$f":"IFERROR(VLOOKUP($A28,Filtro!$A$5:$AY$629,27,FALSE),0)","v":37},{"$f":"IFERROR(VLOOKUP($A28,Filtro!$A$5:$AY$629,28,FALSE),0)","v":51},{"$f":"IFERROR(VLOOKUP($A28,Filtro!$A$5:$AY$629,29,FALSE),0)","v":35},{"$f":"IFERROR(VLOOKUP($A28,Filtro!$A$5:$AY$629,30,FALSE),0)","v":50},{"$f":"IFERROR(VLOOKUP($A28,Filtro!$A$5:$AY$629,31,FALSE),0)","v":5},{"$f":"IFERROR(VLOOKUP($A28,Filtro!$A$5:$AY$629,32,FALSE),0)","v":3},{"$f":"IFERROR(VLOOKUP($A28,Filtro!$A$5:$AY$629,33,FALSE),0)","v":7},{"$f":"IFERROR(VLOOKUP($A28,Filtro!$A$5:$AY$629,34,FALSE),0)","v":4},{"$nulls":37},{"$f":"IF(AND(E28<>0,U28=\"\"), \"* No olvide escribir en la celda de Pueblos Originarios (Digite CERO si no tiene). \",IF(AND(F28<>0,V28=\"\"), \"* No olvide escribir en la celda de Pueblos Originarios (Digite CERO si no tiene). \",\"\"))","v":""},{"$f":"IF(AND(E28<>0,W28=\"\"), \"* No olvide escribir en la celda de Población Migrantes (Digite CERO si no tiene). \",IF(AND(F28<>0,X28=\"\"), \"* No olvide escribir en la celda de Población Migrantes (Digite CERO si no tiene). \",\"\"))","v":""},{"$nulls":23},{"$f":"IF(AND(E28<>0,U28=\"\"), 1,IF(AND(F28<>0,V28=\"\"), 1,0))","v":0},{"$f":"IF(AND(E28<>0,W28=\"\"), 1,IF(AND(F28<>0,X28=\"\"), 1,0))","v":0}]
[null,null,"TOTAL",{"$f":"SUM(E29:F29)","v":4449},{"$f":"+G29+I29+K29+M29+O29+Q29+S29+U29+W29+Y29+AA29+AC29+AE29","v":2389},{"$f":"+H29+J29+L29+N29+P29+R29+T29+V29+X29+Z29+AB29+AD29+AF29","v":2060},{"$f":"SUM(G27:G28)","v":21},{"$f":"SUM(H27:H28)","v":12},{"$f":"SUM(I27:I28)","v":36},{"$f":"SUM(J27:J28)","v":42},65,54,42,24,50,34,43,37,63,40,247,210,361,241,311,232,425,375,393,395,332,364,16,21,44,59,{"$nulls":30},{"$f":"IF($D29>=$U29+$V29,\"\",\"* El Total de Pueblos Originarios no debe ser mayor al Total Indicador peso/talla. \")","v":""},{"$f":"IF($D29>=$W29+$X29,\"\",\"* El Total de Población Migrantes no debe ser mayor al Total Indicador peso/talla. \")","v":""},{"$nulls":23},{"$f":"IF($D29>=$U29+$V29,0,1)","v":0},{"$f":"IF($D29>=$W29+$X29,0,1)","v":0}]
["P2400140",null,"PROMEDIO (-0,9 A + 0,9)",17111,{"$f":"+G30+I30+K30+M30+O30+Q30+S30+U30+W30+Y30+AA30+AC30+AE30","v":8537},{"$f":"+H30+J30+L30+N30+P30+R30+T30+V30+X30+Z30+AB30+AD30+AF30","v":8574},{"$f":"IFERROR(VLOOKUP($A30,Filtro!$A$5:$AY$629,5,FALSE),0)","v":79},{"$f":"IFERROR(VLOOKUP($A30,Filtro!$A$5:$AY$629,6,FALSE),0)","v":84},{"$f":"IFERROR(VLOOKUP($A30,Filtro!$A$5:$AY$629,7,FALSE),0)","v":161},{"$f":"IFERROR(VLOOKUP($A30,Filtro!$A$5:$AY$629,8,FALSE),0)","v":154},{"$f":"IFERROR(VLOOKUP($A30,Filtro!$A$5:$AY$629,9,FALSE),0)","v":145},{"$f":"IFERROR(VLOOKUP($A30,Filtro!$A$5:$AY$629,10,FALSE),0)","v":180},{"$f":"IFERROR(VLOOKUP($A30,Filtro!$A$5:$AY$629,11,FALSE),0)","v":133},{"$f":"IFERROR(VLOOKUP($A30,Filtro!$A$5:$AY$629,12,FALSE),0)","v":163},{"$f":"IFERROR(VLOOKUP($A30,Filtro!$A$5:$AY$629,13,FALSE),0)","v":167},{"$f":"IFERROR(VLOOKUP($A30,Filtro!$A$5:$AY$629,14,FALSE),0)","v":191},{"$f":"IFERROR(VLOOKUP($A30,Filtro!$A$5:$AY$629,15,FALSE),0)","v":155},{"$f":"IFERROR(VLOOKUP($A30,Filtro!$A$5:$AY$629,16,FALSE),0)","v":179},{"$f":"IFERROR(VLOOKUP($A30,Filtro!$A$5:$AY$629,17,FALSE),0)","v":208},{"$f":"IFERROR(VLOOKUP($A30,Filtro!$A$5:$AY$629,18,FALSE),0)","v":225},{"$f":"IFERROR(VLOOKUP($A30,Filtro!$A$5:$AY$629,19,FALSE),0)","v":660},{"$f":"IFERROR(VLOOKUP($A30,Filtro!$A$5:$AY$629,20,FALSE),0)","v":702},{"$f":"IFERROR(VLOOKUP($A30,Filtro!$A$5:$AY$629,21,FALSE),0)","v":878},{"$f":"IFERROR(VLOOKUP($A30,Filtro!$A$5:$AY$629,22,FALSE),0)","v":885},{"$f":"IFERROR(VLOOKUP($A30,Filtro!$A$5:$AY$629,23,FALSE),0)","v":822},{"$f":"IFERROR(VLOOKUP($A30,Filtro!$A$5:$AY$629,24,FALSE),0)","v":885},{"$f":"IFERROR(VLOOKUP($A30,Filtro!$A$5:$AY$629,25,FALSE),0)","v":1634},{"$f":"IFERROR(VLOOKUP($A30,Filtro!$A$5:$AY$629,26,FALSE),0)","v":1527},{"$f":"IFERROR(VLOOKUP($A30,Filtro!$A$5:$AY$629,27,FALSE),0)","v":1801},{"$f":"IFERROR(VLOOKUP($A30,Filtro!$A$5:$AY$629,28,FALSE),0)","v":1769},{"$f":"IFERROR(VLOOKUP($A30,Filtro!$A$5:$AY$629,29,FALSE),0)","v":1694},{"$f":"IFERROR(VLOOKUP($A30,Filtro!$A$5:$AY$629,30,FALSE),0)","v":1630},{"$f":"IFERROR(VLOOKUP($A30,Filtro!$A$5:$AY$629,31,FALSE),0)","v":78},{"$f":"IFERROR(VLOOKUP($A30,Filtro!$A$5:$AY$629,32,FALSE),0)","v":93},{"$f":"IFERROR(VLOOKUP($A30,Filtro!$A$5:$AY$629,33,FALSE),0)","v":144},{"$f":"IFERROR(VLOOKUP($A30,Filtro!$A$5:$AY$629,34,FALSE),0)","v":128},{"$nulls":37},{"$f":"IF(AND(E30<>0,U30=\"\"), \"* No olvide escribir en la celda de Pueblos Originarios (Digite CERO si no tiene). \",IF(AND(F30<>0,V30=\"\"), \"* No olvide escribir en la celda de Pueblos Originarios (Digite CERO si no tiene). \",\"\"))","v":""},{"$f":"IF(AND(E30<>0,W30=\"\"), \"* No olvide escribir en la celda de Población Migrantes (Digite CERO si no tiene). \",IF(AND(F30<>0,X30=\"\"), \"* No olvide escribir en la celda de Población Migrantes (Digite CERO si no tiene). \",\"\"))","v":""},{"$nulls":23},{"$f":"IF(AND(E30<>0,U30=\"\"), 1,IF(AND(F30<>0,V30=\"\"), 1,0))","v":0},{"$f":"IF(AND(E30<>0,W30=\"\"), 1,IF(AND(F30<>0,X30=\"\"), 1,0))","v":0}]
["P2070501","DIAGNOSTICO NUTRICIONAL INTEGRADO","RIESGO DE DESNUTRIR/ DEFICIT PONDERAL*",931,{"$f":"+I31+K31+M31+O31+Q31+S31+U31+W31+Y31+AA31+AC31+AE31","v":536},{"$f":"+J31+L31+N31+P31+R31+T31+V31+X31+Z31+AB31+AD31+AF31","v":395},0,0,{"$f":"IFERROR(VLOOKUP($A31,Filtro!$A$5:$AY$629,7,FALSE),0)","v":17},{"$f":"IFERROR(VLOOKUP($A31,Filtro!$A$5:$AY$629,8,FALSE),0)","v":17},{"$f":"IFERROR(VLOOKUP($A31,Filtro!$A$5:$AY$629,9,FALSE),0)","v":16},{"$f":"IFERROR(VLOOKUP($A31,Filtro!$A$5:$AY$629,10,FALSE),0)","v":27},{"$f":"IFERROR(VLOOKUP($A31,Filtro!$A$5:$AY$629,11,FALSE),0)","v":17},{"$f":"IFERROR(VLOOKUP($A31,Filtro!$A$5:$AY$629,12,FALSE),0)","v":11},{"$f":"IFERROR(VLOOKUP($A31,Filtro!$A$5:$AY$629,13,FALSE),0)","v":8},{"$f":"IFERROR(VLOOKUP($A31,Filtro!$A$5:$AY$629,14,FALSE),0)","v":14},{"$f":"IFERROR(VLOOKUP($A31,Filtro!$A$5:$AY$629,15,FALSE),0)","v":13},{"$f":"IFERROR(VLOOKUP($A31,Filtro!$A$5:$AY$629,16,FALSE),0)","v":11},{"$f":"IFERROR(VLOOKUP($A31,Filtro!$A$5:$AY$629,17,FALSE),0)","v":20},{"$f":"IFERROR(VLOOKUP($A31,Filtro!$A$5:$AY$629,18,FALSE),0)","v":11},{"$f":"IFERROR(VLOOKUP($A31,Filtro!$A$5:$AY$629,19,FALSE),0)","v":51},{"$f":"IFERROR(VLOOKUP($A31,Filtro!$A$5:$AY$629,20,FALSE),0)","v":38},{"$f":"IFERROR(VLOOKUP($A31,Filtro!$A$5:$AY$629,21,FALSE),0)","v":48},{"$f":"IFERROR(VLOOKUP($A31,Filtro!$A$5:$AY$629,22,FALSE),0)","v":32},{"$f":"IFERROR(VLOOKUP($A31,Filtro!$A$5:$AY$629,23,FALSE),0)","v":54},{"$f":"IFERROR(VLOOKUP($A31,Filtro!$A$5:$AY$629,24,FALSE),0)","v":33},{"$f":"IFERROR(VLOOKUP($A31,Filtro!$A$5:$AY$629,25,FALSE),0)","v":109},{"$f":"IFERROR(VLOOKUP($A31,Filtro!$A$5:$AY$629,26,FALSE),0)","v":57},{"$f":"IFERROR(VLOOKUP($A31,Filtro!$A$5:$AY$629,27,FALSE),0)","v":104},{"$f":"IFERROR(VLOOKUP($A31,Filtro!$A$5:$AY$629,28,FALSE),0)","v":82},{"$f":"IFERROR(VLOOKUP($A31,Filtro!$A$5:$AY$629,29,FALSE),0)","v":79},{"$f":"IFERROR(VLOOKUP($A31,Filtro!$A$5:$AY$629,30,FALSE),0)","v":62},{"$f":"IFERROR(VLOOKUP($A31,Filtro!$A$5:$AY$629,31,FALSE),0)","v":4},{"$f":"IFERROR(VLOOKUP($A31,Filtro!$A$5:$AY$629,32,FALSE),0)","v":7},{"$f":"IFERROR(VLOOKUP($A31,Filtro!$A$5:$AY$629,33,FALSE),0)","v":18},{"$f":"IFERROR(VLOOKUP($A31,Filtro!$A$5:$AY$629,34,FALSE),0)","v":17},{"$nulls":37},"","",{"$nulls":23},0,0]
["P2070502",null,"DESNUTRIDO",109,{"$f":"+I32+K32+M32+O32+Q32+S32+U32+W32+Y32+AA32+AC32+AE32","v":74},35,0,0,{"$f":"IFERROR(VLOOKUP($A32,Filtro!$A$5:$AY$629,7,FALSE),0)","v":2},{"$f":"IFERROR(VLOOKUP($A32,Filtro!$A$5:$AY$629,8,FALSE),0)","v":4},{"$f":"IFERROR(VLOOKUP($A32,Filtro!$A$5:$AY$629,9,FALSE),0)","v":8},{"$f":"IFERROR(VLOOKUP($A32,Filtro!$A$5:$AY$629,10,FALSE),0)","v":2},{"$f":"IFERROR(VLOOKUP($A32,Filtro!$A$5:$AY$629,11,FALSE),0)","v":3},{"$f":"IFERROR(VLOOKUP($A32,Filtro!$A$5:$AY$629,12,FALSE),0)","v":0},{"$f":"IFERROR(VLOOKUP($A32,Filtro!$A$5:$AY$629,13,FALSE),0)","v":1},{"$f":"IFERROR(VLOOKUP($A32,Filtro!$A$5:$AY$629,14,FALSE),0)","v":1},{"$f":"IFERROR(VLOOKUP($A32,Filtro!$A$5:$AY$629,15,FALSE),0)","v":5},{"$f":"IFERROR(VLOOKUP($A32,Filtro!$A$5:$AY$629,16,FALSE),0)","v":2},{"$f":"IFERROR(VLOOKUP($A32,Filtro!$A$5:$AY$629,17,FALSE),0)","v":3},{"$f":"IFERROR(VLOOKUP($A32,Filtro!$A$5:$AY$629,18,FALSE),0)","v":0},{"$f":"IFERROR(VLOOKUP($A32,Filtro!$A$5:$AY$629,19,FALSE),0)","v":3},{"$f":"IFERROR(VLOOKUP($A32,Filtro!$A$5:$AY$629,20,FALSE),0)","v":1},{"$f":"IFERROR(VLOOKUP($A32,Filtro!$A$5:$AY$629,21,FALSE),0)","v":11},{"$f":"IFERROR(VLOOKUP($A32,Filtro!$A$5:$AY$629,22,FALSE),0)","v":3},{"$f":"IFERROR(VLOOKUP($A32,Filtro!$A$5:$AY$629,23,FALSE),0)","v":6},{"$f":"IFERROR(VLOOKUP($A32,Filtro!$A$5:$AY$629,24,FALSE),0)","v":0},{"$f":"IFERROR(VLOOKUP($A32,Filtro!$A$5:$AY$629,25,FALSE),0)","v":7},{"$f":"IFERROR(VLOOKUP($A32,Filtro!$A$5:$AY$629,26,FALSE),0)","v":11},{"$f":"IFERROR(VLOOKUP($A32,Filtro!$A$5:$AY$629,27,FALSE),0)","v":18},{"$f":"IFERROR(VLOOKUP($A32,Filtro!$A$5:$AY$629,28,FALSE),0)","v":4},{"$f":"IFERROR(VLOOKUP($A32,Filtro!$A$5:$AY$629,29,FALSE),0)","v":7},{"$f":"IFERROR(VLOOKUP($A32,Filtro!$A$5:$AY$629,30,FALSE),0)","v":7},{"$f":"IFERROR(VLOOKUP($A32,Filtro!$A$5:$AY$629,31,FALSE),0)","v":0},{"$f":"IFERROR(VLOOKUP($A32,Filtro!$A$5:$AY$629,32,FALSE),0)","v":0},{"$f":"IFERROR(VLOOKUP($A32,Filtro!$A$5:$AY$629,33,FALSE),0)","v":1},{"$f":"IFERROR(VLOOKUP($A32,Filtro!$A$5:$AY$629,34,FALSE),0)","v":3},{"$nulls":37},"","",{"$nulls":23},0,0]
["P2070503",null,"SOBREPESO / RIESGO OBESIDAD",6984,3501,3483,0,0,{"$f":"IFERROR(VLOOKUP($A33,Filtro!$A$5:$AY$629,7,FALSE),0)","v":39},{"$f":"IFERROR(VLOOKUP($A33,Filtro!$A$5:$AY$629,8,FALSE),0)","v":29},{"$f":"IFERROR(VLOOKUP($A33,Filtro!$A$5:$AY$629,9,FALSE),0)","v":68},{"$f":"IFERROR(VLOOKUP($A33,Filtro!$A$5:$AY$629,10,FALSE),0)","v":65},{"$f":"IFERROR(VLOOKUP($A33,Filtro!$A$5:$AY$629,11,FALSE),0)","v":54},{"$f":"IFERROR(VLOOKUP($A33,Filtro!$A$5:$AY$629,12,FALSE),0)","v":49},{"$f":"IFERROR(VLOOKUP($A33,Filtro!$A$5:$AY$629,13,FALSE),0)","v":62},{"$f":"IFERROR(VLOOKUP($A33,Filtro!$A$5:$AY$629,14,FALSE),0)","v":77},{"$f":"IFERROR(VLOOKUP($A33,Filtro!$A$5:$AY$629,15,FALSE),0)","v":74},{"$f":"IFERROR(VLOOKUP($A33,Filtro!$A$5:$AY$629,16,FALSE),0)","v":78},{"$f":"IFERROR(VLOOKUP($A33,Filtro!$A$5:$AY$629,17,FALSE),0)","v":108},{"$f":"IFERROR(VLOOKUP($A33,Filtro!$A$5:$AY$629,18,FALSE),0)","v":117},{"$f":"IFERROR(VLOOKUP($A33,Filtro!$A$5:$AY$629,19,FALSE),0)","v":384},{"$f":"IFERROR(VLOOKUP($A33,Filtro!$A$5:$AY$629,20,FALSE),0)","v":360},{"$f":"IFERROR(VLOOKUP($A33,Filtro!$A$5:$AY$629,21,FALSE),0)","v":436},{"$f":"IFERROR(VLOOKUP($A33,Filtro!$A$5:$AY$629,22,FALSE),0)","v":439},{"$f":"IFERROR(VLOOKUP($A33,Filtro!$A$5:$AY$629,23,FALSE),0)","v":357},{"$f":"IFERROR(VLOOKUP($A33,Filtro!$A$5:$AY$629,24,FALSE),0)","v":394},{"$f":"IFERROR(VLOOKUP($A33,Filtro!$A$5:$AY$629,25,FALSE),0)","v":634},{"$f":"IFERROR(VLOOKUP($A33,Filtro!$A$5:$AY$629,26,FALSE),0)","v":593},{"$f":"IFERROR(VLOOKUP($A33,Filtro!$A$5:$AY$629,27,FALSE),0)","v":630},{"$f":"IFERROR(VLOOKUP($A33,Filtro!$A$5:$AY$629,28,FALSE),0)","v":710},{"$f":"IFERROR(VLOOKUP($A33,Filtro!$A$5:$AY$629,29,FALSE),0)","v":655},{"$f":"IFERROR(VLOOKUP($A33,Filtro!$A$5:$AY$629,30,FALSE),0)","v":572},{"$f":"IFERROR(VLOOKUP($A33,Filtro!$A$5:$AY$629,31,FALSE),0)","v":36},{"$f":"IFERROR(VLOOKUP($A33,Filtro!$A$5:$AY$629,32,FALSE),0)","v":39},{"$f":"IFERROR(VLOOKUP($A33,Filtro!$A$5:$AY$629,33,FALSE),0)","v":66},{"$f":"IFERROR(VLOOKUP($A33,Filtro!$A$5:$AY$629,34,FALSE),0)","v":64},{"$nulls":37},"","",{"$nulls":23},0,0]
["P2070504",null,"OBESO",3793,1958,1835,0,0,{"$f":"IFERROR(VLOOKUP($A34,Filtro!$A$5:$AY$629,7,FALSE),0)","v":17},{"$f":"IFERROR(VLOOKUP($A34,Filtro!$A$5:$AY$629,8,FALSE),0)","v":6},{"$f":"IFERROR(VLOOKUP($A34,Filtro!$A$5:$AY$629,9,FALSE),0)","v":14},{"$f":"IFERROR(VLOOKUP($A34,Filtro!$A$5:$AY$629,10,FALSE),0)","v":10},{"$f":"IFERROR(VLOOKUP($A34,Filtro!$A$5:$AY$629,11,FALSE),0)","v":22},{"$f":"IFERROR(VLOOKUP($A34,Filtro!$A$5:$AY$629,12,FALSE),0)","v":22},{"$f":"IFERROR(VLOOKUP($A34,Filtro!$A$5:$AY$629,13,FALSE),0)","v":39},{"$f":"IFERROR(VLOOKUP($A34,Filtro!$A$5:$AY$629,14,FALSE),0)","v":19},{"$f":"IFERROR(VLOOKUP($A34,Filtro!$A$5:$AY$629,15,FALSE),0)","v":24},{"$f":"IFERROR(VLOOKUP($A34,Filtro!$A$5:$AY$629,16,FALSE),0)","v":27},{"$f":"IFERROR(VLOOKUP($A34,Filtro!$A$5:$AY$629,17,FALSE),0)","v":50},{"$f":"IFERROR(VLOOKUP($A34,Filtro!$A$5:$AY$629,18,FALSE),0)","v":36},{"$f":"IFERROR(VLOOKUP($A34,Filtro!$A$5:$AY$629,19,FALSE),0)","v":168},{"$f":"IFERROR(VLOOKUP($A34,Filtro!$A$5:$AY$629,20,FALSE),0)","v":156},{"$f":"IFERROR(VLOOKUP($A34,Filtro!$A$5:$AY$629,21,FALSE),0)","v":209},{"$f":"IFERROR(VLOOKUP($A34,Filtro!$A$5:$AY$629,22,FALSE),0)","v":187},{"$f":"IFERROR(VLOOKUP($A34,Filtro!$A$5:$AY$629,23,FALSE),0)","v":174},{"$f":"IFERROR(VLOOKUP($A34,Filtro!$A$5:$AY$629,24,FALSE),0)","v":174},{"$f":"IFERROR(VLOOKUP($A34,Filtro!$A$5:$AY$629,25,FALSE),0)","v":291},{"$f":"IFERROR(VLOOKUP($A34,Filtro!$A$5:$AY$629,26,FALSE),0)","v":299},{"$f":"IFERROR(VLOOKUP($A34,Filtro!$A$5:$AY$629,27,FALSE),0)","v":447},{"$f":"IFERROR(VLOOKUP($A34,Filtro!$A$5:$AY$629,28,FALSE),0)","v":436},{"$f":"IFERROR(VLOOKUP($A34,Filtro!$A$5:$AY$629,29,FALSE),0)","v":503},{"$f":"IFERROR(VLOOKUP($A34,Filtro!$A$5:$AY$629,30,FALSE),0)","v":463},{"$f":"IFERROR(VLOOKUP($A34,Filtro!$A$5:$AY$629,31,FALSE),0)","v":22},{"$f":"IFERROR(VLOOKUP($A34,Filtro!$A$5:$AY$629,32,FALSE),0)","v":22},{"$f":"IFERROR(VLOOKUP($A34,Filtro!$A$5:$AY$629,33,FALSE),0)","v":25},{"$f":"IFERROR(VLOOKUP($A34,Filtro!$A$5:$AY$629,34,FALSE),0)","v":19},{"$nulls":37},"","",{"$nulls":23},0,0]
["P2070505",null,"NORMAL",18094,9120,8974,0,0,{"$f":"IFERROR(VLOOKUP($A35,Filtro!$A$5:$AY$629,7,FALSE),0)","v":202},{"$f":"IFERROR(VLOOKUP($A35,Filtro!$A$5:$AY$629,8,FALSE),0)","v":205},{"$f":"IFERROR(VLOOKUP($A35,Filtro!$A$5:$AY$629,9,FALSE),0)","v":195},{"$f":"IFERROR(VLOOKUP($A35,Filtro!$A$5:$AY$629,10,FALSE),0)","v":208},{"$f":"IFERROR(VLOOKUP($A35,Filtro!$A$5:$AY$629,11,FALSE),0)","v":172},{"$f":"IFERROR(VLOOKUP($A35,Filtro!$A$5:$AY$629,12,FALSE),0)","v":183},{"$f":"IFERROR(VLOOKUP($A35,Filtro!$A$5:$AY$629,13,FALSE),0)","v":188},{"$f":"IFERROR(VLOOKUP($A35,Filtro!$A$5:$AY$629,14,FALSE),0)","v":204},{"$f":"IFERROR(VLOOKUP($A35,Filtro!$A$5:$AY$629,15,FALSE),0)","v":148},{"$f":"IFERROR(VLOOKUP($A35,Filtro!$A$5:$AY$629,16,FALSE),0)","v":176},{"$f":"IFERROR(VLOOKUP($A35,Filtro!$A$5:$AY$629,17,FALSE),0)","v":222},{"$f":"IFERROR(VLOOKUP($A35,Filtro!$A$5:$AY$629,18,FALSE),0)","v":203},{"$f":"IFERROR(VLOOKUP($A35,Filtro!$A$5:$AY$629,19,FALSE),0)","v":634},{"$f":"IFERROR(VLOOKUP($A35,Filtro!$A$5:$AY$629,20,FALSE),0)","v":696},{"$f":"IFERROR(VLOOKUP($A35,Filtro!$A$5:$AY$629,21,FALSE),0)","v":911},{"$f":"IFERROR(VLOOKUP($A35,Filtro!$A$5:$AY$629,22,FALSE),0)","v":851},{"$f":"IFERROR(VLOOKUP($A35,Filtro!$A$5:$AY$629,23,FALSE),0)","v":934},{"$f":"IFERROR(VLOOKUP($A35,Filtro!$A$5:$AY$629,24,FALSE),0)","v":902},{"$f":"IFERROR(VLOOKUP($A35,Filtro!$A$5:$AY$629,25,FALSE),0)","v":1753},{"$f":"IFERROR(VLOOKUP($A35,Filtro!$A$5:$AY$629,26,FALSE),0)","v":1721},{"$f":"IFERROR(VLOOKUP($A35,Filtro!$A$5:$AY$629,27,FALSE),0)","v":1930},{"$f":"IFERROR(VLOOKUP($A35,Filtro!$A$5:$AY$629,28,FALSE),0)","v":1852},{"$f":"IFERROR(VLOOKUP($A35,Filtro!$A$5:$AY$629,29,FALSE),0)","v":1831},{"$f":"IFERROR(VLOOKUP($A35,Filtro!$A$5:$AY$629,30,FALSE),0)","v":1773},{"$f":"IFERROR(VLOOKUP($A35,Filtro!$A$5:$AY$629,31,FALSE),0)","v":87},{"$f":"IFERROR(VLOOKUP($A35,Filtro!$A$5:$AY$629,32,FALSE),0)","v":99},{"$f":"IFERROR(VLOOKUP($A35,Filtro!$A$5:$AY$629,33,FALSE),0)","v":211},{"$f":"IFERROR(VLOOKUP($A35,Filtro!$A$5:$AY$629,34,FALSE),0)","v":231},{"$nulls":37},"","",{"$nulls":23},0,0]
[null,null,"SUBTOTAL",{"$f":"SUM(E36:F36)","v":29911},15189,14722,null,null,{"$f":"SUM(I31:I35)","v":277},261,301,312,268,265,298,315,264,294,403,367,1240,1251,1615,1512,1525,1503,2794,2681,3129,3084,3075,2877,149,167,321,334,{"$nulls":30},{"$f":"IF($D36>=$U36+$V36,\"\",\"* El Total de Pueblos Originarios no debe ser mayor al Total Indicador peso/talla. \")","v":""},{"$f":"IF($D36>=$W36+$X36,\"\",\"* El Total de Población Migrantes no debe ser mayor al Total Indicador peso/talla. \")","v":""},{"$nulls":23},{"$f":"IF($D36>=$U36+$V36,0,1)","v":0},{"$f":"IF($D36>=$W36+$X36,0,1)","v":0}]
["P2070506",null,"DESNUTRICIÓN \nSECUNDARIA",{"$f":"SUM(E37:F37)","v":13},5,8,0,0,{"$f":"IFERROR(VLOOKUP($A37,Filtro!$A$5:$AY$629,7,FALSE),0)","v":0},{"$f":"IFERROR(VLOOKUP($A37,Filtro!$A$5:$AY$629,8,FALSE),0)","v":1},{"$f":"IFERROR(VLOOKUP($A37,Filtro!$A$5:$AY$629,9,FALSE),0)","v":0},{"$f":"IFERROR(VLOOKUP($A37,Filtro!$A$5:$AY$629,10,FALSE),0)","v":0},{"$f":"IFERROR(VLOOKUP($A37,Filtro!$A$5:$AY$629,11,FALSE),0)","v":0},{"$f":"IFERROR(VLOOKUP($A37,Filtro!$A$5:$AY$629,12,FALSE),0)","v":0},{"$f":"IFERROR(VLOOKUP($A37,Filtro!$A$5:$AY$629,13,FALSE),0)","v":1},{"$f":"IFERROR(VLOOKUP($A37,Filtro!$A$5:$AY$629,14,FALSE),0)","v":0},{"$f":"IFERROR(VLOOKUP($A37,Filtro!$A$5:$AY$629,15,FALSE),0)","v":0},{"$f":"IFERROR(VLOOKUP($A37,Filtro!$A$5:$AY$629,16,FALSE),0)","v":0},{"$f":"IFERROR(VLOOKUP($A37,Filtro!$A$5:$AY$629,17,FALSE),0)","v":0},{"$f":"IFERROR(VLOOKUP($A37,Filtro!$A$5:$AY$629,18,FALSE),0)","v":0},{"$f":"IFERROR(VLOOKUP($A37,Filtro!$A$5:$AY$629,19,FALSE),0)","v":0},{"$f":"IFERROR(VLOOKUP($A37,Filtro!$A$5:$AY$629,20,FALSE),0)","v":1},{"$f":"IFERROR(VLOOKUP($A37,Filtro!$A$5:$AY$629,21,FALSE),0)","v":1},{"$f":"IFERROR(VLOOKUP($A37,Filtro!$A$5:$AY$629,22,FALSE),0)","v":0},{"$f":"IFERROR(VLOOKUP($A37,Filtro!$A$5:$AY$629,23,FALSE),0)","v":0},{"$f":"IFERROR(VLOOKUP($A37,Filtro!$A$5:$AY$629,24,FALSE),0)","v":1},{"$f":"IFERROR(VLOOKUP($A37,Filtro!$A$5:$AY$629,25,FALSE),0)","v":1},{"$f":"IFERROR(VLOOKUP($A37,Filtro!$A$5:$AY$629,26,FALSE),0)","v":1},{"$f":"IFERROR(VLOOKUP($A37,Filtro!$A$5:$AY$629,27,FALSE),0)","v":1},{"$f":"IFERROR(VLOOKUP($A37,Filtro!$A$5:$AY$629,28,FALSE),0)","v":3},{"$f":"IFERROR(VLOOKUP($A37,Filtro!$A$5:$AY$629,29,FALSE),0)","v":1},{"$f":"IFERROR(VLOOKUP($A37,Filtro!$A$5:$AY$629,30,FALSE),0)","v":1},{"$f":"IFERROR(VLOOKUP($A37,Filtro!$A$5:$AY$629,31,FALSE),0)","v":0},{"$f":"IFERROR(VLOOKUP($A37,Filtro!$A$5:$AY$629,32,FALSE),0)","v":0},{"$f":"IFERROR(VLOOKUP($A37,Filtro!$A$5:$AY$629,33,FALSE),0)","v":1},{"$f":"IFERROR(VLOOKUP($A37,Filtro!$A$5:$AY$629,34,FALSE),0)","v":1},{"$nulls":37},{"$f":"IF(AND(E37<>0,U37=\"\"), \"* No olvide escribir en la celda de Pueblos Originarios (Digite CERO si no tiene). \",IF(AND(F37<>0,V37=\"\"), \"* No olvide escribir en la celda de Pueblos Originarios (Digite CERO si no tiene). \",\"\"))","v":""},{"$f":"IF(AND(E37<>0,W37=\"\"), \"* No olvide escribir en la celda de Población Migrantes (Digite CERO si no tiene). \",IF(AND(F37<>0,X37=\"\"), \"* No olvide escribir en la celda de Población Migrantes (Digite CERO si no tiene). \",\"\"))","v":""},{"$nulls":23},{"$f":"IF(AND(E37<>0,U37=\"\"), 1,IF(AND(F37<>0,V37=\"\"), 1,0))","v":0},{"$f":"IF(AND(E37<>0,W37=\"\"), 1,IF(AND(F37<>0,X37=\"\"), 1,0))","v":0}]
[null,null,"TOTAL",29924,15194,14730,null,null,{"$f":"SUM(I31:I35)+I37","v":277},262,301,312,268,265,299,315,264,294,403,367,1240,1252,1616,1512,1525,1504,2795,2682,3130,3087,3076,2878,149,167,322,335]
["P2501800","NIÑOS SIN EVALUACIÓN NUTRICIONAL POR CURSO DE VIDA (RECIÉN NACIDOS) O POR CONDICIÓN ESPECIAL DE SALUD",null,{"$f":"SUM(E39:F39)","v":160},{"$f":"+G39+I39+K39+M39+O39+Q39+S39+U39+W39+Y39+AA39+AC39+AE39","v":80},{"$f":"+H39+J39+L39+N39+P39+R39+T39+V39+X39+Z39+AB39+AD39+AF39","v":80},{"$f":"IFERROR(VLOOKUP($A39,Filtro!$A$5:$AY$629,5,FALSE),0)","v":72},{"$f":"IFERROR(VLOOKUP($A39,Filtro!$A$5:$AY$629,6,FALSE),0)","v":74},{"$f":"IFERROR(VLOOKUP($A39,Filtro!$A$5:$AY$629,7,FALSE),0)","v":0},{"$f":"IFERROR(VLOOKUP($A39,Filtro!$A$5:$AY$629,8,FALSE),0)","v":0},{"$f":"IFERROR(VLOOKUP($A39,Filtro!$A$5:$AY$629,9,FALSE),0)","v":0},{"$f":"IFERROR(VLOOKUP($A39,Filtro!$A$5:$AY$629,10,FALSE),0)","v":0},{"$f":"IFERROR(VLOOKUP($A39,Filtro!$A$5:$AY$629,11,FALSE),0)","v":0},{"$f":"IFERROR(VLOOKUP($A39,Filtro!$A$5:$AY$629,12,FALSE),0)","v":0},{"$f":"IFERROR(VLOOKUP($A39,Filtro!$A$5:$AY$629,13,FALSE),0)","v":0},{"$f":"IFERROR(VLOOKUP($A39,Filtro!$A$5:$AY$629,14,FALSE),0)","v":0},{"$f":"IFERROR(VLOOKUP($A39,Filtro!$A$5:$AY$629,15,FALSE),0)","v":0},{"$f":"IFERROR(VLOOKUP($A39,Filtro!$A$5:$AY$629,16,FALSE),0)","v":0},{"$f":"IFERROR(VLOOKUP($A39,Filtro!$A$5:$AY$629,17,FALSE),0)","v":0},{"$f":"IFERROR(VLOOKUP($A39,Filtro!$A$5:$AY$629,18,FALSE),0)","v":0},{"$f":"IFERROR(VLOOKUP($A39,Filtro!$A$5:$AY$629,19,FALSE),0)","v":0},{"$f":"IFERROR(VLOOKUP($A39,Filtro!$A$5:$AY$629,20,FALSE),0)","v":0},{"$f":"IFERROR(VLOOKUP($A39,Filtro!$A$5:$AY$629,21,FALSE),0)","v":0},{"$f":"IFERROR(VLOOKUP($A39,Filtro!$A$5:$AY$629,22,FALSE),0)","v":2},{"$f":"IFERROR(VLOOKUP($A39,Filtro!$A$5:$AY$629,23,FALSE),0)","v":0},{"$f":"IFERROR(VLOOKUP($A39,Filtro!$A$5:$AY$629,24,FALSE),0)","v":2},{"$f":"IFERROR(VLOOKUP($A39,Filtro!$A$5:$AY$629,25,FALSE),0)","v":1},{"$f":"IFERROR(VLOOKUP($A39,Filtro!$A$5:$AY$629,26,FALSE),0)","v":0},{"$f":"IFERROR(VLOOKUP($A39,Filtro!$A$5:$AY$629,27,FALSE),0)","v":3},{"$f":"IFERROR(VLOOKUP($A39,Filtro!$A$5:$AY$629,28,FALSE),0)","v":0},{"$f":"IFERROR(VLOOKUP($A39,Filtro!$A$5:$AY$629,29,FALSE),0)","v":4},{"$f":"IFERROR(VLOOKUP($A39,Filtro!$A$5:$AY$629,30,FALSE),0)","v":2},{"$f":"IFERROR(VLOOKUP($A39,Filtro!$A$5:$AY$629,31,FALSE),0)","v":0},{"$f":"IFERROR(VLOOKUP($A39,Filtro!$A$5:$AY$629,32,FALSE),0)","v":0},{"$f":"IFERROR(VLOOKUP($A39,Filtro!$A$5:$AY$629,33,FALSE),0)","v":0},{"$f":"IFERROR(VLOOKUP($A39,Filtro!$A$5:$AY$629,34,FALSE),0)","v":0},{"$nulls":30},{"$f":"IF($D39>=$U39+$V39,\"\",\"* El Total de Pueblos Originarios no debe ser mayor al Total Indicador peso/talla. \")","v":""},{"$f":"IF($D39>=$W39+$X39,\"\",\"* El Total de Población Migrantes no debe ser mayor al Total Indicador peso/talla. \")","v":""},{"$nulls":23},{"$f":"IF($D39>=$U39+$V39,0,1)","v":0},{"$f":"IF($D39>=$W39+$X39,0,1)","v":0}]
[null,"SECCION A.1: POBLACIÓN EN CONTROL, SEGÚN ESTADO NUTRICIONAL PARA NIÑOS AS DE 60 MESES - 9 AÑOS 11 MESES"]
[null,"INDICADOR NUTRICIONAL\nY\nPARÁMETROS DE MEDICIÓN",null,"TOTAL",null,null,"GRUPOS DE EDAD (en meses - años) Y SEXO"]
[{"$nulls":6},"60 a 71 meses",null,"6 a 6 años 11 meses",null,"7 a 7 años 11 meses",null,"8 a 8 años 11 meses",null,"9 a 9 años 11 meses",null,"Pueblos Originarios",null," Migrantes"]
[{"$nulls":3},"Ambos sexos","Hombres","Mujeres","Hombres","Mujeres","Hombres","Mujeres","Hombres","Mujeres","Hombres","Mujeres","Hombres","Mujeres","Hombres","Mujeres","Hombres","Mujeres"]
["P2400150","TOTAL DE NIÑOS EN CONTROL",null,{"$f":"+E44+F44","v":17598},{"$f":"+G44+I44+K44+M44+O44","v":8872},{"$f":"+H44+J44+L44+N44+P44","v":8726},{"$f":"IFERROR(VLOOKUP($A44,Filtro!$A$5:$AY$629,5,FALSE),0)","v":2587},{"$f":"IFERROR(VLOOKUP($A44,Filtro!$A$5:$AY$629,6,FALSE),0)","v":2552},{"$f":"IFERROR(VLOOKUP($A44,Filtro!$A$5:$AY$629,7,FALSE),0)","v":2152},{"$f":"IFERROR(VLOOKUP($A44,Filtro!$A$5:$AY$629,8,FALSE),0)","v":1996},{"$f":"IFERROR(VLOOKUP($A44,Filtro!$A$5:$AY$629,9,FALSE),0)","v":1694},{"$f":"IFERROR(VLOOKUP($A44,Filtro!$A$5:$AY$629,10,FALSE),0)","v":1706},{"$f":"IFERROR(VLOOKUP($A44,Filtro!$A$5:$AY$629,11,FALSE),0)","v":1381},{"$f":"IFERROR(VLOOKUP($A44,Filtro!$A$5:$AY$629,12,FALSE),0)","v":1411},{"$f":"IFERROR(VLOOKUP($A44,Filtro!$A$5:$AY$629,13,FALSE),0)","v":1058},{"$f":"IFERROR(VLOOKUP($A44,Filtro!$A$5:$AY$629,14,FALSE),0)","v":1061},{"$f":"IFERROR(VLOOKUP($A44,Filtro!$A$5:$AY$629,15,FALSE),0)","v":144},{"$f":"IFERROR(VLOOKUP($A44,Filtro!$A$5:$AY$629,16,FALSE),0)","v":153},{"$f":"IFERROR(VLOOKUP($A44,Filtro!$A$5:$AY$629,17,FALSE),0)","v":293},{"$f":"IFERROR(VLOOKUP($A44,Filtro!$A$5:$AY$629,18,FALSE),0)","v":287},{"$f":"CI44 & CJ44 & CK44 & CL44 & CM44 & CN44 & CP44 & CQ44","v":"* El Total de niños en control de 60 a 71 meses no debe ser distinto al total del Diagnóstico Nutricional Integrado. * El Total de niñas en control de 6 a 6 años 11 meses no debe ser distinto al total del Diagnóstico Nutricional Integrado. * El Total de niños en control de 7 a 7 años 11 meses no debe ser distinto al total del Diagnóstico Nutricional Integrado. * El Total de niñas en control de 8 a 8 años 11 meses no debe ser distinto al total del Diagnóstico Nutricional Integrado. "},{"$nulls":65},{"$f":"IF(G44+H44<>G72+H72,\"* El Total de niños en control de 60 a 71 meses no debe ser distinto al total del Diagnóstico Nutricional Integrado. \",\"\")","v":"* El Total de niños en control de 60 a 71 meses no debe ser distinto al total del Diagnóstico Nutricional Integrado. "},{"$f":"IF(I44+J44<>I72+J72,\"* El Total de niñas en control de 6 a 6 años 11 meses no debe ser distinto al total del Diagnóstico Nutricional Integrado. \",\"\")","v":"* El Total de niñas en control de 6 a 6 años 11 meses no debe ser distinto al total del Diagnóstico Nutricional Integrado. "},{"$f":"IF(K44+L44<>K72+L72,\"* El Total de niños en control de 7 a 7 años 11 meses no debe ser distinto al total del Diagnóstico Nutricional Integrado. \",\"\")","v":"* El Total de niños en control de 7 a 7 años 11 meses no debe ser distinto al total del Diagnóstico Nutricional Integrado. "},{"$f":"IF(M44+N44<>M72+N72,\"* El Total de niñas en control de 8 a 8 años 11 meses no debe ser distinto al total del Diagnóstico Nutricional Integrado. \",\"\")","v":"* El Total de niñas en control de 8 a 8 años 11 meses no debe ser distinto al total del Diagnóstico Nutricional Integrado. "},{"$f":"IF($D44>=$Q44+$R44,\"\",\"* El Total de Pueblos Originarios no debe ser mayor al total de niños en control. \")","v":""},{"$f":"IF($D44>=$S44+$T44,\"\",\"* El Total de Pueblación Migrantes no debe ser mayor al total de niños en control. \")","v":""},null,{"$f":"IF(AND(E44<>0,Q44=\"\"), \"* No olvide escribir en la celda de Pueblos Originarios (Digite CERO si no tiene). \",IF(AND(F44<>0,R44=\"\"), \"* No olvide escribir en la celda de Pueblos Originarios (Digite CERO si no tiene). \",\"\"))","v":""},{"$f":"IF(AND(E44<>0,S44=\"\"), \"* No olvide escribir en la celda de Población Migrantes (Digite CERO si no tiene). \",IF(AND(F44<>0,T44=\"\"), \"* No olvide escribir en la celda de Población Migrantes (Digite CERO si no tiene). \",\"\"))","v":""},{"$nulls":16},{"$f":"IF(G44<>G72,1,0)","v":1},{"$f":"IF(H44<>H72,1,0)","v":1},{"$f":"IF(O44<>O72,1,0)","v":1},{"$f":"IF(P44<>P72,1,0)","v":1},{"$f":"IF($D44>=$Q44+$R44,0,1)","v":0},{"$f":"IF($D44>=$S44+$T44,0,1)","v":0},null,{"$f":"IF(AND(E44<>0,Q44=\"\"), 1,IF(AND(F44<>0,R44=\"\"), 1,0))","v":0},{"$f":"IF(AND(E44<>0,S44=\"\"), 1,IF(AND(F44<>0,T44=\"\"), 1,0))","v":0}]
["P2400160","INDICADOR IMC / EDAD","+ 3 D.S. (>= 3 )",{"$f":"+E45+F45","v":1570},{"$f":"+G45+I45+K45+M45+O45","v":1017},553,{"$f":"IFERROR(VLOOKUP($A45,Filtro!$A$5:$AY$629,5,FALSE),0)","v":190},{"$f":"IFERROR(VLOOKUP($A45,Filtro!$A$5:$AY$629,6,FALSE),0)","v":98},{"$f":"IFERROR(VLOOKUP($A45,Filtro!$A$5:$AY$629,7,FALSE),0)","v":247},{"$f":"IFERROR(VLOOKUP($A45,Filtro!$A$5:$AY$629,8,FALSE),0)","v":131},{"$f":"IFERROR(VLOOKUP($A45,Filtro!$A$5:$AY$629,9,FALSE),0)","v":219},{"$f":"IFERROR(VLOOKUP($A45,Filtro!$A$5:$AY$629,10,FALSE),0)","v":129},{"$f":"IFERROR(VLOOKUP($A45,Filtro!$A$5:$AY$629,11,FALSE),0)","v":218},{"$f":"IFERROR(VLOOKUP($A45,Filtro!$A$5:$AY$629,12,FALSE),0)","v":122},{"$f":"IFERROR(VLOOKUP($A45,Filtro!$A$5:$AY$629,13,FALSE),0)","v":143},{"$f":"IFERROR(VLOOKUP($A45,Filtro!$A$5:$AY$629,14,FALSE),0)","v":73},{"$f":"IFERROR(VLOOKUP($A45,Filtro!$A$5:$AY$629,15,FALSE),0)","v":4},{"$f":"IFERROR(VLOOKUP($A45,Filtro!$A$5:$AY$629,16,FALSE),0)","v":8},{"$f":"IFERROR(VLOOKUP($A45,Filtro!$A$5:$AY$629,17,FALSE),0)","v":4},{"$f":"IFERROR(VLOOKUP($A45,Filtro!$A$5:$AY$629,18,FALSE),0)","v":4},{"$f":"CP45 & CQ45","v":""},{"$nulls":72},{"$f":"IF(AND(E45<>0,Q45=\"\"), \"* No olvide escribir en la celda de Pueblos Originarios (Digite CERO si no tiene). \",IF(AND(F45<>0,R45=\"\"), \"* No olvide escribir en la celda de Pueblos Originarios (Digite CERO si no tiene). \",\"\"))","v":""},{"$f":"IF(AND(E45<>0,S45=\"\"), \"* No olvide escribir en la celda de Población Migrantes (Digite CERO si no tiene). \",IF(AND(F45<>0,T45=\"\"), \"* No olvide escribir en la celda de Población Migrantes (Digite CERO si no tiene). \",\"\"))","v":""},{"$nulls":23},{"$f":"IF(AND(E45<>0,Q45=\"\"), 1,IF(AND(F45<>0,R45=\"\"), 1,0))","v":0},{"$f":"IF(AND(E45<>0,S45=\"\"), 1,IF(AND(F45<>0,T45=\"\"), 1,0))","v":0}]
["P2400170",null,"+ 2 D.S. (>= +2.0 a +2.9)",{"$f":"+E46+F46","v":3028},1498,1530,{"$f":"IFERROR(VLOOKUP($A46,Filtro!$A$5:$AY$629,5,FALSE),0)","v":371},{"$f":"IFERROR(VLOOKUP($A46,Filtro!$A$5:$AY$629,6,FALSE),0)","v":365},{"$f":"IFERROR(VLOOKUP($A46,Filtro!$A$5:$AY$629,7,FALSE),0)","v":305},{"$f":"IFERROR(VLOOKUP($A46,Filtro!$A$5:$AY$629,8,FALSE),0)","v":327},{"$f":"IFERROR(VLOOKUP($A46,Filtro!$A$5:$AY$629,9,FALSE),0)","v":276},{"$f":"IFERROR(VLOOKUP($A46,Filtro!$A$5:$AY$629,10,FALSE),0)","v":300},{"$f":"IFERROR(VLOOKUP($A46,Filtro!$A$5:$AY$629,11,FALSE),0)","v":275},{"$f":"IFERROR(VLOOKUP($A46,Filtro!$A$5:$AY$629,12,FALSE),0)","v":309},{"$f":"IFERROR(VLOOKUP($A46,Filtro!$A$5:$AY$629,13,FALSE),0)","v":271},{"$f":"IFERROR(VLOOKUP($A46,Filtro!$A$5:$AY$629,14,FALSE),0)","v":229},{"$f":"IFERROR(VLOOKUP($A46,Filtro!$A$5:$AY$629,15,FALSE),0)","v":13},{"$f":"IFERROR(VLOOKUP($A46,Filtro!$A$5:$AY$629,16,FALSE),0)","v":10},{"$f":"IFERROR(VLOOKUP($A46,Filtro!$A$5:$AY$629,17,FALSE),0)","v":16},{"$f":"IFERROR(VLOOKUP($A46,Filtro!$A$5:$AY$629,18,FALSE),0)","v":13},{"$f":"CP46 & CQ46","v":""},{"$nulls":72},{"$f":"IF(AND(E46<>0,Q46=\"\"), \"* No olvide escribir en la celda de Pueblos Originarios (Digite CERO si no tiene). \",IF(AND(F46<>0,R46=\"\"), \"* No olvide escribir en la celda de Pueblos Originarios (Digite CERO si no tiene). \",\"\"))","v":""},{"$f":"IF(AND(E46<>0,S46=\"\"), \"* No olvide escribir en la celda de Población Migrantes (Digite CERO si no tiene). \",IF(AND(F46<>0,T46=\"\"), \"* No olvide escribir en la celda de Población Migrantes (Digite CERO si no tiene). \",\"\"))","v":""},{"$nulls":23},{"$f":"IF(AND(E46<>0,Q46=\"\"), 1,IF(AND(F46<>0,R46=\"\"), 1,0))","v":0},{"$f":"IF(AND(E46<>0,S46=\"\"), 1,IF(AND(F46<>0,T46=\"\"), 1,0))","v":0}]
["P2400180",null,"+ 1 D.S. (>= +1.0 a +1.9)",3617,1757,1860,{"$f":"IFERROR(VLOOKUP($A47,Filtro!$A$5:$AY$629,5,FALSE),0)","v":493},{"$f":"IFERROR(VLOOKUP($A47,Filtro!$A$5:$AY$629,6,FALSE),0)","v":469},{"$f":"IFERROR(VLOOKUP($A47,Filtro!$A$5:$AY$629,7,FALSE),0)","v":394},{"$f":"IFERROR(VLOOKUP($A47,Filtro!$A$5:$AY$629,8,FALSE),0)","v":412},{"$f":"IFERROR(VLOOKUP($A47,Filtro!$A$5:$AY$629,9,FALSE),0)","v":362},{"$f":"IFERROR(VLOOKUP($A47,Filtro!$A$5:$AY$629,10,FALSE),0)","v":377},{"$f":"IFERROR(VLOOKUP($A47,Filtro!$A$5:$AY$629,11,FALSE),0)","v":287},{"$f":"IFERROR(VLOOKUP($A47,Filtro!$A$5:$AY$629,12,FALSE),0)","v":333},{"$f":"IFERROR(VLOOKUP($A47,Filtro!$A$5:$AY$629,13,FALSE),0)","v":221},{"$f":"IFERROR(VLOOKUP($A47,Filtro!$A$5:$AY$629,14,FALSE),0)","v":269},{"$f":"IFERROR(VLOOKUP($A47,Filtro!$A$5:$AY$629,15,FALSE),0)","v":13},{"$f":"IFERROR(VLOOKUP($A47,Filtro!$A$5:$AY$629,16,FALSE),0)","v":9},{"$f":"IFERROR(VLOOKUP($A47,Filtro!$A$5:$AY$629,17,FALSE),0)","v":29},{"$f":"IFERROR(VLOOKUP($A47,Filtro!$A$5:$AY$629,18,FALSE),0)","v":26},{"$f":"CP47 & CQ47","v":""},{"$nulls":72},{"$f":"IF(AND(E47<>0,Q47=\"\"), \"* No olvide escribir en la celda de Pueblos Originarios (Digite CERO si no tiene). \",IF(AND(F47<>0,R47=\"\"), \"* No olvide escribir en la celda de Pueblos Originarios (Digite CERO si no tiene). \",\"\"))","v":""},{"$f":"IF(AND(E47<>0,S47=\"\"), \"* No olvide escribir en la celda de Población Migrantes (Digite CERO si no tiene). \",IF(AND(F47<>0,T47=\"\"), \"* No olvide escribir en la celda de Población Migrantes (Digite CERO si no tiene). \",\"\"))","v":""},{"$nulls":23},{"$f":"IF(AND(E47<>0,Q47=\"\"), 1,IF(AND(F47<>0,R47=\"\"), 1,0))","v":0},{"$f":"IF(AND(E47<>0,S47=\"\"), 1,IF(AND(F47<>0,T47=\"\"), 1,0))","v":0}]
[null,null,"TOTAL",8215,{"$f":"+G48+I48+K48+M48+O48","v":4272},{"$f":"+H48+J48+L48+N48+P48","v":3943},{"$f":"SUM(G45:G47)","v":1054},{"$f":"SUM(H45:H47)","v":932},946,870,857,806,780,764,635,571,30,27,49,43,{"$f":" CM48 & CN48","v":""},{"$nulls":69},{"$f":"IF($D48>=$Q48+$R48,\"\",\"* El Total de Pueblos Originarios no debe ser mayor al total de niños en control. \")","v":""},{"$f":"IF($D48>=$S48+$T48,\"\",\"* El Total de Pueblación Migrantes no debe ser mayor al total de niños en control. \")","v":""},{"$nulls":23},{"$f":"IF($D48>=$Q48+$R48,0,1)","v":0},{"$f":"IF($D48>=$S48+$T48,0,1)","v":0}]
["P2400190",null,"- 1 D.S. (<= -1.0 a -1.9)",620,{"$f":"+G49+I49+K49+M49+O49","v":328},{"$f":"+H49+J49+L49+N49+P49","v":292},{"$f":"IFERROR(VLOOKUP($A49,Filtro!$A$5:$AY$629,5,FALSE),0)","v":92},{"$f":"IFERROR(VLOOKUP($A49,Filtro!$A$5:$AY$629,6,FALSE),0)","v":80},{"$f":"IFERROR(VLOOKUP($A49,Filtro!$A$5:$AY$629,7,FALSE),0)","v":94},{"$f":"IFERROR(VLOOKUP($A49,Filtro!$A$5:$AY$629,8,FALSE),0)","v":64},{"$f":"IFERROR(VLOOKUP($A49,Filtro!$A$5:$AY$629,9,FALSE),0)","v":71},{"$f":"IFERROR(VLOOKUP($A49,Filtro!$A$5:$AY$629,10,FALSE),0)","v":64},{"$f":"IFERROR(VLOOKUP($A49,Filtro!$A$5:$AY$629,11,FALSE),0)","v":46},{"$f":"IFERROR(VLOOKUP($A49,Filtro!$A$5:$AY$629,12,FALSE),0)","v":51},{"$f":"IFERROR(VLOOKUP($A49,Filtro!$A$5:$AY$629,13,FALSE),0)","v":25},{"$f":"IFERROR(VLOOKUP($A49,Filtro!$A$5:$AY$629,14,FALSE),0)","v":33},{"$f":"IFERROR(VLOOKUP($A49,Filtro!$A$5:$AY$629,15,FALSE),0)","v":4},{"$f":"IFERROR(VLOOKUP($A49,Filtro!$A$5:$AY$629,16,FALSE),0)","v":3},{"$f":"IFERROR(VLOOKUP($A49,Filtro!$A$5:$AY$629,17,FALSE),0)","v":14},{"$f":"IFERROR(VLOOKUP($A49,Filtro!$A$5:$AY$629,18,FALSE),0)","v":11},{"$f":"CP49 & CQ49","v":""},{"$nulls":72},{"$f":"IF(AND(E49<>0,Q49=\"\"), \"* No olvide escribir en la celda de Pueblos Originarios (Digite CERO si no tiene). \",IF(AND(F49<>0,R49=\"\"), \"* No olvide escribir en la celda de Pueblos Originarios (Digite CERO si no tiene). \",\"\"))","v":""},{"$f":"IF(AND(E49<>0,S49=\"\"), \"* No olvide escribir en la celda de Población Migrantes (Digite CERO si no tiene). \",IF(AND(F49<>0,T49=\"\"), \"* No olvide escribir en la celda de Población Migrantes (Digite CERO si no tiene). \",\"\"))","v":""},{"$nulls":23},{"$f":"IF(AND(E49<>0,Q49=\"\"), 1,IF(AND(F49<>0,R49=\"\"), 1,0))","v":0},{"$f":"IF(AND(E49<>0,S49=\"\"), 1,IF(AND(F49<>0,T49=\"\"), 1,0))","v":0}]
["P2400200",null,"- 2 D.S. (<= -2.0)",{"$f":"+E50+F50","v":64},31,33,{"$f":"IFERROR(VLOOKUP($A50,Filtro!$A$5:$AY$629,5,FALSE),0)","v":7},{"$f":"IFERROR(VLOOKUP($A50,Filtro!$A$5:$AY$629,6,FALSE),0)","v":10},{"$f":"IFERROR(VLOOKUP($A50,Filtro!$A$5:$AY$629,7,FALSE),0)","v":8},{"$f":"IFERROR(VLOOKUP($A50,Filtro!$A$5:$AY$629,8,FALSE),0)","v":4},{"$f":"IFERROR(VLOOKUP($A50,Filtro!$A$5:$AY$629,9,FALSE),0)","v":7},{"$f":"IFERROR(VLOOKUP($A50,Filtro!$A$5:$AY$629,10,FALSE),0)","v":7},{"$f":"IFERROR(VLOOKUP($A50,Filtro!$A$5:$AY$629,11,FALSE),0)","v":8},{"$f":"IFERROR(VLOOKUP($A50,Filtro!$A$5:$AY$629,12,FALSE),0)","v":6},{"$f":"IFERROR(VLOOKUP($A50,Filtro!$A$5:$AY$629,13,FALSE),0)","v":1},{"$f":"IFERROR(VLOOKUP($A50,Filtro!$A$5:$AY$629,14,FALSE),0)","v":6},{"$f":"IFERROR(VLOOKUP($A50,Filtro!$A$5:$AY$629,15,FALSE),0)","v":1},{"$f":"IFERROR(VLOOKUP($A50,Filtro!$A$5:$AY$629,16,FALSE),0)","v":2},{"$f":"IFERROR(VLOOKUP($A50,Filtro!$A$5:$AY$629,17,FALSE),0)","v":1},{"$f":"IFERROR(VLOOKUP($A50,Filtro!$A$5:$AY$629,18,FALSE),0)","v":1},{"$f":"CP50 & CQ50","v":""},{"$nulls":72},{"$f":"IF(AND(E50<>0,Q50=\"\"), \"* No olvide escribir en la celda de Pueblos Originarios (Digite CERO si no tiene). \",IF(AND(F50<>0,R50=\"\"), \"* No olvide escribir en la celda de Pueblos Originarios (Digite CERO si no tiene). \",\"\"))","v":""},{"$f":"IF(AND(E50<>0,S50=\"\"), \"* No olvide escribir en la celda de Población Migrantes (Digite CERO si no tiene). \",IF(AND(F50<>0,T50=\"\"), \"* No olvide escribir en la celda de Población Migrantes (Digite CERO si no tiene). \",\"\"))","v":""},{"$nulls":23},{"$f":"IF(AND(E50<>0,Q50=\"\"), 1,IF(AND(F50<>0,R50=\"\"), 1,0))","v":0},{"$f":"IF(AND(E50<>0,S50=\"\"), 1,IF(AND(F50<>0,T50=\"\"), 1,0))","v":0}]
[null,null,"TOTAL",{"$f":"+E51+F51","v":684},{"$f":"+G51+I51+K51+M51+O51","v":359},{"$f":"+H51+J51+L51+N51+P51","v":325},{"$f":"SUM(G49:G50)","v":99},{"$f":"SUM(H49:H50)","v":90},102,68,78,71,54,57,26,39,5,5,15,12,{"$f":" CM51 & CN51","v":""},{"$nulls":69},{"$f":"IF($D51>=$Q51+$R51,\"\",\"* El Total de Pueblos Originarios no debe ser mayor al total de niños en control. \")","v":""},{"$f":"IF($D51>=$S51+$T51,\"\",\"* El Total de Pueblación Migrantes no debe ser mayor al total de niños en control. \")","v":""},{"$nulls":23},{"$f":"IF($D51>=$Q51+$R51,0,1)","v":0},{"$f":"IF($D51>=$S51+$T51,0,1)","v":0}]
["P2400210",null,"PROMEDIO (-0,9 A + 0,9)",6561,{"$f":"+G52+I52+K52+M52+O52","v":3212},{"$f":"+H52+J52+L52+N52+P52","v":3349},{"$f":"IFERROR(VLOOKUP($A52,Filtro!$A$5:$AY$629,5,FALSE),0)","v":1072},{"$f":"IFERROR(VLOOKUP($A52,Filtro!$A$5:$AY$629,6,FALSE),0)","v":1126},{"$f":"IFERROR(VLOOKUP($A52,Filtro!$A$5:$AY$629,7,FALSE),0)","v":863},{"$f":"IFERROR(VLOOKUP($A52,Filtro!$A$5:$AY$629,8,FALSE),0)","v":824},{"$f":"IFERROR(VLOOKUP($A52,Filtro!$A$5:$AY$629,9,FALSE),0)","v":561},{"$f":"IFERROR(VLOOKUP($A52,Filtro!$A$5:$AY$629,10,FALSE),0)","v":616},{"$f":"IFERROR(VLOOKUP($A52,Filtro!$A$5:$AY$629,11,FALSE),0)","v":395},{"$f":"IFERROR(VLOOKUP($A52,Filtro!$A$5:$AY$629,12,FALSE),0)","v":425},{"$f":"IFERROR(VLOOKUP($A52,Filtro!$A$5:$AY$629,13,FALSE),0)","v":321},{"$f":"IFERROR(VLOOKUP($A52,Filtro!$A$5:$AY$629,14,FALSE),0)","v":358},{"$f":"IFERROR(VLOOKUP($A52,Filtro!$A$5:$AY$629,15,FALSE),0)","v":55},{"$f":"IFERROR(VLOOKUP($A52,Filtro!$A$5:$AY$629,16,FALSE),0)","v":63},{"$f":"IFERROR(VLOOKUP($A52,Filtro!$A$5:$AY$629,17,FALSE),0)","v":144},{"$f":"IFERROR(VLOOKUP($A52,Filtro!$A$5:$AY$629,18,FALSE),0)","v":170},{"$f":"CP52 & CQ52","v":""},{"$nulls":72},{"$f":"IF(AND(E52<>0,Q52=\"\"), \"* No olvide escribir en la celda de Pueblos Originarios (Digite CERO si no tiene). \",IF(AND(F52<>0,R52=\"\"), \"* No olvide escribir en la celda de Pueblos Originarios (Digite CERO si no tiene). \",\"\"))","v":""},{"$f":"IF(AND(E52<>0,S52=\"\"), \"* No olvide escribir en la celda de Población Migrantes (Digite CERO si no tiene). \",IF(AND(F52<>0,T52=\"\"), \"* No olvide escribir en la celda de Población Migrantes (Digite CERO si no tiene). \",\"\"))","v":""},{"$nulls":23},{"$f":"IF(AND(E52<>0,Q52=\"\"), 1,IF(AND(F52<>0,R52=\"\"), 1,0))","v":0},{"$f":"IF(AND(E52<>0,S52=\"\"), 1,IF(AND(F52<>0,T52=\"\"), 1,0))","v":0}]
["P2400220","INDICADOR TALLA/EDAD","+ 2 D.S. (>= +2.0)",880,{"$f":"+G53+I53+K53+M53+O53","v":434},446,{"$f":"IFERROR(VLOOKUP($A53,Filtro!$A$5:$AY$629,5,FALSE),0)","v":125},{"$f":"IFERROR(VLOOKUP($A53,Filtro!$A$5:$AY$629,6,FALSE),0)","v":110},{"$f":"IFERROR(VLOOKUP($A53,Filtro!$A$5:$AY$629,7,FALSE),0)","v":108},{"$f":"IFERROR(VLOOKUP($A53,Filtro!$A$5:$AY$629,8,FALSE),0)","v":95},{"$f":"IFERROR(VLOOKUP($A53,Filtro!$A$5:$AY$629,9,FALSE),0)","v":74},{"$f":"IFERROR(VLOOKUP($A53,Filtro!$A$5:$AY$629,10,FALSE),0)","v":93},{"$f":"IFERROR(VLOOKUP($A53,Filtro!$A$5:$AY$629,11,FALSE),0)","v":63},{"$f":"IFERROR(VLOOKUP($A53,Filtro!$A$5:$AY$629,12,FALSE),0)","v":93},{"$f":"IFERROR(VLOOKUP($A53,Filtro!$A$5:$AY$629,13,FALSE),0)","v":64},{"$f":"IFERROR(VLOOKUP($A53,Filtro!$A$5:$AY$629,14,FALSE),0)","v":55},{"$f":"IFERROR(VLOOKUP($A53,Filtro!$A$5:$AY$629,15,FALSE),0)","v":9},{"$f":"IFERROR(VLOOKUP($A53,Filtro!$A$5:$AY$629,16,FALSE),0)","v":10},{"$f":"IFERROR(VLOOKUP($A53,Filtro!$A$5:$AY$629,17,FALSE),0)","v":7},{"$f":"IFERROR(VLOOKUP($A53,Filtro!$A$5:$AY$629,18,FALSE),0)","v":11},{"$f":"CP53 & CQ53","v":""},{"$nulls":72},{"$f":"IF(AND(E53<>0,Q53=\"\"), \"* No olvide escribir en la celda de Pueblos Originarios (Digite CERO si no tiene). \",IF(AND(F53<>0,R53=\"\"), \"* No olvide escribir en la celda de Pueblos Originarios (Digite CERO si no tiene). \",\"\"))","v":""},{"$f":"IF(AND(E53<>0,S53=\"\"), \"* No olvide escribir en la celda de Población Migrantes (Digite CERO si no tiene). \",IF(AND(F53<>0,T53=\"\"), \"* No olvide escribir en la celda de Población Migrantes (Digite CERO si no tiene). \",\"\"))","v":""},{"$nulls":23},{"$f":"IF(AND(E53<>0,Q53=\"\"), 1,IF(AND(F53<>0,R53=\"\"), 1,0))","v":0},{"$f":"IF(AND(E53<>0,S53=\"\"), 1,IF(AND(F53<>0,T53=\"\"), 1,0))","v":0}]
["P2400230",null,"+ 1 D.S. (+1.0 a +1.9)",2937,1510,1427,{"$f":"IFERROR(VLOOKUP($A54,Filtro!$A$5:$AY$629,5,FALSE),0)","v":408},{"$f":"IFERROR(VLOOKUP($A54,Filtro!$A$5:$AY$629,6,FALSE),0)","v":333},{"$f":"IFERROR(VLOOKUP($A54,Filtro!$A$5:$AY$629,7,FALSE),0)","v":347},{"$f":"IFERROR(VLOOKUP($A54,Filtro!$A$5:$AY$629,8,FALSE),0)","v":306},{"$f":"IFERROR(VLOOKUP($A54,Filtro!$A$5:$AY$629,9,FALSE),0)","v":293},{"$f":"IFERROR(VLOOKUP($A54,Filtro!$A$5:$AY$629,10,FALSE),0)","v":289},{"$f":"IFERROR(VLOOKUP($A54,Filtro!$A$5:$AY$629,11,FALSE),0)","v":268},{"$f":"IFERROR(VLOOKUP($A54,Filtro!$A$5:$AY$629,12,FALSE),0)","v":278},{"$f":"IFERROR(VLOOKUP($A54,Filtro!$A$5:$AY$629,13,FALSE),0)","v":194},{"$f":"IFERROR(VLOOKUP($A54,Filtro!$A$5:$AY$629,14,FALSE),0)","v":221},{"$f":"IFERROR(VLOOKUP($A54,Filtro!$A$5:$AY$629,15,FALSE),0)","v":12},{"$f":"IFERROR(VLOOKUP($A54,Filtro!$A$5:$AY$629,16,FALSE),0)","v":15},{"$f":"IFERROR(VLOOKUP($A54,Filtro!$A$5:$AY$629,17,FALSE),0)","v":30},{"$f":"IFERROR(VLOOKUP($A54,Filtro!$A$5:$AY$629,18,FALSE),0)","v":26},{"$f":"CP54 & CQ54","v":""},{"$nulls":72},{"$f":"IF(AND(E54<>0,Q54=\"\"), \"* No olvide escribir en la celda de Pueblos Originarios (Digite CERO si no tiene). \",IF(AND(F54<>0,R54=\"\"), \"* No olvide escribir en la celda de Pueblos Originarios (Digite CERO si no tiene). \",\"\"))","v":""},{"$f":"IF(AND(E54<>0,S54=\"\"), \"* No olvide escribir en la celda de Población Migrantes (Digite CERO si no tiene). \",IF(AND(F54<>0,T54=\"\"), \"* No olvide escribir en la celda de Población Migrantes (Digite CERO si no tiene). \",\"\"))","v":""},{"$nulls":23},{"$f":"IF(AND(E54<>0,Q54=\"\"), 1,IF(AND(F54<>0,R54=\"\"), 1,0))","v":0},{"$f":"IF(AND(E54<>0,S54=\"\"), 1,IF(AND(F54<>0,T54=\"\"), 1,0))","v":0}]
[null,null,"TOTAL",3817,{"$f":"+G55+I55+K55+M55+O55","v":1944},{"$f":"+H55+J55+L55+N55+P55","v":1873},{"$f":"SUM(G53:G54)","v":533},{"$f":"SUM(H53:H54)","v":443},455,401,367,382,331,371,258,276,21,25,37,37,{"$f":" CM55 & CN55","v":""},{"$nulls":69},{"$f":"IF($D55>=$Q55+$R55,\"\",\"* El Total de Pueblos Originarios no debe ser mayor al total de niños en control. \")","v":""},{"$f":"IF($D55>=$S55+$T55,\"\",\"* El Total de Pueblación Migrantes no debe ser mayor al total de niños en control. \")","v":""},{"$nulls":23},{"$f":"IF($D55>=$Q55+$R55,0,1)","v":0},{"$f":"IF($D55>=$S55+$T55,0,1)","v":0}]
["P2400240",null,"- 1 D.S. (-1.0 a -1.9)",1452,{"$f":"+G56+I56+K56+M56+O56","v":747},705,{"$f":"IFERROR(VLOOKUP($A56,Filtro!$A$5:$AY$629,5,FALSE),0)","v":245},{"$f":"IFERROR(VLOOKUP($A56,Filtro!$A$5:$AY$629,6,FALSE),0)","v":251},{"$f":"IFERROR(VLOOKUP($A56,Filtro!$A$5:$AY$629,7,FALSE),0)","v":171},{"$f":"IFERROR(VLOOKUP($A56,Filtro!$A$5:$AY$629,8,FALSE),0)","v":139},{"$f":"IFERROR(VLOOKUP($A56,Filtro!$A$5:$AY$629,9,FALSE),0)","v":134},{"$f":"IFERROR(VLOOKUP($A56,Filtro!$A$5:$AY$629,10,FALSE),0)","v":158},{"$f":"IFERROR(VLOOKUP($A56,Filtro!$A$5:$AY$629,11,FALSE),0)","v":117},{"$f":"IFERROR(VLOOKUP($A56,Filtro!$A$5:$AY$629,12,FALSE),0)","v":86},{"$f":"IFERROR(VLOOKUP($A56,Filtro!$A$5:$AY$629,13,FALSE),0)","v":80},{"$f":"IFERROR(VLOOKUP($A56,Filtro!$A$5:$AY$629,14,FALSE),0)","v":71},{"$f":"IFERROR(VLOOKUP($A56,Filtro!$A$5:$AY$629,15,FALSE),0)","v":8},{"$f":"IFERROR(VLOOKUP($A56,Filtro!$A$5:$AY$629,16,FALSE),0)","v":9},{"$f":"IFERROR(VLOOKUP($A56,Filtro!$A$5:$AY$629,17,FALSE),0)","v":37},{"$f":"IFERROR(VLOOKUP($A56,Filtro!$A$5:$AY$629,18,FALSE),0)","v":34},{"$f":"CP56 & CQ56","v":""},{"$nulls":72},{"$f":"IF(AND(E56<>0,Q56=\"\"), \"* No olvide escribir en la celda de Pueblos Originarios (Digite CERO si no tiene). \",IF(AND(F56<>0,R56=\"\"), \"* No olvide escribir en la celda de Pueblos Originarios (Digite CERO si no tiene). \",\"\"))","v":""},{"$f":"IF(AND(E56<>0,S56=\"\"), \"* No olvide escribir en la celda de Población Migrantes (Digite CERO si no tiene). \",IF(AND(F56<>0,T56=\"\"), \"* No olvide escribir en la celda de Población Migrantes (Digite CERO si no tiene). \",\"\"))","v":""},{"$nulls":23},{"$f":"IF(AND(E56<>0,Q56=\"\"), 1,IF(AND(F56<>0,R56=\"\"), 1,0))","v":0},{"$f":"IF(AND(E56<>0,S56=\"\"), 1,IF(AND(F56<>0,T56=\"\"), 1,0))","v":0}]
["P2400250",null,"- 2 D.S. (<= -2.0)",200,111,89,{"$f":"IFERROR(VLOOKUP($A57,Filtro!$A$5:$AY$629,5,FALSE),0)","v":35},{"$f":"IFERROR(VLOOKUP($A57,Filtro!$A$5:$AY$629,6,FALSE),0)","v":28},{"$f":"IFERROR(VLOOKUP($A57,Filtro!$A$5:$AY$629,7,FALSE),0)","v":27},{"$f":"IFERROR(VLOOKUP($A57,Filtro!$A$5:$AY$629,8,FALSE),0)","v":15},{"$f":"IFERROR(VLOOKUP($A57,Filtro!$A$5:$AY$629,9,FALSE),0)","v":19},{"$f":"IFERROR(VLOOKUP($A57,Filtro!$A$5:$AY$629,10,FALSE),0)","v":25},{"$f":"IFERROR(VLOOKUP($A57,Filtro!$A$5:$AY$629,11,FALSE),0)","v":15},{"$f":"IFERROR(VLOOKUP($A57,Filtro!$A$5:$AY$629,12,FALSE),0)","v":11},{"$f":"IFERROR(VLOOKUP($A57,Filtro!$A$5:$AY$629,13,FALSE),0)","v":15},{"$f":"IFERROR(VLOOKUP($A57,Filtro!$A$5:$AY$629,14,FALSE),0)","v":10},{"$f":"IFERROR(VLOOKUP($A57,Filtro!$A$5:$AY$629,15,FALSE),0)","v":5},{"$f":"IFERROR(VLOOKUP($A57,Filtro!$A$5:$AY$629,16,FALSE),0)","v":2},{"$f":"IFERROR(VLOOKUP($A57,Filtro!$A$5:$AY$629,17,FALSE),0)","v":7},{"$f":"IFERROR(VLOOKUP($A57,Filtro!$A$5:$AY$629,18,FALSE),0)","v":1},{"$f":"CP57 & CQ57","v":""},{"$nulls":72},{"$f":"IF(AND(E57<>0,Q57=\"\"), \"* No olvide escribir en la celda de Pueblos Originarios (Digite CERO si no tiene). \",IF(AND(F57<>0,R57=\"\"), \"* No olvide escribir en la celda de Pueblos Originarios (Digite CERO si no tiene). \",\"\"))","v":""},{"$f":"IF(AND(E57<>0,S57=\"\"), \"* No olvide escribir en la celda de Población Migrantes (Digite CERO si no tiene). \",IF(AND(F57<>0,T57=\"\"), \"* No olvide escribir en la celda de Población Migrantes (Digite CERO si no tiene). \",\"\"))","v":""},{"$nulls":23},{"$f":"IF(AND(E57<>0,Q57=\"\"), 1,IF(AND(F57<>0,R57=\"\"), 1,0))","v":0},{"$f":"IF(AND(E57<>0,S57=\"\"), 1,IF(AND(F57<>0,T57=\"\"), 1,0))","v":0}]
[null,null,"TOTAL",0,{"$f":"+G58+I58+K58+M58+O58","v":0},{"$f":"+H58+J58+L58+N58+P58","v":0},0,0,0,0,0,0,0,0,0,0,0,0,0,0,{"$f":" CM58 & CN58","v":""},{"$nulls":69},{"$f":"IF($D58>=$Q58+$R58,\"\",\"* El Total de Pueblos Originarios no debe ser mayor al total de niños en control. \")","v":""},{"$f":"IF($D58>=$S58+$T58,\"\",\"* El Total de Pueblación Migrantes no debe ser mayor al total de niños en control. \")","v":""},{"$nulls":23},{"$f":"IF($D58>=$Q58+$R58,0,1)","v":0},{"$f":"IF($D58>=$S58+$T58,0,1)","v":0}]
["P2400260",null,"PROMEDIO (-0,9 A + 0,9)",9366,{"$f":"+G59+I59+K59+M59+O59","v":4728},4638,{"$f":"IFERROR(VLOOKUP($A59,Filtro!$A$5:$AY$629,5,FALSE),0)","v":1385},{"$f":"IFERROR(VLOOKUP($A59,Filtro!$A$5:$AY$629,6,FALSE),0)","v":1400},{"$f":"IFERROR(VLOOKUP($A59,Filtro!$A$5:$AY$629,7,FALSE),0)","v":1182},{"$f":"IFERROR(VLOOKUP($A59,Filtro!$A$5:$AY$629,8,FALSE),0)","v":1110},{"$f":"IFERROR(VLOOKUP($A59,Filtro!$A$5:$AY$629,9,FALSE),0)","v":894},{"$f":"IFERROR(VLOOKUP($A59,Filtro!$A$5:$AY$629,10,FALSE),0)","v":874},{"$f":"IFERROR(VLOOKUP($A59,Filtro!$A$5:$AY$629,11,FALSE),0)","v":688},{"$f":"IFERROR(VLOOKUP($A59,Filtro!$A$5:$AY$629,12,FALSE),0)","v":696},{"$f":"IFERROR(VLOOKUP($A59,Filtro!$A$5:$AY$629,13,FALSE),0)","v":579},{"$f":"IFERROR(VLOOKUP($A59,Filtro!$A$5:$AY$629,14,FALSE),0)","v":558},{"$f":"IFERROR(VLOOKUP($A59,Filtro!$A$5:$AY$629,15,FALSE),0)","v":61},{"$f":"IFERROR(VLOOKUP($A59,Filtro!$A$5:$AY$629,16,FALSE),0)","v":63},{"$f":"IFERROR(VLOOKUP($A59,Filtro!$A$5:$AY$629,17,FALSE),0)","v":145},{"$f":"IFERROR(VLOOKUP($A59,Filtro!$A$5:$AY$629,18,FALSE),0)","v":150},{"$f":"CP59 & CQ59","v":""},{"$nulls":72},{"$f":"IF(AND(E59<>0,Q59=\"\"), \"* No olvide escribir en la celda de Pueblos Originarios (Digite CERO si no tiene). \",IF(AND(F59<>0,R59=\"\"), \"* No olvide escribir en la celda de Pueblos Originarios (Digite CERO si no tiene). \",\"\"))","v":""},{"$f":"IF(AND(E59<>0,S59=\"\"), \"* No olvide escribir en la celda de Población Migrantes (Digite CERO si no tiene). \",IF(AND(F59<>0,T59=\"\"), \"* No olvide escribir en la celda de Población Migrantes (Digite CERO si no tiene). \",\"\"))","v":""},{"$nulls":23},{"$f":"IF(AND(E59<>0,Q59=\"\"), 1,IF(AND(F59<>0,R59=\"\"), 1,0))","v":0},{"$f":"IF(AND(E59<>0,S59=\"\"), 1,IF(AND(F59<>0,T59=\"\"), 1,0))","v":0}]
["P2400270","INDICADOR PERIMETRO DE CINTURA / EDAD","NORMAL (<p75)",8495,4211,4284,{"$f":"IFERROR(VLOOKUP($A60,Filtro!$A$5:$AY$629,5,FALSE),0)","v":1245},{"$f":"IFERROR(VLOOKUP($A60,Filtro!$A$5:$AY$629,6,FALSE),0)","v":1276},{"$f":"IFERROR(VLOOKUP($A60,Filtro!$A$5:$AY$629,7,FALSE),0)","v":1063},{"$f":"IFERROR(VLOOKUP($A60,Filtro!$A$5:$AY$629,8,FALSE),0)","v":999},{"$f":"IFERROR(VLOOKUP($A60,Filtro!$A$5:$AY$629,9,FALSE),0)","v":831},{"$f":"IFERROR(VLOOKUP($A60,Filtro!$A$5:$AY$629,10,FALSE),0)","v":837},{"$f":"IFERROR(VLOOKUP($A60,Filtro!$A$5:$AY$629,11,FALSE),0)","v":649},{"$f":"IFERROR(VLOOKUP($A60,Filtro!$A$5:$AY$629,12,FALSE),0)","v":667},{"$f":"IFERROR(VLOOKUP($A60,Filtro!$A$5:$AY$629,13,FALSE),0)","v":423},{"$f":"IFERROR(VLOOKUP($A60,Filtro!$A$5:$AY$629,14,FALSE),0)","v":505},{"$f":"IFERROR(VLOOKUP($A60,Filtro!$A$5:$AY$629,15,FALSE),0)","v":32},{"$f":"IFERROR(VLOOKUP($A60,Filtro!$A$5:$AY$629,16,FALSE),0)","v":33},{"$f":"IFERROR(VLOOKUP($A60,Filtro!$A$5:$AY$629,17,FALSE),0)","v":105},{"$f":"IFERROR(VLOOKUP($A60,Filtro!$A$5:$AY$629,18,FALSE),0)","v":118},{"$f":"CP60 & CQ60","v":""},{"$nulls":72},{"$f":"IF(AND(E60<>0,Q60=\"\"), \"* No olvide escribir en la celda de Pueblos Originarios (Digite CERO si no tiene). \",IF(AND(F60<>0,R60=\"\"), \"* No olvide escribir en la celda de Pueblos Originarios (Digite CERO si no tiene). \",\"\"))","v":""},{"$f":"IF(AND(E60<>0,S60=\"\"), \"* No olvide escribir en la celda de Población Migrantes (Digite CERO si no tiene). \",IF(AND(F60<>0,T60=\"\"), \"* No olvide escribir en la celda de Población Migrantes (Digite CERO si no tiene). \",\"\"))","v":""},{"$nulls":23},{"$f":"IF(AND(E60<>0,Q60=\"\"), 1,IF(AND(F60<>0,R60=\"\"), 1,0))","v":0},{"$f":"IF(AND(E60<>0,S60=\"\"), 1,IF(AND(F60<>0,T60=\"\"), 1,0))","v":0}]
["P2400280",null,"RIESGO DE OBESIDAD ABDOMINAL (75<p<90)",2681,1346,1335,{"$f":"IFERROR(VLOOKUP($A61,Filtro!$A$5:$AY$629,5,FALSE),0)","v":356},{"$f":"IFERROR(VLOOKUP($A61,Filtro!$A$5:$AY$629,6,FALSE),0)","v":324},{"$f":"IFERROR(VLOOKUP($A61,Filtro!$A$5:$AY$629,7,FALSE),0)","v":316},{"$f":"IFERROR(VLOOKUP($A61,Filtro!$A$5:$AY$629,8,FALSE),0)","v":279},{"$f":"IFERROR(VLOOKUP($A61,Filtro!$A$5:$AY$629,9,FALSE),0)","v":250},{"$f":"IFERROR(VLOOKUP($A61,Filtro!$A$5:$AY$629,10,FALSE),0)","v":267},{"$f":"IFERROR(VLOOKUP($A61,Filtro!$A$5:$AY$629,11,FALSE),0)","v":232},{"$f":"IFERROR(VLOOKUP($A61,Filtro!$A$5:$AY$629,12,FALSE),0)","v":259},{"$f":"IFERROR(VLOOKUP($A61,Filtro!$A$5:$AY$629,13,FALSE),0)","v":192},{"$f":"IFERROR(VLOOKUP($A61,Filtro!$A$5:$AY$629,14,FALSE),0)","v":206},{"$f":"IFERROR(VLOOKUP($A61,Filtro!$A$5:$AY$629,15,FALSE),0)","v":11},{"$f":"IFERROR(VLOOKUP($A61,Filtro!$A$5:$AY$629,16,FALSE),0)","v":10},{"$f":"IFERROR(VLOOKUP($A61,Filtro!$A$5:$AY$629,17,FALSE),0)","v":11},{"$f":"IFERROR(VLOOKUP($A61,Filtro!$A$5:$AY$629,18,FALSE),0)","v":11},{"$f":"CP61 & CQ61","v":""},{"$nulls":72},{"$f":"IF(AND(E61<>0,Q61=\"\"), \"* No olvide escribir en la celda de Pueblos Originarios (Digite CERO si no tiene). \",IF(AND(F61<>0,R61=\"\"), \"* No olvide escribir en la celda de Pueblos Originarios (Digite CERO si no tiene). \",\"\"))","v":""},{"$f":"IF(AND(E61<>0,S61=\"\"), \"* No olvide escribir en la celda de Población Migrantes (Digite CERO si no tiene). \",IF(AND(F61<>0,T61=\"\"), \"* No olvide escribir en la celda de Población Migrantes (Digite CERO si no tiene). \",\"\"))","v":""},{"$nulls":23},{"$f":"IF(AND(E61<>0,Q61=\"\"), 1,IF(AND(F61<>0,R61=\"\"), 1,0))","v":0},{"$f":"IF(AND(E61<>0,S61=\"\"), 1,IF(AND(F61<>0,T61=\"\"), 1,0))","v":0}]
["P2400290",null,"OBESIDAD ABDOMINAL (>p90)",3256,1721,1535,{"$f":"IFERROR(VLOOKUP($A62,Filtro!$A$5:$AY$629,5,FALSE),0)","v":382},{"$f":"IFERROR(VLOOKUP($A62,Filtro!$A$5:$AY$629,6,FALSE),0)","v":325},{"$f":"IFERROR(VLOOKUP($A62,Filtro!$A$5:$AY$629,7,FALSE),0)","v":343},{"$f":"IFERROR(VLOOKUP($A62,Filtro!$A$5:$AY$629,8,FALSE),0)","v":315},{"$f":"IFERROR(VLOOKUP($A62,Filtro!$A$5:$AY$629,9,FALSE),0)","v":353},{"$f":"IFERROR(VLOOKUP($A62,Filtro!$A$5:$AY$629,10,FALSE),0)","v":334},{"$f":"IFERROR(VLOOKUP($A62,Filtro!$A$5:$AY$629,11,FALSE),0)","v":355},{"$f":"IFERROR(VLOOKUP($A62,Filtro!$A$5:$AY$629,12,FALSE),0)","v":320},{"$f":"IFERROR(VLOOKUP($A62,Filtro!$A$5:$AY$629,13,FALSE),0)","v":288},{"$f":"IFERROR(VLOOKUP($A62,Filtro!$A$5:$AY$629,14,FALSE),0)","v":241},{"$f":"IFERROR(VLOOKUP($A62,Filtro!$A$5:$AY$629,15,FALSE),0)","v":13},{"$f":"IFERROR(VLOOKUP($A62,Filtro!$A$5:$AY$629,16,FALSE),0)","v":13},{"$f":"IFERROR(VLOOKUP($A62,Filtro!$A$5:$AY$629,17,FALSE),0)","v":20},{"$f":"IFERROR(VLOOKUP($A62,Filtro!$A$5:$AY$629,18,FALSE),0)","v":13},{"$f":"CP62 & CQ62","v":""},{"$nulls":72},{"$f":"IF(AND(E62<>0,Q62=\"\"), \"* No olvide escribir en la celda de Pueblos Originarios (Digite CERO si no tiene). \",IF(AND(F62<>0,R62=\"\"), \"* No olvide escribir en la celda de Pueblos Originarios (Digite CERO si no tiene). \",\"\"))","v":""},{"$f":"IF(AND(E62<>0,S62=\"\"), \"* No olvide escribir en la celda de Población Migrantes (Digite CERO si no tiene). \",IF(AND(F62<>0,T62=\"\"), \"* No olvide escribir en la celda de Población Migrantes (Digite CERO si no tiene). \",\"\"))","v":""},{"$nulls":23},{"$f":"IF(AND(E62<>0,Q62=\"\"), 1,IF(AND(F62<>0,R62=\"\"), 1,0))","v":0},{"$f":"IF(AND(E62<>0,S62=\"\"), 1,IF(AND(F62<>0,T62=\"\"), 1,0))","v":0}]
[null,null,"TOTAL",{"$f":"+E63+F63","v":0},{"$f":"+G63+I63+K63+M63+O63","v":0},{"$f":"+H63+J63+L63+N63+P63","v":0},0,0,0,0,0,0,0,0,0,0,0,0,0,0,{"$f":" CM63 & CN63","v":""},{"$nulls":69},{"$f":"IF($D63>=$Q63+$R63,\"\",\"* El Total de Pueblos Originarios no debe ser mayor al total de niños en control. \")","v":""},{"$f":"IF($D63>=$S63+$T63,\"\",\"* El Total de Pueblación Migrantes no debe ser mayor al total de niños en control. \")","v":""},{"$nulls":23},{"$f":"IF($D63>=$Q63+$R63,0,1)","v":0},{"$f":"IF($D63>=$S63+$T63,0,1)","v":0}]
["P2400300","DIAGNOSTICO NUTRICIONAL INTEGRADO","RIESGO DE DESNUTRIR/ DEFICIT PONDERAL*",596,{"$f":"+G64+I64+K64+M64+O64","v":306},290,{"$f":"IFERROR(VLOOKUP($A64,Filtro!$A$5:$AY$629,5,FALSE),0)","v":85},{"$f":"IFERROR(VLOOKUP($A64,Filtro!$A$5:$AY$629,6,FALSE),0)","v":81},{"$f":"IFERROR(VLOOKUP($A64,Filtro!$A$5:$AY$629,7,FALSE),0)","v":85},{"$f":"IFERROR(VLOOKUP($A64,Filtro!$A$5:$AY$629,8,FALSE),0)","v":64},{"$f":"IFERROR(VLOOKUP($A64,Filtro!$A$5:$AY$629,9,FALSE),0)","v":69},{"$f":"IFERROR(VLOOKUP($A64,Filtro!$A$5:$AY$629,10,FALSE),0)","v":60},{"$f":"IFERROR(VLOOKUP($A64,Filtro!$A$5:$AY$629,11,FALSE),0)","v":45},{"$f":"IFERROR(VLOOKUP($A64,Filtro!$A$5:$AY$629,12,FALSE),0)","v":55},{"$f":"IFERROR(VLOOKUP($A64,Filtro!$A$5:$AY$629,13,FALSE),0)","v":22},{"$f":"IFERROR(VLOOKUP($A64,Filtro!$A$5:$AY$629,14,FALSE),0)","v":30},{"$f":"IFERROR(VLOOKUP($A64,Filtro!$A$5:$AY$629,15,FALSE),0)","v":5},{"$f":"IFERROR(VLOOKUP($A64,Filtro!$A$5:$AY$629,16,FALSE),0)","v":3},{"$f":"IFERROR(VLOOKUP($A64,Filtro!$A$5:$AY$629,17,FALSE),0)","v":10},{"$f":"IFERROR(VLOOKUP($A64,Filtro!$A$5:$AY$629,18,FALSE),0)","v":12},{"$f":"CP64 & CQ64","v":""},{"$nulls":72},{"$f":"IF(AND(E64<>0,Q64=\"\"), \"* No olvide escribir en la celda de Pueblos Originarios (Digite CERO si no tiene). \",IF(AND(F64<>0,R64=\"\"), \"* No olvide escribir en la celda de Pueblos Originarios (Digite CERO si no tiene). \",\"\"))","v":""},{"$f":"IF(AND(E64<>0,S64=\"\"), \"* No olvide escribir en la celda de Población Migrantes (Digite CERO si no tiene). \",IF(AND(F64<>0,T64=\"\"), \"* No olvide escribir en la celda de Población Migrantes (Digite CERO si no tiene). \",\"\"))","v":""},{"$nulls":23},{"$f":"IF(AND(E64<>0,Q64=\"\"), 1,IF(AND(F64<>0,R64=\"\"), 1,0))","v":0},{"$f":"IF(AND(E64<>0,S64=\"\"), 1,IF(AND(F64<>0,T64=\"\"), 1,0))","v":0}]
["P2400310",null,"DESNUTRIDO",59,31,28,{"$f":"IFERROR(VLOOKUP($A65,Filtro!$A$5:$AY$629,5,FALSE),0)","v":8},{"$f":"IFERROR(VLOOKUP($A65,Filtro!$A$5:$AY$629,6,FALSE),0)","v":7},{"$f":"IFERROR(VLOOKUP($A65,Filtro!$A$5:$AY$629,7,FALSE),0)","v":6},{"$f":"IFERROR(VLOOKUP($A65,Filtro!$A$5:$AY$629,8,FALSE),0)","v":3},{"$f":"IFERROR(VLOOKUP($A65,Filtro!$A$5:$AY$629,9,FALSE),0)","v":6},{"$f":"IFERROR(VLOOKUP($A65,Filtro!$A$5:$AY$629,10,FALSE),0)","v":9},{"$f":"IFERROR(VLOOKUP($A65,Filtro!$A$5:$AY$629,11,FALSE),0)","v":9},{"$f":"IFERROR(VLOOKUP($A65,Filtro!$A$5:$AY$629,12,FALSE),0)","v":5},{"$f":"IFERROR(VLOOKUP($A65,Filtro!$A$5:$AY$629,13,FALSE),0)","v":2},{"$f":"IFERROR(VLOOKUP($A65,Filtro!$A$5:$AY$629,14,FALSE),0)","v":4},{"$f":"IFERROR(VLOOKUP($A65,Filtro!$A$5:$AY$629,15,FALSE),0)","v":0},{"$f":"IFERROR(VLOOKUP($A65,Filtro!$A$5:$AY$629,16,FALSE),0)","v":0},{"$f":"IFERROR(VLOOKUP($A65,Filtro!$A$5:$AY$629,17,FALSE),0)","v":1},{"$f":"IFERROR(VLOOKUP($A65,Filtro!$A$5:$AY$629,18,FALSE),0)","v":1},"",{"$nulls":72},"","",{"$nulls":23},0,0]
["P2400320",null,"SOBREPESO / RIESGO OBESIDAD",3651,1789,1862,{"$f":"IFERROR(VLOOKUP($A66,Filtro!$A$5:$AY$629,5,FALSE),0)","v":528},{"$f":"IFERROR(VLOOKUP($A66,Filtro!$A$5:$AY$629,6,FALSE),0)","v":471},{"$f":"IFERROR(VLOOKUP($A66,Filtro!$A$5:$AY$629,7,FALSE),0)","v":396},{"$f":"IFERROR(VLOOKUP($A66,Filtro!$A$5:$AY$629,8,FALSE),0)","v":416},{"$f":"IFERROR(VLOOKUP($A66,Filtro!$A$5:$AY$629,9,FALSE),0)","v":357},{"$f":"IFERROR(VLOOKUP($A66,Filtro!$A$5:$AY$629,10,FALSE),0)","v":375},{"$f":"IFERROR(VLOOKUP($A66,Filtro!$A$5:$AY$629,11,FALSE),0)","v":285},{"$f":"IFERROR(VLOOKUP($A66,Filtro!$A$5:$AY$629,12,FALSE),0)","v":328},{"$f":"IFERROR(VLOOKUP($A66,Filtro!$A$5:$AY$629,13,FALSE),0)","v":223},{"$f":"IFERROR(VLOOKUP($A66,Filtro!$A$5:$AY$629,14,FALSE),0)","v":272},{"$f":"IFERROR(VLOOKUP($A66,Filtro!$A$5:$AY$629,15,FALSE),0)","v":21},{"$f":"IFERROR(VLOOKUP($A66,Filtro!$A$5:$AY$629,16,FALSE),0)","v":23},{"$f":"IFERROR(VLOOKUP($A66,Filtro!$A$5:$AY$629,17,FALSE),0)","v":47},{"$f":"IFERROR(VLOOKUP($A66,Filtro!$A$5:$AY$629,18,FALSE),0)","v":36},"",{"$nulls":72},"","",{"$nulls":23},0,0]
["P2400330",null,"OBESO",3102,1552,1550,{"$f":"IFERROR(VLOOKUP($A67,Filtro!$A$5:$AY$629,5,FALSE),0)","v":403},{"$f":"IFERROR(VLOOKUP($A67,Filtro!$A$5:$AY$629,6,FALSE),0)","v":373},{"$f":"IFERROR(VLOOKUP($A67,Filtro!$A$5:$AY$629,7,FALSE),0)","v":307},{"$f":"IFERROR(VLOOKUP($A67,Filtro!$A$5:$AY$629,8,FALSE),0)","v":323},{"$f":"IFERROR(VLOOKUP($A67,Filtro!$A$5:$AY$629,9,FALSE),0)","v":287},{"$f":"IFERROR(VLOOKUP($A67,Filtro!$A$5:$AY$629,10,FALSE),0)","v":309},{"$f":"IFERROR(VLOOKUP($A67,Filtro!$A$5:$AY$629,11,FALSE),0)","v":284},{"$f":"IFERROR(VLOOKUP($A67,Filtro!$A$5:$AY$629,12,FALSE),0)","v":310},{"$f":"IFERROR(VLOOKUP($A67,Filtro!$A$5:$AY$629,13,FALSE),0)","v":271},{"$f":"IFERROR(VLOOKUP($A67,Filtro!$A$5:$AY$629,14,FALSE),0)","v":235},{"$f":"IFERROR(VLOOKUP($A67,Filtro!$A$5:$AY$629,15,FALSE),0)","v":14},{"$f":"IFERROR(VLOOKUP($A67,Filtro!$A$5:$AY$629,16,FALSE),0)","v":17},{"$f":"IFERROR(VLOOKUP($A67,Filtro!$A$5:$AY$629,17,FALSE),0)","v":17},{"$f":"IFERROR(VLOOKUP($A67,Filtro!$A$5:$AY$629,18,FALSE),0)","v":22},"",{"$nulls":72},"","",{"$nulls":23},0,0]
["P2400340",null,"OBESO SEVERO",1533,996,537,{"$f":"IFERROR(VLOOKUP($A68,Filtro!$A$5:$AY$629,5,FALSE),0)","v":187},{"$f":"IFERROR(VLOOKUP($A68,Filtro!$A$5:$AY$629,6,FALSE),0)","v":95},{"$f":"IFERROR(VLOOKUP($A68,Filtro!$A$5:$AY$629,7,FALSE),0)","v":240},{"$f":"IFERROR(VLOOKUP($A68,Filtro!$A$5:$AY$629,8,FALSE),0)","v":131},{"$f":"IFERROR(VLOOKUP($A68,Filtro!$A$5:$AY$629,9,FALSE),0)","v":216},{"$f":"IFERROR(VLOOKUP($A68,Filtro!$A$5:$AY$629,10,FALSE),0)","v":121},{"$f":"IFERROR(VLOOKUP($A68,Filtro!$A$5:$AY$629,11,FALSE),0)","v":208},{"$f":"IFERROR(VLOOKUP($A68,Filtro!$A$5:$AY$629,12,FALSE),0)","v":120},{"$f":"IFERROR(VLOOKUP($A68,Filtro!$A$5:$AY$629,13,FALSE),0)","v":145},{"$f":"IFERROR(VLOOKUP($A68,Filtro!$A$5:$AY$629,14,FALSE),0)","v":70},{"$f":"IFERROR(VLOOKUP($A68,Filtro!$A$5:$AY$629,15,FALSE),0)","v":7},{"$f":"IFERROR(VLOOKUP($A68,Filtro!$A$5:$AY$629,16,FALSE),0)","v":3},{"$f":"IFERROR(VLOOKUP($A68,Filtro!$A$5:$AY$629,17,FALSE),0)","v":14},{"$f":"IFERROR(VLOOKUP($A68,Filtro!$A$5:$AY$629,18,FALSE),0)","v":4},"",{"$nulls":72},"","",{"$nulls":23},0,0]
["P2400350",null,"NORMAL",8688,4239,{"$f":"+H69+J69+L69+N69+P69","v":4449},{"$f":"IFERROR(VLOOKUP($A69,Filtro!$A$5:$AY$629,5,FALSE),0)","v":1422},{"$f":"IFERROR(VLOOKUP($A69,Filtro!$A$5:$AY$629,6,FALSE),0)","v":1521},{"$f":"IFERROR(VLOOKUP($A69,Filtro!$A$5:$AY$629,7,FALSE),0)","v":1114},{"$f":"IFERROR(VLOOKUP($A69,Filtro!$A$5:$AY$629,8,FALSE),0)","v":1054},{"$f":"IFERROR(VLOOKUP($A69,Filtro!$A$5:$AY$629,9,FALSE),0)","v":756},{"$f":"IFERROR(VLOOKUP($A69,Filtro!$A$5:$AY$629,10,FALSE),0)","v":833},{"$f":"IFERROR(VLOOKUP($A69,Filtro!$A$5:$AY$629,11,FALSE),0)","v":550},{"$f":"IFERROR(VLOOKUP($A69,Filtro!$A$5:$AY$629,12,FALSE),0)","v":594},{"$f":"IFERROR(VLOOKUP($A69,Filtro!$A$5:$AY$629,13,FALSE),0)","v":397},{"$f":"IFERROR(VLOOKUP($A69,Filtro!$A$5:$AY$629,14,FALSE),0)","v":447},{"$f":"IFERROR(VLOOKUP($A69,Filtro!$A$5:$AY$629,15,FALSE),0)","v":59},{"$f":"IFERROR(VLOOKUP($A69,Filtro!$A$5:$AY$629,16,FALSE),0)","v":62},{"$f":"IFERROR(VLOOKUP($A69,Filtro!$A$5:$AY$629,17,FALSE),0)","v":153},{"$f":"IFERROR(VLOOKUP($A69,Filtro!$A$5:$AY$629,18,FALSE),0)","v":150},"",{"$nulls":72},"","",{"$nulls":23},0,0]
[null,null,"SUBTOTAL",{"$f":"+E70+F70","v":0},{"$f":"+G70+I70+K70+M70+O70","v":0},{"$f":"+H70+J70+L70+N70+P70","v":0},0,0,0,0,0,0,0,0,0,0,0,0,0,0,{"$f":" CM70 & CN70","v":""},{"$nulls":69},{"$f":"IF($D70>=$Q70+$R70,\"\",\"* El Total de Pueblos Originarios no debe ser mayor al total de niños en control. \")","v":""},{"$f":"IF($D70>=$S70+$T70,\"\",\"* El Total de Pueblación Migrantes no debe ser mayor al total de niños en control. \")","v":""},{"$nulls":23},{"$f":"IF($D70>=$Q70+$R70,0,1)","v":0},{"$f":"IF($D70>=$S70+$T70,0,1)","v":0}]
["P2400360",null,"DESNUTRICIÓN \nSECUNDARIA",7,{"$f":"+G71+I71+K71+M71+O71","v":3},{"$f":"+H71+J71+L71+N71+P71","v":4},{"$f":"IFERROR(VLOOKUP($A71,Filtro!$A$5:$AY$629,5,FALSE),0)","v":0},{"$f":"IFERROR(VLOOKUP($A71,Filtro!$A$5:$AY$629,6,FALSE),0)","v":3},{"$f":"IFERROR(VLOOKUP($A71,Filtro!$A$5:$AY$629,7,FALSE),0)","v":2},{"$f":"IFERROR(VLOOKUP($A71,Filtro!$A$5:$AY$629,8,FALSE),0)","v":1},{"$f":"IFERROR(VLOOKUP($A71,Filtro!$A$5:$AY$629,9,FALSE),0)","v":0},{"$f":"IFERROR(VLOOKUP($A71,Filtro!$A$5:$AY$629,10,FALSE),0)","v":0},{"$f":"IFERROR(VLOOKUP($A71,Filtro!$A$5:$AY$629,11,FALSE),0)","v":0},{"$f":"IFERROR(VLOOKUP($A71,Filtro!$A$5:$AY$629,12,FALSE),0)","v":0},{"$f":"IFERROR(VLOOKUP($A71,Filtro!$A$5:$AY$629,13,FALSE),0)","v":1},{"$f":"IFERROR(VLOOKUP($A71,Filtro!$A$5:$AY$629,14,FALSE),0)","v":0},{"$f":"IFERROR(VLOOKUP($A71,Filtro!$A$5:$AY$629,15,FALSE),0)","v":0},{"$f":"IFERROR(VLOOKUP($A71,Filtro!$A$5:$AY$629,16,FALSE),0)","v":0},{"$f":"IFERROR(VLOOKUP($A71,Filtro!$A$5:$AY$629,17,FALSE),0)","v":0},{"$f":"IFERROR(VLOOKUP($A71,Filtro!$A$5:$AY$629,18,FALSE),0)","v":0},{"$f":"CP71 & CQ71","v":""},{"$nulls":72},{"$f":"IF(AND(E71<>0,Q71=\"\"), \"* No olvide escribir en la celda de Pueblos Originarios (Digite CERO si no tiene). \",IF(AND(F71<>0,R71=\"\"), \"* No olvide escribir en la celda de Pueblos Originarios (Digite CERO si no tiene). \",\"\"))","v":""},{"$f":"IF(AND(E71<>0,S71=\"\"), \"* No olvide escribir en la celda de Población Migrantes (Digite CERO si no tiene). \",IF(AND(F71<>0,T71=\"\"), \"* No olvide escribir en la celda de Población Migrantes (Digite CERO si no tiene). \",\"\"))","v":""},{"$nulls":23},{"$f":"IF(AND(E71<>0,Q71=\"\"), 1,IF(AND(F71<>0,R71=\"\"), 1,0))","v":0},{"$f":"IF(AND(E71<>0,S71=\"\"), 1,IF(AND(F71<>0,T71=\"\"), 1,0))","v":0}]
[null,null,"T O T A L",{"$f":"SUM(E72:F72)","v":17636},{"$f":"SUM(E64:E69)+E71","v":8916},8720,2633,2551,2150,1992,1691,1707,1381,1412,1061,1058,106,108,242,225,{"$f":" CM72 & CN72","v":""},{"$nulls":69},{"$f":"IF($D72>=$Q72+$R72,\"\",\"* El Total de Pueblos Originarios no debe ser mayor al total de niños en control. \")","v":""},{"$f":"IF($D72>=$S72+$T72,\"\",\"* El Total de Pueblación Migrantes no debe ser mayor al total de niños en control. \")","v":""},{"$nulls":23},{"$f":"IF($D72>=$Q72+$R72,0,1)","v":0},{"$f":"IF($D72>=$S72+$T72,0,1)","v":0}]
["P2501801","NIÑOS SIN EVALUACIÓN NUTRICIONAL POR CURSO DE VIDA (RECIÉN NACIDOS) O POR CONDICIÓN ESPECIAL DE SALUD",null,{"$f":"SUM(E73:F73)","v":18},{"$f":"+G73+I73+K73+M73+O73","v":8},{"$f":"+H73+J73+L73+N73+P73","v":10},{"$f":"IFERROR(VLOOKUP($A73,Filtro!$A$5:$AY$629,5,FALSE),0)","v":1},{"$f":"IFERROR(VLOOKUP($A73,Filtro!$A$5:$AY$629,6,FALSE),0)","v":1},{"$f":"IFERROR(VLOOKUP($A73,Filtro!$A$5:$AY$629,7,FALSE),0)","v":2},{"$f":"IFERROR(VLOOKUP($A73,Filtro!$A$5:$AY$629,8,FALSE),0)","v":3},{"$f":"IFERROR(VLOOKUP($A73,Filtro!$A$5:$AY$629,9,FALSE),0)","v":1},{"$f":"IFERROR(VLOOKUP($A73,Filtro!$A$5:$AY$629,10,FALSE),0)","v":1},{"$f":"IFERROR(VLOOKUP($A73,Filtro!$A$5:$AY$629,11,FALSE),0)","v":1},{"$f":"IFERROR(VLOOKUP($A73,Filtro!$A$5:$AY$629,12,FALSE),0)","v":2},{"$f":"IFERROR(VLOOKUP($A73,Filtro!$A$5:$AY$629,13,FALSE),0)","v":3},{"$f":"IFERROR(VLOOKUP($A73,Filtro!$A$5:$AY$629,14,FALSE),0)","v":3},{"$f":"IFERROR(VLOOKUP($A73,Filtro!$A$5:$AY$629,15,FALSE),0)","v":0},{"$f":"IFERROR(VLOOKUP($A73,Filtro!$A$5:$AY$629,16,FALSE),0)","v":0},{"$f":"IFERROR(VLOOKUP($A73,Filtro!$A$5:$AY$629,17,FALSE),0)","v":0},{"$f":"IFERROR(VLOOKUP($A73,Filtro!$A$5:$AY$629,18,FALSE),0)","v":0}]
[null,"NOTA(*): El Diagnóstico Nutricional Integrado de Déficit para los niños (as) 5 años y más denomina Déficit Ponderal al Riesgo de Desnutrir."]
[null,"SECCION B: POBLACION EN CONTROL SEGÚN RESULTADO DE EVALUACIÓN DEL DESARROLLO PSICOMOTOR"]
[null,"RESULTADO Y\nGRUPOS DE EDAD",null,"TOTAL","Hombres","Mujeres","Pueblos Originarios","Migrantes"]
["P2501802","NORMAL","Menor de 12 meses",{"$f":"SUM(E77:F77)","v":2434},{"$f":"IFERROR(VLOOKUP($A77,Filtro!$A$5:$AY$629,3,FALSE),0)","v":1230},{"$f":"IFERROR(VLOOKUP($A77,Filtro!$A$5:$AY$629,4,FALSE),0)","v":1204},{"$f":"IFERROR(VLOOKUP($A77,Filtro!$A$5:$AY$629,5,FALSE),0)","v":27},{"$f":"IFERROR(VLOOKUP($A77,Filtro!$A$5:$AY$629,6,FALSE),0)","v":8},{"$nulls":75},{"$f":"IF($G1+$I1+$K1+$M1+$O1+$Q1+$S1+$U1<$E77+$E83,\"* La suma de Población Masculina Menor de 12 meses según resultado de 'Riesgo y Retraso' no puede ser mayor que la Población Masculina bajo control de la sección A. \",\"\")","v":"* La suma de Población Masculina Menor de 12 meses según resultado de 'Riesgo y Retraso' no puede ser mayor que la Población Masculina bajo control de la sección A. "},{"$f":"IF($H1+$J1+$L1+$N1+$P1+$R1+$T1+$V1<$F77+$F83,\"* La suma de Población Femenina de Menor de 12 meses según resultado de 'Riesgo y Retraso' no puede ser mayor que la Población Femenina bajo control de la sección A. \",\"\")","v":"* La suma de Población Femenina de Menor de 12 meses según resultado de 'Riesgo y Retraso' no puede ser mayor que la Población Femenina bajo control de la sección A. "},{"$nulls":23},{"$f":"IF($G1+$I1+$K1+$M1+$O1+$Q1+$S1+$U1<$E77+$E83,1,0)","v":1},{"$f":"IF($H1+$J1+$L1+$N1+$P1+$R1+$T1+$V1<$F77+$F83,1,0)","v":1}]
["P2501803",null,"12 a 17 meses",{"$f":"SUM(E78:F78)","v":820},{"$f":"IFERROR(VLOOKUP($A78,Filtro!$A$5:$AY$629,3,FALSE),0)","v":401},{"$f":"IFERROR(VLOOKUP($A78,Filtro!$A$5:$AY$629,4,FALSE),0)","v":419},{"$f":"IFERROR(VLOOKUP($A78,Filtro!$A$5:$AY$629,5,FALSE),0)","v":3},{"$f":"IFERROR(VLOOKUP($A78,Filtro!$A$5:$AY$629,6,FALSE),0)","v":6},{"$nulls":75},{"$f":"IF($K$11<$E$90+$E$96,\"* La suma de Población Masculina de 12 a 17 meses según resultado de 'Riesgo y Retraso' no puede ser mayor que la Población Masculina bajo control de la sección A. \",\"\")","v":""},{"$f":"IF($L$11<$F$90+$F$96,\"* La suma de Población Femenina de 12 a 17 meses según resultado de 'Riesgo y Retraso' no puede ser mayor que la Población Femenina bajo control de la sección A. \",\"\")","v":""},{"$nulls":23},{"$f":"IF($K$11<$E$90+$E$96,1,0)","v":0},{"$f":"IF($L$11<$F$90+$F$96,1,0)","v":0}]
["P2501804",null,"18 a 23 meses",2045,{"$f":"IFERROR(VLOOKUP($A79,Filtro!$A$5:$AY$629,3,FALSE),0)","v":971},{"$f":"IFERROR(VLOOKUP($A79,Filtro!$A$5:$AY$629,4,FALSE),0)","v":1074},{"$f":"IFERROR(VLOOKUP($A79,Filtro!$A$5:$AY$629,5,FALSE),0)","v":18},{"$f":"IFERROR(VLOOKUP($A79,Filtro!$A$5:$AY$629,6,FALSE),0)","v":17},{"$nulls":75},{"$f":"IF($M$11<$E$91+$E$97,\"* La suma de Población Masculina de 18 a 23 meses según resultado de 'Riesgo y Retraso' no puede ser mayor que la Población Masculina bajo control de la sección A. \",\"\")","v":""},{"$f":"IF($N$11<$F$91+$F$97,\"* La suma de Población Femenina de 18 a 23 meses según resultado de 'Riesgo y Retraso' no puede ser mayor que la Población Femenina bajo control de la sección A. \",\"\")","v":""},{"$nulls":23},{"$f":"IF($M$11<$E$91+$E$97,1,0)","v":0},{"$f":"IF($N$11<$F$91+$F$97,1,0)","v":0}]
["P2501805",null,"24 a 35 meses",971,{"$f":"IFERROR(VLOOKUP($A80,Filtro!$A$5:$AY$629,3,FALSE),0)","v":484},{"$f":"IFERROR(VLOOKUP($A80,Filtro!$A$5:$AY$629,4,FALSE),0)","v":487},{"$f":"IFERROR(VLOOKUP($A80,Filtro!$A$5:$AY$629,5,FALSE),0)","v":4},{"$f":"IFERROR(VLOOKUP($A80,Filtro!$A$5:$AY$629,6,FALSE),0)","v":3},{"$nulls":75},{"$f":"IF($AA1+$AE1+$AC1<$E80+$E86,\"* La suma de Población Masculina de 24 a 47 meses según resultado de 'Riesgo y Retraso' no puede ser mayor que la Población Masculina bajo control de la sección A. \",\"\")","v":"* La suma de Población Masculina de 24 a 47 meses según resultado de 'Riesgo y Retraso' no puede ser mayor que la Población Masculina bajo control de la sección A. "},{"$f":"IF($AB1+$AF1+$AD1<$F80+$F86,\"* La suma de Población Femenina de 24 a 47 meses según resultado de 'Riesgo y Retraso' no puede ser mayor que la Población Femenina bajo control de la sección A. \",\"\")","v":"* La suma de Población Femenina de 24 a 47 meses según resultado de 'Riesgo y Retraso' no puede ser mayor que la Población Femenina bajo control de la sección A. "},{"$nulls":23},{"$f":"IF($AA1+$AE1+$AC1<$E80+$E86,1,0)","v":1},{"$f":"IF($AB1+$AF1+$AD1<$F80+$F86,1,0)","v":1}]
["P2501806",null,"36 a 47 meses",2203,{"$f":"IFERROR(VLOOKUP($A81,Filtro!$A$5:$AY$629,3,FALSE),0)","v":1032},{"$f":"IFERROR(VLOOKUP($A81,Filtro!$A$5:$AY$629,4,FALSE),0)","v":1171},{"$f":"IFERROR(VLOOKUP($A81,Filtro!$A$5:$AY$629,5,FALSE),0)","v":27},{"$f":"IFERROR(VLOOKUP($A81,Filtro!$A$5:$AY$629,6,FALSE),0)","v":30}]
["P2501807",null,"48 a 59 meses",691,{"$f":"IFERROR(VLOOKUP($A82,Filtro!$A$5:$AY$629,3,FALSE),0)","v":374},{"$f":"IFERROR(VLOOKUP($A82,Filtro!$A$5:$AY$629,4,FALSE),0)","v":317},{"$f":"IFERROR(VLOOKUP($A82,Filtro!$A$5:$AY$629,5,FALSE),0)","v":7},{"$f":"IFERROR(VLOOKUP($A82,Filtro!$A$5:$AY$629,6,FALSE),0)","v":3},{"$nulls":75},{"$f":"IF($S$11<$E$94+$E$100,\"* La suma de Población Masculina de 48 a 59 meses según resultado de 'Riesgo y Retraso' no puede ser mayor que la Población Masculina bajo control de la sección A. \",\"\")","v":""},{"$f":"IF($T$11<$F$94+$F$100,\"* La suma de Población Femenina de 48 a 59 meses según resultado de 'Riesgo y Retraso' no puede ser mayor que la Población Femenina bajo control de la sección A. \",\"\")","v":""},{"$nulls":23},{"$f":"IF($S$11<$E$94+$E$100,1,0)","v":0},{"$f":"IF($T$11<$F$94+$F$100,1,0)","v":0}]
["P2501808","NORMAL CON REZAGO","Menor de 12 meses",{"$f":"SUM(E83:F83)","v":71},{"$f":"IFERROR(VLOOKUP($A83,Filtro!$A$5:$AY$629,3,FALSE),0)","v":42},{"$f":"IFERROR(VLOOKUP($A83,Filtro!$A$5:$AY$629,4,FALSE),0)","v":29},{"$f":"IFERROR(VLOOKUP($A83,Filtro!$A$5:$AY$629,5,FALSE),0)","v":0},{"$f":"IFERROR(VLOOKUP($A83,Filtro!$A$5:$AY$629,6,FALSE),0)","v":0},{"$nulls":75},{"$f":"IF($G6+$I6+$K6+$M6+$O6+$Q6+$S6+$U6<$E83+$E89,\"* La suma de Población Masculina Menor de 12 meses según resultado de 'Riesgo y Retraso' no puede ser mayor que la Población Masculina bajo control de la sección A. \",\"\")","v":"* La suma de Población Masculina Menor de 12 meses según resultado de 'Riesgo y Retraso' no puede ser mayor que la Población Masculina bajo control de la sección A. "},{"$f":"IF($H6+$J6+$L6+$N6+$P6+$R6+$T6+$V6<$F83+$F89,\"* La suma de Población Femenina de Menor de 12 meses según resultado de 'Riesgo y Retraso' no puede ser mayor que la Población Femenina bajo control de la sección A. \",\"\")","v":"* La suma de Población Femenina de Menor de 12 meses según resultado de 'Riesgo y Retraso' no puede ser mayor que la Población Femenina bajo control de la sección A. "},{"$nulls":23},{"$f":"IF($G6+$I6+$K6+$M6+$O6+$Q6+$S6+$U6<$E83+$E89,1,0)","v":1},{"$f":"IF($H6+$J6+$L6+$N6+$P6+$R6+$T6+$V6<$F83+$F89,1,0)","v":1}]
["P2501809",null,"12 a 17 meses",38,{"$f":"IFERROR(VLOOKUP($A84,Filtro!$A$5:$AY$629,3,FALSE),0)","v":20},{"$f":"IFERROR(VLOOKUP($A84,Filtro!$A$5:$AY$629,4,FALSE),0)","v":18},{"$f":"IFERROR(VLOOKUP($A84,Filtro!$A$5:$AY$629,5,FALSE),0)","v":1},{"$f":"IFERROR(VLOOKUP($A84,Filtro!$A$5:$AY$629,6,FALSE),0)","v":0},{"$nulls":75},{"$f":"IF($K$11<$E$90+$E$96,\"* La suma de Población Masculina de 12 a 17 meses según resultado de 'Riesgo y Retraso' no puede ser mayor que la Población Masculina bajo control de la sección A. \",\"\")","v":""},{"$f":"IF($L$11<$F$90+$F$96,\"* La suma de Población Femenina de 12 a 17 meses según resultado de 'Riesgo y Retraso' no puede ser mayor que la Población Femenina bajo control de la sección A. \",\"\")","v":""},{"$nulls":23},{"$f":"IF($K$11<$E$90+$E$96,1,0)","v":0},{"$f":"IF($L$11<$F$90+$F$96,1,0)","v":0}]
["P2501810",null,"18 a 23 meses",140,{"$f":"IFERROR(VLOOKUP($A85,Filtro!$A$5:$AY$629,3,FALSE),0)","v":86},{"$f":"IFERROR(VLOOKUP($A85,Filtro!$A$5:$AY$629,4,FALSE),0)","v":54},{"$f":"IFERROR(VLOOKUP($A85,Filtro!$A$5:$AY$629,5,FALSE),0)","v":4},{"$f":"IFERROR(VLOOKUP($A85,Filtro!$A$5:$AY$629,6,FALSE),0)","v":2},{"$nulls":75},{"$f":"IF($M$11<$E$91+$E$97,\"* La suma de Población Masculina de 18 a 23 meses según resultado de 'Riesgo y Retraso' no puede ser mayor que la Población Masculina bajo control de la sección A. \",\"\")","v":""},{"$f":"IF($N$11<$F$91+$F$97,\"* La suma de Población Femenina de 18 a 23 meses según resultado de 'Riesgo y Retraso' no puede ser mayor que la Población Femenina bajo control de la sección A. \",\"\")","v":""},{"$nulls":23},{"$f":"IF($M$11<$E$91+$E$97,1,0)","v":0},{"$f":"IF($N$11<$F$91+$F$97,1,0)","v":0}]
["P2501811",null,"24 a 35 meses",107,{"$f":"IFERROR(VLOOKUP($A86,Filtro!$A$5:$AY$629,3,FALSE),0)","v":78},{"$f":"IFERROR(VLOOKUP($A86,Filtro!$A$5:$AY$629,4,FALSE),0)","v":29},{"$f":"IFERROR(VLOOKUP($A86,Filtro!$A$5:$AY$629,5,FALSE),0)","v":2},{"$f":"IFERROR(VLOOKUP($A86,Filtro!$A$5:$AY$629,6,FALSE),0)","v":2},{"$nulls":75},{"$f":"IF($AA6+$AE6+$AC6<$E86+$E92,\"* La suma de Población Masculina de 24 a 47 meses según resultado de 'Riesgo y Retraso' no puede ser mayor que la Población Masculina bajo control de la sección A. \",\"\")","v":"* La suma de Población Masculina de 24 a 47 meses según resultado de 'Riesgo y Retraso' no puede ser mayor que la Población Masculina bajo control de la sección A. "},{"$f":"IF($AB6+$AF6+$AD6<$F86+$F92,\"* La suma de Población Femenina de 24 a 47 meses según resultado de 'Riesgo y Retraso' no puede ser mayor que la Población Femenina bajo control de la sección A. \",\"\")","v":"* La suma de Población Femenina de 24 a 47 meses según resultado de 'Riesgo y Retraso' no puede ser mayor que la Población Femenina bajo control de la sección A. "},{"$nulls":23},{"$f":"IF($AA6+$AE6+$AC6<$E86+$E92,1,0)","v":1},{"$f":"IF($AB6+$AF6+$AD6<$F86+$F92,1,0)","v":1}]
["P2501812",null,"36 a 47 meses",211,{"$f":"IFERROR(VLOOKUP($A87,Filtro!$A$5:$AY$629,3,FALSE),0)","v":106},{"$f":"IFERROR(VLOOKUP($A87,Filtro!$A$5:$AY$629,4,FALSE),0)","v":105},{"$f":"IFERROR(VLOOKUP($A87,Filtro!$A$5:$AY$629,5,FALSE),0)","v":3},{"$f":"IFERROR(VLOOKUP($A87,Filtro!$A$5:$AY$629,6,FALSE),0)","v":4}]
["P2501813",null,"48 a 59 meses",19,{"$f":"IFERROR(VLOOKUP($A88,Filtro!$A$5:$AY$629,3,FALSE),0)","v":15},{"$f":"IFERROR(VLOOKUP($A88,Filtro!$A$5:$AY$629,4,FALSE),0)","v":4},{"$f":"IFERROR(VLOOKUP($A88,Filtro!$A$5:$AY$629,5,FALSE),0)","v":0},{"$f":"IFERROR(VLOOKUP($A88,Filtro!$A$5:$AY$629,6,FALSE),0)","v":0},{"$nulls":75},{"$f":"IF($S$11<$E$94+$E$100,\"* La suma de Población Masculina de 48 a 59 meses según resultado de 'Riesgo y Retraso' no puede ser mayor que la Población Masculina bajo control de la sección A. \",\"\")","v":""},{"$f":"IF($T$11<$F$94+$F$100,\"* La suma de Población Femenina de 48 a 59 meses según resultado de 'Riesgo y Retraso' no puede ser mayor que la Población Femenina bajo control de la sección A. \",\"\")","v":""},{"$nulls":23},{"$f":"IF($S$11<$E$94+$E$100,1,0)","v":0},{"$f":"IF($T$11<$F$94+$F$100,1,0)","v":0}]
["P2100200","RIESGO","Menor de 12 meses",117,{"$f":"IFERROR(VLOOKUP($A89,Filtro!$A$5:$AY$629,3,FALSE),0)","v":60},{"$f":"IFERROR(VLOOKUP($A89,Filtro!$A$5:$AY$629,4,FALSE),0)","v":57},{"$f":"IFERROR(VLOOKUP($A89,Filtro!$A$5:$AY$629,5,FALSE),0)","v":4},{"$f":"IFERROR(VLOOKUP($A89,Filtro!$A$5:$AY$629,6,FALSE),0)","v":2},{"$nulls":100},{"$f":"IF(#REF!+#REF!+#REF!+#REF!+#REF!+#REF!+$G11+$I11<$E89+$E95,1,0)","v":{"$error":"#REF!"}},{"$f":"IF(#REF!+#REF!+#REF!+#REF!+#REF!+#REF!+$H11+$J11<$F89+$F95,1,0)","v":{"$error":"#REF!"}}]
["P2300100",null,"12 a 17 meses",53,{"$f":"IFERROR(VLOOKUP($A90,Filtro!$A$5:$AY$629,3,FALSE),0)","v":35},{"$f":"IFERROR(VLOOKUP($A90,Filtro!$A$5:$AY$629,4,FALSE),0)","v":18},{"$f":"IFERROR(VLOOKUP($A90,Filtro!$A$5:$AY$629,5,FALSE),0)","v":3},{"$f":"IFERROR(VLOOKUP($A90,Filtro!$A$5:$AY$629,6,FALSE),0)","v":2},{"$nulls":100},{"$f":"IF($K$11<$E$90+$E$96,1,0)","v":0},{"$f":"IF($L$11<$F$90+$F$96,1,0)","v":0}]
["P2300200",null,"18 a 23 meses",276,{"$f":"IFERROR(VLOOKUP($A91,Filtro!$A$5:$AY$629,3,FALSE),0)","v":174},{"$f":"IFERROR(VLOOKUP($A91,Filtro!$A$5:$AY$629,4,FALSE),0)","v":102},{"$f":"IFERROR(VLOOKUP($A91,Filtro!$A$5:$AY$629,5,FALSE),0)","v":3},{"$f":"IFERROR(VLOOKUP($A91,Filtro!$A$5:$AY$629,6,FALSE),0)","v":3},{"$nulls":100},{"$f":"IF($M$11<$E$91+$E$97,1,0)","v":0},{"$f":"IF($N$11<$F$91+$F$97,1,0)","v":0}]
["P2501814",null,"24 a 35 meses",109,{"$f":"IFERROR(VLOOKUP($A92,Filtro!$A$5:$AY$629,3,FALSE),0)","v":72},{"$f":"IFERROR(VLOOKUP($A92,Filtro!$A$5:$AY$629,4,FALSE),0)","v":37},{"$f":"IFERROR(VLOOKUP($A92,Filtro!$A$5:$AY$629,5,FALSE),0)","v":3},{"$f":"IFERROR(VLOOKUP($A92,Filtro!$A$5:$AY$629,6,FALSE),0)","v":2},{"$nulls":100},{"$f":"IF($O11+$Q11+#REF!<$E92+$E98,1,0)","v":{"$error":"#REF!"}},{"$f":"IF($P11+$R11+#REF!<$F92+$F98,1,0)","v":{"$error":"#REF!"}}]
["P2501815",null,"36 a 47 meses",208,{"$f":"IFERROR(VLOOKUP($A93,Filtro!$A$5:$AY$629,3,FALSE),0)","v":126},{"$f":"IFERROR(VLOOKUP($A93,Filtro!$A$5:$AY$629,4,FALSE),0)","v":82},{"$f":"IFERROR(VLOOKUP($A93,Filtro!$A$5:$AY$629,5,FALSE),0)","v":4},{"$f":"IFERROR(VLOOKUP($A93,Filtro!$A$5:$AY$629,6,FALSE),0)","v":4}]
["P2100500",null,"48 a 59 meses",9,{"$f":"IFERROR(VLOOKUP($A94,Filtro!$A$5:$AY$629,3,FALSE),0)","v":7},{"$f":"IFERROR(VLOOKUP($A94,Filtro!$A$5:$AY$629,4,FALSE),0)","v":2},{"$f":"IFERROR(VLOOKUP($A94,Filtro!$A$5:$AY$629,5,FALSE),0)","v":0},{"$f":"IFERROR(VLOOKUP($A94,Filtro!$A$5:$AY$629,6,FALSE),0)","v":0},{"$nulls":75},{"$f":"IF($S$11<$E$94+$E$100,\"* La suma de Población Masculina de 48 a 59 meses según resultado de 'Riesgo y Retraso' no puede ser mayor que la Población Masculina bajo control de la sección A. \",\"\")","v":""},{"$f":"IF($T$11<$F$94+$F$100,\"* La suma de Población Femenina de 48 a 59 meses según resultado de 'Riesgo y Retraso' no puede ser mayor que la Población Femenina bajo control de la sección A. \",\"\")","v":""},{"$nulls":23},{"$f":"IF($S$11<$E$94+$E$100,1,0)","v":0},{"$f":"IF($T$11<$F$94+$F$100,1,0)","v":0}]
["P2100600","RETRASO","Menor de 12 meses",53,{"$f":"IFERROR(VLOOKUP($A95,Filtro!$A$5:$AY$629,3,FALSE),0)","v":25},{"$f":"IFERROR(VLOOKUP($A95,Filtro!$A$5:$AY$629,4,FALSE),0)","v":28},{"$f":"IFERROR(VLOOKUP($A95,Filtro!$A$5:$AY$629,5,FALSE),0)","v":2},{"$f":"IFERROR(VLOOKUP($A95,Filtro!$A$5:$AY$629,6,FALSE),0)","v":0}]
["P2300300",null,"12 a 17 meses",12,{"$f":"IFERROR(VLOOKUP($A96,Filtro!$A$5:$AY$629,3,FALSE),0)","v":9},{"$f":"IFERROR(VLOOKUP($A96,Filtro!$A$5:$AY$629,4,FALSE),0)","v":3},{"$f":"IFERROR(VLOOKUP($A96,Filtro!$A$5:$AY$629,5,FALSE),0)","v":0},{"$f":"IFERROR(VLOOKUP($A96,Filtro!$A$5:$AY$629,6,FALSE),0)","v":0}]
["P2300400",null,"18 a 23 meses",136,{"$f":"IFERROR(VLOOKUP($A97,Filtro!$A$5:$AY$629,3,FALSE),0)","v":94},{"$f":"IFERROR(VLOOKUP($A97,Filtro!$A$5:$AY$629,4,FALSE),0)","v":42},{"$f":"IFERROR(VLOOKUP($A97,Filtro!$A$5:$AY$629,5,FALSE),0)","v":1},{"$f":"IFERROR(VLOOKUP($A97,Filtro!$A$5:$AY$629,6,FALSE),0)","v":2}]
["P2501816",null,"24 a 35 meses",24,{"$f":"IFERROR(VLOOKUP($A98,Filtro!$A$5:$AY$629,3,FALSE),0)","v":15},{"$f":"IFERROR(VLOOKUP($A98,Filtro!$A$5:$AY$629,4,FALSE),0)","v":9},{"$f":"IFERROR(VLOOKUP($A98,Filtro!$A$5:$AY$629,5,FALSE),0)","v":0},{"$f":"IFERROR(VLOOKUP($A98,Filtro!$A$5:$AY$629,6,FALSE),0)","v":1}]
["P2501817",null,"36 a 47 meses",95,{"$f":"IFERROR(VLOOKUP($A99,Filtro!$A$5:$AY$629,3,FALSE),0)","v":68},{"$f":"IFERROR(VLOOKUP($A99,Filtro!$A$5:$AY$629,4,FALSE),0)","v":27},{"$f":"IFERROR(VLOOKUP($A99,Filtro!$A$5:$AY$629,5,FALSE),0)","v":1},{"$f":"IFERROR(VLOOKUP($A99,Filtro!$A$5:$AY$629,6,FALSE),0)","v":1}]
["P2300000",null,"48 a 59 meses",{"$f":"SUM(E100:F100)","v":12},{"$f":"IFERROR(VLOOKUP($A100,Filtro!$A$5:$AY$629,3,FALSE),0)","v":12},{"$f":"IFERROR(VLOOKUP($A100,Filtro!$A$5:$AY$629,4,FALSE),0)","v":0},{"$f":"IFERROR(VLOOKUP($A100,Filtro!$A$5:$AY$629,5,FALSE),0)","v":1},{"$f":"IFERROR(VLOOKUP($A100,Filtro!$A$5:$AY$629,6,FALSE),0)","v":0}]
[null,"SECCION C: POBLACIÓN MENOR DE 1 AÑO EN CONTROL, SEGÚN SCORE RIESGO EN IRA Y VISITA DOMICILIARIA INTEGRAL "]
[null,"RESULTADO",null,"TOTAL","Diada, menor de 10 días","1 mes","2 meses","3 meses","4 meses","5 meses","6 meses","7 a 12 meses","Total de Niños y Niñas que han recibido VDI","Pueblos Originarios","Migrantes"]
[]
["P2090300","SCORE \nDE RIESGO","LEVE",{"$f":"SUM(E104:L104)","v":6292},{"$f":"IFERROR(VLOOKUP($A104,Filtro!$A$5:$AY$629,3,FALSE),0)","v":320},{"$f":"IFERROR(VLOOKUP($A104,Filtro!$A$5:$AY$629,4,FALSE),0)","v":535},{"$f":"IFERROR(VLOOKUP($A104,Filtro!$A$5:$AY$629,5,FALSE),0)","v":711},{"$f":"IFERROR(VLOOKUP($A104,Filtro!$A$5:$AY$629,6,FALSE),0)","v":530},{"$f":"IFERROR(VLOOKUP($A104,Filtro!$A$5:$AY$629,7,FALSE),0)","v":724},{"$f":"IFERROR(VLOOKUP($A104,Filtro!$A$5:$AY$629,8,FALSE),0)","v":482},{"$f":"IFERROR(VLOOKUP($A104,Filtro!$A$5:$AY$629,9,FALSE),0)","v":746},{"$f":"IFERROR(VLOOKUP($A104,Filtro!$A$5:$AY$629,10,FALSE),0)","v":2244},{"$f":"IFERROR(VLOOKUP($A104,Filtro!$A$5:$AY$629,11,FALSE),0)","v":0},{"$f":"IFERROR(VLOOKUP($A104,Filtro!$A$5:$AY$629,12,FALSE),0)","v":48},{"$f":"IFERROR(VLOOKUP($A104,Filtro!$A$5:$AY$629,13,FALSE),0)","v":22}]
["P2090400",null,"MODERADO",{"$f":"SUM(E105:L105)","v":1011},{"$f":"IFERROR(VLOOKUP($A105,Filtro!$A$5:$AY$629,3,FALSE),0)","v":27},{"$f":"IFERROR(VLOOKUP($A105,Filtro!$A$5:$AY$629,4,FALSE),0)","v":74},{"$f":"IFERROR(VLOOKUP($A105,Filtro!$A$5:$AY$629,5,FALSE),0)","v":105},{"$f":"IFERROR(VLOOKUP($A105,Filtro!$A$5:$AY$629,6,FALSE),0)","v":67},{"$f":"IFERROR(VLOOKUP($A105,Filtro!$A$5:$AY$629,7,FALSE),0)","v":102},{"$f":"IFERROR(VLOOKUP($A105,Filtro!$A$5:$AY$629,8,FALSE),0)","v":69},{"$f":"IFERROR(VLOOKUP($A105,Filtro!$A$5:$AY$629,9,FALSE),0)","v":135},{"$f":"IFERROR(VLOOKUP($A105,Filtro!$A$5:$AY$629,10,FALSE),0)","v":432},{"$f":"IFERROR(VLOOKUP($A105,Filtro!$A$5:$AY$629,11,FALSE),0)","v":195},{"$f":"IFERROR(VLOOKUP($A105,Filtro!$A$5:$AY$629,12,FALSE),0)","v":7},{"$f":"IFERROR(VLOOKUP($A105,Filtro!$A$5:$AY$629,13,FALSE),0)","v":3},{"$nulls":70},{"$f":"IF($D105<$M105, \"* Niños visitados no puede ser mayor que el total Score Moderado. \",\"\")","v":""},{"$nulls":23},{"$f":"IF($D105<$M105, 1,0)","v":0}]
["P2100100",null,"GRAVE",{"$f":"SUM(E106:L106)","v":410},{"$f":"IFERROR(VLOOKUP($A106,Filtro!$A$5:$AY$629,3,FALSE),0)","v":7},{"$f":"IFERROR(VLOOKUP($A106,Filtro!$A$5:$AY$629,4,FALSE),0)","v":33},{"$f":"IFERROR(VLOOKUP($A106,Filtro!$A$5:$AY$629,5,FALSE),0)","v":49},{"$f":"IFERROR(VLOOKUP($A106,Filtro!$A$5:$AY$629,6,FALSE),0)","v":30},{"$f":"IFERROR(VLOOKUP($A106,Filtro!$A$5:$AY$629,7,FALSE),0)","v":39},{"$f":"IFERROR(VLOOKUP($A106,Filtro!$A$5:$AY$629,8,FALSE),0)","v":54},{"$f":"IFERROR(VLOOKUP($A106,Filtro!$A$5:$AY$629,9,FALSE),0)","v":37},{"$f":"IFERROR(VLOOKUP($A106,Filtro!$A$5:$AY$629,10,FALSE),0)","v":161},{"$f":"IFERROR(VLOOKUP($A106,Filtro!$A$5:$AY$629,11,FALSE),0)","v":174},{"$f":"IFERROR(VLOOKUP($A106,Filtro!$A$5:$AY$629,12,FALSE),0)","v":2},{"$f":"IFERROR(VLOOKUP($A106,Filtro!$A$5:$AY$629,13,FALSE),0)","v":5},{"$nulls":70},{"$f":"IF($D106<$M106, \"* Niños visitados no puede ser mayor que el total Score Grave. \",\"\")","v":""},{"$nulls":23},{"$f":"IF($D106<$M106,1,0)","v":0}]
[null,null,"TOTAL",{"$f":"SUM(E107:L107)","v":7713},{"$f":"SUM(E104:E106)","v":354},642,865,627,865,605,{"$f":"SUM(K104:K106)","v":918},2837,{"$f":"SUM(M105:M106)","v":369},{"$f":"SUM(N104:N106)","v":57},{"$f":"SUM(O104:O106)","v":30}]
[null,"SECCION D: POBLACIÓN EN CONTROL EN EL SEMESTRE CON CONSULTA NUTRICIONAL, SEGÚN ESTRATEGIA"]
[null,"NIÑO/A CON CONSULTA NUTRICIONAL EN",null,"TOTAL"]
[]
["P2200700","Del 5to mes",null,{"$f":"IFERROR(VLOOKUP($A111,Filtro!$A$5:$AY$629,2,FALSE),0)","v":2495}]
["P2200800","De los 3 años y 6 meses",null,{"$f":"IFERROR(VLOOKUP($A112,Filtro!$A$5:$AY$629,2,FALSE),0)","v":1588}]
[null,"SECCION E: POBLACIÓN INASISTENTE A CONTROL DEL NIÑO SANO (AL CORTE)"]
[null,"EDAD",null,"TOTAL"]
[]
["P2501818","0 - 11 meses",null,{"$f":"IFERROR(VLOOKUP($A116,Filtro!$A$5:$AY$629,2,FALSE),0)","v":559}]
["P2501819","12 - 24 meses",null,{"$f":"IFERROR(VLOOKUP($A117,Filtro!$A$5:$AY$629,2,FALSE),0)","v":938}]
["P2501820","25 - 35 meses",null,{"$f":"IFERROR(VLOOKUP($A118,Filtro!$A$5:$AY$629,2,FALSE),0)","v":1403}]
["P2501821","36 - 59 meses",null,{"$f":"IFERROR(VLOOKUP($A119,Filtro!$A$5:$AY$629,2,FALSE),0)","v":3486}]
["P2501822","60 meses - 9 años",null,{"$f":"IFERROR(VLOOKUP($A120,Filtro!$A$5:$AY$629,2,FALSE),0)","v":10612}]
[null,"TOTAL",null,{"$f":"SUM(D116:D120)","v":16998}]
[null,"SECCION F: POBLACIÓN INFANTIL SEGÚN DIAGNÓSTICO DE PRESIÓN ARTERIAL (Incluida en sección A y A1)"]
[null,"CLASIFICACIÓN",null,"Total",null,null,"GRUPOS DE EDAD (en meses)",{"$nulls":5},"Derivación Nivel Secundario"]
[{"$nulls":6},"36 a 47 meses",null,"48 a 71 meses",null,"6-9 años"]
[{"$nulls":3},"Total","Hombres","Mujeres","Hombres","Mujeres","Hombres","Mujeres","Hombres","Mujeres"]
["P2300530","NORMAL (PA menor al percentil 90)",null,{"$f":"SUM(E126:F126)","v":12914},{"$f":"+G126+I126+K126","v":6259},{"$f":"+H126+J126+L126","v":6655},{"$f":"IFERROR(VLOOKUP($A126,Filtro!$A$5:$AY$629,5,FALSE),0)","v":695},{"$f":"IFERROR(VLOOKUP($A126,Filtro!$A$5:$AY$629,6,FALSE),0)","v":788},{"$f":"IFERROR(VLOOKUP($A126,Filtro!$A$5:$AY$629,7,FALSE),0)","v":2097},{"$f":"IFERROR(VLOOKUP($A126,Filtro!$A$5:$AY$629,8,FALSE),0)","v":2220},{"$f":"IFERROR(VLOOKUP($A126,Filtro!$A$5:$AY$629,9,FALSE),0)","v":3467},{"$f":"IFERROR(VLOOKUP($A126,Filtro!$A$5:$AY$629,10,FALSE),0)","v":3647},{"$f":"IFERROR(VLOOKUP($A126,Filtro!$A$5:$AY$629,11,FALSE),0)","v":0},{"$nulls":79},{"$f":"IF($G126<=SUM($Q$11:$R$11),\"\",\"* Niños(as) de 36 a 47 ms clasificados debe ser menor o igual al Total de la población de niños bajo control de en sección A misma edad. \")","v":"* Niños(as) de 36 a 47 ms clasificados debe ser menor o igual al Total de la población de niños bajo control de en sección A misma edad. "},{"$f":"IF($J126<=SUM($S$11:$T$11,$G$44:$H$44),\"\",\"* Niños(as) de 48 a 71 meses clasificados debe ser menor o igual al Total de la población de niños bajo control de en sección A y A1 de la misma edad. \")","v":""},{"$f":"IF($L126<=SUM($O$44:$P$44),\"\",\"* Niños(as) de 6 a 9 años clasificados debe ser menor o igual al Total de la población de niños bajo control de en sección A1 misma edad \")","v":"* Niños(as) de 6 a 9 años clasificados debe ser menor o igual al Total de la población de niños bajo control de en sección A1 misma edad "},{"$nulls":19},{"$f":"IF($G126<=SUM($Q$11:$R$11),0,1)","v":1},{"$f":"IF($J126<=SUM($S$11:$T$11,$G$44:$H$44),0,1)","v":0},{"$f":"IF($L126<=SUM($O$44:$P$44),0,1)","v":1}]
["P2300540","PRESIÓN ARTERIAL ELEVADA",null,{"$f":"SUM(E127:F127)","v":697},{"$f":"+G127+I127+K127","v":350},347,{"$f":"IFERROR(VLOOKUP($A127,Filtro!$A$5:$AY$629,5,FALSE),0)","v":32},{"$f":"IFERROR(VLOOKUP($A127,Filtro!$A$5:$AY$629,6,FALSE),0)","v":29},{"$f":"IFERROR(VLOOKUP($A127,Filtro!$A$5:$AY$629,7,FALSE),0)","v":103},{"$f":"IFERROR(VLOOKUP($A127,Filtro!$A$5:$AY$629,8,FALSE),0)","v":117},{"$f":"IFERROR(VLOOKUP($A127,Filtro!$A$5:$AY$629,9,FALSE),0)","v":215},{"$f":"IFERROR(VLOOKUP($A127,Filtro!$A$5:$AY$629,10,FALSE),0)","v":201},{"$f":"IFERROR(VLOOKUP($A127,Filtro!$A$5:$AY$629,11,FALSE),0)","v":3},{"$nulls":79},{"$f":"IF($G127<=SUM($Q$11:$R$11),\"\",\"* Niños(as) de 36 a 47 ms clasificados debe ser menor o igual al Total de la población de niños bajo control de en sección A misma edad. \")","v":""},{"$f":"IF($J127<=SUM($S$11:$T$11,$G$44:$H$44),\"\",\"* Niños(as) de 48 a 71 meses clasificados debe ser menor o igual al Total de la población de niños bajo control de en sección A y A1 de la misma edad. \")","v":""},{"$f":"IF($L127<=SUM($O$44:$P$44),\"\",\"* Niños(as) de 6 a 9 años clasificados debe ser menor o igual al Total de la población de niños bajo control de en sección A1 misma edad \")","v":""},{"$nulls":19},{"$f":"IF($G127<=SUM($Q$11:$R$11),0,1)","v":0},{"$f":"IF($J127<=SUM($S$11:$T$11,$G$44:$H$44),0,1)","v":0},{"$f":"IF($L127<=SUM($O$44:$P$44),0,1)","v":0}]
["P2300550","HTA ESTADIO I ",null,236,{"$f":"+G128+I128+K128","v":122},114,{"$f":"IFERROR(VLOOKUP($A128,Filtro!$A$5:$AY$629,5,FALSE),0)","v":17},{"$f":"IFERROR(VLOOKUP($A128,Filtro!$A$5:$AY$629,6,FALSE),0)","v":17},{"$f":"IFERROR(VLOOKUP($A128,Filtro!$A$5:$AY$629,7,FALSE),0)","v":34},{"$f":"IFERROR(VLOOKUP($A128,Filtro!$A$5:$AY$629,8,FALSE),0)","v":31},{"$f":"IFERROR(VLOOKUP($A128,Filtro!$A$5:$AY$629,9,FALSE),0)","v":71},{"$f":"IFERROR(VLOOKUP($A128,Filtro!$A$5:$AY$629,10,FALSE),0)","v":66},{"$f":"IFERROR(VLOOKUP($A128,Filtro!$A$5:$AY$629,11,FALSE),0)","v":4},{"$nulls":79},{"$f":"IF($G128<=SUM($Q$11:$R$11),\"\",\"* Niños(as) de 36 a 47 ms clasificados debe ser menor o igual al Total de la población de niños bajo control de en sección A misma edad. \")","v":""},{"$f":"IF($J128<=SUM($S$11:$T$11,$G$44:$H$44),\"\",\"* Niños(as) de 48 a 71 meses clasificados debe ser menor o igual al Total de la población de niños bajo control de en sección A y A1 de la misma edad. \")","v":""},{"$f":"IF($L128<=SUM($O$44:$P$44),\"\",\"* Niños(as) de 6 a 9 años clasificados debe ser menor o igual al Total de la población de niños bajo control de en sección A1 misma edad \")","v":""},{"$nulls":19},{"$f":"IF($G128<=SUM($Q$11:$R$11),0,1)","v":0},{"$f":"IF($J128<=SUM($S$11:$T$11,$G$44:$H$44),0,1)","v":0},{"$f":"IF($L128<=SUM($O$44:$P$44),0,1)","v":0}]
["P2300560","HTA ESTADIO II",null,56,31,25,{"$f":"IFERROR(VLOOKUP($A129,Filtro!$A$5:$AY$629,5,FALSE),0)","v":3},{"$f":"IFERROR(VLOOKUP($A129,Filtro!$A$5:$AY$629,6,FALSE),0)","v":8},{"$f":"IFERROR(VLOOKUP($A129,Filtro!$A$5:$AY$629,7,FALSE),0)","v":15},{"$f":"IFERROR(VLOOKUP($A129,Filtro!$A$5:$AY$629,8,FALSE),0)","v":5},{"$f":"IFERROR(VLOOKUP($A129,Filtro!$A$5:$AY$629,9,FALSE),0)","v":13},{"$f":"IFERROR(VLOOKUP($A129,Filtro!$A$5:$AY$629,10,FALSE),0)","v":12},{"$f":"IFERROR(VLOOKUP($A129,Filtro!$A$5:$AY$629,11,FALSE),0)","v":14},{"$nulls":79},{"$f":"IF($G129<=SUM($Q$11:$R$11),\"\",\"* Niños(as) de 36 a 47 ms clasificados debe ser menor o igual al Total de la población de niños bajo control de en sección A misma edad. \")","v":""},{"$f":"IF($J129<=SUM($S$11:$T$11,$G$44:$H$44),\"\",\"* Niños(as) de 48 a 71 meses clasificados debe ser menor o igual al Total de la población de niños bajo control de en sección A y A1 de la misma edad. \")","v":""},{"$f":"IF($L129<=SUM($O$44:$P$44),\"\",\"* Niños(as) de 6 a 9 años clasificados debe ser menor o igual al Total de la población de niños bajo control de en sección A1 misma edad \")","v":""},{"$nulls":19},{"$f":"IF($G129<=SUM($Q$11:$R$11),0,1)","v":0},{"$f":"IF($J129<=SUM($S$11:$T$11,$G$44:$H$44),0,1)","v":0},{"$f":"IF($L129<=SUM($O$44:$P$44),0,1)","v":0}]
[null,"TOTAL",null,{"$f":"SUM(E130:F130)","v":13903},{"$f":"+G130+I130+K130","v":6762},{"$f":"+H130+J130+L130","v":7141},{"$f":"SUM(G126:G129)","v":747},{"$f":"SUM(H126:H129)","v":842},{"$f":"SUM(I126:I129)","v":2249},2373,3766,{"$f":"SUM(L126:L129)","v":3926},{"$f":"SUM(M126:M129)","v":21},{"$nulls":79},{"$f":"IF($G130<=SUM(Q11:R11),\"\",\"* Niños(as) de 36 a 47 ms clasificados debe ser menor o igual al Total de la población de niños bajo control de en sección A misma edad. \")","v":"* Niños(as) de 36 a 47 ms clasificados debe ser menor o igual al Total de la población de niños bajo control de en sección A misma edad. "},{"$f":"IF($J130<=SUM($S$11:$T$11,$G$44:$H$44),\"\",\"* Niños(as) de 48 a 71 meses clasificados debe ser menor o igual al Total de la población de niños bajo control de en sección A y A1 de la misma edad. \")","v":""},{"$f":"IF($L130<=SUM($O$44:$P$44),\"\",\"* Niños(as) de 6 a 9 años clasificados debe ser menor o igual al Total de la población de niños bajo control de en sección A1 misma edad \")","v":"* Niños(as) de 6 a 9 años clasificados debe ser menor o igual al Total de la población de niños bajo control de en sección A1 misma edad "},{"$nulls":19},{"$f":"IF($G130<=SUM($Q$11:$R$11),0,1)","v":1},{"$f":"IF($J130<=SUM($S$11:$T$11,$G$44:$H$44),0,1)","v":0},{"$f":"IF($L130<=SUM($O$44:$P$44),0,1)","v":1}]
[null,"SECCION G: POBLACIÓN INFANTIL EUTRÓFICA, SEGÚN RIESGO DE MALNUTRICIÓN POR EXCESO (Incluida en sección A y A1)"]
[null,"RESULTADO",null,"TOTAL","GRUPOS DE EDAD (en meses)"]
[{"$nulls":4},"4 a 11 meses","12 a 23 meses","24 a 35 meses","36 a 47 meses","48 a 59 meses","60 a 71 meses"]
["P2300570","SIN RIESGO",null,{"$f":"SUM(E134:J134)","v":9609},{"$f":"IFERROR(VLOOKUP($A134,Filtro!$A$5:$AY$629,3,FALSE),0)","v":1391},{"$f":"IFERROR(VLOOKUP($A134,Filtro!$A$5:$AY$629,4,FALSE),0)","v":1927},{"$f":"IFERROR(VLOOKUP($A134,Filtro!$A$5:$AY$629,5,FALSE),0)","v":1751},{"$f":"IFERROR(VLOOKUP($A134,Filtro!$A$5:$AY$629,6,FALSE),0)","v":1669},{"$f":"IFERROR(VLOOKUP($A134,Filtro!$A$5:$AY$629,7,FALSE),0)","v":1584},{"$f":"IFERROR(VLOOKUP($A134,Filtro!$A$5:$AY$629,8,FALSE),0)","v":1287},{"$f":" CG134 & CH134 & CI134 & CJ134 & CK134 & CL134","v":"* Niños(as) de 4 a 11 ms clasificados debe ser menor o igual al Total niños diagnostidos en NORMAL sección A misma edad. * Niños(as) de 12 a 23 ms clasificados debe ser menor o igual al Total niños diagnosticados en NORMAL en sección A misma edad. * Niños(as) de 24 a 35 ms clasificados debe ser menor o igual al Total niños diagnosticados en NORMAL en sección A misma edad. * Niños(as) de 36 a 47 ms clasificados debe ser menor o igual al Total niños diagnosticos en NORMAL en sección A misma edad. * Niños(as) de 48 a 59 ms clasificados debe ser menor o igual al Total niños diagnosticados en NORMAL en sección A misma edad. "},{"$nulls":73},{"$f":"IF($E134<=SUM($G$35:$J$35),\"\",\"* Niños(as) de 4 a 11 ms clasificados debe ser menor o igual al Total niños diagnostidos en NORMAL sección A misma edad. \")","v":"* Niños(as) de 4 a 11 ms clasificados debe ser menor o igual al Total niños diagnostidos en NORMAL sección A misma edad. "},{"$f":"IF($F134<=SUM($K$35:$N$35),\"\",\"* Niños(as) de 12 a 23 ms clasificados debe ser menor o igual al Total niños diagnosticados en NORMAL en sección A misma edad. \")","v":"* Niños(as) de 12 a 23 ms clasificados debe ser menor o igual al Total niños diagnosticados en NORMAL en sección A misma edad. "},{"$f":"IF($G134<=SUM($O$35:$P$35),\"\",\"* Niños(as) de 24 a 35 ms clasificados debe ser menor o igual al Total niños diagnosticados en NORMAL en sección A misma edad. \")","v":"* Niños(as) de 24 a 35 ms clasificados debe ser menor o igual al Total niños diagnosticados en NORMAL en sección A misma edad. "},{"$f":"IF($H134<=SUM($Q$35:$R$35),\"\",\"* Niños(as) de 36 a 47 ms clasificados debe ser menor o igual al Total niños diagnosticos en NORMAL en sección A misma edad. \")","v":"* Niños(as) de 36 a 47 ms clasificados debe ser menor o igual al Total niños diagnosticos en NORMAL en sección A misma edad. "},{"$f":"IF($I134<=SUM($S$35:$T$35),\"\",\"* Niños(as) de 48 a 59 ms clasificados debe ser menor o igual al Total niños diagnosticados en NORMAL en sección A misma edad. \")","v":"* Niños(as) de 48 a 59 ms clasificados debe ser menor o igual al Total niños diagnosticados en NORMAL en sección A misma edad. "},{"$f":"IF($J134<=SUM($G$69:$H$69),\"\",\"* Niños(as) de 60 a 71 ms clasificados debe ser menor o igual al Total niños diagnosticados en NORMAL en sección A1 misma edad. \")","v":""},{"$nulls":19},{"$f":"IF($E134<=SUM($G$35:$J$35),0,1)","v":1},{"$f":"IF($F134<=SUM($K$35:$N$35),0,1)","v":1},{"$f":"IF($G134<=SUM($O$35:$P$35),0,1)","v":1},{"$f":"IF($H134<=SUM($Q$35:$R$35),0,1)","v":1},{"$f":"IF($I134<=SUM($S$35:$T$35),0,1)","v":1},{"$f":"IF($J134<=SUM($G$69:$H$69),0,1)","v":0}]
["P2300580","CON RIESGO",null,{"$f":"SUM(E135:J135)","v":4269},{"$f":"IFERROR(VLOOKUP($A135,Filtro!$A$5:$AY$629,3,FALSE),0)","v":687},{"$f":"IFERROR(VLOOKUP($A135,Filtro!$A$5:$AY$629,4,FALSE),0)","v":899},{"$f":"IFERROR(VLOOKUP($A135,Filtro!$A$5:$AY$629,5,FALSE),0)","v":729},{"$f":"IFERROR(VLOOKUP($A135,Filtro!$A$5:$AY$629,6,FALSE),0)","v":609},{"$f":"IFERROR(VLOOKUP($A135,Filtro!$A$5:$AY$629,7,FALSE),0)","v":710},{"$f":"IFERROR(VLOOKUP($A135,Filtro!$A$5:$AY$629,8,FALSE),0)","v":635},{"$f":" CG135 & CH135 & CI135 & CJ135 & CK135 & CL135","v":"* Niños(as) de 4 a 11 ms clasificados debe ser menor o igual al Total niños diagnostidos en NORMAL sección A misma edad. * Niños(as) de 12 a 23 ms clasificados debe ser menor o igual al Total niños diagnosticados en NORMAL en sección A misma edad. * Niños(as) de 24 a 35 ms clasificados debe ser menor o igual al Total niños diagnosticados en NORMAL en sección A misma edad. * Niños(as) de 36 a 47 ms clasificados debe ser menor o igual al Total niños diagnosticos en NORMAL en sección A misma edad. * Niños(as) de 48 a 59 ms clasificados debe ser menor o igual al Total niños diagnosticados en NORMAL en sección A misma edad. "},{"$nulls":73},{"$f":"IF($E135<=SUM($G$35:$J$35),\"\",\"* Niños(as) de 4 a 11 ms clasificados debe ser menor o igual al Total niños diagnostidos en NORMAL sección A misma edad. \")","v":"* Niños(as) de 4 a 11 ms clasificados debe ser menor o igual al Total niños diagnostidos en NORMAL sección A misma edad. "},{"$f":"IF($F135<=SUM($K$35:$N$35),\"\",\"* Niños(as) de 12 a 23 ms clasificados debe ser menor o igual al Total niños diagnosticados en NORMAL en sección A misma edad. \")","v":"* Niños(as) de 12 a 23 ms clasificados debe ser menor o igual al Total niños diagnosticados en NORMAL en sección A misma edad. "},{"$f":"IF($G135<=SUM($O$35:$P$35),\"\",\"* Niños(as) de 24 a 35 ms clasificados debe ser menor o igual al Total niños diagnosticados en NORMAL en sección A misma edad. \")","v":"* Niños(as) de 24 a 35 ms clasificados debe ser menor o igual al Total niños diagnosticados en NORMAL en sección A misma edad. "},{"$f":"IF($H135<=SUM($Q$35:$R$35),\"\",\"* Niños(as) de 36 a 47 ms clasificados debe ser menor o igual al Total niños diagnosticos en NORMAL en sección A misma edad. \")","v":"* Niños(as) de 36 a 47 ms clasificados debe ser menor o igual al Total niños diagnosticos en NORMAL en sección A misma edad. "},{"$f":"IF($I135<=SUM($S$35:$T$35),\"\",\"* Niños(as) de 48 a 59 ms clasificados debe ser menor o igual al Total niños diagnosticados en NORMAL en sección A misma edad. \")","v":"* Niños(as) de 48 a 59 ms clasificados debe ser menor o igual al Total niños diagnosticados en NORMAL en sección A misma edad. "},{"$f":"IF($J135<=SUM($G$69:$H$69),\"\",\"* Niños(as) de 60 a 71 ms clasificados debe ser menor o igual al Total niños diagnosticados en NORMAL en sección A1 misma edad. \")","v":""},{"$nulls":19},{"$f":"IF($E135<=SUM($G$35:$J$35),0,1)","v":1},{"$f":"IF($F135<=SUM($K$35:$N$35),0,1)","v":1},{"$f":"IF($G135<=SUM($O$35:$P$35),0,1)","v":1},{"$f":"IF($H135<=SUM($Q$35:$R$35),0,1)","v":1},{"$f":"IF($I135<=SUM($S$35:$T$35),0,1)","v":1},{"$f":"IF($J135<=SUM($G$69:$H$69),0,1)","v":0}]
[null,"TOTAL",null,{"$f":"SUM(E136:J136)","v":13878},{"$f":"SUM(E134:E135)","v":2078},2826,2480,2278,2294,1922,{"$f":" CG136 & CH136 & CI136 & CJ136 & CK136 & CL136","v":"* Niños(as) de 4 a 11 ms clasificados debe ser menor o igual al Total niños diagnostidos en NORMAL sección A misma edad. * Niños(as) de 12 a 23 ms clasificados debe ser menor o igual al Total niños diagnosticados en NORMAL en sección A misma edad. * Niños(as) de 24 a 35 ms clasificados debe ser menor o igual al Total niños diagnosticados en NORMAL en sección A misma edad. * Niños(as) de 36 a 47 ms clasificados debe ser menor o igual al Total niños diagnosticos en NORMAL en sección A misma edad. * Niños(as) de 48 a 59 ms clasificados debe ser menor o igual al Total niños diagnosticados en NORMAL en sección A misma edad. "},{"$nulls":73},{"$f":"IF($E136<=SUM($G$35:$J$35),\"\",\"* Niños(as) de 4 a 11 ms clasificados debe ser menor o igual al Total niños diagnostidos en NORMAL sección A misma edad. \")","v":"* Niños(as) de 4 a 11 ms clasificados debe ser menor o igual al Total niños diagnostidos en NORMAL sección A misma edad. "},{"$f":"IF($F136<=SUM($K$35:$N$35),\"\",\"* Niños(as) de 12 a 23 ms clasificados debe ser menor o igual al Total niños diagnosticados en NORMAL en sección A misma edad. \")","v":"* Niños(as) de 12 a 23 ms clasificados debe ser menor o igual al Total niños diagnosticados en NORMAL en sección A misma edad. "},{"$f":"IF($G136<=SUM($O$35:$P$35),\"\",\"* Niños(as) de 24 a 35 ms clasificados debe ser menor o igual al Total niños diagnosticados en NORMAL en sección A misma edad. \")","v":"* Niños(as) de 24 a 35 ms clasificados debe ser menor o igual al Total niños diagnosticados en NORMAL en sección A misma edad. "},{"$f":"IF($H136<=SUM($Q$35:$R$35),\"\",\"* Niños(as) de 36 a 47 ms clasificados debe ser menor o igual al Total niños diagnosticos en NORMAL en sección A misma edad. \")","v":"* Niños(as) de 36 a 47 ms clasificados debe ser menor o igual al Total niños diagnosticos en NORMAL en sección A misma edad. "},{"$f":"IF($I136<=SUM($S$35:$T$35),\"\",\"* Niños(as) de 48 a 59 ms clasificados debe ser menor o igual al Total niños diagnosticados en NORMAL en sección A misma edad. \")","v":"* Niños(as) de 48 a 59 ms clasificados debe ser menor o igual al Total niños diagnosticados en NORMAL en sección A misma edad. "},{"$f":"IF($J136<=SUM($G$69:$H$69),\"\",\"* Niños(as) de 60 a 71 ms clasificados debe ser menor o igual al Total niños diagnosticados en NORMAL en sección A1 misma edad. \")","v":""},{"$nulls":19},{"$f":"IF($E136<=SUM($G$35:$J$35),0,1)","v":1},{"$f":"IF($F136<=SUM($K$35:$N$35),0,1)","v":1},{"$f":"IF($G136<=SUM($O$35:$P$35),0,1)","v":1},{"$f":"IF($H136<=SUM($Q$35:$R$35),0,1)","v":1},{"$f":"IF($I136<=SUM($S$35:$T$35),0,1)","v":1},{"$f":"IF($J136<=SUM($G$69:$H$69),0,1)","v":0}]
[null,"SECCION H: POBLACIÓN SEGÚN DIAGNÓSTICO DE NIÑOS, NIÑAS Y ADOLESCENTES CON NECESIDADES ESPECIALES DE ATENCIÓN EN SALUD (NANEAS) (Incluida en sección A y A1)"]
[null,"DIAGNOSTICOS",null,"TOTAL",null,null,"GRUPOS DE EDAD (en meses - años) Y SEXO",{"$nulls":37},"Pueblos Originarios",null,"Población Migrantes"]
[{"$nulls":6},"Menor de 1 mes",null,"1 mes",null,"2 meses",null,"3 meses",null,"4 meses",null,"5 meses",null,"6 meses",null,"7 a 11 meses",null,"12 a 17 meses",null,"18 a 23 meses",null,"24 a 35 meses",null,"36 a 41 meses",null,"42 a 47 meses",null,"48 a 59 meses",null,"60 a 71 meses",null,"6 a 7 años",null,"8 a 9 años",null,"10 a 14 años",null,"15 a 19 años"]
[{"$nulls":3},"Ambos sexos","Hombres","Mujeres","Hombres","Mujeres","Hombres","Mujeres","Hombres","Mujeres","Hombres","Mujeres","Hombres","Mujeres","Hombres","Mujeres","Hombres","Mujeres","Hombres","Mujeres","Hombres","Mujeres","Hombres","Mujeres","Hombres","Mujeres","Hombres","Mujeres","Hombres","Mujeres","Hombres","Mujeres","Hombres","Mujeres","Hombres","Mujeres","Hombres","Mujeres","Hombres","Mujeres","Hombres","Mujeres","Hombres","Mujeres","Hombres","Mujeres"]
[null,"TOTAL POBLACIÓN NANEAS BAJO CONTROL",null,{"$f":"SUM(E141:F141)","v":4663},{"$f":"+G141+I141+K141+M141+O141+Q141+S141+U141+W141+Y141+AA141+AC141+AE141+AG141+AI141+AO141+AQ141+AK141+AM141","v":2713},1950,{"$f":"SUM(G142:G185)","v":4},{"$f":"SUM(H142:H185)","v":4},18,10,26,15,21,18,24,19,27,19,30,31,135,99,181,138,130,67,214,184,225,127,62,31,303,224,305,178,398,288,285,221,217,178,108,99,8,9,7,10,{"$f":"CG141&CH141&CI141&CJ141","v":""}]
["P2500400","Síndrome de Down ",null,123,51,72,{"$f":"IFERROR(VLOOKUP($A142,Filtro!$A$5:$AY$629,5,FALSE),0)","v":0},{"$f":"IFERROR(VLOOKUP($A142,Filtro!$A$5:$AY$629,6,FALSE),0)","v":0},{"$f":"IFERROR(VLOOKUP($A142,Filtro!$A$5:$AY$629,7,FALSE),0)","v":0},{"$f":"IFERROR(VLOOKUP($A142,Filtro!$A$5:$AY$629,8,FALSE),0)","v":0},{"$f":"IFERROR(VLOOKUP($A142,Filtro!$A$5:$AY$629,9,FALSE),0)","v":0},{"$f":"IFERROR(VLOOKUP($A142,Filtro!$A$5:$AY$629,10,FALSE),0)","v":1},{"$f":"IFERROR(VLOOKUP($A142,Filtro!$A$5:$AY$629,11,FALSE),0)","v":1},{"$f":"IFERROR(VLOOKUP($A142,Filtro!$A$5:$AY$629,12,FALSE),0)","v":1},{"$f":"IFERROR(VLOOKUP($A142,Filtro!$A$5:$AY$629,13,FALSE),0)","v":3},{"$f":"IFERROR(VLOOKUP($A142,Filtro!$A$5:$AY$629,14,FALSE),0)","v":2},{"$f":"IFERROR(VLOOKUP($A142,Filtro!$A$5:$AY$629,15,FALSE),0)","v":1},{"$f":"IFERROR(VLOOKUP($A142,Filtro!$A$5:$AY$629,16,FALSE),0)","v":0},{"$f":"IFERROR(VLOOKUP($A142,Filtro!$A$5:$AY$629,17,FALSE),0)","v":0},{"$f":"IFERROR(VLOOKUP($A142,Filtro!$A$5:$AY$629,18,FALSE),0)","v":0},{"$f":"IFERROR(VLOOKUP($A142,Filtro!$A$5:$AY$629,19,FALSE),0)","v":1},{"$f":"IFERROR(VLOOKUP($A142,Filtro!$A$5:$AY$629,20,FALSE),0)","v":5},{"$f":"IFERROR(VLOOKUP($A142,Filtro!$A$5:$AY$629,21,FALSE),0)","v":2},{"$f":"IFERROR(VLOOKUP($A142,Filtro!$A$5:$AY$629,22,FALSE),0)","v":6},{"$f":"IFERROR(VLOOKUP($A142,Filtro!$A$5:$AY$629,23,FALSE),0)","v":2},{"$f":"IFERROR(VLOOKUP($A142,Filtro!$A$5:$AY$629,24,FALSE),0)","v":4},{"$f":"IFERROR(VLOOKUP($A142,Filtro!$A$5:$AY$629,25,FALSE),0)","v":9},{"$f":"IFERROR(VLOOKUP($A142,Filtro!$A$5:$AY$629,26,FALSE),0)","v":8},{"$f":"IFERROR(VLOOKUP($A142,Filtro!$A$5:$AY$629,27,FALSE),0)","v":5},{"$f":"IFERROR(VLOOKUP($A142,Filtro!$A$5:$AY$629,28,FALSE),0)","v":4},{"$f":"IFERROR(VLOOKUP($A142,Filtro!$A$5:$AY$629,29,FALSE),0)","v":1},{"$f":"IFERROR(VLOOKUP($A142,Filtro!$A$5:$AY$629,30,FALSE),0)","v":0},{"$f":"IFERROR(VLOOKUP($A142,Filtro!$A$5:$AY$629,31,FALSE),0)","v":8},{"$f":"IFERROR(VLOOKUP($A142,Filtro!$A$5:$AY$629,32,FALSE),0)","v":8},{"$f":"IFERROR(VLOOKUP($A142,Filtro!$A$5:$AY$629,33,FALSE),0)","v":7},{"$f":"IFERROR(VLOOKUP($A142,Filtro!$A$5:$AY$629,34,FALSE),0)","v":9},{"$f":"IFERROR(VLOOKUP($A142,Filtro!$A$5:$AY$629,35,FALSE),0)","v":4},{"$f":"IFERROR(VLOOKUP($A142,Filtro!$A$5:$AY$629,36,FALSE),0)","v":14},{"$f":"IFERROR(VLOOKUP($A142,Filtro!$A$5:$AY$629,37,FALSE),0)","v":4},{"$f":"IFERROR(VLOOKUP($A142,Filtro!$A$5:$AY$629,38,FALSE),0)","v":3},{"$f":"IFERROR(VLOOKUP($A142,Filtro!$A$5:$AY$629,39,FALSE),0)","v":3},{"$f":"IFERROR(VLOOKUP($A142,Filtro!$A$5:$AY$629,40,FALSE),0)","v":3},{"$f":"IFERROR(VLOOKUP($A142,Filtro!$A$5:$AY$629,41,FALSE),0)","v":0},{"$f":"IFERROR(VLOOKUP($A142,Filtro!$A$5:$AY$629,42,FALSE),0)","v":4},{"$f":"IFERROR(VLOOKUP($A142,Filtro!$A$5:$AY$629,43,FALSE),0)","v":1},{"$f":"IFERROR(VLOOKUP($A142,Filtro!$A$5:$AY$629,44,FALSE),0)","v":0},{"$f":"IFERROR(VLOOKUP($A142,Filtro!$A$5:$AY$629,45,FALSE),0)","v":1},{"$f":"IFERROR(VLOOKUP($A142,Filtro!$A$5:$AY$629,46,FALSE),0)","v":1},{"$f":"CG142&CH142&CI142&CJ142","v":""},{"$nulls":35},{"$f":"IF(DF142=1,\"* No olvide escribir en las celdas de \"\"Pueblos Originarios\"\" (Digite Cero si no tiene).\",\"\")","v":""},{"$f":"IF(DG142=1,\"* No olvide escribir en las celdas de \"\"Población Migrante\"\" (Digite Cero si no tiene).\",\"\")","v":""},{"$f":"IF(DH142=1,\"* La suma de las celdas de \"\"Pueblos Originarios\"\"no debe superar el Total.\",\"\")","v":""},{"$f":"IF(DI142=1,\"* La suma de las celdas de \"\"Población Migrante\"\" no debe superar el Total.\",\"\")","v":""},{"$nulls":21},{"$f":"IF(AND($D142<>0,OR(AS142=\"\",AT142=\"\")),1,0)","v":0},{"$f":"IF(AND($D142<>0,OR(AU142=\"\",AV142=\"\")),1,0)","v":0},{"$f":"IF((AS142+AT142)>$D142,1,0)","v":0},{"$f":"IF((AV142+AU142)>$D142,1,0)","v":0}]
["P2500500","Trastorno del Espectro Autista ","Trastorno del Espectro Autista ",853,636,217,{"$f":"IFERROR(VLOOKUP($A143,Filtro!$A$5:$AY$629,5,FALSE),0)","v":0},{"$f":"IFERROR(VLOOKUP($A143,Filtro!$A$5:$AY$629,6,FALSE),0)","v":0},{"$f":"IFERROR(VLOOKUP($A143,Filtro!$A$5:$AY$629,7,FALSE),0)","v":0},{"$f":"IFERROR(VLOOKUP($A143,Filtro!$A$5:$AY$629,8,FALSE),0)","v":0},{"$f":"IFERROR(VLOOKUP($A143,Filtro!$A$5:$AY$629,9,FALSE),0)","v":0},{"$f":"IFERROR(VLOOKUP($A143,Filtro!$A$5:$AY$629,10,FALSE),0)","v":0},{"$f":"IFERROR(VLOOKUP($A143,Filtro!$A$5:$AY$629,11,FALSE),0)","v":0},{"$f":"IFERROR(VLOOKUP($A143,Filtro!$A$5:$AY$629,12,FALSE),0)","v":0},{"$f":"IFERROR(VLOOKUP($A143,Filtro!$A$5:$AY$629,13,FALSE),0)","v":0},{"$f":"IFERROR(VLOOKUP($A143,Filtro!$A$5:$AY$629,14,FALSE),0)","v":0},{"$f":"IFERROR(VLOOKUP($A143,Filtro!$A$5:$AY$629,15,FALSE),0)","v":1},{"$f":"IFERROR(VLOOKUP($A143,Filtro!$A$5:$AY$629,16,FALSE),0)","v":0},{"$f":"IFERROR(VLOOKUP($A143,Filtro!$A$5:$AY$629,17,FALSE),0)","v":0},{"$f":"IFERROR(VLOOKUP($A143,Filtro!$A$5:$AY$629,18,FALSE),0)","v":0},{"$f":"IFERROR(VLOOKUP($A143,Filtro!$A$5:$AY$629,19,FALSE),0)","v":0},{"$f":"IFERROR(VLOOKUP($A143,Filtro!$A$5:$AY$629,20,FALSE),0)","v":0},{"$f":"IFERROR(VLOOKUP($A143,Filtro!$A$5:$AY$629,21,FALSE),0)","v":4},{"$f":"IFERROR(VLOOKUP($A143,Filtro!$A$5:$AY$629,22,FALSE),0)","v":0},{"$f":"IFERROR(VLOOKUP($A143,Filtro!$A$5:$AY$629,23,FALSE),0)","v":3},{"$f":"IFERROR(VLOOKUP($A143,Filtro!$A$5:$AY$629,24,FALSE),0)","v":1},{"$f":"IFERROR(VLOOKUP($A143,Filtro!$A$5:$AY$629,25,FALSE),0)","v":41},{"$f":"IFERROR(VLOOKUP($A143,Filtro!$A$5:$AY$629,26,FALSE),0)","v":20},{"$f":"IFERROR(VLOOKUP($A143,Filtro!$A$5:$AY$629,27,FALSE),0)","v":84},{"$f":"IFERROR(VLOOKUP($A143,Filtro!$A$5:$AY$629,28,FALSE),0)","v":31},{"$f":"IFERROR(VLOOKUP($A143,Filtro!$A$5:$AY$629,29,FALSE),0)","v":33},{"$f":"IFERROR(VLOOKUP($A143,Filtro!$A$5:$AY$629,30,FALSE),0)","v":10},{"$f":"IFERROR(VLOOKUP($A143,Filtro!$A$5:$AY$629,31,FALSE),0)","v":132},{"$f":"IFERROR(VLOOKUP($A143,Filtro!$A$5:$AY$629,32,FALSE),0)","v":55},{"$f":"IFERROR(VLOOKUP($A143,Filtro!$A$5:$AY$629,33,FALSE),0)","v":99},{"$f":"IFERROR(VLOOKUP($A143,Filtro!$A$5:$AY$629,34,FALSE),0)","v":34},{"$f":"IFERROR(VLOOKUP($A143,Filtro!$A$5:$AY$629,35,FALSE),0)","v":126},{"$f":"IFERROR(VLOOKUP($A143,Filtro!$A$5:$AY$629,36,FALSE),0)","v":37},{"$f":"IFERROR(VLOOKUP($A143,Filtro!$A$5:$AY$629,37,FALSE),0)","v":73},{"$f":"IFERROR(VLOOKUP($A143,Filtro!$A$5:$AY$629,38,FALSE),0)","v":13},{"$f":"IFERROR(VLOOKUP($A143,Filtro!$A$5:$AY$629,39,FALSE),0)","v":32},{"$f":"IFERROR(VLOOKUP($A143,Filtro!$A$5:$AY$629,40,FALSE),0)","v":12},{"$f":"IFERROR(VLOOKUP($A143,Filtro!$A$5:$AY$629,41,FALSE),0)","v":8},{"$f":"IFERROR(VLOOKUP($A143,Filtro!$A$5:$AY$629,42,FALSE),0)","v":4},{"$f":"IFERROR(VLOOKUP($A143,Filtro!$A$5:$AY$629,43,FALSE),0)","v":1},{"$f":"IFERROR(VLOOKUP($A143,Filtro!$A$5:$AY$629,44,FALSE),0)","v":3},{"$f":"IFERROR(VLOOKUP($A143,Filtro!$A$5:$AY$629,45,FALSE),0)","v":3},{"$f":"IFERROR(VLOOKUP($A143,Filtro!$A$5:$AY$629,46,FALSE),0)","v":0},{"$f":"CG143&CH143&CI143&CJ143","v":""},{"$nulls":35},{"$f":"IF(DF143=1,\"* No olvide escribir en las celdas de \"\"Pueblos Originarios\"\" (Digite Cero si no tiene).\",\"\")","v":""},{"$f":"IF(DG143=1,\"* No olvide escribir en las celdas de \"\"Población Migrante\"\" (Digite Cero si no tiene).\",\"\")","v":""},{"$f":"IF(DH143=1,\"* La suma de las celdas de \"\"Pueblos Originarios\"\"no debe superar el Total.\",\"\")","v":""},{"$f":"IF(DI143=1,\"* La suma de las celdas de \"\"Población Migrante\"\" no debe superar el Total.\",\"\")","v":""},{"$nulls":21},{"$f":"IF(AND($D143<>0,OR(AS143=\"\",AT143=\"\")),1,0)","v":0},{"$f":"IF(AND($D143<>0,OR(AU143=\"\",AV143=\"\")),1,0)","v":0},{"$f":"IF((AS143+AT143)>$D143,1,0)","v":0},{"$f":"IF((AV143+AU143)>$D143,1,0)","v":0}]
["P2501823","Síndrome de Rett ","Síndrome de Rett ",1,0,1,{"$f":"IFERROR(VLOOKUP($A144,Filtro!$A$5:$AY$629,5,FALSE),0)","v":0},{"$f":"IFERROR(VLOOKUP($A144,Filtro!$A$5:$AY$629,6,FALSE),0)","v":0},{"$f":"IFERROR(VLOOKUP($A144,Filtro!$A$5:$AY$629,7,FALSE),0)","v":0},{"$f":"IFERROR(VLOOKUP($A144,Filtro!$A$5:$AY$629,8,FALSE),0)","v":0},{"$f":"IFERROR(VLOOKUP($A144,Filtro!$A$5:$AY$629,9,FALSE),0)","v":0},{"$f":"IFERROR(VLOOKUP($A144,Filtro!$A$5:$AY$629,10,FALSE),0)","v":0},{"$f":"IFERROR(VLOOKUP($A144,Filtro!$A$5:$AY$629,11,FALSE),0)","v":0},{"$f":"IFERROR(VLOOKUP($A144,Filtro!$A$5:$AY$629,12,FALSE),0)","v":0},{"$f":"IFERROR(VLOOKUP($A144,Filtro!$A$5:$AY$629,13,FALSE),0)","v":0},{"$f":"IFERROR(VLOOKUP($A144,Filtro!$A$5:$AY$629,14,FALSE),0)","v":0},{"$f":"IFERROR(VLOOKUP($A144,Filtro!$A$5:$AY$629,15,FALSE),0)","v":0},{"$f":"IFERROR(VLOOKUP($A144,Filtro!$A$5:$AY$629,16,FALSE),0)","v":0},{"$f":"IFERROR(VLOOKUP($A144,Filtro!$A$5:$AY$629,17,FALSE),0)","v":0},{"$f":"IFERROR(VLOOKUP($A144,Filtro!$A$5:$AY$629,18,FALSE),0)","v":0},{"$f":"IFERROR(VLOOKUP($A144,Filtro!$A$5:$AY$629,19,FALSE),0)","v":0},{"$f":"IFERROR(VLOOKUP($A144,Filtro!$A$5:$AY$629,20,FALSE),0)","v":0},{"$f":"IFERROR(VLOOKUP($A144,Filtro!$A$5:$AY$629,21,FALSE),0)","v":0},{"$f":"IFERROR(VLOOKUP($A144,Filtro!$A$5:$AY$629,22,FALSE),0)","v":0},{"$f":"IFERROR(VLOOKUP($A144,Filtro!$A$5:$AY$629,23,FALSE),0)","v":0},{"$f":"IFERROR(VLOOKUP($A144,Filtro!$A$5:$AY$629,24,FALSE),0)","v":0},{"$f":"IFERROR(VLOOKUP($A144,Filtro!$A$5:$AY$629,25,FALSE),0)","v":0},{"$f":"IFERROR(VLOOKUP($A144,Filtro!$A$5:$AY$629,26,FALSE),0)","v":0},{"$f":"IFERROR(VLOOKUP($A144,Filtro!$A$5:$AY$629,27,FALSE),0)","v":0},{"$f":"IFERROR(VLOOKUP($A144,Filtro!$A$5:$AY$629,28,FALSE),0)","v":0},{"$f":"IFERROR(VLOOKUP($A144,Filtro!$A$5:$AY$629,29,FALSE),0)","v":0},{"$f":"IFERROR(VLOOKUP($A144,Filtro!$A$5:$AY$629,30,FALSE),0)","v":0},{"$f":"IFERROR(VLOOKUP($A144,Filtro!$A$5:$AY$629,31,FALSE),0)","v":0},{"$f":"IFERROR(VLOOKUP($A144,Filtro!$A$5:$AY$629,32,FALSE),0)","v":0},{"$f":"IFERROR(VLOOKUP($A144,Filtro!$A$5:$AY$629,33,FALSE),0)","v":0},{"$f":"IFERROR(VLOOKUP($A144,Filtro!$A$5:$AY$629,34,FALSE),0)","v":0},{"$f":"IFERROR(VLOOKUP($A144,Filtro!$A$5:$AY$629,35,FALSE),0)","v":0},{"$f":"IFERROR(VLOOKUP($A144,Filtro!$A$5:$AY$629,36,FALSE),0)","v":0},{"$f":"IFERROR(VLOOKUP($A144,Filtro!$A$5:$AY$629,37,FALSE),0)","v":0},{"$f":"IFERROR(VLOOKUP($A144,Filtro!$A$5:$AY$629,38,FALSE),0)","v":0},{"$f":"IFERROR(VLOOKUP($A144,Filtro!$A$5:$AY$629,39,FALSE),0)","v":0},{"$f":"IFERROR(VLOOKUP($A144,Filtro!$A$5:$AY$629,40,FALSE),0)","v":0},{"$f":"IFERROR(VLOOKUP($A144,Filtro!$A$5:$AY$629,41,FALSE),0)","v":0},{"$f":"IFERROR(VLOOKUP($A144,Filtro!$A$5:$AY$629,42,FALSE),0)","v":1},{"$f":"IFERROR(VLOOKUP($A144,Filtro!$A$5:$AY$629,43,FALSE),0)","v":0},{"$f":"IFERROR(VLOOKUP($A144,Filtro!$A$5:$AY$629,44,FALSE),0)","v":0},{"$f":"IFERROR(VLOOKUP($A144,Filtro!$A$5:$AY$629,45,FALSE),0)","v":0},{"$f":"IFERROR(VLOOKUP($A144,Filtro!$A$5:$AY$629,46,FALSE),0)","v":0},""]
["P2500700","Parálisis Cerebral ","Parálisis Cerebral ",55,31,24,{"$f":"IFERROR(VLOOKUP($A145,Filtro!$A$5:$AY$629,5,FALSE),0)","v":0},{"$f":"IFERROR(VLOOKUP($A145,Filtro!$A$5:$AY$629,6,FALSE),0)","v":0},{"$f":"IFERROR(VLOOKUP($A145,Filtro!$A$5:$AY$629,7,FALSE),0)","v":0},{"$f":"IFERROR(VLOOKUP($A145,Filtro!$A$5:$AY$629,8,FALSE),0)","v":0},{"$f":"IFERROR(VLOOKUP($A145,Filtro!$A$5:$AY$629,9,FALSE),0)","v":0},{"$f":"IFERROR(VLOOKUP($A145,Filtro!$A$5:$AY$629,10,FALSE),0)","v":0},{"$f":"IFERROR(VLOOKUP($A145,Filtro!$A$5:$AY$629,11,FALSE),0)","v":0},{"$f":"IFERROR(VLOOKUP($A145,Filtro!$A$5:$AY$629,12,FALSE),0)","v":0},{"$f":"IFERROR(VLOOKUP($A145,Filtro!$A$5:$AY$629,13,FALSE),0)","v":0},{"$f":"IFERROR(VLOOKUP($A145,Filtro!$A$5:$AY$629,14,FALSE),0)","v":0},{"$f":"IFERROR(VLOOKUP($A145,Filtro!$A$5:$AY$629,15,FALSE),0)","v":0},{"$f":"IFERROR(VLOOKUP($A145,Filtro!$A$5:$AY$629,16,FALSE),0)","v":0},{"$f":"IFERROR(VLOOKUP($A145,Filtro!$A$5:$AY$629,17,FALSE),0)","v":0},{"$f":"IFERROR(VLOOKUP($A145,Filtro!$A$5:$AY$629,18,FALSE),0)","v":2},{"$f":"IFERROR(VLOOKUP($A145,Filtro!$A$5:$AY$629,19,FALSE),0)","v":0},{"$f":"IFERROR(VLOOKUP($A145,Filtro!$A$5:$AY$629,20,FALSE),0)","v":0},{"$f":"IFERROR(VLOOKUP($A145,Filtro!$A$5:$AY$629,21,FALSE),0)","v":0},{"$f":"IFERROR(VLOOKUP($A145,Filtro!$A$5:$AY$629,22,FALSE),0)","v":1},{"$f":"IFERROR(VLOOKUP($A145,Filtro!$A$5:$AY$629,23,FALSE),0)","v":1},{"$f":"IFERROR(VLOOKUP($A145,Filtro!$A$5:$AY$629,24,FALSE),0)","v":0},{"$f":"IFERROR(VLOOKUP($A145,Filtro!$A$5:$AY$629,25,FALSE),0)","v":2},{"$f":"IFERROR(VLOOKUP($A145,Filtro!$A$5:$AY$629,26,FALSE),0)","v":0},{"$f":"IFERROR(VLOOKUP($A145,Filtro!$A$5:$AY$629,27,FALSE),0)","v":2},{"$f":"IFERROR(VLOOKUP($A145,Filtro!$A$5:$AY$629,28,FALSE),0)","v":0},{"$f":"IFERROR(VLOOKUP($A145,Filtro!$A$5:$AY$629,29,FALSE),0)","v":0},{"$f":"IFERROR(VLOOKUP($A145,Filtro!$A$5:$AY$629,30,FALSE),0)","v":0},{"$f":"IFERROR(VLOOKUP($A145,Filtro!$A$5:$AY$629,31,FALSE),0)","v":3},{"$f":"IFERROR(VLOOKUP($A145,Filtro!$A$5:$AY$629,32,FALSE),0)","v":1},{"$f":"IFERROR(VLOOKUP($A145,Filtro!$A$5:$AY$629,33,FALSE),0)","v":3},{"$f":"IFERROR(VLOOKUP($A145,Filtro!$A$5:$AY$629,34,FALSE),0)","v":1},{"$f":"IFERROR(VLOOKUP($A145,Filtro!$A$5:$AY$629,35,FALSE),0)","v":6},{"$f":"IFERROR(VLOOKUP($A145,Filtro!$A$5:$AY$629,36,FALSE),0)","v":6},{"$f":"IFERROR(VLOOKUP($A145,Filtro!$A$5:$AY$629,37,FALSE),0)","v":0},{"$f":"IFERROR(VLOOKUP($A145,Filtro!$A$5:$AY$629,38,FALSE),0)","v":2},{"$f":"IFERROR(VLOOKUP($A145,Filtro!$A$5:$AY$629,39,FALSE),0)","v":8},{"$f":"IFERROR(VLOOKUP($A145,Filtro!$A$5:$AY$629,40,FALSE),0)","v":7},{"$f":"IFERROR(VLOOKUP($A145,Filtro!$A$5:$AY$629,41,FALSE),0)","v":6},{"$f":"IFERROR(VLOOKUP($A145,Filtro!$A$5:$AY$629,42,FALSE),0)","v":4},{"$f":"IFERROR(VLOOKUP($A145,Filtro!$A$5:$AY$629,43,FALSE),0)","v":0},{"$f":"IFERROR(VLOOKUP($A145,Filtro!$A$5:$AY$629,44,FALSE),0)","v":0},{"$f":"IFERROR(VLOOKUP($A145,Filtro!$A$5:$AY$629,45,FALSE),0)","v":0},{"$f":"IFERROR(VLOOKUP($A145,Filtro!$A$5:$AY$629,46,FALSE),0)","v":1},""]
["P2501824","Epilepsia ","Epilepsia ",69,33,36,{"$f":"IFERROR(VLOOKUP($A146,Filtro!$A$5:$AY$629,5,FALSE),0)","v":0},{"$f":"IFERROR(VLOOKUP($A146,Filtro!$A$5:$AY$629,6,FALSE),0)","v":0},{"$f":"IFERROR(VLOOKUP($A146,Filtro!$A$5:$AY$629,7,FALSE),0)","v":0},{"$f":"IFERROR(VLOOKUP($A146,Filtro!$A$5:$AY$629,8,FALSE),0)","v":0},{"$f":"IFERROR(VLOOKUP($A146,Filtro!$A$5:$AY$629,9,FALSE),0)","v":0},{"$f":"IFERROR(VLOOKUP($A146,Filtro!$A$5:$AY$629,10,FALSE),0)","v":0},{"$f":"IFERROR(VLOOKUP($A146,Filtro!$A$5:$AY$629,11,FALSE),0)","v":0},{"$f":"IFERROR(VLOOKUP($A146,Filtro!$A$5:$AY$629,12,FALSE),0)","v":1},{"$f":"IFERROR(VLOOKUP($A146,Filtro!$A$5:$AY$629,13,FALSE),0)","v":0},{"$f":"IFERROR(VLOOKUP($A146,Filtro!$A$5:$AY$629,14,FALSE),0)","v":0},{"$f":"IFERROR(VLOOKUP($A146,Filtro!$A$5:$AY$629,15,FALSE),0)","v":1},{"$f":"IFERROR(VLOOKUP($A146,Filtro!$A$5:$AY$629,16,FALSE),0)","v":0},{"$f":"IFERROR(VLOOKUP($A146,Filtro!$A$5:$AY$629,17,FALSE),0)","v":0},{"$f":"IFERROR(VLOOKUP($A146,Filtro!$A$5:$AY$629,18,FALSE),0)","v":0},{"$f":"IFERROR(VLOOKUP($A146,Filtro!$A$5:$AY$629,19,FALSE),0)","v":1},{"$f":"IFERROR(VLOOKUP($A146,Filtro!$A$5:$AY$629,20,FALSE),0)","v":0},{"$f":"IFERROR(VLOOKUP($A146,Filtro!$A$5:$AY$629,21,FALSE),0)","v":1},{"$f":"IFERROR(VLOOKUP($A146,Filtro!$A$5:$AY$629,22,FALSE),0)","v":3},{"$f":"IFERROR(VLOOKUP($A146,Filtro!$A$5:$AY$629,23,FALSE),0)","v":0},{"$f":"IFERROR(VLOOKUP($A146,Filtro!$A$5:$AY$629,24,FALSE),0)","v":0},{"$f":"IFERROR(VLOOKUP($A146,Filtro!$A$5:$AY$629,25,FALSE),0)","v":3},{"$f":"IFERROR(VLOOKUP($A146,Filtro!$A$5:$AY$629,26,FALSE),0)","v":3},{"$f":"IFERROR(VLOOKUP($A146,Filtro!$A$5:$AY$629,27,FALSE),0)","v":4},{"$f":"IFERROR(VLOOKUP($A146,Filtro!$A$5:$AY$629,28,FALSE),0)","v":2},{"$f":"IFERROR(VLOOKUP($A146,Filtro!$A$5:$AY$629,29,FALSE),0)","v":0},{"$f":"IFERROR(VLOOKUP($A146,Filtro!$A$5:$AY$629,30,FALSE),0)","v":0},{"$f":"IFERROR(VLOOKUP($A146,Filtro!$A$5:$AY$629,31,FALSE),0)","v":2},{"$f":"IFERROR(VLOOKUP($A146,Filtro!$A$5:$AY$629,32,FALSE),0)","v":4},{"$f":"IFERROR(VLOOKUP($A146,Filtro!$A$5:$AY$629,33,FALSE),0)","v":1},{"$f":"IFERROR(VLOOKUP($A146,Filtro!$A$5:$AY$629,34,FALSE),0)","v":1},{"$f":"IFERROR(VLOOKUP($A146,Filtro!$A$5:$AY$629,35,FALSE),0)","v":8},{"$f":"IFERROR(VLOOKUP($A146,Filtro!$A$5:$AY$629,36,FALSE),0)","v":8},{"$f":"IFERROR(VLOOKUP($A146,Filtro!$A$5:$AY$629,37,FALSE),0)","v":2},{"$f":"IFERROR(VLOOKUP($A146,Filtro!$A$5:$AY$629,38,FALSE),0)","v":2},{"$f":"IFERROR(VLOOKUP($A146,Filtro!$A$5:$AY$629,39,FALSE),0)","v":4},{"$f":"IFERROR(VLOOKUP($A146,Filtro!$A$5:$AY$629,40,FALSE),0)","v":8},{"$f":"IFERROR(VLOOKUP($A146,Filtro!$A$5:$AY$629,41,FALSE),0)","v":6},{"$f":"IFERROR(VLOOKUP($A146,Filtro!$A$5:$AY$629,42,FALSE),0)","v":4},{"$f":"IFERROR(VLOOKUP($A146,Filtro!$A$5:$AY$629,43,FALSE),0)","v":0},{"$f":"IFERROR(VLOOKUP($A146,Filtro!$A$5:$AY$629,44,FALSE),0)","v":0},{"$f":"IFERROR(VLOOKUP($A146,Filtro!$A$5:$AY$629,45,FALSE),0)","v":0},{"$f":"IFERROR(VLOOKUP($A146,Filtro!$A$5:$AY$629,46,FALSE),0)","v":0},"",{"$nulls":35},{"$f":"IF(DF146=1,\"* No olvide escribir en las celdas de \"\"Pueblos Originarios\"\" (Digite Cero si no tiene).\",\"\")","v":""},{"$f":"IF(DG146=1,\"* No olvide escribir en las celdas de \"\"Población Migrante\"\" (Digite Cero si no tiene).\",\"\")","v":""},{"$f":"IF(DH146=1,\"* La suma de las celdas de \"\"Pueblos Originarios\"\"no debe superar el Total.\",\"\")","v":""},{"$f":"IF(DI146=1,\"* La suma de las celdas de \"\"Población Migrante\"\" no debe superar el Total.\",\"\")","v":""},{"$nulls":21},{"$f":"IF(AND($D146<>0,OR(AS146=\"\",AT146=\"\")),1,0)","v":0},{"$f":"IF(AND($D146<>0,OR(AU146=\"\",AV146=\"\")),1,0)","v":0},{"$f":"IF((AS146+AT146)>$D146,1,0)","v":0},{"$f":"IF((AV146+AU146)>$D146,1,0)","v":0}]
["P2501825","Otros trastornos del Neurodesarrollo (no incluye TEA) ","Otros trastornos del Neurodesarrollo  ( no incluye TEA)",55,33,22,{"$f":"IFERROR(VLOOKUP($A147,Filtro!$A$5:$AY$629,5,FALSE),0)","v":0},{"$f":"IFERROR(VLOOKUP($A147,Filtro!$A$5:$AY$629,6,FALSE),0)","v":0},{"$f":"IFERROR(VLOOKUP($A147,Filtro!$A$5:$AY$629,7,FALSE),0)","v":0},{"$f":"IFERROR(VLOOKUP($A147,Filtro!$A$5:$AY$629,8,FALSE),0)","v":0},{"$f":"IFERROR(VLOOKUP($A147,Filtro!$A$5:$AY$629,9,FALSE),0)","v":0},{"$f":"IFERROR(VLOOKUP($A147,Filtro!$A$5:$AY$629,10,FALSE),0)","v":0},{"$f":"IFERROR(VLOOKUP($A147,Filtro!$A$5:$AY$629,11,FALSE),0)","v":0},{"$f":"IFERROR(VLOOKUP($A147,Filtro!$A$5:$AY$629,12,FALSE),0)","v":0},{"$f":"IFERROR(VLOOKUP($A147,Filtro!$A$5:$AY$629,13,FALSE),0)","v":0},{"$f":"IFERROR(VLOOKUP($A147,Filtro!$A$5:$AY$629,14,FALSE),0)","v":0},{"$f":"IFERROR(VLOOKUP($A147,Filtro!$A$5:$AY$629,15,FALSE),0)","v":0},{"$f":"IFERROR(VLOOKUP($A147,Filtro!$A$5:$AY$629,16,FALSE),0)","v":0},{"$f":"IFERROR(VLOOKUP($A147,Filtro!$A$5:$AY$629,17,FALSE),0)","v":0},{"$f":"IFERROR(VLOOKUP($A147,Filtro!$A$5:$AY$629,18,FALSE),0)","v":0},{"$f":"IFERROR(VLOOKUP($A147,Filtro!$A$5:$AY$629,19,FALSE),0)","v":1},{"$f":"IFERROR(VLOOKUP($A147,Filtro!$A$5:$AY$629,20,FALSE),0)","v":0},{"$f":"IFERROR(VLOOKUP($A147,Filtro!$A$5:$AY$629,21,FALSE),0)","v":1},{"$f":"IFERROR(VLOOKUP($A147,Filtro!$A$5:$AY$629,22,FALSE),0)","v":1},{"$f":"IFERROR(VLOOKUP($A147,Filtro!$A$5:$AY$629,23,FALSE),0)","v":2},{"$f":"IFERROR(VLOOKUP($A147,Filtro!$A$5:$AY$629,24,FALSE),0)","v":1},{"$f":"IFERROR(VLOOKUP($A147,Filtro!$A$5:$AY$629,25,FALSE),0)","v":5},{"$f":"IFERROR(VLOOKUP($A147,Filtro!$A$5:$AY$629,26,FALSE),0)","v":3},{"$f":"IFERROR(VLOOKUP($A147,Filtro!$A$5:$AY$629,27,FALSE),0)","v":1},{"$f":"IFERROR(VLOOKUP($A147,Filtro!$A$5:$AY$629,28,FALSE),0)","v":2},{"$f":"IFERROR(VLOOKUP($A147,Filtro!$A$5:$AY$629,29,FALSE),0)","v":1},{"$f":"IFERROR(VLOOKUP($A147,Filtro!$A$5:$AY$629,30,FALSE),0)","v":0},{"$f":"IFERROR(VLOOKUP($A147,Filtro!$A$5:$AY$629,31,FALSE),0)","v":1},{"$f":"IFERROR(VLOOKUP($A147,Filtro!$A$5:$AY$629,32,FALSE),0)","v":2},{"$f":"IFERROR(VLOOKUP($A147,Filtro!$A$5:$AY$629,33,FALSE),0)","v":7},{"$f":"IFERROR(VLOOKUP($A147,Filtro!$A$5:$AY$629,34,FALSE),0)","v":3},{"$f":"IFERROR(VLOOKUP($A147,Filtro!$A$5:$AY$629,35,FALSE),0)","v":8},{"$f":"IFERROR(VLOOKUP($A147,Filtro!$A$5:$AY$629,36,FALSE),0)","v":4},{"$f":"IFERROR(VLOOKUP($A147,Filtro!$A$5:$AY$629,37,FALSE),0)","v":5},{"$f":"IFERROR(VLOOKUP($A147,Filtro!$A$5:$AY$629,38,FALSE),0)","v":3},{"$f":"IFERROR(VLOOKUP($A147,Filtro!$A$5:$AY$629,39,FALSE),0)","v":1},{"$f":"IFERROR(VLOOKUP($A147,Filtro!$A$5:$AY$629,40,FALSE),0)","v":2},{"$f":"IFERROR(VLOOKUP($A147,Filtro!$A$5:$AY$629,41,FALSE),0)","v":0},{"$f":"IFERROR(VLOOKUP($A147,Filtro!$A$5:$AY$629,42,FALSE),0)","v":1},{"$f":"IFERROR(VLOOKUP($A147,Filtro!$A$5:$AY$629,43,FALSE),0)","v":0},{"$f":"IFERROR(VLOOKUP($A147,Filtro!$A$5:$AY$629,44,FALSE),0)","v":0},{"$f":"IFERROR(VLOOKUP($A147,Filtro!$A$5:$AY$629,45,FALSE),0)","v":0},{"$f":"IFERROR(VLOOKUP($A147,Filtro!$A$5:$AY$629,46,FALSE),0)","v":0},""]
["P2501826","Hipertensión Arterial ","Hipertensión Arterial (En vez de Presión Arterial Elevada) ",43,25,18,{"$f":"IFERROR(VLOOKUP($A148,Filtro!$A$5:$AY$629,5,FALSE),0)","v":0},{"$f":"IFERROR(VLOOKUP($A148,Filtro!$A$5:$AY$629,6,FALSE),0)","v":0},{"$f":"IFERROR(VLOOKUP($A148,Filtro!$A$5:$AY$629,7,FALSE),0)","v":0},{"$f":"IFERROR(VLOOKUP($A148,Filtro!$A$5:$AY$629,8,FALSE),0)","v":0},{"$f":"IFERROR(VLOOKUP($A148,Filtro!$A$5:$AY$629,9,FALSE),0)","v":0},{"$f":"IFERROR(VLOOKUP($A148,Filtro!$A$5:$AY$629,10,FALSE),0)","v":0},{"$f":"IFERROR(VLOOKUP($A148,Filtro!$A$5:$AY$629,11,FALSE),0)","v":0},{"$f":"IFERROR(VLOOKUP($A148,Filtro!$A$5:$AY$629,12,FALSE),0)","v":0},{"$f":"IFERROR(VLOOKUP($A148,Filtro!$A$5:$AY$629,13,FALSE),0)","v":0},{"$f":"IFERROR(VLOOKUP($A148,Filtro!$A$5:$AY$629,14,FALSE),0)","v":0},{"$f":"IFERROR(VLOOKUP($A148,Filtro!$A$5:$AY$629,15,FALSE),0)","v":0},{"$f":"IFERROR(VLOOKUP($A148,Filtro!$A$5:$AY$629,16,FALSE),0)","v":0},{"$f":"IFERROR(VLOOKUP($A148,Filtro!$A$5:$AY$629,17,FALSE),0)","v":0},{"$f":"IFERROR(VLOOKUP($A148,Filtro!$A$5:$AY$629,18,FALSE),0)","v":0},{"$f":"IFERROR(VLOOKUP($A148,Filtro!$A$5:$AY$629,19,FALSE),0)","v":0},{"$f":"IFERROR(VLOOKUP($A148,Filtro!$A$5:$AY$629,20,FALSE),0)","v":0},{"$f":"IFERROR(VLOOKUP($A148,Filtro!$A$5:$AY$629,21,FALSE),0)","v":0},{"$f":"IFERROR(VLOOKUP($A148,Filtro!$A$5:$AY$629,22,FALSE),0)","v":0},{"$f":"IFERROR(VLOOKUP($A148,Filtro!$A$5:$AY$629,23,FALSE),0)","v":0},{"$f":"IFERROR(VLOOKUP($A148,Filtro!$A$5:$AY$629,24,FALSE),0)","v":0},{"$f":"IFERROR(VLOOKUP($A148,Filtro!$A$5:$AY$629,25,FALSE),0)","v":0},{"$f":"IFERROR(VLOOKUP($A148,Filtro!$A$5:$AY$629,26,FALSE),0)","v":0},{"$f":"IFERROR(VLOOKUP($A148,Filtro!$A$5:$AY$629,27,FALSE),0)","v":1},{"$f":"IFERROR(VLOOKUP($A148,Filtro!$A$5:$AY$629,28,FALSE),0)","v":1},{"$f":"IFERROR(VLOOKUP($A148,Filtro!$A$5:$AY$629,29,FALSE),0)","v":3},{"$f":"IFERROR(VLOOKUP($A148,Filtro!$A$5:$AY$629,30,FALSE),0)","v":1},{"$f":"IFERROR(VLOOKUP($A148,Filtro!$A$5:$AY$629,31,FALSE),0)","v":2},{"$f":"IFERROR(VLOOKUP($A148,Filtro!$A$5:$AY$629,32,FALSE),0)","v":2},{"$f":"IFERROR(VLOOKUP($A148,Filtro!$A$5:$AY$629,33,FALSE),0)","v":5},{"$f":"IFERROR(VLOOKUP($A148,Filtro!$A$5:$AY$629,34,FALSE),0)","v":3},{"$f":"IFERROR(VLOOKUP($A148,Filtro!$A$5:$AY$629,35,FALSE),0)","v":6},{"$f":"IFERROR(VLOOKUP($A148,Filtro!$A$5:$AY$629,36,FALSE),0)","v":5},{"$f":"IFERROR(VLOOKUP($A148,Filtro!$A$5:$AY$629,37,FALSE),0)","v":3},{"$f":"IFERROR(VLOOKUP($A148,Filtro!$A$5:$AY$629,38,FALSE),0)","v":5},{"$f":"IFERROR(VLOOKUP($A148,Filtro!$A$5:$AY$629,39,FALSE),0)","v":1},{"$f":"IFERROR(VLOOKUP($A148,Filtro!$A$5:$AY$629,40,FALSE),0)","v":0},{"$f":"IFERROR(VLOOKUP($A148,Filtro!$A$5:$AY$629,41,FALSE),0)","v":4},{"$f":"IFERROR(VLOOKUP($A148,Filtro!$A$5:$AY$629,42,FALSE),0)","v":1},{"$f":"IFERROR(VLOOKUP($A148,Filtro!$A$5:$AY$629,43,FALSE),0)","v":0},{"$f":"IFERROR(VLOOKUP($A148,Filtro!$A$5:$AY$629,44,FALSE),0)","v":0},{"$f":"IFERROR(VLOOKUP($A148,Filtro!$A$5:$AY$629,45,FALSE),0)","v":0},{"$f":"IFERROR(VLOOKUP($A148,Filtro!$A$5:$AY$629,46,FALSE),0)","v":0},""]
["P2501827","Enfermedad renal crónica ","Enfermedad renal crónica ",15,12,3,{"$f":"IFERROR(VLOOKUP($A149,Filtro!$A$5:$AY$629,5,FALSE),0)","v":0},{"$f":"IFERROR(VLOOKUP($A149,Filtro!$A$5:$AY$629,6,FALSE),0)","v":0},{"$f":"IFERROR(VLOOKUP($A149,Filtro!$A$5:$AY$629,7,FALSE),0)","v":0},{"$f":"IFERROR(VLOOKUP($A149,Filtro!$A$5:$AY$629,8,FALSE),0)","v":0},{"$f":"IFERROR(VLOOKUP($A149,Filtro!$A$5:$AY$629,9,FALSE),0)","v":0},{"$f":"IFERROR(VLOOKUP($A149,Filtro!$A$5:$AY$629,10,FALSE),0)","v":0},{"$f":"IFERROR(VLOOKUP($A149,Filtro!$A$5:$AY$629,11,FALSE),0)","v":0},{"$f":"IFERROR(VLOOKUP($A149,Filtro!$A$5:$AY$629,12,FALSE),0)","v":0},{"$f":"IFERROR(VLOOKUP($A149,Filtro!$A$5:$AY$629,13,FALSE),0)","v":1},{"$f":"IFERROR(VLOOKUP($A149,Filtro!$A$5:$AY$629,14,FALSE),0)","v":0},{"$f":"IFERROR(VLOOKUP($A149,Filtro!$A$5:$AY$629,15,FALSE),0)","v":0},{"$f":"IFERROR(VLOOKUP($A149,Filtro!$A$5:$AY$629,16,FALSE),0)","v":0},{"$f":"IFERROR(VLOOKUP($A149,Filtro!$A$5:$AY$629,17,FALSE),0)","v":0},{"$f":"IFERROR(VLOOKUP($A149,Filtro!$A$5:$AY$629,18,FALSE),0)","v":0},{"$f":"IFERROR(VLOOKUP($A149,Filtro!$A$5:$AY$629,19,FALSE),0)","v":1},{"$f":"IFERROR(VLOOKUP($A149,Filtro!$A$5:$AY$629,20,FALSE),0)","v":0},{"$f":"IFERROR(VLOOKUP($A149,Filtro!$A$5:$AY$629,21,FALSE),0)","v":1},{"$f":"IFERROR(VLOOKUP($A149,Filtro!$A$5:$AY$629,22,FALSE),0)","v":0},{"$f":"IFERROR(VLOOKUP($A149,Filtro!$A$5:$AY$629,23,FALSE),0)","v":2},{"$f":"IFERROR(VLOOKUP($A149,Filtro!$A$5:$AY$629,24,FALSE),0)","v":0},{"$f":"IFERROR(VLOOKUP($A149,Filtro!$A$5:$AY$629,25,FALSE),0)","v":2},{"$f":"IFERROR(VLOOKUP($A149,Filtro!$A$5:$AY$629,26,FALSE),0)","v":0},{"$f":"IFERROR(VLOOKUP($A149,Filtro!$A$5:$AY$629,27,FALSE),0)","v":1},{"$f":"IFERROR(VLOOKUP($A149,Filtro!$A$5:$AY$629,28,FALSE),0)","v":0},{"$f":"IFERROR(VLOOKUP($A149,Filtro!$A$5:$AY$629,29,FALSE),0)","v":0},{"$f":"IFERROR(VLOOKUP($A149,Filtro!$A$5:$AY$629,30,FALSE),0)","v":0},{"$f":"IFERROR(VLOOKUP($A149,Filtro!$A$5:$AY$629,31,FALSE),0)","v":0},{"$f":"IFERROR(VLOOKUP($A149,Filtro!$A$5:$AY$629,32,FALSE),0)","v":0},{"$f":"IFERROR(VLOOKUP($A149,Filtro!$A$5:$AY$629,33,FALSE),0)","v":1},{"$f":"IFERROR(VLOOKUP($A149,Filtro!$A$5:$AY$629,34,FALSE),0)","v":1},{"$f":"IFERROR(VLOOKUP($A149,Filtro!$A$5:$AY$629,35,FALSE),0)","v":1},{"$f":"IFERROR(VLOOKUP($A149,Filtro!$A$5:$AY$629,36,FALSE),0)","v":1},{"$f":"IFERROR(VLOOKUP($A149,Filtro!$A$5:$AY$629,37,FALSE),0)","v":1},{"$f":"IFERROR(VLOOKUP($A149,Filtro!$A$5:$AY$629,38,FALSE),0)","v":0},{"$f":"IFERROR(VLOOKUP($A149,Filtro!$A$5:$AY$629,39,FALSE),0)","v":0},{"$f":"IFERROR(VLOOKUP($A149,Filtro!$A$5:$AY$629,40,FALSE),0)","v":1},{"$f":"IFERROR(VLOOKUP($A149,Filtro!$A$5:$AY$629,41,FALSE),0)","v":1},{"$f":"IFERROR(VLOOKUP($A149,Filtro!$A$5:$AY$629,42,FALSE),0)","v":0},{"$f":"IFERROR(VLOOKUP($A149,Filtro!$A$5:$AY$629,43,FALSE),0)","v":0},{"$f":"IFERROR(VLOOKUP($A149,Filtro!$A$5:$AY$629,44,FALSE),0)","v":0},{"$f":"IFERROR(VLOOKUP($A149,Filtro!$A$5:$AY$629,45,FALSE),0)","v":0},{"$f":"IFERROR(VLOOKUP($A149,Filtro!$A$5:$AY$629,46,FALSE),0)","v":0},""]
["P2501828","Otras Enfermedades cardiovasculares crónicas (no incluye Hipertensión Arterial ni Cardiopatías Congénitas)","Otras Enfermedades cardiovasculares crónicas (no incluye Hipertensión Arterial ni Cardiopatías Congénitas)",22,11,11,{"$f":"IFERROR(VLOOKUP($A150,Filtro!$A$5:$AY$629,5,FALSE),0)","v":0},{"$f":"IFERROR(VLOOKUP($A150,Filtro!$A$5:$AY$629,6,FALSE),0)","v":0},{"$f":"IFERROR(VLOOKUP($A150,Filtro!$A$5:$AY$629,7,FALSE),0)","v":0},{"$f":"IFERROR(VLOOKUP($A150,Filtro!$A$5:$AY$629,8,FALSE),0)","v":0},{"$f":"IFERROR(VLOOKUP($A150,Filtro!$A$5:$AY$629,9,FALSE),0)","v":0},{"$f":"IFERROR(VLOOKUP($A150,Filtro!$A$5:$AY$629,10,FALSE),0)","v":1},{"$f":"IFERROR(VLOOKUP($A150,Filtro!$A$5:$AY$629,11,FALSE),0)","v":0},{"$f":"IFERROR(VLOOKUP($A150,Filtro!$A$5:$AY$629,12,FALSE),0)","v":0},{"$f":"IFERROR(VLOOKUP($A150,Filtro!$A$5:$AY$629,13,FALSE),0)","v":0},{"$f":"IFERROR(VLOOKUP($A150,Filtro!$A$5:$AY$629,14,FALSE),0)","v":0},{"$f":"IFERROR(VLOOKUP($A150,Filtro!$A$5:$AY$629,15,FALSE),0)","v":0},{"$f":"IFERROR(VLOOKUP($A150,Filtro!$A$5:$AY$629,16,FALSE),0)","v":0},{"$f":"IFERROR(VLOOKUP($A150,Filtro!$A$5:$AY$629,17,FALSE),0)","v":0},{"$f":"IFERROR(VLOOKUP($A150,Filtro!$A$5:$AY$629,18,FALSE),0)","v":1},{"$f":"IFERROR(VLOOKUP($A150,Filtro!$A$5:$AY$629,19,FALSE),0)","v":1},{"$f":"IFERROR(VLOOKUP($A150,Filtro!$A$5:$AY$629,20,FALSE),0)","v":2},{"$f":"IFERROR(VLOOKUP($A150,Filtro!$A$5:$AY$629,21,FALSE),0)","v":1},{"$f":"IFERROR(VLOOKUP($A150,Filtro!$A$5:$AY$629,22,FALSE),0)","v":1},{"$f":"IFERROR(VLOOKUP($A150,Filtro!$A$5:$AY$629,23,FALSE),0)","v":0},{"$f":"IFERROR(VLOOKUP($A150,Filtro!$A$5:$AY$629,24,FALSE),0)","v":0},{"$f":"IFERROR(VLOOKUP($A150,Filtro!$A$5:$AY$629,25,FALSE),0)","v":0},{"$f":"IFERROR(VLOOKUP($A150,Filtro!$A$5:$AY$629,26,FALSE),0)","v":1},{"$f":"IFERROR(VLOOKUP($A150,Filtro!$A$5:$AY$629,27,FALSE),0)","v":0},{"$f":"IFERROR(VLOOKUP($A150,Filtro!$A$5:$AY$629,28,FALSE),0)","v":0},{"$f":"IFERROR(VLOOKUP($A150,Filtro!$A$5:$AY$629,29,FALSE),0)","v":1},{"$f":"IFERROR(VLOOKUP($A150,Filtro!$A$5:$AY$629,30,FALSE),0)","v":0},{"$f":"IFERROR(VLOOKUP($A150,Filtro!$A$5:$AY$629,31,FALSE),0)","v":2},{"$f":"IFERROR(VLOOKUP($A150,Filtro!$A$5:$AY$629,32,FALSE),0)","v":0},{"$f":"IFERROR(VLOOKUP($A150,Filtro!$A$5:$AY$629,33,FALSE),0)","v":0},{"$f":"IFERROR(VLOOKUP($A150,Filtro!$A$5:$AY$629,34,FALSE),0)","v":0},{"$f":"IFERROR(VLOOKUP($A150,Filtro!$A$5:$AY$629,35,FALSE),0)","v":1},{"$f":"IFERROR(VLOOKUP($A150,Filtro!$A$5:$AY$629,36,FALSE),0)","v":0},{"$f":"IFERROR(VLOOKUP($A150,Filtro!$A$5:$AY$629,37,FALSE),0)","v":3},{"$f":"IFERROR(VLOOKUP($A150,Filtro!$A$5:$AY$629,38,FALSE),0)","v":4},{"$f":"IFERROR(VLOOKUP($A150,Filtro!$A$5:$AY$629,39,FALSE),0)","v":2},{"$f":"IFERROR(VLOOKUP($A150,Filtro!$A$5:$AY$629,40,FALSE),0)","v":1},{"$f":"IFERROR(VLOOKUP($A150,Filtro!$A$5:$AY$629,41,FALSE),0)","v":0},{"$f":"IFERROR(VLOOKUP($A150,Filtro!$A$5:$AY$629,42,FALSE),0)","v":0},{"$f":"IFERROR(VLOOKUP($A150,Filtro!$A$5:$AY$629,43,FALSE),0)","v":0},{"$f":"IFERROR(VLOOKUP($A150,Filtro!$A$5:$AY$629,44,FALSE),0)","v":0},{"$f":"IFERROR(VLOOKUP($A150,Filtro!$A$5:$AY$629,45,FALSE),0)","v":0},{"$f":"IFERROR(VLOOKUP($A150,Filtro!$A$5:$AY$629,46,FALSE),0)","v":0},""]
["P2501829","Enfermedades gastrointestinales crónicas (no incluye enfermedad celiaca)","Enfermedades crónicas gastrointestinales (no incluye enfermedad celiaca)",78,45,33,{"$f":"IFERROR(VLOOKUP($A151,Filtro!$A$5:$AY$629,5,FALSE),0)","v":0},{"$f":"IFERROR(VLOOKUP($A151,Filtro!$A$5:$AY$629,6,FALSE),0)","v":0},{"$f":"IFERROR(VLOOKUP($A151,Filtro!$A$5:$AY$629,7,FALSE),0)","v":0},{"$f":"IFERROR(VLOOKUP($A151,Filtro!$A$5:$AY$629,8,FALSE),0)","v":1},{"$f":"IFERROR(VLOOKUP($A151,Filtro!$A$5:$AY$629,9,FALSE),0)","v":1},{"$f":"IFERROR(VLOOKUP($A151,Filtro!$A$5:$AY$629,10,FALSE),0)","v":0},{"$f":"IFERROR(VLOOKUP($A151,Filtro!$A$5:$AY$629,11,FALSE),0)","v":1},{"$f":"IFERROR(VLOOKUP($A151,Filtro!$A$5:$AY$629,12,FALSE),0)","v":0},{"$f":"IFERROR(VLOOKUP($A151,Filtro!$A$5:$AY$629,13,FALSE),0)","v":1},{"$f":"IFERROR(VLOOKUP($A151,Filtro!$A$5:$AY$629,14,FALSE),0)","v":1},{"$f":"IFERROR(VLOOKUP($A151,Filtro!$A$5:$AY$629,15,FALSE),0)","v":2},{"$f":"IFERROR(VLOOKUP($A151,Filtro!$A$5:$AY$629,16,FALSE),0)","v":2},{"$f":"IFERROR(VLOOKUP($A151,Filtro!$A$5:$AY$629,17,FALSE),0)","v":1},{"$f":"IFERROR(VLOOKUP($A151,Filtro!$A$5:$AY$629,18,FALSE),0)","v":1},{"$f":"IFERROR(VLOOKUP($A151,Filtro!$A$5:$AY$629,19,FALSE),0)","v":9},{"$f":"IFERROR(VLOOKUP($A151,Filtro!$A$5:$AY$629,20,FALSE),0)","v":6},{"$f":"IFERROR(VLOOKUP($A151,Filtro!$A$5:$AY$629,21,FALSE),0)","v":13},{"$f":"IFERROR(VLOOKUP($A151,Filtro!$A$5:$AY$629,22,FALSE),0)","v":4},{"$f":"IFERROR(VLOOKUP($A151,Filtro!$A$5:$AY$629,23,FALSE),0)","v":4},{"$f":"IFERROR(VLOOKUP($A151,Filtro!$A$5:$AY$629,24,FALSE),0)","v":2},{"$f":"IFERROR(VLOOKUP($A151,Filtro!$A$5:$AY$629,25,FALSE),0)","v":3},{"$f":"IFERROR(VLOOKUP($A151,Filtro!$A$5:$AY$629,26,FALSE),0)","v":3},{"$f":"IFERROR(VLOOKUP($A151,Filtro!$A$5:$AY$629,27,FALSE),0)","v":0},{"$f":"IFERROR(VLOOKUP($A151,Filtro!$A$5:$AY$629,28,FALSE),0)","v":0},{"$f":"IFERROR(VLOOKUP($A151,Filtro!$A$5:$AY$629,29,FALSE),0)","v":0},{"$f":"IFERROR(VLOOKUP($A151,Filtro!$A$5:$AY$629,30,FALSE),0)","v":0},{"$f":"IFERROR(VLOOKUP($A151,Filtro!$A$5:$AY$629,31,FALSE),0)","v":0},{"$f":"IFERROR(VLOOKUP($A151,Filtro!$A$5:$AY$629,32,FALSE),0)","v":0},{"$f":"IFERROR(VLOOKUP($A151,Filtro!$A$5:$AY$629,33,FALSE),0)","v":1},{"$f":"IFERROR(VLOOKUP($A151,Filtro!$A$5:$AY$629,34,FALSE),0)","v":2},{"$f":"IFERROR(VLOOKUP($A151,Filtro!$A$5:$AY$629,35,FALSE),0)","v":0},{"$f":"IFERROR(VLOOKUP($A151,Filtro!$A$5:$AY$629,36,FALSE),0)","v":3},{"$f":"IFERROR(VLOOKUP($A151,Filtro!$A$5:$AY$629,37,FALSE),0)","v":3},{"$f":"IFERROR(VLOOKUP($A151,Filtro!$A$5:$AY$629,38,FALSE),0)","v":2},{"$f":"IFERROR(VLOOKUP($A151,Filtro!$A$5:$AY$629,39,FALSE),0)","v":4},{"$f":"IFERROR(VLOOKUP($A151,Filtro!$A$5:$AY$629,40,FALSE),0)","v":4},{"$f":"IFERROR(VLOOKUP($A151,Filtro!$A$5:$AY$629,41,FALSE),0)","v":2},{"$f":"IFERROR(VLOOKUP($A151,Filtro!$A$5:$AY$629,42,FALSE),0)","v":2},{"$f":"IFERROR(VLOOKUP($A151,Filtro!$A$5:$AY$629,43,FALSE),0)","v":0},{"$f":"IFERROR(VLOOKUP($A151,Filtro!$A$5:$AY$629,44,FALSE),0)","v":0},{"$f":"IFERROR(VLOOKUP($A151,Filtro!$A$5:$AY$629,45,FALSE),0)","v":0},{"$f":"IFERROR(VLOOKUP($A151,Filtro!$A$5:$AY$629,46,FALSE),0)","v":0},""]
["P2501830","Enfermedades crónicas del sistema visual (no incluye estrabismo ni errores de refracción)","Enfermedades crónicas del sistema visual (no incluye Estabismo ni Errores de Refracción)",9,6,3,{"$f":"IFERROR(VLOOKUP($A152,Filtro!$A$5:$AY$629,5,FALSE),0)","v":0},{"$f":"IFERROR(VLOOKUP($A152,Filtro!$A$5:$AY$629,6,FALSE),0)","v":0},{"$f":"IFERROR(VLOOKUP($A152,Filtro!$A$5:$AY$629,7,FALSE),0)","v":0},{"$f":"IFERROR(VLOOKUP($A152,Filtro!$A$5:$AY$629,8,FALSE),0)","v":0},{"$f":"IFERROR(VLOOKUP($A152,Filtro!$A$5:$AY$629,9,FALSE),0)","v":0},{"$f":"IFERROR(VLOOKUP($A152,Filtro!$A$5:$AY$629,10,FALSE),0)","v":0},{"$f":"IFERROR(VLOOKUP($A152,Filtro!$A$5:$AY$629,11,FALSE),0)","v":0},{"$f":"IFERROR(VLOOKUP($A152,Filtro!$A$5:$AY$629,12,FALSE),0)","v":0},{"$f":"IFERROR(VLOOKUP($A152,Filtro!$A$5:$AY$629,13,FALSE),0)","v":0},{"$f":"IFERROR(VLOOKUP($A152,Filtro!$A$5:$AY$629,14,FALSE),0)","v":0},{"$f":"IFERROR(VLOOKUP($A152,Filtro!$A$5:$AY$629,15,FALSE),0)","v":0},{"$f":"IFERROR(VLOOKUP($A152,Filtro!$A$5:$AY$629,16,FALSE),0)","v":0},{"$f":"IFERROR(VLOOKUP($A152,Filtro!$A$5:$AY$629,17,FALSE),0)","v":0},{"$f":"IFERROR(VLOOKUP($A152,Filtro!$A$5:$AY$629,18,FALSE),0)","v":0},{"$f":"IFERROR(VLOOKUP($A152,Filtro!$A$5:$AY$629,19,FALSE),0)","v":0},{"$f":"IFERROR(VLOOKUP($A152,Filtro!$A$5:$AY$629,20,FALSE),0)","v":0},{"$f":"IFERROR(VLOOKUP($A152,Filtro!$A$5:$AY$629,21,FALSE),0)","v":1},{"$f":"IFERROR(VLOOKUP($A152,Filtro!$A$5:$AY$629,22,FALSE),0)","v":0},{"$f":"IFERROR(VLOOKUP($A152,Filtro!$A$5:$AY$629,23,FALSE),0)","v":2},{"$f":"IFERROR(VLOOKUP($A152,Filtro!$A$5:$AY$629,24,FALSE),0)","v":0},{"$f":"IFERROR(VLOOKUP($A152,Filtro!$A$5:$AY$629,25,FALSE),0)","v":0},{"$f":"IFERROR(VLOOKUP($A152,Filtro!$A$5:$AY$629,26,FALSE),0)","v":0},{"$f":"IFERROR(VLOOKUP($A152,Filtro!$A$5:$AY$629,27,FALSE),0)","v":0},{"$f":"IFERROR(VLOOKUP($A152,Filtro!$A$5:$AY$629,28,FALSE),0)","v":0},{"$f":"IFERROR(VLOOKUP($A152,Filtro!$A$5:$AY$629,29,FALSE),0)","v":0},{"$f":"IFERROR(VLOOKUP($A152,Filtro!$A$5:$AY$629,30,FALSE),0)","v":0},{"$f":"IFERROR(VLOOKUP($A152,Filtro!$A$5:$AY$629,31,FALSE),0)","v":0},{"$f":"IFERROR(VLOOKUP($A152,Filtro!$A$5:$AY$629,32,FALSE),0)","v":0},{"$f":"IFERROR(VLOOKUP($A152,Filtro!$A$5:$AY$629,33,FALSE),0)","v":1},{"$f":"IFERROR(VLOOKUP($A152,Filtro!$A$5:$AY$629,34,FALSE),0)","v":1},{"$f":"IFERROR(VLOOKUP($A152,Filtro!$A$5:$AY$629,35,FALSE),0)","v":0},{"$f":"IFERROR(VLOOKUP($A152,Filtro!$A$5:$AY$629,36,FALSE),0)","v":0},{"$f":"IFERROR(VLOOKUP($A152,Filtro!$A$5:$AY$629,37,FALSE),0)","v":1},{"$f":"IFERROR(VLOOKUP($A152,Filtro!$A$5:$AY$629,38,FALSE),0)","v":0},{"$f":"IFERROR(VLOOKUP($A152,Filtro!$A$5:$AY$629,39,FALSE),0)","v":0},{"$f":"IFERROR(VLOOKUP($A152,Filtro!$A$5:$AY$629,40,FALSE),0)","v":1},{"$f":"IFERROR(VLOOKUP($A152,Filtro!$A$5:$AY$629,41,FALSE),0)","v":1},{"$f":"IFERROR(VLOOKUP($A152,Filtro!$A$5:$AY$629,42,FALSE),0)","v":1},{"$f":"IFERROR(VLOOKUP($A152,Filtro!$A$5:$AY$629,43,FALSE),0)","v":0},{"$f":"IFERROR(VLOOKUP($A152,Filtro!$A$5:$AY$629,44,FALSE),0)","v":0},{"$f":"IFERROR(VLOOKUP($A152,Filtro!$A$5:$AY$629,45,FALSE),0)","v":0},{"$f":"IFERROR(VLOOKUP($A152,Filtro!$A$5:$AY$629,46,FALSE),0)","v":0},"",{"$nulls":35},{"$f":"IF(DF152=1,\"* No olvide escribir en las celdas de \"\"Pueblos Originarios\"\" (Digite Cero si no tiene).\",\"\")","v":""},{"$f":"IF(DG152=1,\"* No olvide escribir en las celdas de \"\"Población Migrante\"\" (Digite Cero si no tiene).\",\"\")","v":""},{"$f":"IF(DH152=1,\"* La suma de las celdas de \"\"Pueblos Originarios\"\"no debe superar el Total.\",\"\")","v":""},{"$f":"IF(DI152=1,\"* La suma de las celdas de \"\"Población Migrante\"\" no debe superar el Total.\",\"\")","v":""},{"$nulls":21},{"$f":"IF(AND($D152<>0,OR(AS152=\"\",AT152=\"\")),1,0)","v":0},{"$f":"IF(AND($D152<>0,OR(AU152=\"\",AV152=\"\")),1,0)","v":0},{"$f":"IF((AS152+AT152)>$D152,1,0)","v":0},{"$f":"IF((AV152+AU152)>$D152,1,0)","v":0}]
["P2501831","Enfermedades crónicas del oído ","Enfermedades crónicas del oído ",31,16,15,{"$f":"IFERROR(VLOOKUP($A153,Filtro!$A$5:$AY$629,5,FALSE),0)","v":0},{"$f":"IFERROR(VLOOKUP($A153,Filtro!$A$5:$AY$629,6,FALSE),0)","v":0},{"$f":"IFERROR(VLOOKUP($A153,Filtro!$A$5:$AY$629,7,FALSE),0)","v":0},{"$f":"IFERROR(VLOOKUP($A153,Filtro!$A$5:$AY$629,8,FALSE),0)","v":0},{"$f":"IFERROR(VLOOKUP($A153,Filtro!$A$5:$AY$629,9,FALSE),0)","v":0},{"$f":"IFERROR(VLOOKUP($A153,Filtro!$A$5:$AY$629,10,FALSE),0)","v":0},{"$f":"IFERROR(VLOOKUP($A153,Filtro!$A$5:$AY$629,11,FALSE),0)","v":0},{"$f":"IFERROR(VLOOKUP($A153,Filtro!$A$5:$AY$629,12,FALSE),0)","v":0},{"$f":"IFERROR(VLOOKUP($A153,Filtro!$A$5:$AY$629,13,FALSE),0)","v":0},{"$f":"IFERROR(VLOOKUP($A153,Filtro!$A$5:$AY$629,14,FALSE),0)","v":1},{"$f":"IFERROR(VLOOKUP($A153,Filtro!$A$5:$AY$629,15,FALSE),0)","v":2},{"$f":"IFERROR(VLOOKUP($A153,Filtro!$A$5:$AY$629,16,FALSE),0)","v":0},{"$f":"IFERROR(VLOOKUP($A153,Filtro!$A$5:$AY$629,17,FALSE),0)","v":2},{"$f":"IFERROR(VLOOKUP($A153,Filtro!$A$5:$AY$629,18,FALSE),0)","v":0},{"$f":"IFERROR(VLOOKUP($A153,Filtro!$A$5:$AY$629,19,FALSE),0)","v":1},{"$f":"IFERROR(VLOOKUP($A153,Filtro!$A$5:$AY$629,20,FALSE),0)","v":2},{"$f":"IFERROR(VLOOKUP($A153,Filtro!$A$5:$AY$629,21,FALSE),0)","v":0},{"$f":"IFERROR(VLOOKUP($A153,Filtro!$A$5:$AY$629,22,FALSE),0)","v":0},{"$f":"IFERROR(VLOOKUP($A153,Filtro!$A$5:$AY$629,23,FALSE),0)","v":3},{"$f":"IFERROR(VLOOKUP($A153,Filtro!$A$5:$AY$629,24,FALSE),0)","v":1},{"$f":"IFERROR(VLOOKUP($A153,Filtro!$A$5:$AY$629,25,FALSE),0)","v":3},{"$f":"IFERROR(VLOOKUP($A153,Filtro!$A$5:$AY$629,26,FALSE),0)","v":1},{"$f":"IFERROR(VLOOKUP($A153,Filtro!$A$5:$AY$629,27,FALSE),0)","v":1},{"$f":"IFERROR(VLOOKUP($A153,Filtro!$A$5:$AY$629,28,FALSE),0)","v":1},{"$f":"IFERROR(VLOOKUP($A153,Filtro!$A$5:$AY$629,29,FALSE),0)","v":0},{"$f":"IFERROR(VLOOKUP($A153,Filtro!$A$5:$AY$629,30,FALSE),0)","v":0},{"$f":"IFERROR(VLOOKUP($A153,Filtro!$A$5:$AY$629,31,FALSE),0)","v":1},{"$f":"IFERROR(VLOOKUP($A153,Filtro!$A$5:$AY$629,32,FALSE),0)","v":2},{"$f":"IFERROR(VLOOKUP($A153,Filtro!$A$5:$AY$629,33,FALSE),0)","v":1},{"$f":"IFERROR(VLOOKUP($A153,Filtro!$A$5:$AY$629,34,FALSE),0)","v":1},{"$f":"IFERROR(VLOOKUP($A153,Filtro!$A$5:$AY$629,35,FALSE),0)","v":0},{"$f":"IFERROR(VLOOKUP($A153,Filtro!$A$5:$AY$629,36,FALSE),0)","v":2},{"$f":"IFERROR(VLOOKUP($A153,Filtro!$A$5:$AY$629,37,FALSE),0)","v":1},{"$f":"IFERROR(VLOOKUP($A153,Filtro!$A$5:$AY$629,38,FALSE),0)","v":1},{"$f":"IFERROR(VLOOKUP($A153,Filtro!$A$5:$AY$629,39,FALSE),0)","v":0},{"$f":"IFERROR(VLOOKUP($A153,Filtro!$A$5:$AY$629,40,FALSE),0)","v":1},{"$f":"IFERROR(VLOOKUP($A153,Filtro!$A$5:$AY$629,41,FALSE),0)","v":1},{"$f":"IFERROR(VLOOKUP($A153,Filtro!$A$5:$AY$629,42,FALSE),0)","v":2},{"$f":"IFERROR(VLOOKUP($A153,Filtro!$A$5:$AY$629,43,FALSE),0)","v":0},{"$f":"IFERROR(VLOOKUP($A153,Filtro!$A$5:$AY$629,44,FALSE),0)","v":0},{"$f":"IFERROR(VLOOKUP($A153,Filtro!$A$5:$AY$629,45,FALSE),0)","v":0},{"$f":"IFERROR(VLOOKUP($A153,Filtro!$A$5:$AY$629,46,FALSE),0)","v":0},"",{"$nulls":35},{"$f":"IF(DF153=1,\"* No olvide escribir en las celdas de \"\"Pueblos Originarios\"\" (Digite Cero si no tiene).\",\"\")","v":""},{"$f":"IF(DG153=1,\"* No olvide escribir en las celdas de \"\"Población Migrante\"\" (Digite Cero si no tiene).\",\"\")","v":""},{"$f":"IF(DH153=1,\"* La suma de las celdas de \"\"Pueblos Originarios\"\"no debe superar el Total.\",\"\")","v":""},{"$f":"IF(DI153=1,\"* La suma de las celdas de \"\"Población Migrante\"\" no debe superar el Total.\",\"\")","v":""},{"$nulls":21},{"$f":"IF(AND($D153<>0,OR(AS153=\"\",AT153=\"\")),1,0)","v":0},{"$f":"IF(AND($D153<>0,OR(AU153=\"\",AV153=\"\")),1,0)","v":0},{"$f":"IF((AS153+AT153)>$D153,1,0)","v":0},{"$f":"IF((AV153+AU153)>$D153,1,0)","v":0}]
["P2501832","Enfermedades crónicas de piel y mucosas ","Enfermedades crónicas de piel y mucosas ",6,4,2,{"$f":"IFERROR(VLOOKUP($A154,Filtro!$A$5:$AY$629,5,FALSE),0)","v":0},{"$f":"IFERROR(VLOOKUP($A154,Filtro!$A$5:$AY$629,6,FALSE),0)","v":0},{"$f":"IFERROR(VLOOKUP($A154,Filtro!$A$5:$AY$629,7,FALSE),0)","v":0},{"$f":"IFERROR(VLOOKUP($A154,Filtro!$A$5:$AY$629,8,FALSE),0)","v":0},{"$f":"IFERROR(VLOOKUP($A154,Filtro!$A$5:$AY$629,9,FALSE),0)","v":0},{"$f":"IFERROR(VLOOKUP($A154,Filtro!$A$5:$AY$629,10,FALSE),0)","v":0},{"$f":"IFERROR(VLOOKUP($A154,Filtro!$A$5:$AY$629,11,FALSE),0)","v":0},{"$f":"IFERROR(VLOOKUP($A154,Filtro!$A$5:$AY$629,12,FALSE),0)","v":0},{"$f":"IFERROR(VLOOKUP($A154,Filtro!$A$5:$AY$629,13,FALSE),0)","v":0},{"$f":"IFERROR(VLOOKUP($A154,Filtro!$A$5:$AY$629,14,FALSE),0)","v":0},{"$f":"IFERROR(VLOOKUP($A154,Filtro!$A$5:$AY$629,15,FALSE),0)","v":0},{"$f":"IFERROR(VLOOKUP($A154,Filtro!$A$5:$AY$629,16,FALSE),0)","v":0},{"$f":"IFERROR(VLOOKUP($A154,Filtro!$A$5:$AY$629,17,FALSE),0)","v":0},{"$f":"IFERROR(VLOOKUP($A154,Filtro!$A$5:$AY$629,18,FALSE),0)","v":0},{"$f":"IFERROR(VLOOKUP($A154,Filtro!$A$5:$AY$629,19,FALSE),0)","v":0},{"$f":"IFERROR(VLOOKUP($A154,Filtro!$A$5:$AY$629,20,FALSE),0)","v":1},{"$f":"IFERROR(VLOOKUP($A154,Filtro!$A$5:$AY$629,21,FALSE),0)","v":1},{"$f":"IFERROR(VLOOKUP($A154,Filtro!$A$5:$AY$629,22,FALSE),0)","v":0},{"$f":"IFERROR(VLOOKUP($A154,Filtro!$A$5:$AY$629,23,FALSE),0)","v":0},{"$f":"IFERROR(VLOOKUP($A154,Filtro!$A$5:$AY$629,24,FALSE),0)","v":0},{"$f":"IFERROR(VLOOKUP($A154,Filtro!$A$5:$AY$629,25,FALSE),0)","v":0},{"$f":"IFERROR(VLOOKUP($A154,Filtro!$A$5:$AY$629,26,FALSE),0)","v":0},{"$f":"IFERROR(VLOOKUP($A154,Filtro!$A$5:$AY$629,27,FALSE),0)","v":0},{"$f":"IFERROR(VLOOKUP($A154,Filtro!$A$5:$AY$629,28,FALSE),0)","v":0},{"$f":"IFERROR(VLOOKUP($A154,Filtro!$A$5:$AY$629,29,FALSE),0)","v":0},{"$f":"IFERROR(VLOOKUP($A154,Filtro!$A$5:$AY$629,30,FALSE),0)","v":0},{"$f":"IFERROR(VLOOKUP($A154,Filtro!$A$5:$AY$629,31,FALSE),0)","v":0},{"$f":"IFERROR(VLOOKUP($A154,Filtro!$A$5:$AY$629,32,FALSE),0)","v":0},{"$f":"IFERROR(VLOOKUP($A154,Filtro!$A$5:$AY$629,33,FALSE),0)","v":0},{"$f":"IFERROR(VLOOKUP($A154,Filtro!$A$5:$AY$629,34,FALSE),0)","v":0},{"$f":"IFERROR(VLOOKUP($A154,Filtro!$A$5:$AY$629,35,FALSE),0)","v":2},{"$f":"IFERROR(VLOOKUP($A154,Filtro!$A$5:$AY$629,36,FALSE),0)","v":0},{"$f":"IFERROR(VLOOKUP($A154,Filtro!$A$5:$AY$629,37,FALSE),0)","v":1},{"$f":"IFERROR(VLOOKUP($A154,Filtro!$A$5:$AY$629,38,FALSE),0)","v":0},{"$f":"IFERROR(VLOOKUP($A154,Filtro!$A$5:$AY$629,39,FALSE),0)","v":0},{"$f":"IFERROR(VLOOKUP($A154,Filtro!$A$5:$AY$629,40,FALSE),0)","v":1},{"$f":"IFERROR(VLOOKUP($A154,Filtro!$A$5:$AY$629,41,FALSE),0)","v":0},{"$f":"IFERROR(VLOOKUP($A154,Filtro!$A$5:$AY$629,42,FALSE),0)","v":0},{"$f":"IFERROR(VLOOKUP($A154,Filtro!$A$5:$AY$629,43,FALSE),0)","v":0},{"$f":"IFERROR(VLOOKUP($A154,Filtro!$A$5:$AY$629,44,FALSE),0)","v":0},{"$f":"IFERROR(VLOOKUP($A154,Filtro!$A$5:$AY$629,45,FALSE),0)","v":0},{"$f":"IFERROR(VLOOKUP($A154,Filtro!$A$5:$AY$629,46,FALSE),0)","v":0},""]
["P2501400","Neoplasias  ","Neoplasias  ",3,0,3,{"$f":"IFERROR(VLOOKUP($A155,Filtro!$A$5:$AY$629,5,FALSE),0)","v":0},{"$f":"IFERROR(VLOOKUP($A155,Filtro!$A$5:$AY$629,6,FALSE),0)","v":0},{"$f":"IFERROR(VLOOKUP($A155,Filtro!$A$5:$AY$629,7,FALSE),0)","v":0},{"$f":"IFERROR(VLOOKUP($A155,Filtro!$A$5:$AY$629,8,FALSE),0)","v":0},{"$f":"IFERROR(VLOOKUP($A155,Filtro!$A$5:$AY$629,9,FALSE),0)","v":0},{"$f":"IFERROR(VLOOKUP($A155,Filtro!$A$5:$AY$629,10,FALSE),0)","v":0},{"$f":"IFERROR(VLOOKUP($A155,Filtro!$A$5:$AY$629,11,FALSE),0)","v":0},{"$f":"IFERROR(VLOOKUP($A155,Filtro!$A$5:$AY$629,12,FALSE),0)","v":0},{"$f":"IFERROR(VLOOKUP($A155,Filtro!$A$5:$AY$629,13,FALSE),0)","v":0},{"$f":"IFERROR(VLOOKUP($A155,Filtro!$A$5:$AY$629,14,FALSE),0)","v":0},{"$f":"IFERROR(VLOOKUP($A155,Filtro!$A$5:$AY$629,15,FALSE),0)","v":0},{"$f":"IFERROR(VLOOKUP($A155,Filtro!$A$5:$AY$629,16,FALSE),0)","v":0},{"$f":"IFERROR(VLOOKUP($A155,Filtro!$A$5:$AY$629,17,FALSE),0)","v":0},{"$f":"IFERROR(VLOOKUP($A155,Filtro!$A$5:$AY$629,18,FALSE),0)","v":0},{"$f":"IFERROR(VLOOKUP($A155,Filtro!$A$5:$AY$629,19,FALSE),0)","v":0},{"$f":"IFERROR(VLOOKUP($A155,Filtro!$A$5:$AY$629,20,FALSE),0)","v":0},{"$f":"IFERROR(VLOOKUP($A155,Filtro!$A$5:$AY$629,21,FALSE),0)","v":0},{"$f":"IFERROR(VLOOKUP($A155,Filtro!$A$5:$AY$629,22,FALSE),0)","v":0},{"$f":"IFERROR(VLOOKUP($A155,Filtro!$A$5:$AY$629,23,FALSE),0)","v":0},{"$f":"IFERROR(VLOOKUP($A155,Filtro!$A$5:$AY$629,24,FALSE),0)","v":0},{"$f":"IFERROR(VLOOKUP($A155,Filtro!$A$5:$AY$629,25,FALSE),0)","v":0},{"$f":"IFERROR(VLOOKUP($A155,Filtro!$A$5:$AY$629,26,FALSE),0)","v":0},{"$f":"IFERROR(VLOOKUP($A155,Filtro!$A$5:$AY$629,27,FALSE),0)","v":0},{"$f":"IFERROR(VLOOKUP($A155,Filtro!$A$5:$AY$629,28,FALSE),0)","v":1},{"$f":"IFERROR(VLOOKUP($A155,Filtro!$A$5:$AY$629,29,FALSE),0)","v":0},{"$f":"IFERROR(VLOOKUP($A155,Filtro!$A$5:$AY$629,30,FALSE),0)","v":0},{"$f":"IFERROR(VLOOKUP($A155,Filtro!$A$5:$AY$629,31,FALSE),0)","v":0},{"$f":"IFERROR(VLOOKUP($A155,Filtro!$A$5:$AY$629,32,FALSE),0)","v":0},{"$f":"IFERROR(VLOOKUP($A155,Filtro!$A$5:$AY$629,33,FALSE),0)","v":0},{"$f":"IFERROR(VLOOKUP($A155,Filtro!$A$5:$AY$629,34,FALSE),0)","v":0},{"$f":"IFERROR(VLOOKUP($A155,Filtro!$A$5:$AY$629,35,FALSE),0)","v":0},{"$f":"IFERROR(VLOOKUP($A155,Filtro!$A$5:$AY$629,36,FALSE),0)","v":0},{"$f":"IFERROR(VLOOKUP($A155,Filtro!$A$5:$AY$629,37,FALSE),0)","v":0},{"$f":"IFERROR(VLOOKUP($A155,Filtro!$A$5:$AY$629,38,FALSE),0)","v":2},{"$f":"IFERROR(VLOOKUP($A155,Filtro!$A$5:$AY$629,39,FALSE),0)","v":0},{"$f":"IFERROR(VLOOKUP($A155,Filtro!$A$5:$AY$629,40,FALSE),0)","v":0},{"$f":"IFERROR(VLOOKUP($A155,Filtro!$A$5:$AY$629,41,FALSE),0)","v":0},{"$f":"IFERROR(VLOOKUP($A155,Filtro!$A$5:$AY$629,42,FALSE),0)","v":0},{"$f":"IFERROR(VLOOKUP($A155,Filtro!$A$5:$AY$629,43,FALSE),0)","v":0},{"$f":"IFERROR(VLOOKUP($A155,Filtro!$A$5:$AY$629,44,FALSE),0)","v":0},{"$f":"IFERROR(VLOOKUP($A155,Filtro!$A$5:$AY$629,45,FALSE),0)","v":0},{"$f":"IFERROR(VLOOKUP($A155,Filtro!$A$5:$AY$629,46,FALSE),0)","v":0},"",{"$nulls":35},{"$f":"IF(DF155=1,\"* No olvide escribir en las celdas de \"\"Pueblos Originarios\"\" (Digite Cero si no tiene).\",\"\")","v":""},{"$f":"IF(DG155=1,\"* No olvide escribir en las celdas de \"\"Población Migrante\"\" (Digite Cero si no tiene).\",\"\")","v":""},{"$f":"IF(DH155=1,\"* La suma de las celdas de \"\"Pueblos Originarios\"\"no debe superar el Total.\",\"\")","v":""},{"$f":"IF(DI155=1,\"* La suma de las celdas de \"\"Población Migrante\"\" no debe superar el Total.\",\"\")","v":""},{"$nulls":21},{"$f":"IF(AND($D155<>0,OR(AS155=\"\",AT155=\"\")),1,0)","v":0},{"$f":"IF(AND($D155<>0,OR(AU155=\"\",AV155=\"\")),1,0)","v":0},{"$f":"IF((AS155+AT155)>$D155,1,0)","v":0},{"$f":"IF((AV155+AU155)>$D155,1,0)","v":0}]
["P2501833","Malformaciones congénitas y deformidades","Malformaciones congénitas y deformidades",156,86,70,{"$f":"IFERROR(VLOOKUP($A156,Filtro!$A$5:$AY$629,5,FALSE),0)","v":0},{"$f":"IFERROR(VLOOKUP($A156,Filtro!$A$5:$AY$629,6,FALSE),0)","v":0},{"$f":"IFERROR(VLOOKUP($A156,Filtro!$A$5:$AY$629,7,FALSE),0)","v":1},{"$f":"IFERROR(VLOOKUP($A156,Filtro!$A$5:$AY$629,8,FALSE),0)","v":1},{"$f":"IFERROR(VLOOKUP($A156,Filtro!$A$5:$AY$629,9,FALSE),0)","v":2},{"$f":"IFERROR(VLOOKUP($A156,Filtro!$A$5:$AY$629,10,FALSE),0)","v":1},{"$f":"IFERROR(VLOOKUP($A156,Filtro!$A$5:$AY$629,11,FALSE),0)","v":1},{"$f":"IFERROR(VLOOKUP($A156,Filtro!$A$5:$AY$629,12,FALSE),0)","v":0},{"$f":"IFERROR(VLOOKUP($A156,Filtro!$A$5:$AY$629,13,FALSE),0)","v":1},{"$f":"IFERROR(VLOOKUP($A156,Filtro!$A$5:$AY$629,14,FALSE),0)","v":2},{"$f":"IFERROR(VLOOKUP($A156,Filtro!$A$5:$AY$629,15,FALSE),0)","v":3},{"$f":"IFERROR(VLOOKUP($A156,Filtro!$A$5:$AY$629,16,FALSE),0)","v":0},{"$f":"IFERROR(VLOOKUP($A156,Filtro!$A$5:$AY$629,17,FALSE),0)","v":3},{"$f":"IFERROR(VLOOKUP($A156,Filtro!$A$5:$AY$629,18,FALSE),0)","v":3},{"$f":"IFERROR(VLOOKUP($A156,Filtro!$A$5:$AY$629,19,FALSE),0)","v":10},{"$f":"IFERROR(VLOOKUP($A156,Filtro!$A$5:$AY$629,20,FALSE),0)","v":3},{"$f":"IFERROR(VLOOKUP($A156,Filtro!$A$5:$AY$629,21,FALSE),0)","v":12},{"$f":"IFERROR(VLOOKUP($A156,Filtro!$A$5:$AY$629,22,FALSE),0)","v":7},{"$f":"IFERROR(VLOOKUP($A156,Filtro!$A$5:$AY$629,23,FALSE),0)","v":13},{"$f":"IFERROR(VLOOKUP($A156,Filtro!$A$5:$AY$629,24,FALSE),0)","v":7},{"$f":"IFERROR(VLOOKUP($A156,Filtro!$A$5:$AY$629,25,FALSE),0)","v":4},{"$f":"IFERROR(VLOOKUP($A156,Filtro!$A$5:$AY$629,26,FALSE),0)","v":4},{"$f":"IFERROR(VLOOKUP($A156,Filtro!$A$5:$AY$629,27,FALSE),0)","v":7},{"$f":"IFERROR(VLOOKUP($A156,Filtro!$A$5:$AY$629,28,FALSE),0)","v":3},{"$f":"IFERROR(VLOOKUP($A156,Filtro!$A$5:$AY$629,29,FALSE),0)","v":0},{"$f":"IFERROR(VLOOKUP($A156,Filtro!$A$5:$AY$629,30,FALSE),0)","v":0},{"$f":"IFERROR(VLOOKUP($A156,Filtro!$A$5:$AY$629,31,FALSE),0)","v":4},{"$f":"IFERROR(VLOOKUP($A156,Filtro!$A$5:$AY$629,32,FALSE),0)","v":10},{"$f":"IFERROR(VLOOKUP($A156,Filtro!$A$5:$AY$629,33,FALSE),0)","v":7},{"$f":"IFERROR(VLOOKUP($A156,Filtro!$A$5:$AY$629,34,FALSE),0)","v":4},{"$f":"IFERROR(VLOOKUP($A156,Filtro!$A$5:$AY$629,35,FALSE),0)","v":6},{"$f":"IFERROR(VLOOKUP($A156,Filtro!$A$5:$AY$629,36,FALSE),0)","v":8},{"$f":"IFERROR(VLOOKUP($A156,Filtro!$A$5:$AY$629,37,FALSE),0)","v":7},{"$f":"IFERROR(VLOOKUP($A156,Filtro!$A$5:$AY$629,38,FALSE),0)","v":9},{"$f":"IFERROR(VLOOKUP($A156,Filtro!$A$5:$AY$629,39,FALSE),0)","v":5},{"$f":"IFERROR(VLOOKUP($A156,Filtro!$A$5:$AY$629,40,FALSE),0)","v":5},{"$f":"IFERROR(VLOOKUP($A156,Filtro!$A$5:$AY$629,41,FALSE),0)","v":0},{"$f":"IFERROR(VLOOKUP($A156,Filtro!$A$5:$AY$629,42,FALSE),0)","v":3},{"$f":"IFERROR(VLOOKUP($A156,Filtro!$A$5:$AY$629,43,FALSE),0)","v":1},{"$f":"IFERROR(VLOOKUP($A156,Filtro!$A$5:$AY$629,44,FALSE),0)","v":0},{"$f":"IFERROR(VLOOKUP($A156,Filtro!$A$5:$AY$629,45,FALSE),0)","v":0},{"$f":"IFERROR(VLOOKUP($A156,Filtro!$A$5:$AY$629,46,FALSE),0)","v":0},""]
["P2501834","Trastornos genéticos  ","Trastornos genéticos  ",42,17,25,{"$f":"IFERROR(VLOOKUP($A157,Filtro!$A$5:$AY$629,5,FALSE),0)","v":0},{"$f":"IFERROR(VLOOKUP($A157,Filtro!$A$5:$AY$629,6,FALSE),0)","v":0},{"$f":"IFERROR(VLOOKUP($A157,Filtro!$A$5:$AY$629,7,FALSE),0)","v":0},{"$f":"IFERROR(VLOOKUP($A157,Filtro!$A$5:$AY$629,8,FALSE),0)","v":0},{"$f":"IFERROR(VLOOKUP($A157,Filtro!$A$5:$AY$629,9,FALSE),0)","v":0},{"$f":"IFERROR(VLOOKUP($A157,Filtro!$A$5:$AY$629,10,FALSE),0)","v":0},{"$f":"IFERROR(VLOOKUP($A157,Filtro!$A$5:$AY$629,11,FALSE),0)","v":0},{"$f":"IFERROR(VLOOKUP($A157,Filtro!$A$5:$AY$629,12,FALSE),0)","v":0},{"$f":"IFERROR(VLOOKUP($A157,Filtro!$A$5:$AY$629,13,FALSE),0)","v":1},{"$f":"IFERROR(VLOOKUP($A157,Filtro!$A$5:$AY$629,14,FALSE),0)","v":1},{"$f":"IFERROR(VLOOKUP($A157,Filtro!$A$5:$AY$629,15,FALSE),0)","v":0},{"$f":"IFERROR(VLOOKUP($A157,Filtro!$A$5:$AY$629,16,FALSE),0)","v":0},{"$f":"IFERROR(VLOOKUP($A157,Filtro!$A$5:$AY$629,17,FALSE),0)","v":0},{"$f":"IFERROR(VLOOKUP($A157,Filtro!$A$5:$AY$629,18,FALSE),0)","v":0},{"$f":"IFERROR(VLOOKUP($A157,Filtro!$A$5:$AY$629,19,FALSE),0)","v":1},{"$f":"IFERROR(VLOOKUP($A157,Filtro!$A$5:$AY$629,20,FALSE),0)","v":0},{"$f":"IFERROR(VLOOKUP($A157,Filtro!$A$5:$AY$629,21,FALSE),0)","v":1},{"$f":"IFERROR(VLOOKUP($A157,Filtro!$A$5:$AY$629,22,FALSE),0)","v":0},{"$f":"IFERROR(VLOOKUP($A157,Filtro!$A$5:$AY$629,23,FALSE),0)","v":2},{"$f":"IFERROR(VLOOKUP($A157,Filtro!$A$5:$AY$629,24,FALSE),0)","v":0},{"$f":"IFERROR(VLOOKUP($A157,Filtro!$A$5:$AY$629,25,FALSE),0)","v":1},{"$f":"IFERROR(VLOOKUP($A157,Filtro!$A$5:$AY$629,26,FALSE),0)","v":0},{"$f":"IFERROR(VLOOKUP($A157,Filtro!$A$5:$AY$629,27,FALSE),0)","v":0},{"$f":"IFERROR(VLOOKUP($A157,Filtro!$A$5:$AY$629,28,FALSE),0)","v":0},{"$f":"IFERROR(VLOOKUP($A157,Filtro!$A$5:$AY$629,29,FALSE),0)","v":0},{"$f":"IFERROR(VLOOKUP($A157,Filtro!$A$5:$AY$629,30,FALSE),0)","v":0},{"$f":"IFERROR(VLOOKUP($A157,Filtro!$A$5:$AY$629,31,FALSE),0)","v":3},{"$f":"IFERROR(VLOOKUP($A157,Filtro!$A$5:$AY$629,32,FALSE),0)","v":6},{"$f":"IFERROR(VLOOKUP($A157,Filtro!$A$5:$AY$629,33,FALSE),0)","v":1},{"$f":"IFERROR(VLOOKUP($A157,Filtro!$A$5:$AY$629,34,FALSE),0)","v":2},{"$f":"IFERROR(VLOOKUP($A157,Filtro!$A$5:$AY$629,35,FALSE),0)","v":3},{"$f":"IFERROR(VLOOKUP($A157,Filtro!$A$5:$AY$629,36,FALSE),0)","v":6},{"$f":"IFERROR(VLOOKUP($A157,Filtro!$A$5:$AY$629,37,FALSE),0)","v":0},{"$f":"IFERROR(VLOOKUP($A157,Filtro!$A$5:$AY$629,38,FALSE),0)","v":5},{"$f":"IFERROR(VLOOKUP($A157,Filtro!$A$5:$AY$629,39,FALSE),0)","v":2},{"$f":"IFERROR(VLOOKUP($A157,Filtro!$A$5:$AY$629,40,FALSE),0)","v":4},{"$f":"IFERROR(VLOOKUP($A157,Filtro!$A$5:$AY$629,41,FALSE),0)","v":2},{"$f":"IFERROR(VLOOKUP($A157,Filtro!$A$5:$AY$629,42,FALSE),0)","v":1},{"$f":"IFERROR(VLOOKUP($A157,Filtro!$A$5:$AY$629,43,FALSE),0)","v":0},{"$f":"IFERROR(VLOOKUP($A157,Filtro!$A$5:$AY$629,44,FALSE),0)","v":0},{"$f":"IFERROR(VLOOKUP($A157,Filtro!$A$5:$AY$629,45,FALSE),0)","v":0},{"$f":"IFERROR(VLOOKUP($A157,Filtro!$A$5:$AY$629,46,FALSE),0)","v":0},""]
["P2501600","Prematuros",null,{"$f":"SUM(E158:F158)","v":1643},{"$f":"+G158+I158+K158+M158+O158+Q158+S158+U158+W158+Y158+AA158+AC158+AE158+AG158+AI158+AO158+AQ158+AK158+AM158","v":930},713,{"$f":"IFERROR(VLOOKUP($A158,Filtro!$A$5:$AY$629,5,FALSE),0)","v":3},{"$f":"IFERROR(VLOOKUP($A158,Filtro!$A$5:$AY$629,6,FALSE),0)","v":4},{"$f":"IFERROR(VLOOKUP($A158,Filtro!$A$5:$AY$629,7,FALSE),0)","v":17},{"$f":"IFERROR(VLOOKUP($A158,Filtro!$A$5:$AY$629,8,FALSE),0)","v":6},{"$f":"IFERROR(VLOOKUP($A158,Filtro!$A$5:$AY$629,9,FALSE),0)","v":20},{"$f":"IFERROR(VLOOKUP($A158,Filtro!$A$5:$AY$629,10,FALSE),0)","v":10},{"$f":"IFERROR(VLOOKUP($A158,Filtro!$A$5:$AY$629,11,FALSE),0)","v":17},{"$f":"IFERROR(VLOOKUP($A158,Filtro!$A$5:$AY$629,12,FALSE),0)","v":13},{"$f":"IFERROR(VLOOKUP($A158,Filtro!$A$5:$AY$629,13,FALSE),0)","v":14},{"$f":"IFERROR(VLOOKUP($A158,Filtro!$A$5:$AY$629,14,FALSE),0)","v":12},{"$f":"IFERROR(VLOOKUP($A158,Filtro!$A$5:$AY$629,15,FALSE),0)","v":10},{"$f":"IFERROR(VLOOKUP($A158,Filtro!$A$5:$AY$629,16,FALSE),0)","v":8},{"$f":"IFERROR(VLOOKUP($A158,Filtro!$A$5:$AY$629,17,FALSE),0)","v":18},{"$f":"IFERROR(VLOOKUP($A158,Filtro!$A$5:$AY$629,18,FALSE),0)","v":13},{"$f":"IFERROR(VLOOKUP($A158,Filtro!$A$5:$AY$629,19,FALSE),0)","v":74},{"$f":"IFERROR(VLOOKUP($A158,Filtro!$A$5:$AY$629,20,FALSE),0)","v":61},{"$f":"IFERROR(VLOOKUP($A158,Filtro!$A$5:$AY$629,21,FALSE),0)","v":115},{"$f":"IFERROR(VLOOKUP($A158,Filtro!$A$5:$AY$629,22,FALSE),0)","v":91},{"$f":"IFERROR(VLOOKUP($A158,Filtro!$A$5:$AY$629,23,FALSE),0)","v":66},{"$f":"IFERROR(VLOOKUP($A158,Filtro!$A$5:$AY$629,24,FALSE),0)","v":38},{"$f":"IFERROR(VLOOKUP($A158,Filtro!$A$5:$AY$629,25,FALSE),0)","v":107},{"$f":"IFERROR(VLOOKUP($A158,Filtro!$A$5:$AY$629,26,FALSE),0)","v":107},{"$f":"IFERROR(VLOOKUP($A158,Filtro!$A$5:$AY$629,27,FALSE),0)","v":88},{"$f":"IFERROR(VLOOKUP($A158,Filtro!$A$5:$AY$629,28,FALSE),0)","v":56},{"$f":"IFERROR(VLOOKUP($A158,Filtro!$A$5:$AY$629,29,FALSE),0)","v":17},{"$f":"IFERROR(VLOOKUP($A158,Filtro!$A$5:$AY$629,30,FALSE),0)","v":13},{"$f":"IFERROR(VLOOKUP($A158,Filtro!$A$5:$AY$629,31,FALSE),0)","v":102},{"$f":"IFERROR(VLOOKUP($A158,Filtro!$A$5:$AY$629,32,FALSE),0)","v":77},{"$f":"IFERROR(VLOOKUP($A158,Filtro!$A$5:$AY$629,33,FALSE),0)","v":85},{"$f":"IFERROR(VLOOKUP($A158,Filtro!$A$5:$AY$629,34,FALSE),0)","v":52},{"$f":"IFERROR(VLOOKUP($A158,Filtro!$A$5:$AY$629,35,FALSE),0)","v":114},{"$f":"IFERROR(VLOOKUP($A158,Filtro!$A$5:$AY$629,36,FALSE),0)","v":97},{"$f":"IFERROR(VLOOKUP($A158,Filtro!$A$5:$AY$629,37,FALSE),0)","v":58},{"$f":"IFERROR(VLOOKUP($A158,Filtro!$A$5:$AY$629,38,FALSE),0)","v":49},{"$f":"IFERROR(VLOOKUP($A158,Filtro!$A$5:$AY$629,39,FALSE),0)","v":5},{"$f":"IFERROR(VLOOKUP($A158,Filtro!$A$5:$AY$629,40,FALSE),0)","v":3},{"$f":"IFERROR(VLOOKUP($A158,Filtro!$A$5:$AY$629,41,FALSE),0)","v":0},{"$f":"IFERROR(VLOOKUP($A158,Filtro!$A$5:$AY$629,42,FALSE),0)","v":3},{"$f":"IFERROR(VLOOKUP($A158,Filtro!$A$5:$AY$629,43,FALSE),0)","v":4},{"$f":"IFERROR(VLOOKUP($A158,Filtro!$A$5:$AY$629,44,FALSE),0)","v":5},{"$f":"IFERROR(VLOOKUP($A158,Filtro!$A$5:$AY$629,45,FALSE),0)","v":2},{"$f":"IFERROR(VLOOKUP($A158,Filtro!$A$5:$AY$629,46,FALSE),0)","v":5},"",{"$nulls":35},{"$f":"IF(DF158=1,\"* No olvide escribir en las celdas de \"\"Pueblos Originarios\"\" (Digite Cero si no tiene).\",\"\")","v":""},{"$f":"IF(DG158=1,\"* No olvide escribir en las celdas de \"\"Población Migrante\"\" (Digite Cero si no tiene).\",\"\")","v":""},{"$f":"IF(DH158=1,\"* La suma de las celdas de \"\"Pueblos Originarios\"\"no debe superar el Total.\",\"\")","v":""},{"$f":"IF(DI158=1,\"* La suma de las celdas de \"\"Población Migrante\"\" no debe superar el Total.\",\"\")","v":""},{"$nulls":21},{"$f":"IF(AND($D158<>0,OR(AS158=\"\",AT158=\"\")),1,0)","v":0},{"$f":"IF(AND($D158<>0,OR(AU158=\"\",AV158=\"\")),1,0)","v":0},{"$f":"IF((AS158+AT158)>$D158,1,0)","v":0},{"$f":"IF((AV158+AU158)>$D158,1,0)","v":0}]
["P2501835","Enfermedades hematológicas crónicas ","Enfermedades hematológicas crónicas ",{"$f":"SUM(E159:F159)","v":5},1,4,{"$f":"IFERROR(VLOOKUP($A159,Filtro!$A$5:$AY$629,5,FALSE),0)","v":0},{"$f":"IFERROR(VLOOKUP($A159,Filtro!$A$5:$AY$629,6,FALSE),0)","v":0},{"$f":"IFERROR(VLOOKUP($A159,Filtro!$A$5:$AY$629,7,FALSE),0)","v":0},{"$f":"IFERROR(VLOOKUP($A159,Filtro!$A$5:$AY$629,8,FALSE),0)","v":0},{"$f":"IFERROR(VLOOKUP($A159,Filtro!$A$5:$AY$629,9,FALSE),0)","v":0},{"$f":"IFERROR(VLOOKUP($A159,Filtro!$A$5:$AY$629,10,FALSE),0)","v":0},{"$f":"IFERROR(VLOOKUP($A159,Filtro!$A$5:$AY$629,11,FALSE),0)","v":0},{"$f":"IFERROR(VLOOKUP($A159,Filtro!$A$5:$AY$629,12,FALSE),0)","v":0},{"$f":"IFERROR(VLOOKUP($A159,Filtro!$A$5:$AY$629,13,FALSE),0)","v":0},{"$f":"IFERROR(VLOOKUP($A159,Filtro!$A$5:$AY$629,14,FALSE),0)","v":0},{"$f":"IFERROR(VLOOKUP($A159,Filtro!$A$5:$AY$629,15,FALSE),0)","v":0},{"$f":"IFERROR(VLOOKUP($A159,Filtro!$A$5:$AY$629,16,FALSE),0)","v":0},{"$f":"IFERROR(VLOOKUP($A159,Filtro!$A$5:$AY$629,17,FALSE),0)","v":0},{"$f":"IFERROR(VLOOKUP($A159,Filtro!$A$5:$AY$629,18,FALSE),0)","v":0},{"$f":"IFERROR(VLOOKUP($A159,Filtro!$A$5:$AY$629,19,FALSE),0)","v":0},{"$f":"IFERROR(VLOOKUP($A159,Filtro!$A$5:$AY$629,20,FALSE),0)","v":0},{"$f":"IFERROR(VLOOKUP($A159,Filtro!$A$5:$AY$629,21,FALSE),0)","v":1},{"$f":"IFERROR(VLOOKUP($A159,Filtro!$A$5:$AY$629,22,FALSE),0)","v":0},{"$f":"IFERROR(VLOOKUP($A159,Filtro!$A$5:$AY$629,23,FALSE),0)","v":0},{"$f":"IFERROR(VLOOKUP($A159,Filtro!$A$5:$AY$629,24,FALSE),0)","v":0},{"$f":"IFERROR(VLOOKUP($A159,Filtro!$A$5:$AY$629,25,FALSE),0)","v":0},{"$f":"IFERROR(VLOOKUP($A159,Filtro!$A$5:$AY$629,26,FALSE),0)","v":1},{"$f":"IFERROR(VLOOKUP($A159,Filtro!$A$5:$AY$629,27,FALSE),0)","v":0},{"$f":"IFERROR(VLOOKUP($A159,Filtro!$A$5:$AY$629,28,FALSE),0)","v":0},{"$f":"IFERROR(VLOOKUP($A159,Filtro!$A$5:$AY$629,29,FALSE),0)","v":0},{"$f":"IFERROR(VLOOKUP($A159,Filtro!$A$5:$AY$629,30,FALSE),0)","v":0},{"$f":"IFERROR(VLOOKUP($A159,Filtro!$A$5:$AY$629,31,FALSE),0)","v":0},{"$f":"IFERROR(VLOOKUP($A159,Filtro!$A$5:$AY$629,32,FALSE),0)","v":1},{"$f":"IFERROR(VLOOKUP($A159,Filtro!$A$5:$AY$629,33,FALSE),0)","v":0},{"$f":"IFERROR(VLOOKUP($A159,Filtro!$A$5:$AY$629,34,FALSE),0)","v":0},{"$f":"IFERROR(VLOOKUP($A159,Filtro!$A$5:$AY$629,35,FALSE),0)","v":0},{"$f":"IFERROR(VLOOKUP($A159,Filtro!$A$5:$AY$629,36,FALSE),0)","v":1},{"$f":"IFERROR(VLOOKUP($A159,Filtro!$A$5:$AY$629,37,FALSE),0)","v":0},{"$f":"IFERROR(VLOOKUP($A159,Filtro!$A$5:$AY$629,38,FALSE),0)","v":0},{"$f":"IFERROR(VLOOKUP($A159,Filtro!$A$5:$AY$629,39,FALSE),0)","v":0},{"$f":"IFERROR(VLOOKUP($A159,Filtro!$A$5:$AY$629,40,FALSE),0)","v":1},{"$f":"IFERROR(VLOOKUP($A159,Filtro!$A$5:$AY$629,41,FALSE),0)","v":0},{"$f":"IFERROR(VLOOKUP($A159,Filtro!$A$5:$AY$629,42,FALSE),0)","v":0},{"$f":"IFERROR(VLOOKUP($A159,Filtro!$A$5:$AY$629,43,FALSE),0)","v":0},{"$f":"IFERROR(VLOOKUP($A159,Filtro!$A$5:$AY$629,44,FALSE),0)","v":0},{"$f":"IFERROR(VLOOKUP($A159,Filtro!$A$5:$AY$629,45,FALSE),0)","v":0},{"$f":"IFERROR(VLOOKUP($A159,Filtro!$A$5:$AY$629,46,FALSE),0)","v":0},"",{"$nulls":35},{"$f":"IF(DF159=1,\"* No olvide escribir en las celdas de \"\"Pueblos Originarios\"\" (Digite Cero si no tiene).\",\"\")","v":""},{"$f":"IF(DG159=1,\"* No olvide escribir en las celdas de \"\"Población Migrante\"\" (Digite Cero si no tiene).\",\"\")","v":""},{"$f":"IF(DH159=1,\"* La suma de las celdas de \"\"Pueblos Originarios\"\"no debe superar el Total.\",\"\")","v":""},{"$f":"IF(DI159=1,\"* La suma de las celdas de \"\"Población Migrante\"\" no debe superar el Total.\",\"\")","v":""},{"$nulls":21},{"$f":"IF(AND($D159<>0,OR(AS159=\"\",AT159=\"\")),1,0)","v":0},{"$f":"IF(AND($D159<>0,OR(AU159=\"\",AV159=\"\")),1,0)","v":0},{"$f":"IF((AS159+AT159)>$D159,1,0)","v":0},{"$f":"IF((AV159+AU159)>$D159,1,0)","v":0}]
["P2501836","Enfermedades musculoesqueléticas crónicas ","Enfermedades musculoesqueléticas crónicas ",{"$f":"SUM(E160:F160)","v":42},27,15,{"$f":"IFERROR(VLOOKUP($A160,Filtro!$A$5:$AY$629,5,FALSE),0)","v":0},{"$f":"IFERROR(VLOOKUP($A160,Filtro!$A$5:$AY$629,6,FALSE),0)","v":0},{"$f":"IFERROR(VLOOKUP($A160,Filtro!$A$5:$AY$629,7,FALSE),0)","v":0},{"$f":"IFERROR(VLOOKUP($A160,Filtro!$A$5:$AY$629,8,FALSE),0)","v":0},{"$f":"IFERROR(VLOOKUP($A160,Filtro!$A$5:$AY$629,9,FALSE),0)","v":1},{"$f":"IFERROR(VLOOKUP($A160,Filtro!$A$5:$AY$629,10,FALSE),0)","v":0},{"$f":"IFERROR(VLOOKUP($A160,Filtro!$A$5:$AY$629,11,FALSE),0)","v":0},{"$f":"IFERROR(VLOOKUP($A160,Filtro!$A$5:$AY$629,12,FALSE),0)","v":0},{"$f":"IFERROR(VLOOKUP($A160,Filtro!$A$5:$AY$629,13,FALSE),0)","v":0},{"$f":"IFERROR(VLOOKUP($A160,Filtro!$A$5:$AY$629,14,FALSE),0)","v":0},{"$f":"IFERROR(VLOOKUP($A160,Filtro!$A$5:$AY$629,15,FALSE),0)","v":0},{"$f":"IFERROR(VLOOKUP($A160,Filtro!$A$5:$AY$629,16,FALSE),0)","v":0},{"$f":"IFERROR(VLOOKUP($A160,Filtro!$A$5:$AY$629,17,FALSE),0)","v":0},{"$f":"IFERROR(VLOOKUP($A160,Filtro!$A$5:$AY$629,18,FALSE),0)","v":0},{"$f":"IFERROR(VLOOKUP($A160,Filtro!$A$5:$AY$629,19,FALSE),0)","v":3},{"$f":"IFERROR(VLOOKUP($A160,Filtro!$A$5:$AY$629,20,FALSE),0)","v":0},{"$f":"IFERROR(VLOOKUP($A160,Filtro!$A$5:$AY$629,21,FALSE),0)","v":3},{"$f":"IFERROR(VLOOKUP($A160,Filtro!$A$5:$AY$629,22,FALSE),0)","v":0},{"$f":"IFERROR(VLOOKUP($A160,Filtro!$A$5:$AY$629,23,FALSE),0)","v":0},{"$f":"IFERROR(VLOOKUP($A160,Filtro!$A$5:$AY$629,24,FALSE),0)","v":0},{"$f":"IFERROR(VLOOKUP($A160,Filtro!$A$5:$AY$629,25,FALSE),0)","v":4},{"$f":"IFERROR(VLOOKUP($A160,Filtro!$A$5:$AY$629,26,FALSE),0)","v":4},{"$f":"IFERROR(VLOOKUP($A160,Filtro!$A$5:$AY$629,27,FALSE),0)","v":1},{"$f":"IFERROR(VLOOKUP($A160,Filtro!$A$5:$AY$629,28,FALSE),0)","v":0},{"$f":"IFERROR(VLOOKUP($A160,Filtro!$A$5:$AY$629,29,FALSE),0)","v":0},{"$f":"IFERROR(VLOOKUP($A160,Filtro!$A$5:$AY$629,30,FALSE),0)","v":0},{"$f":"IFERROR(VLOOKUP($A160,Filtro!$A$5:$AY$629,31,FALSE),0)","v":1},{"$f":"IFERROR(VLOOKUP($A160,Filtro!$A$5:$AY$629,32,FALSE),0)","v":1},{"$f":"IFERROR(VLOOKUP($A160,Filtro!$A$5:$AY$629,33,FALSE),0)","v":3},{"$f":"IFERROR(VLOOKUP($A160,Filtro!$A$5:$AY$629,34,FALSE),0)","v":3},{"$f":"IFERROR(VLOOKUP($A160,Filtro!$A$5:$AY$629,35,FALSE),0)","v":2},{"$f":"IFERROR(VLOOKUP($A160,Filtro!$A$5:$AY$629,36,FALSE),0)","v":1},{"$f":"IFERROR(VLOOKUP($A160,Filtro!$A$5:$AY$629,37,FALSE),0)","v":1},{"$f":"IFERROR(VLOOKUP($A160,Filtro!$A$5:$AY$629,38,FALSE),0)","v":3},{"$f":"IFERROR(VLOOKUP($A160,Filtro!$A$5:$AY$629,39,FALSE),0)","v":6},{"$f":"IFERROR(VLOOKUP($A160,Filtro!$A$5:$AY$629,40,FALSE),0)","v":3},{"$f":"IFERROR(VLOOKUP($A160,Filtro!$A$5:$AY$629,41,FALSE),0)","v":2},{"$f":"IFERROR(VLOOKUP($A160,Filtro!$A$5:$AY$629,42,FALSE),0)","v":0},{"$f":"IFERROR(VLOOKUP($A160,Filtro!$A$5:$AY$629,43,FALSE),0)","v":0},{"$f":"IFERROR(VLOOKUP($A160,Filtro!$A$5:$AY$629,44,FALSE),0)","v":0},{"$f":"IFERROR(VLOOKUP($A160,Filtro!$A$5:$AY$629,45,FALSE),0)","v":0},{"$f":"IFERROR(VLOOKUP($A160,Filtro!$A$5:$AY$629,46,FALSE),0)","v":0},""]
["P2501837","Enfermedades del sistema inmunitario (no incluye asma, ni alergias alimentarias) ","Enfermedades del sistema inmunitario (no incluye asma, ni alergias alimentarias) ",{"$f":"SUM(E161:F161)","v":2},0,2,{"$f":"IFERROR(VLOOKUP($A161,Filtro!$A$5:$AY$629,5,FALSE),0)","v":0},{"$f":"IFERROR(VLOOKUP($A161,Filtro!$A$5:$AY$629,6,FALSE),0)","v":0},{"$f":"IFERROR(VLOOKUP($A161,Filtro!$A$5:$AY$629,7,FALSE),0)","v":0},{"$f":"IFERROR(VLOOKUP($A161,Filtro!$A$5:$AY$629,8,FALSE),0)","v":0},{"$f":"IFERROR(VLOOKUP($A161,Filtro!$A$5:$AY$629,9,FALSE),0)","v":0},{"$f":"IFERROR(VLOOKUP($A161,Filtro!$A$5:$AY$629,10,FALSE),0)","v":0},{"$f":"IFERROR(VLOOKUP($A161,Filtro!$A$5:$AY$629,11,FALSE),0)","v":0},{"$f":"IFERROR(VLOOKUP($A161,Filtro!$A$5:$AY$629,12,FALSE),0)","v":0},{"$f":"IFERROR(VLOOKUP($A161,Filtro!$A$5:$AY$629,13,FALSE),0)","v":0},{"$f":"IFERROR(VLOOKUP($A161,Filtro!$A$5:$AY$629,14,FALSE),0)","v":0},{"$f":"IFERROR(VLOOKUP($A161,Filtro!$A$5:$AY$629,15,FALSE),0)","v":0},{"$f":"IFERROR(VLOOKUP($A161,Filtro!$A$5:$AY$629,16,FALSE),0)","v":0},{"$f":"IFERROR(VLOOKUP($A161,Filtro!$A$5:$AY$629,17,FALSE),0)","v":0},{"$f":"IFERROR(VLOOKUP($A161,Filtro!$A$5:$AY$629,18,FALSE),0)","v":0},{"$f":"IFERROR(VLOOKUP($A161,Filtro!$A$5:$AY$629,19,FALSE),0)","v":0},{"$f":"IFERROR(VLOOKUP($A161,Filtro!$A$5:$AY$629,20,FALSE),0)","v":0},{"$f":"IFERROR(VLOOKUP($A161,Filtro!$A$5:$AY$629,21,FALSE),0)","v":0},{"$f":"IFERROR(VLOOKUP($A161,Filtro!$A$5:$AY$629,22,FALSE),0)","v":0},{"$f":"IFERROR(VLOOKUP($A161,Filtro!$A$5:$AY$629,23,FALSE),0)","v":0},{"$f":"IFERROR(VLOOKUP($A161,Filtro!$A$5:$AY$629,24,FALSE),0)","v":0},{"$f":"IFERROR(VLOOKUP($A161,Filtro!$A$5:$AY$629,25,FALSE),0)","v":0},{"$f":"IFERROR(VLOOKUP($A161,Filtro!$A$5:$AY$629,26,FALSE),0)","v":1},{"$f":"IFERROR(VLOOKUP($A161,Filtro!$A$5:$AY$629,27,FALSE),0)","v":0},{"$f":"IFERROR(VLOOKUP($A161,Filtro!$A$5:$AY$629,28,FALSE),0)","v":1},{"$f":"IFERROR(VLOOKUP($A161,Filtro!$A$5:$AY$629,29,FALSE),0)","v":0},{"$f":"IFERROR(VLOOKUP($A161,Filtro!$A$5:$AY$629,30,FALSE),0)","v":0},{"$f":"IFERROR(VLOOKUP($A161,Filtro!$A$5:$AY$629,31,FALSE),0)","v":0},{"$f":"IFERROR(VLOOKUP($A161,Filtro!$A$5:$AY$629,32,FALSE),0)","v":0},{"$f":"IFERROR(VLOOKUP($A161,Filtro!$A$5:$AY$629,33,FALSE),0)","v":0},{"$f":"IFERROR(VLOOKUP($A161,Filtro!$A$5:$AY$629,34,FALSE),0)","v":0},{"$f":"IFERROR(VLOOKUP($A161,Filtro!$A$5:$AY$629,35,FALSE),0)","v":0},{"$f":"IFERROR(VLOOKUP($A161,Filtro!$A$5:$AY$629,36,FALSE),0)","v":0},{"$f":"IFERROR(VLOOKUP($A161,Filtro!$A$5:$AY$629,37,FALSE),0)","v":0},{"$f":"IFERROR(VLOOKUP($A161,Filtro!$A$5:$AY$629,38,FALSE),0)","v":0},{"$f":"IFERROR(VLOOKUP($A161,Filtro!$A$5:$AY$629,39,FALSE),0)","v":0},{"$f":"IFERROR(VLOOKUP($A161,Filtro!$A$5:$AY$629,40,FALSE),0)","v":0},{"$f":"IFERROR(VLOOKUP($A161,Filtro!$A$5:$AY$629,41,FALSE),0)","v":0},{"$f":"IFERROR(VLOOKUP($A161,Filtro!$A$5:$AY$629,42,FALSE),0)","v":0},{"$f":"IFERROR(VLOOKUP($A161,Filtro!$A$5:$AY$629,43,FALSE),0)","v":0},{"$f":"IFERROR(VLOOKUP($A161,Filtro!$A$5:$AY$629,44,FALSE),0)","v":0},{"$f":"IFERROR(VLOOKUP($A161,Filtro!$A$5:$AY$629,45,FALSE),0)","v":0},{"$f":"IFERROR(VLOOKUP($A161,Filtro!$A$5:$AY$629,46,FALSE),0)","v":0},""]
["P2501838","Alergias alimentarias","Alergias alimentarias",{"$f":"SUM(E162:F162)","v":91},50,41,{"$f":"IFERROR(VLOOKUP($A162,Filtro!$A$5:$AY$629,5,FALSE),0)","v":0},{"$f":"IFERROR(VLOOKUP($A162,Filtro!$A$5:$AY$629,6,FALSE),0)","v":0},{"$f":"IFERROR(VLOOKUP($A162,Filtro!$A$5:$AY$629,7,FALSE),0)","v":0},{"$f":"IFERROR(VLOOKUP($A162,Filtro!$A$5:$AY$629,8,FALSE),0)","v":1},{"$f":"IFERROR(VLOOKUP($A162,Filtro!$A$5:$AY$629,9,FALSE),0)","v":1},{"$f":"IFERROR(VLOOKUP($A162,Filtro!$A$5:$AY$629,10,FALSE),0)","v":1},{"$f":"IFERROR(VLOOKUP($A162,Filtro!$A$5:$AY$629,11,FALSE),0)","v":0},{"$f":"IFERROR(VLOOKUP($A162,Filtro!$A$5:$AY$629,12,FALSE),0)","v":0},{"$f":"IFERROR(VLOOKUP($A162,Filtro!$A$5:$AY$629,13,FALSE),0)","v":0},{"$f":"IFERROR(VLOOKUP($A162,Filtro!$A$5:$AY$629,14,FALSE),0)","v":0},{"$f":"IFERROR(VLOOKUP($A162,Filtro!$A$5:$AY$629,15,FALSE),0)","v":4},{"$f":"IFERROR(VLOOKUP($A162,Filtro!$A$5:$AY$629,16,FALSE),0)","v":2},{"$f":"IFERROR(VLOOKUP($A162,Filtro!$A$5:$AY$629,17,FALSE),0)","v":1},{"$f":"IFERROR(VLOOKUP($A162,Filtro!$A$5:$AY$629,18,FALSE),0)","v":2},{"$f":"IFERROR(VLOOKUP($A162,Filtro!$A$5:$AY$629,19,FALSE),0)","v":9},{"$f":"IFERROR(VLOOKUP($A162,Filtro!$A$5:$AY$629,20,FALSE),0)","v":3},{"$f":"IFERROR(VLOOKUP($A162,Filtro!$A$5:$AY$629,21,FALSE),0)","v":5},{"$f":"IFERROR(VLOOKUP($A162,Filtro!$A$5:$AY$629,22,FALSE),0)","v":9},{"$f":"IFERROR(VLOOKUP($A162,Filtro!$A$5:$AY$629,23,FALSE),0)","v":12},{"$f":"IFERROR(VLOOKUP($A162,Filtro!$A$5:$AY$629,24,FALSE),0)","v":5},{"$f":"IFERROR(VLOOKUP($A162,Filtro!$A$5:$AY$629,25,FALSE),0)","v":7},{"$f":"IFERROR(VLOOKUP($A162,Filtro!$A$5:$AY$629,26,FALSE),0)","v":4},{"$f":"IFERROR(VLOOKUP($A162,Filtro!$A$5:$AY$629,27,FALSE),0)","v":3},{"$f":"IFERROR(VLOOKUP($A162,Filtro!$A$5:$AY$629,28,FALSE),0)","v":5},{"$f":"IFERROR(VLOOKUP($A162,Filtro!$A$5:$AY$629,29,FALSE),0)","v":0},{"$f":"IFERROR(VLOOKUP($A162,Filtro!$A$5:$AY$629,30,FALSE),0)","v":0},{"$f":"IFERROR(VLOOKUP($A162,Filtro!$A$5:$AY$629,31,FALSE),0)","v":2},{"$f":"IFERROR(VLOOKUP($A162,Filtro!$A$5:$AY$629,32,FALSE),0)","v":2},{"$f":"IFERROR(VLOOKUP($A162,Filtro!$A$5:$AY$629,33,FALSE),0)","v":2},{"$f":"IFERROR(VLOOKUP($A162,Filtro!$A$5:$AY$629,34,FALSE),0)","v":1},{"$f":"IFERROR(VLOOKUP($A162,Filtro!$A$5:$AY$629,35,FALSE),0)","v":3},{"$f":"IFERROR(VLOOKUP($A162,Filtro!$A$5:$AY$629,36,FALSE),0)","v":5},{"$f":"IFERROR(VLOOKUP($A162,Filtro!$A$5:$AY$629,37,FALSE),0)","v":1},{"$f":"IFERROR(VLOOKUP($A162,Filtro!$A$5:$AY$629,38,FALSE),0)","v":1},{"$f":"IFERROR(VLOOKUP($A162,Filtro!$A$5:$AY$629,39,FALSE),0)","v":0},{"$f":"IFERROR(VLOOKUP($A162,Filtro!$A$5:$AY$629,40,FALSE),0)","v":0},{"$f":"IFERROR(VLOOKUP($A162,Filtro!$A$5:$AY$629,41,FALSE),0)","v":0},{"$f":"IFERROR(VLOOKUP($A162,Filtro!$A$5:$AY$629,42,FALSE),0)","v":0},{"$f":"IFERROR(VLOOKUP($A162,Filtro!$A$5:$AY$629,43,FALSE),0)","v":1},{"$f":"IFERROR(VLOOKUP($A162,Filtro!$A$5:$AY$629,44,FALSE),0)","v":0},{"$f":"IFERROR(VLOOKUP($A162,Filtro!$A$5:$AY$629,45,FALSE),0)","v":0},{"$f":"IFERROR(VLOOKUP($A162,Filtro!$A$5:$AY$629,46,FALSE),0)","v":0},""]
["P2501839","Otras Enfermedades endocrinológicas (no incluye Hipotiroidismo, ni Diabetes) ","Otras Enfermedades endocrinológicas (no incluye Hipotiroidismo, ni Diabetes) ",{"$f":"SUM(E163:F163)","v":5},3,2,{"$f":"IFERROR(VLOOKUP($A163,Filtro!$A$5:$AY$629,5,FALSE),0)","v":0},{"$f":"IFERROR(VLOOKUP($A163,Filtro!$A$5:$AY$629,6,FALSE),0)","v":0},{"$f":"IFERROR(VLOOKUP($A163,Filtro!$A$5:$AY$629,7,FALSE),0)","v":0},{"$f":"IFERROR(VLOOKUP($A163,Filtro!$A$5:$AY$629,8,FALSE),0)","v":0},{"$f":"IFERROR(VLOOKUP($A163,Filtro!$A$5:$AY$629,9,FALSE),0)","v":0},{"$f":"IFERROR(VLOOKUP($A163,Filtro!$A$5:$AY$629,10,FALSE),0)","v":0},{"$f":"IFERROR(VLOOKUP($A163,Filtro!$A$5:$AY$629,11,FALSE),0)","v":0},{"$f":"IFERROR(VLOOKUP($A163,Filtro!$A$5:$AY$629,12,FALSE),0)","v":0},{"$f":"IFERROR(VLOOKUP($A163,Filtro!$A$5:$AY$629,13,FALSE),0)","v":0},{"$f":"IFERROR(VLOOKUP($A163,Filtro!$A$5:$AY$629,14,FALSE),0)","v":0},{"$f":"IFERROR(VLOOKUP($A163,Filtro!$A$5:$AY$629,15,FALSE),0)","v":0},{"$f":"IFERROR(VLOOKUP($A163,Filtro!$A$5:$AY$629,16,FALSE),0)","v":0},{"$f":"IFERROR(VLOOKUP($A163,Filtro!$A$5:$AY$629,17,FALSE),0)","v":0},{"$f":"IFERROR(VLOOKUP($A163,Filtro!$A$5:$AY$629,18,FALSE),0)","v":0},{"$f":"IFERROR(VLOOKUP($A163,Filtro!$A$5:$AY$629,19,FALSE),0)","v":1},{"$f":"IFERROR(VLOOKUP($A163,Filtro!$A$5:$AY$629,20,FALSE),0)","v":0},{"$f":"IFERROR(VLOOKUP($A163,Filtro!$A$5:$AY$629,21,FALSE),0)","v":0},{"$f":"IFERROR(VLOOKUP($A163,Filtro!$A$5:$AY$629,22,FALSE),0)","v":0},{"$f":"IFERROR(VLOOKUP($A163,Filtro!$A$5:$AY$629,23,FALSE),0)","v":0},{"$f":"IFERROR(VLOOKUP($A163,Filtro!$A$5:$AY$629,24,FALSE),0)","v":0},{"$f":"IFERROR(VLOOKUP($A163,Filtro!$A$5:$AY$629,25,FALSE),0)","v":0},{"$f":"IFERROR(VLOOKUP($A163,Filtro!$A$5:$AY$629,26,FALSE),0)","v":0},{"$f":"IFERROR(VLOOKUP($A163,Filtro!$A$5:$AY$629,27,FALSE),0)","v":0},{"$f":"IFERROR(VLOOKUP($A163,Filtro!$A$5:$AY$629,28,FALSE),0)","v":0},{"$f":"IFERROR(VLOOKUP($A163,Filtro!$A$5:$AY$629,29,FALSE),0)","v":0},{"$f":"IFERROR(VLOOKUP($A163,Filtro!$A$5:$AY$629,30,FALSE),0)","v":0},{"$f":"IFERROR(VLOOKUP($A163,Filtro!$A$5:$AY$629,31,FALSE),0)","v":0},{"$f":"IFERROR(VLOOKUP($A163,Filtro!$A$5:$AY$629,32,FALSE),0)","v":0},{"$f":"IFERROR(VLOOKUP($A163,Filtro!$A$5:$AY$629,33,FALSE),0)","v":0},{"$f":"IFERROR(VLOOKUP($A163,Filtro!$A$5:$AY$629,34,FALSE),0)","v":0},{"$f":"IFERROR(VLOOKUP($A163,Filtro!$A$5:$AY$629,35,FALSE),0)","v":2},{"$f":"IFERROR(VLOOKUP($A163,Filtro!$A$5:$AY$629,36,FALSE),0)","v":2},{"$f":"IFERROR(VLOOKUP($A163,Filtro!$A$5:$AY$629,37,FALSE),0)","v":0},{"$f":"IFERROR(VLOOKUP($A163,Filtro!$A$5:$AY$629,38,FALSE),0)","v":0},{"$f":"IFERROR(VLOOKUP($A163,Filtro!$A$5:$AY$629,39,FALSE),0)","v":0},{"$f":"IFERROR(VLOOKUP($A163,Filtro!$A$5:$AY$629,40,FALSE),0)","v":0},{"$f":"IFERROR(VLOOKUP($A163,Filtro!$A$5:$AY$629,41,FALSE),0)","v":0},{"$f":"IFERROR(VLOOKUP($A163,Filtro!$A$5:$AY$629,42,FALSE),0)","v":0},{"$f":"IFERROR(VLOOKUP($A163,Filtro!$A$5:$AY$629,43,FALSE),0)","v":0},{"$f":"IFERROR(VLOOKUP($A163,Filtro!$A$5:$AY$629,44,FALSE),0)","v":0},{"$f":"IFERROR(VLOOKUP($A163,Filtro!$A$5:$AY$629,45,FALSE),0)","v":0},{"$f":"IFERROR(VLOOKUP($A163,Filtro!$A$5:$AY$629,46,FALSE),0)","v":0},""]
["P2501840","Hipotiroidismo ","Hipotiroidismo ",28,13,15,{"$f":"IFERROR(VLOOKUP($A164,Filtro!$A$5:$AY$629,5,FALSE),0)","v":0},{"$f":"IFERROR(VLOOKUP($A164,Filtro!$A$5:$AY$629,6,FALSE),0)","v":0},{"$f":"IFERROR(VLOOKUP($A164,Filtro!$A$5:$AY$629,7,FALSE),0)","v":0},{"$f":"IFERROR(VLOOKUP($A164,Filtro!$A$5:$AY$629,8,FALSE),0)","v":0},{"$f":"IFERROR(VLOOKUP($A164,Filtro!$A$5:$AY$629,9,FALSE),0)","v":0},{"$f":"IFERROR(VLOOKUP($A164,Filtro!$A$5:$AY$629,10,FALSE),0)","v":0},{"$f":"IFERROR(VLOOKUP($A164,Filtro!$A$5:$AY$629,11,FALSE),0)","v":0},{"$f":"IFERROR(VLOOKUP($A164,Filtro!$A$5:$AY$629,12,FALSE),0)","v":0},{"$f":"IFERROR(VLOOKUP($A164,Filtro!$A$5:$AY$629,13,FALSE),0)","v":0},{"$f":"IFERROR(VLOOKUP($A164,Filtro!$A$5:$AY$629,14,FALSE),0)","v":0},{"$f":"IFERROR(VLOOKUP($A164,Filtro!$A$5:$AY$629,15,FALSE),0)","v":0},{"$f":"IFERROR(VLOOKUP($A164,Filtro!$A$5:$AY$629,16,FALSE),0)","v":0},{"$f":"IFERROR(VLOOKUP($A164,Filtro!$A$5:$AY$629,17,FALSE),0)","v":0},{"$f":"IFERROR(VLOOKUP($A164,Filtro!$A$5:$AY$629,18,FALSE),0)","v":1},{"$f":"IFERROR(VLOOKUP($A164,Filtro!$A$5:$AY$629,19,FALSE),0)","v":2},{"$f":"IFERROR(VLOOKUP($A164,Filtro!$A$5:$AY$629,20,FALSE),0)","v":2},{"$f":"IFERROR(VLOOKUP($A164,Filtro!$A$5:$AY$629,21,FALSE),0)","v":0},{"$f":"IFERROR(VLOOKUP($A164,Filtro!$A$5:$AY$629,22,FALSE),0)","v":1},{"$f":"IFERROR(VLOOKUP($A164,Filtro!$A$5:$AY$629,23,FALSE),0)","v":1},{"$f":"IFERROR(VLOOKUP($A164,Filtro!$A$5:$AY$629,24,FALSE),0)","v":0},{"$f":"IFERROR(VLOOKUP($A164,Filtro!$A$5:$AY$629,25,FALSE),0)","v":1},{"$f":"IFERROR(VLOOKUP($A164,Filtro!$A$5:$AY$629,26,FALSE),0)","v":0},{"$f":"IFERROR(VLOOKUP($A164,Filtro!$A$5:$AY$629,27,FALSE),0)","v":0},{"$f":"IFERROR(VLOOKUP($A164,Filtro!$A$5:$AY$629,28,FALSE),0)","v":1},{"$f":"IFERROR(VLOOKUP($A164,Filtro!$A$5:$AY$629,29,FALSE),0)","v":0},{"$f":"IFERROR(VLOOKUP($A164,Filtro!$A$5:$AY$629,30,FALSE),0)","v":0},{"$f":"IFERROR(VLOOKUP($A164,Filtro!$A$5:$AY$629,31,FALSE),0)","v":0},{"$f":"IFERROR(VLOOKUP($A164,Filtro!$A$5:$AY$629,32,FALSE),0)","v":4},{"$f":"IFERROR(VLOOKUP($A164,Filtro!$A$5:$AY$629,33,FALSE),0)","v":1},{"$f":"IFERROR(VLOOKUP($A164,Filtro!$A$5:$AY$629,34,FALSE),0)","v":0},{"$f":"IFERROR(VLOOKUP($A164,Filtro!$A$5:$AY$629,35,FALSE),0)","v":3},{"$f":"IFERROR(VLOOKUP($A164,Filtro!$A$5:$AY$629,36,FALSE),0)","v":2},{"$f":"IFERROR(VLOOKUP($A164,Filtro!$A$5:$AY$629,37,FALSE),0)","v":3},{"$f":"IFERROR(VLOOKUP($A164,Filtro!$A$5:$AY$629,38,FALSE),0)","v":1},{"$f":"IFERROR(VLOOKUP($A164,Filtro!$A$5:$AY$629,39,FALSE),0)","v":2},{"$f":"IFERROR(VLOOKUP($A164,Filtro!$A$5:$AY$629,40,FALSE),0)","v":2},{"$f":"IFERROR(VLOOKUP($A164,Filtro!$A$5:$AY$629,41,FALSE),0)","v":0},{"$f":"IFERROR(VLOOKUP($A164,Filtro!$A$5:$AY$629,42,FALSE),0)","v":1},{"$f":"IFERROR(VLOOKUP($A164,Filtro!$A$5:$AY$629,43,FALSE),0)","v":0},{"$f":"IFERROR(VLOOKUP($A164,Filtro!$A$5:$AY$629,44,FALSE),0)","v":1},{"$f":"IFERROR(VLOOKUP($A164,Filtro!$A$5:$AY$629,45,FALSE),0)","v":0},{"$f":"IFERROR(VLOOKUP($A164,Filtro!$A$5:$AY$629,46,FALSE),0)","v":0},{"$f":"CG164&CH164&CI164&CJ164","v":""}]
["P2500200","Diabetes tipo I ","Diabetes tipo I ",14,8,6,{"$f":"IFERROR(VLOOKUP($A165,Filtro!$A$5:$AY$629,5,FALSE),0)","v":0},{"$f":"IFERROR(VLOOKUP($A165,Filtro!$A$5:$AY$629,6,FALSE),0)","v":0},{"$f":"IFERROR(VLOOKUP($A165,Filtro!$A$5:$AY$629,7,FALSE),0)","v":0},{"$f":"IFERROR(VLOOKUP($A165,Filtro!$A$5:$AY$629,8,FALSE),0)","v":0},{"$f":"IFERROR(VLOOKUP($A165,Filtro!$A$5:$AY$629,9,FALSE),0)","v":0},{"$f":"IFERROR(VLOOKUP($A165,Filtro!$A$5:$AY$629,10,FALSE),0)","v":0},{"$f":"IFERROR(VLOOKUP($A165,Filtro!$A$5:$AY$629,11,FALSE),0)","v":0},{"$f":"IFERROR(VLOOKUP($A165,Filtro!$A$5:$AY$629,12,FALSE),0)","v":0},{"$f":"IFERROR(VLOOKUP($A165,Filtro!$A$5:$AY$629,13,FALSE),0)","v":0},{"$f":"IFERROR(VLOOKUP($A165,Filtro!$A$5:$AY$629,14,FALSE),0)","v":0},{"$f":"IFERROR(VLOOKUP($A165,Filtro!$A$5:$AY$629,15,FALSE),0)","v":0},{"$f":"IFERROR(VLOOKUP($A165,Filtro!$A$5:$AY$629,16,FALSE),0)","v":0},{"$f":"IFERROR(VLOOKUP($A165,Filtro!$A$5:$AY$629,17,FALSE),0)","v":0},{"$f":"IFERROR(VLOOKUP($A165,Filtro!$A$5:$AY$629,18,FALSE),0)","v":0},{"$f":"IFERROR(VLOOKUP($A165,Filtro!$A$5:$AY$629,19,FALSE),0)","v":0},{"$f":"IFERROR(VLOOKUP($A165,Filtro!$A$5:$AY$629,20,FALSE),0)","v":0},{"$f":"IFERROR(VLOOKUP($A165,Filtro!$A$5:$AY$629,21,FALSE),0)","v":0},{"$f":"IFERROR(VLOOKUP($A165,Filtro!$A$5:$AY$629,22,FALSE),0)","v":0},{"$f":"IFERROR(VLOOKUP($A165,Filtro!$A$5:$AY$629,23,FALSE),0)","v":0},{"$f":"IFERROR(VLOOKUP($A165,Filtro!$A$5:$AY$629,24,FALSE),0)","v":0},{"$f":"IFERROR(VLOOKUP($A165,Filtro!$A$5:$AY$629,25,FALSE),0)","v":0},{"$f":"IFERROR(VLOOKUP($A165,Filtro!$A$5:$AY$629,26,FALSE),0)","v":0},{"$f":"IFERROR(VLOOKUP($A165,Filtro!$A$5:$AY$629,27,FALSE),0)","v":0},{"$f":"IFERROR(VLOOKUP($A165,Filtro!$A$5:$AY$629,28,FALSE),0)","v":0},{"$f":"IFERROR(VLOOKUP($A165,Filtro!$A$5:$AY$629,29,FALSE),0)","v":0},{"$f":"IFERROR(VLOOKUP($A165,Filtro!$A$5:$AY$629,30,FALSE),0)","v":0},{"$f":"IFERROR(VLOOKUP($A165,Filtro!$A$5:$AY$629,31,FALSE),0)","v":0},{"$f":"IFERROR(VLOOKUP($A165,Filtro!$A$5:$AY$629,32,FALSE),0)","v":1},{"$f":"IFERROR(VLOOKUP($A165,Filtro!$A$5:$AY$629,33,FALSE),0)","v":4},{"$f":"IFERROR(VLOOKUP($A165,Filtro!$A$5:$AY$629,34,FALSE),0)","v":0},{"$f":"IFERROR(VLOOKUP($A165,Filtro!$A$5:$AY$629,35,FALSE),0)","v":2},{"$f":"IFERROR(VLOOKUP($A165,Filtro!$A$5:$AY$629,36,FALSE),0)","v":3},{"$f":"IFERROR(VLOOKUP($A165,Filtro!$A$5:$AY$629,37,FALSE),0)","v":1},{"$f":"IFERROR(VLOOKUP($A165,Filtro!$A$5:$AY$629,38,FALSE),0)","v":1},{"$f":"IFERROR(VLOOKUP($A165,Filtro!$A$5:$AY$629,39,FALSE),0)","v":1},{"$f":"IFERROR(VLOOKUP($A165,Filtro!$A$5:$AY$629,40,FALSE),0)","v":1},{"$f":"IFERROR(VLOOKUP($A165,Filtro!$A$5:$AY$629,41,FALSE),0)","v":0},{"$f":"IFERROR(VLOOKUP($A165,Filtro!$A$5:$AY$629,42,FALSE),0)","v":0},{"$f":"IFERROR(VLOOKUP($A165,Filtro!$A$5:$AY$629,43,FALSE),0)","v":0},{"$f":"IFERROR(VLOOKUP($A165,Filtro!$A$5:$AY$629,44,FALSE),0)","v":0},{"$f":"IFERROR(VLOOKUP($A165,Filtro!$A$5:$AY$629,45,FALSE),0)","v":0},{"$f":"IFERROR(VLOOKUP($A165,Filtro!$A$5:$AY$629,46,FALSE),0)","v":0},"",{"$nulls":35},{"$f":"IF(DF165=1,\"* No olvide escribir en las celdas de \"\"Pueblos Originarios\"\" (Digite Cero si no tiene).\",\"\")","v":""},{"$f":"IF(DG165=1,\"* No olvide escribir en las celdas de \"\"Población Migrante\"\" (Digite Cero si no tiene).\",\"\")","v":""},{"$f":"IF(DH165=1,\"* La suma de las celdas de \"\"Pueblos Originarios\"\"no debe superar el Total.\",\"\")","v":""},{"$f":"IF(DI165=1,\"* La suma de las celdas de \"\"Población Migrante\"\" no debe superar el Total.\",\"\")","v":""},{"$nulls":21},{"$f":"IF(AND($D165<>0,OR(AS165=\"\",AT165=\"\")),1,0)","v":0},{"$f":"IF(AND($D165<>0,OR(AU165=\"\",AV165=\"\")),1,0)","v":0},{"$f":"IF((AS165+AT165)>$D165,1,0)","v":0},{"$f":"IF((AV165+AU165)>$D165,1,0)","v":0}]
["P2500300","Diabetes tipo II ","Diabetes tipo II ",1,0,1,{"$f":"IFERROR(VLOOKUP($A166,Filtro!$A$5:$AY$629,5,FALSE),0)","v":0},{"$f":"IFERROR(VLOOKUP($A166,Filtro!$A$5:$AY$629,6,FALSE),0)","v":0},{"$f":"IFERROR(VLOOKUP($A166,Filtro!$A$5:$AY$629,7,FALSE),0)","v":0},{"$f":"IFERROR(VLOOKUP($A166,Filtro!$A$5:$AY$629,8,FALSE),0)","v":0},{"$f":"IFERROR(VLOOKUP($A166,Filtro!$A$5:$AY$629,9,FALSE),0)","v":0},{"$f":"IFERROR(VLOOKUP($A166,Filtro!$A$5:$AY$629,10,FALSE),0)","v":0},{"$f":"IFERROR(VLOOKUP($A166,Filtro!$A$5:$AY$629,11,FALSE),0)","v":0},{"$f":"IFERROR(VLOOKUP($A166,Filtro!$A$5:$AY$629,12,FALSE),0)","v":0},{"$f":"IFERROR(VLOOKUP($A166,Filtro!$A$5:$AY$629,13,FALSE),0)","v":0},{"$f":"IFERROR(VLOOKUP($A166,Filtro!$A$5:$AY$629,14,FALSE),0)","v":0},{"$f":"IFERROR(VLOOKUP($A166,Filtro!$A$5:$AY$629,15,FALSE),0)","v":0},{"$f":"IFERROR(VLOOKUP($A166,Filtro!$A$5:$AY$629,16,FALSE),0)","v":0},{"$f":"IFERROR(VLOOKUP($A166,Filtro!$A$5:$AY$629,17,FALSE),0)","v":0},{"$f":"IFERROR(VLOOKUP($A166,Filtro!$A$5:$AY$629,18,FALSE),0)","v":0},{"$f":"IFERROR(VLOOKUP($A166,Filtro!$A$5:$AY$629,19,FALSE),0)","v":0},{"$f":"IFERROR(VLOOKUP($A166,Filtro!$A$5:$AY$629,20,FALSE),0)","v":0},{"$f":"IFERROR(VLOOKUP($A166,Filtro!$A$5:$AY$629,21,FALSE),0)","v":0},{"$f":"IFERROR(VLOOKUP($A166,Filtro!$A$5:$AY$629,22,FALSE),0)","v":0},{"$f":"IFERROR(VLOOKUP($A166,Filtro!$A$5:$AY$629,23,FALSE),0)","v":0},{"$f":"IFERROR(VLOOKUP($A166,Filtro!$A$5:$AY$629,24,FALSE),0)","v":0},{"$f":"IFERROR(VLOOKUP($A166,Filtro!$A$5:$AY$629,25,FALSE),0)","v":0},{"$f":"IFERROR(VLOOKUP($A166,Filtro!$A$5:$AY$629,26,FALSE),0)","v":0},{"$f":"IFERROR(VLOOKUP($A166,Filtro!$A$5:$AY$629,27,FALSE),0)","v":0},{"$f":"IFERROR(VLOOKUP($A166,Filtro!$A$5:$AY$629,28,FALSE),0)","v":0},{"$f":"IFERROR(VLOOKUP($A166,Filtro!$A$5:$AY$629,29,FALSE),0)","v":0},{"$f":"IFERROR(VLOOKUP($A166,Filtro!$A$5:$AY$629,30,FALSE),0)","v":0},{"$f":"IFERROR(VLOOKUP($A166,Filtro!$A$5:$AY$629,31,FALSE),0)","v":0},{"$f":"IFERROR(VLOOKUP($A166,Filtro!$A$5:$AY$629,32,FALSE),0)","v":0},{"$f":"IFERROR(VLOOKUP($A166,Filtro!$A$5:$AY$629,33,FALSE),0)","v":0},{"$f":"IFERROR(VLOOKUP($A166,Filtro!$A$5:$AY$629,34,FALSE),0)","v":0},{"$f":"IFERROR(VLOOKUP($A166,Filtro!$A$5:$AY$629,35,FALSE),0)","v":0},{"$f":"IFERROR(VLOOKUP($A166,Filtro!$A$5:$AY$629,36,FALSE),0)","v":0},{"$f":"IFERROR(VLOOKUP($A166,Filtro!$A$5:$AY$629,37,FALSE),0)","v":0},{"$f":"IFERROR(VLOOKUP($A166,Filtro!$A$5:$AY$629,38,FALSE),0)","v":1},{"$f":"IFERROR(VLOOKUP($A166,Filtro!$A$5:$AY$629,39,FALSE),0)","v":0},{"$f":"IFERROR(VLOOKUP($A166,Filtro!$A$5:$AY$629,40,FALSE),0)","v":0},{"$f":"IFERROR(VLOOKUP($A166,Filtro!$A$5:$AY$629,41,FALSE),0)","v":0},{"$f":"IFERROR(VLOOKUP($A166,Filtro!$A$5:$AY$629,42,FALSE),0)","v":0},{"$f":"IFERROR(VLOOKUP($A166,Filtro!$A$5:$AY$629,43,FALSE),0)","v":0},{"$f":"IFERROR(VLOOKUP($A166,Filtro!$A$5:$AY$629,44,FALSE),0)","v":0},{"$f":"IFERROR(VLOOKUP($A166,Filtro!$A$5:$AY$629,45,FALSE),0)","v":0},{"$f":"IFERROR(VLOOKUP($A166,Filtro!$A$5:$AY$629,46,FALSE),0)","v":0},""]
["P2501841","Otros Trastornos del metabolismo ","Otros Trastornos del metabolismo ",{"$f":"SUM(E167:F167)","v":4},2,2,{"$f":"IFERROR(VLOOKUP($A167,Filtro!$A$5:$AY$629,5,FALSE),0)","v":0},{"$f":"IFERROR(VLOOKUP($A167,Filtro!$A$5:$AY$629,6,FALSE),0)","v":0},{"$f":"IFERROR(VLOOKUP($A167,Filtro!$A$5:$AY$629,7,FALSE),0)","v":0},{"$f":"IFERROR(VLOOKUP($A167,Filtro!$A$5:$AY$629,8,FALSE),0)","v":0},{"$f":"IFERROR(VLOOKUP($A167,Filtro!$A$5:$AY$629,9,FALSE),0)","v":0},{"$f":"IFERROR(VLOOKUP($A167,Filtro!$A$5:$AY$629,10,FALSE),0)","v":0},{"$f":"IFERROR(VLOOKUP($A167,Filtro!$A$5:$AY$629,11,FALSE),0)","v":0},{"$f":"IFERROR(VLOOKUP($A167,Filtro!$A$5:$AY$629,12,FALSE),0)","v":0},{"$f":"IFERROR(VLOOKUP($A167,Filtro!$A$5:$AY$629,13,FALSE),0)","v":0},{"$f":"IFERROR(VLOOKUP($A167,Filtro!$A$5:$AY$629,14,FALSE),0)","v":0},{"$f":"IFERROR(VLOOKUP($A167,Filtro!$A$5:$AY$629,15,FALSE),0)","v":0},{"$f":"IFERROR(VLOOKUP($A167,Filtro!$A$5:$AY$629,16,FALSE),0)","v":0},{"$f":"IFERROR(VLOOKUP($A167,Filtro!$A$5:$AY$629,17,FALSE),0)","v":0},{"$f":"IFERROR(VLOOKUP($A167,Filtro!$A$5:$AY$629,18,FALSE),0)","v":0},{"$f":"IFERROR(VLOOKUP($A167,Filtro!$A$5:$AY$629,19,FALSE),0)","v":0},{"$f":"IFERROR(VLOOKUP($A167,Filtro!$A$5:$AY$629,20,FALSE),0)","v":0},{"$f":"IFERROR(VLOOKUP($A167,Filtro!$A$5:$AY$629,21,FALSE),0)","v":0},{"$f":"IFERROR(VLOOKUP($A167,Filtro!$A$5:$AY$629,22,FALSE),0)","v":1},{"$f":"IFERROR(VLOOKUP($A167,Filtro!$A$5:$AY$629,23,FALSE),0)","v":1},{"$f":"IFERROR(VLOOKUP($A167,Filtro!$A$5:$AY$629,24,FALSE),0)","v":0},{"$f":"IFERROR(VLOOKUP($A167,Filtro!$A$5:$AY$629,25,FALSE),0)","v":0},{"$f":"IFERROR(VLOOKUP($A167,Filtro!$A$5:$AY$629,26,FALSE),0)","v":0},{"$f":"IFERROR(VLOOKUP($A167,Filtro!$A$5:$AY$629,27,FALSE),0)","v":0},{"$f":"IFERROR(VLOOKUP($A167,Filtro!$A$5:$AY$629,28,FALSE),0)","v":0},{"$f":"IFERROR(VLOOKUP($A167,Filtro!$A$5:$AY$629,29,FALSE),0)","v":0},{"$f":"IFERROR(VLOOKUP($A167,Filtro!$A$5:$AY$629,30,FALSE),0)","v":0},{"$f":"IFERROR(VLOOKUP($A167,Filtro!$A$5:$AY$629,31,FALSE),0)","v":0},{"$f":"IFERROR(VLOOKUP($A167,Filtro!$A$5:$AY$629,32,FALSE),0)","v":0},{"$f":"IFERROR(VLOOKUP($A167,Filtro!$A$5:$AY$629,33,FALSE),0)","v":0},{"$f":"IFERROR(VLOOKUP($A167,Filtro!$A$5:$AY$629,34,FALSE),0)","v":0},{"$f":"IFERROR(VLOOKUP($A167,Filtro!$A$5:$AY$629,35,FALSE),0)","v":0},{"$f":"IFERROR(VLOOKUP($A167,Filtro!$A$5:$AY$629,36,FALSE),0)","v":1},{"$f":"IFERROR(VLOOKUP($A167,Filtro!$A$5:$AY$629,37,FALSE),0)","v":0},{"$f":"IFERROR(VLOOKUP($A167,Filtro!$A$5:$AY$629,38,FALSE),0)","v":0},{"$f":"IFERROR(VLOOKUP($A167,Filtro!$A$5:$AY$629,39,FALSE),0)","v":1},{"$f":"IFERROR(VLOOKUP($A167,Filtro!$A$5:$AY$629,40,FALSE),0)","v":0},{"$f":"IFERROR(VLOOKUP($A167,Filtro!$A$5:$AY$629,41,FALSE),0)","v":0},{"$f":"IFERROR(VLOOKUP($A167,Filtro!$A$5:$AY$629,42,FALSE),0)","v":0},{"$f":"IFERROR(VLOOKUP($A167,Filtro!$A$5:$AY$629,43,FALSE),0)","v":0},{"$f":"IFERROR(VLOOKUP($A167,Filtro!$A$5:$AY$629,44,FALSE),0)","v":0},{"$f":"IFERROR(VLOOKUP($A167,Filtro!$A$5:$AY$629,45,FALSE),0)","v":0},{"$f":"IFERROR(VLOOKUP($A167,Filtro!$A$5:$AY$629,46,FALSE),0)","v":0},{"$f":"CG167&CH167&CI167&CJ167","v":""},{"$nulls":35},{"$f":"IF(DF167=1,\"* No olvide escribir en las celdas de \"\"Pueblos Originarios\"\" (Digite Cero si no tiene).\",\"\")","v":""},{"$f":"IF(DG167=1,\"* No olvide escribir en las celdas de \"\"Población Migrante\"\" (Digite Cero si no tiene).\",\"\")","v":""},{"$f":"IF(DH167=1,\"* La suma de las celdas de \"\"Pueblos Originarios\"\"no debe superar el Total.\",\"\")","v":""},{"$f":"IF(DI167=1,\"* La suma de las celdas de \"\"Población Migrante\"\" no debe superar el Total.\",\"\")","v":""},{"$nulls":21},{"$f":"IF(AND($D167<>0,OR(AS167=\"\",AT167=\"\")),1,0)","v":0},{"$f":"IF(AND($D167<>0,OR(AU167=\"\",AV167=\"\")),1,0)","v":0},{"$f":"IF((AS167+AT167)>$D167,1,0)","v":0},{"$f":"IF((AV167+AU167)>$D167,1,0)","v":0}]
["P2501842","Otras Enfermedades respiratorias crónicas (no incluye Asma, ni Fibrosis Quística) ","Otras Enfermedades respiratorias crónicas (no incluye Asma, ni Fibrosis Quística) ",47,27,20,{"$f":"IFERROR(VLOOKUP($A168,Filtro!$A$5:$AY$629,5,FALSE),0)","v":0},{"$f":"IFERROR(VLOOKUP($A168,Filtro!$A$5:$AY$629,6,FALSE),0)","v":0},{"$f":"IFERROR(VLOOKUP($A168,Filtro!$A$5:$AY$629,7,FALSE),0)","v":0},{"$f":"IFERROR(VLOOKUP($A168,Filtro!$A$5:$AY$629,8,FALSE),0)","v":0},{"$f":"IFERROR(VLOOKUP($A168,Filtro!$A$5:$AY$629,9,FALSE),0)","v":0},{"$f":"IFERROR(VLOOKUP($A168,Filtro!$A$5:$AY$629,10,FALSE),0)","v":0},{"$f":"IFERROR(VLOOKUP($A168,Filtro!$A$5:$AY$629,11,FALSE),0)","v":0},{"$f":"IFERROR(VLOOKUP($A168,Filtro!$A$5:$AY$629,12,FALSE),0)","v":0},{"$f":"IFERROR(VLOOKUP($A168,Filtro!$A$5:$AY$629,13,FALSE),0)","v":0},{"$f":"IFERROR(VLOOKUP($A168,Filtro!$A$5:$AY$629,14,FALSE),0)","v":0},{"$f":"IFERROR(VLOOKUP($A168,Filtro!$A$5:$AY$629,15,FALSE),0)","v":0},{"$f":"IFERROR(VLOOKUP($A168,Filtro!$A$5:$AY$629,16,FALSE),0)","v":0},{"$f":"IFERROR(VLOOKUP($A168,Filtro!$A$5:$AY$629,17,FALSE),0)","v":0},{"$f":"IFERROR(VLOOKUP($A168,Filtro!$A$5:$AY$629,18,FALSE),0)","v":0},{"$f":"IFERROR(VLOOKUP($A168,Filtro!$A$5:$AY$629,19,FALSE),0)","v":3},{"$f":"IFERROR(VLOOKUP($A168,Filtro!$A$5:$AY$629,20,FALSE),0)","v":2},{"$f":"IFERROR(VLOOKUP($A168,Filtro!$A$5:$AY$629,21,FALSE),0)","v":4},{"$f":"IFERROR(VLOOKUP($A168,Filtro!$A$5:$AY$629,22,FALSE),0)","v":0},{"$f":"IFERROR(VLOOKUP($A168,Filtro!$A$5:$AY$629,23,FALSE),0)","v":4},{"$f":"IFERROR(VLOOKUP($A168,Filtro!$A$5:$AY$629,24,FALSE),0)","v":0},{"$f":"IFERROR(VLOOKUP($A168,Filtro!$A$5:$AY$629,25,FALSE),0)","v":1},{"$f":"IFERROR(VLOOKUP($A168,Filtro!$A$5:$AY$629,26,FALSE),0)","v":2},{"$f":"IFERROR(VLOOKUP($A168,Filtro!$A$5:$AY$629,27,FALSE),0)","v":3},{"$f":"IFERROR(VLOOKUP($A168,Filtro!$A$5:$AY$629,28,FALSE),0)","v":2},{"$f":"IFERROR(VLOOKUP($A168,Filtro!$A$5:$AY$629,29,FALSE),0)","v":0},{"$f":"IFERROR(VLOOKUP($A168,Filtro!$A$5:$AY$629,30,FALSE),0)","v":0},{"$f":"IFERROR(VLOOKUP($A168,Filtro!$A$5:$AY$629,31,FALSE),0)","v":0},{"$f":"IFERROR(VLOOKUP($A168,Filtro!$A$5:$AY$629,32,FALSE),0)","v":4},{"$f":"IFERROR(VLOOKUP($A168,Filtro!$A$5:$AY$629,33,FALSE),0)","v":2},{"$f":"IFERROR(VLOOKUP($A168,Filtro!$A$5:$AY$629,34,FALSE),0)","v":3},{"$f":"IFERROR(VLOOKUP($A168,Filtro!$A$5:$AY$629,35,FALSE),0)","v":2},{"$f":"IFERROR(VLOOKUP($A168,Filtro!$A$5:$AY$629,36,FALSE),0)","v":4},{"$f":"IFERROR(VLOOKUP($A168,Filtro!$A$5:$AY$629,37,FALSE),0)","v":3},{"$f":"IFERROR(VLOOKUP($A168,Filtro!$A$5:$AY$629,38,FALSE),0)","v":1},{"$f":"IFERROR(VLOOKUP($A168,Filtro!$A$5:$AY$629,39,FALSE),0)","v":3},{"$f":"IFERROR(VLOOKUP($A168,Filtro!$A$5:$AY$629,40,FALSE),0)","v":2},{"$f":"IFERROR(VLOOKUP($A168,Filtro!$A$5:$AY$629,41,FALSE),0)","v":2},{"$f":"IFERROR(VLOOKUP($A168,Filtro!$A$5:$AY$629,42,FALSE),0)","v":0},{"$f":"IFERROR(VLOOKUP($A168,Filtro!$A$5:$AY$629,43,FALSE),0)","v":0},{"$f":"IFERROR(VLOOKUP($A168,Filtro!$A$5:$AY$629,44,FALSE),0)","v":0},{"$f":"IFERROR(VLOOKUP($A168,Filtro!$A$5:$AY$629,45,FALSE),0)","v":0},{"$f":"IFERROR(VLOOKUP($A168,Filtro!$A$5:$AY$629,46,FALSE),0)","v":0},""]
["P2500600","Fibrosis Quística ","Fibrosis Quística ",10,7,3,{"$f":"IFERROR(VLOOKUP($A169,Filtro!$A$5:$AY$629,5,FALSE),0)","v":0},{"$f":"IFERROR(VLOOKUP($A169,Filtro!$A$5:$AY$629,6,FALSE),0)","v":0},{"$f":"IFERROR(VLOOKUP($A169,Filtro!$A$5:$AY$629,7,FALSE),0)","v":0},{"$f":"IFERROR(VLOOKUP($A169,Filtro!$A$5:$AY$629,8,FALSE),0)","v":0},{"$f":"IFERROR(VLOOKUP($A169,Filtro!$A$5:$AY$629,9,FALSE),0)","v":0},{"$f":"IFERROR(VLOOKUP($A169,Filtro!$A$5:$AY$629,10,FALSE),0)","v":0},{"$f":"IFERROR(VLOOKUP($A169,Filtro!$A$5:$AY$629,11,FALSE),0)","v":0},{"$f":"IFERROR(VLOOKUP($A169,Filtro!$A$5:$AY$629,12,FALSE),0)","v":0},{"$f":"IFERROR(VLOOKUP($A169,Filtro!$A$5:$AY$629,13,FALSE),0)","v":0},{"$f":"IFERROR(VLOOKUP($A169,Filtro!$A$5:$AY$629,14,FALSE),0)","v":0},{"$f":"IFERROR(VLOOKUP($A169,Filtro!$A$5:$AY$629,15,FALSE),0)","v":0},{"$f":"IFERROR(VLOOKUP($A169,Filtro!$A$5:$AY$629,16,FALSE),0)","v":0},{"$f":"IFERROR(VLOOKUP($A169,Filtro!$A$5:$AY$629,17,FALSE),0)","v":0},{"$f":"IFERROR(VLOOKUP($A169,Filtro!$A$5:$AY$629,18,FALSE),0)","v":0},{"$f":"IFERROR(VLOOKUP($A169,Filtro!$A$5:$AY$629,19,FALSE),0)","v":0},{"$f":"IFERROR(VLOOKUP($A169,Filtro!$A$5:$AY$629,20,FALSE),0)","v":0},{"$f":"IFERROR(VLOOKUP($A169,Filtro!$A$5:$AY$629,21,FALSE),0)","v":0},{"$f":"IFERROR(VLOOKUP($A169,Filtro!$A$5:$AY$629,22,FALSE),0)","v":0},{"$f":"IFERROR(VLOOKUP($A169,Filtro!$A$5:$AY$629,23,FALSE),0)","v":0},{"$f":"IFERROR(VLOOKUP($A169,Filtro!$A$5:$AY$629,24,FALSE),0)","v":0},{"$f":"IFERROR(VLOOKUP($A169,Filtro!$A$5:$AY$629,25,FALSE),0)","v":0},{"$f":"IFERROR(VLOOKUP($A169,Filtro!$A$5:$AY$629,26,FALSE),0)","v":0},{"$f":"IFERROR(VLOOKUP($A169,Filtro!$A$5:$AY$629,27,FALSE),0)","v":1},{"$f":"IFERROR(VLOOKUP($A169,Filtro!$A$5:$AY$629,28,FALSE),0)","v":0},{"$f":"IFERROR(VLOOKUP($A169,Filtro!$A$5:$AY$629,29,FALSE),0)","v":0},{"$f":"IFERROR(VLOOKUP($A169,Filtro!$A$5:$AY$629,30,FALSE),0)","v":0},{"$f":"IFERROR(VLOOKUP($A169,Filtro!$A$5:$AY$629,31,FALSE),0)","v":2},{"$f":"IFERROR(VLOOKUP($A169,Filtro!$A$5:$AY$629,32,FALSE),0)","v":0},{"$f":"IFERROR(VLOOKUP($A169,Filtro!$A$5:$AY$629,33,FALSE),0)","v":0},{"$f":"IFERROR(VLOOKUP($A169,Filtro!$A$5:$AY$629,34,FALSE),0)","v":1},{"$f":"IFERROR(VLOOKUP($A169,Filtro!$A$5:$AY$629,35,FALSE),0)","v":1},{"$f":"IFERROR(VLOOKUP($A169,Filtro!$A$5:$AY$629,36,FALSE),0)","v":0},{"$f":"IFERROR(VLOOKUP($A169,Filtro!$A$5:$AY$629,37,FALSE),0)","v":0},{"$f":"IFERROR(VLOOKUP($A169,Filtro!$A$5:$AY$629,38,FALSE),0)","v":0},{"$f":"IFERROR(VLOOKUP($A169,Filtro!$A$5:$AY$629,39,FALSE),0)","v":2},{"$f":"IFERROR(VLOOKUP($A169,Filtro!$A$5:$AY$629,40,FALSE),0)","v":2},{"$f":"IFERROR(VLOOKUP($A169,Filtro!$A$5:$AY$629,41,FALSE),0)","v":1},{"$f":"IFERROR(VLOOKUP($A169,Filtro!$A$5:$AY$629,42,FALSE),0)","v":0},{"$f":"IFERROR(VLOOKUP($A169,Filtro!$A$5:$AY$629,43,FALSE),0)","v":0},{"$f":"IFERROR(VLOOKUP($A169,Filtro!$A$5:$AY$629,44,FALSE),0)","v":0},{"$f":"IFERROR(VLOOKUP($A169,Filtro!$A$5:$AY$629,45,FALSE),0)","v":0},{"$f":"IFERROR(VLOOKUP($A169,Filtro!$A$5:$AY$629,46,FALSE),0)","v":0},""]
["P2501843","Otras condiciones asociadas a NANEAS ","Otras condiciones asociadas a NANEAS ",73,42,31,{"$f":"IFERROR(VLOOKUP($A170,Filtro!$A$5:$AY$629,5,FALSE),0)","v":0},{"$f":"IFERROR(VLOOKUP($A170,Filtro!$A$5:$AY$629,6,FALSE),0)","v":0},{"$f":"IFERROR(VLOOKUP($A170,Filtro!$A$5:$AY$629,7,FALSE),0)","v":0},{"$f":"IFERROR(VLOOKUP($A170,Filtro!$A$5:$AY$629,8,FALSE),0)","v":1},{"$f":"IFERROR(VLOOKUP($A170,Filtro!$A$5:$AY$629,9,FALSE),0)","v":0},{"$f":"IFERROR(VLOOKUP($A170,Filtro!$A$5:$AY$629,10,FALSE),0)","v":0},{"$f":"IFERROR(VLOOKUP($A170,Filtro!$A$5:$AY$629,11,FALSE),0)","v":0},{"$f":"IFERROR(VLOOKUP($A170,Filtro!$A$5:$AY$629,12,FALSE),0)","v":0},{"$f":"IFERROR(VLOOKUP($A170,Filtro!$A$5:$AY$629,13,FALSE),0)","v":0},{"$f":"IFERROR(VLOOKUP($A170,Filtro!$A$5:$AY$629,14,FALSE),0)","v":0},{"$f":"IFERROR(VLOOKUP($A170,Filtro!$A$5:$AY$629,15,FALSE),0)","v":0},{"$f":"IFERROR(VLOOKUP($A170,Filtro!$A$5:$AY$629,16,FALSE),0)","v":0},{"$f":"IFERROR(VLOOKUP($A170,Filtro!$A$5:$AY$629,17,FALSE),0)","v":0},{"$f":"IFERROR(VLOOKUP($A170,Filtro!$A$5:$AY$629,18,FALSE),0)","v":3},{"$f":"IFERROR(VLOOKUP($A170,Filtro!$A$5:$AY$629,19,FALSE),0)","v":5},{"$f":"IFERROR(VLOOKUP($A170,Filtro!$A$5:$AY$629,20,FALSE),0)","v":0},{"$f":"IFERROR(VLOOKUP($A170,Filtro!$A$5:$AY$629,21,FALSE),0)","v":1},{"$f":"IFERROR(VLOOKUP($A170,Filtro!$A$5:$AY$629,22,FALSE),0)","v":0},{"$f":"IFERROR(VLOOKUP($A170,Filtro!$A$5:$AY$629,23,FALSE),0)","v":2},{"$f":"IFERROR(VLOOKUP($A170,Filtro!$A$5:$AY$629,24,FALSE),0)","v":0},{"$f":"IFERROR(VLOOKUP($A170,Filtro!$A$5:$AY$629,25,FALSE),0)","v":3},{"$f":"IFERROR(VLOOKUP($A170,Filtro!$A$5:$AY$629,26,FALSE),0)","v":2},{"$f":"IFERROR(VLOOKUP($A170,Filtro!$A$5:$AY$629,27,FALSE),0)","v":2},{"$f":"IFERROR(VLOOKUP($A170,Filtro!$A$5:$AY$629,28,FALSE),0)","v":2},{"$f":"IFERROR(VLOOKUP($A170,Filtro!$A$5:$AY$629,29,FALSE),0)","v":0},{"$f":"IFERROR(VLOOKUP($A170,Filtro!$A$5:$AY$629,30,FALSE),0)","v":0},{"$f":"IFERROR(VLOOKUP($A170,Filtro!$A$5:$AY$629,31,FALSE),0)","v":2},{"$f":"IFERROR(VLOOKUP($A170,Filtro!$A$5:$AY$629,32,FALSE),0)","v":1},{"$f":"IFERROR(VLOOKUP($A170,Filtro!$A$5:$AY$629,33,FALSE),0)","v":2},{"$f":"IFERROR(VLOOKUP($A170,Filtro!$A$5:$AY$629,34,FALSE),0)","v":3},{"$f":"IFERROR(VLOOKUP($A170,Filtro!$A$5:$AY$629,35,FALSE),0)","v":6},{"$f":"IFERROR(VLOOKUP($A170,Filtro!$A$5:$AY$629,36,FALSE),0)","v":4},{"$f":"IFERROR(VLOOKUP($A170,Filtro!$A$5:$AY$629,37,FALSE),0)","v":7},{"$f":"IFERROR(VLOOKUP($A170,Filtro!$A$5:$AY$629,38,FALSE),0)","v":6},{"$f":"IFERROR(VLOOKUP($A170,Filtro!$A$5:$AY$629,39,FALSE),0)","v":8},{"$f":"IFERROR(VLOOKUP($A170,Filtro!$A$5:$AY$629,40,FALSE),0)","v":6},{"$f":"IFERROR(VLOOKUP($A170,Filtro!$A$5:$AY$629,41,FALSE),0)","v":4},{"$f":"IFERROR(VLOOKUP($A170,Filtro!$A$5:$AY$629,42,FALSE),0)","v":3},{"$f":"IFERROR(VLOOKUP($A170,Filtro!$A$5:$AY$629,43,FALSE),0)","v":0},{"$f":"IFERROR(VLOOKUP($A170,Filtro!$A$5:$AY$629,44,FALSE),0)","v":0},{"$f":"IFERROR(VLOOKUP($A170,Filtro!$A$5:$AY$629,45,FALSE),0)","v":1},{"$f":"IFERROR(VLOOKUP($A170,Filtro!$A$5:$AY$629,46,FALSE),0)","v":1},"",{"$nulls":35},{"$f":"IF(DF170=1,\"* No olvide escribir en las celdas de \"\"Pueblos Originarios\"\" (Digite Cero si no tiene).\",\"\")","v":""},{"$f":"IF(DG170=1,\"* No olvide escribir en las celdas de \"\"Población Migrante\"\" (Digite Cero si no tiene).\",\"\")","v":""},{"$f":"IF(DH170=1,\"* La suma de las celdas de \"\"Pueblos Originarios\"\"no debe superar el Total.\",\"\")","v":""},{"$f":"IF(DI170=1,\"* La suma de las celdas de \"\"Población Migrante\"\" no debe superar el Total.\",\"\")","v":""},{"$nulls":21},{"$f":"IF(AND($D170<>0,OR(AS170=\"\",AT170=\"\")),1,0)","v":0},{"$f":"IF(AND($D170<>0,OR(AU170=\"\",AV170=\"\")),1,0)","v":0},{"$f":"IF((AS170+AT170)>$D170,1,0)","v":0},{"$f":"IF((AV170+AU170)>$D170,1,0)","v":0}]
["P2501700","Hospitalización Domiciliaria  ",null,32,18,14,{"$f":"IFERROR(VLOOKUP($A171,Filtro!$A$5:$AY$629,5,FALSE),0)","v":0},{"$f":"IFERROR(VLOOKUP($A171,Filtro!$A$5:$AY$629,6,FALSE),0)","v":0},{"$f":"IFERROR(VLOOKUP($A171,Filtro!$A$5:$AY$629,7,FALSE),0)","v":0},{"$f":"IFERROR(VLOOKUP($A171,Filtro!$A$5:$AY$629,8,FALSE),0)","v":0},{"$f":"IFERROR(VLOOKUP($A171,Filtro!$A$5:$AY$629,9,FALSE),0)","v":0},{"$f":"IFERROR(VLOOKUP($A171,Filtro!$A$5:$AY$629,10,FALSE),0)","v":0},{"$f":"IFERROR(VLOOKUP($A171,Filtro!$A$5:$AY$629,11,FALSE),0)","v":0},{"$f":"IFERROR(VLOOKUP($A171,Filtro!$A$5:$AY$629,12,FALSE),0)","v":0},{"$f":"IFERROR(VLOOKUP($A171,Filtro!$A$5:$AY$629,13,FALSE),0)","v":1},{"$f":"IFERROR(VLOOKUP($A171,Filtro!$A$5:$AY$629,14,FALSE),0)","v":0},{"$f":"IFERROR(VLOOKUP($A171,Filtro!$A$5:$AY$629,15,FALSE),0)","v":0},{"$f":"IFERROR(VLOOKUP($A171,Filtro!$A$5:$AY$629,16,FALSE),0)","v":0},{"$f":"IFERROR(VLOOKUP($A171,Filtro!$A$5:$AY$629,17,FALSE),0)","v":0},{"$f":"IFERROR(VLOOKUP($A171,Filtro!$A$5:$AY$629,18,FALSE),0)","v":0},{"$f":"IFERROR(VLOOKUP($A171,Filtro!$A$5:$AY$629,19,FALSE),0)","v":2},{"$f":"IFERROR(VLOOKUP($A171,Filtro!$A$5:$AY$629,20,FALSE),0)","v":2},{"$f":"IFERROR(VLOOKUP($A171,Filtro!$A$5:$AY$629,21,FALSE),0)","v":2},{"$f":"IFERROR(VLOOKUP($A171,Filtro!$A$5:$AY$629,22,FALSE),0)","v":2},{"$f":"IFERROR(VLOOKUP($A171,Filtro!$A$5:$AY$629,23,FALSE),0)","v":1},{"$f":"IFERROR(VLOOKUP($A171,Filtro!$A$5:$AY$629,24,FALSE),0)","v":0},{"$f":"IFERROR(VLOOKUP($A171,Filtro!$A$5:$AY$629,25,FALSE),0)","v":2},{"$f":"IFERROR(VLOOKUP($A171,Filtro!$A$5:$AY$629,26,FALSE),0)","v":2},{"$f":"IFERROR(VLOOKUP($A171,Filtro!$A$5:$AY$629,27,FALSE),0)","v":2},{"$f":"IFERROR(VLOOKUP($A171,Filtro!$A$5:$AY$629,28,FALSE),0)","v":1},{"$f":"IFERROR(VLOOKUP($A171,Filtro!$A$5:$AY$629,29,FALSE),0)","v":0},{"$f":"IFERROR(VLOOKUP($A171,Filtro!$A$5:$AY$629,30,FALSE),0)","v":0},{"$f":"IFERROR(VLOOKUP($A171,Filtro!$A$5:$AY$629,31,FALSE),0)","v":3},{"$f":"IFERROR(VLOOKUP($A171,Filtro!$A$5:$AY$629,32,FALSE),0)","v":2},{"$f":"IFERROR(VLOOKUP($A171,Filtro!$A$5:$AY$629,33,FALSE),0)","v":3},{"$f":"IFERROR(VLOOKUP($A171,Filtro!$A$5:$AY$629,34,FALSE),0)","v":1},{"$f":"IFERROR(VLOOKUP($A171,Filtro!$A$5:$AY$629,35,FALSE),0)","v":2},{"$f":"IFERROR(VLOOKUP($A171,Filtro!$A$5:$AY$629,36,FALSE),0)","v":4},{"$f":"IFERROR(VLOOKUP($A171,Filtro!$A$5:$AY$629,37,FALSE),0)","v":0},{"$f":"IFERROR(VLOOKUP($A171,Filtro!$A$5:$AY$629,38,FALSE),0)","v":0},{"$f":"IFERROR(VLOOKUP($A171,Filtro!$A$5:$AY$629,39,FALSE),0)","v":0},{"$f":"IFERROR(VLOOKUP($A171,Filtro!$A$5:$AY$629,40,FALSE),0)","v":0},{"$f":"IFERROR(VLOOKUP($A171,Filtro!$A$5:$AY$629,41,FALSE),0)","v":0},{"$f":"IFERROR(VLOOKUP($A171,Filtro!$A$5:$AY$629,42,FALSE),0)","v":0},{"$f":"IFERROR(VLOOKUP($A171,Filtro!$A$5:$AY$629,43,FALSE),0)","v":0},{"$f":"IFERROR(VLOOKUP($A171,Filtro!$A$5:$AY$629,44,FALSE),0)","v":0},{"$f":"IFERROR(VLOOKUP($A171,Filtro!$A$5:$AY$629,45,FALSE),0)","v":0},{"$f":"IFERROR(VLOOKUP($A171,Filtro!$A$5:$AY$629,46,FALSE),0)","v":0},""]
["P2501844","Oxigenoterapia Ambulatoria ","Oxigenoterapia Ambulatoria ",1,1,0,{"$f":"IFERROR(VLOOKUP($A172,Filtro!$A$5:$AY$629,5,FALSE),0)","v":1},{"$f":"IFERROR(VLOOKUP($A172,Filtro!$A$5:$AY$629,6,FALSE),0)","v":0},{"$f":"IFERROR(VLOOKUP($A172,Filtro!$A$5:$AY$629,7,FALSE),0)","v":0},{"$f":"IFERROR(VLOOKUP($A172,Filtro!$A$5:$AY$629,8,FALSE),0)","v":0},{"$f":"IFERROR(VLOOKUP($A172,Filtro!$A$5:$AY$629,9,FALSE),0)","v":0},{"$f":"IFERROR(VLOOKUP($A172,Filtro!$A$5:$AY$629,10,FALSE),0)","v":0},{"$f":"IFERROR(VLOOKUP($A172,Filtro!$A$5:$AY$629,11,FALSE),0)","v":0},{"$f":"IFERROR(VLOOKUP($A172,Filtro!$A$5:$AY$629,12,FALSE),0)","v":0},{"$f":"IFERROR(VLOOKUP($A172,Filtro!$A$5:$AY$629,13,FALSE),0)","v":0},{"$f":"IFERROR(VLOOKUP($A172,Filtro!$A$5:$AY$629,14,FALSE),0)","v":0},{"$f":"IFERROR(VLOOKUP($A172,Filtro!$A$5:$AY$629,15,FALSE),0)","v":0},{"$f":"IFERROR(VLOOKUP($A172,Filtro!$A$5:$AY$629,16,FALSE),0)","v":0},{"$f":"IFERROR(VLOOKUP($A172,Filtro!$A$5:$AY$629,17,FALSE),0)","v":0},{"$f":"IFERROR(VLOOKUP($A172,Filtro!$A$5:$AY$629,18,FALSE),0)","v":0},{"$f":"IFERROR(VLOOKUP($A172,Filtro!$A$5:$AY$629,19,FALSE),0)","v":0},{"$f":"IFERROR(VLOOKUP($A172,Filtro!$A$5:$AY$629,20,FALSE),0)","v":0},{"$f":"IFERROR(VLOOKUP($A172,Filtro!$A$5:$AY$629,21,FALSE),0)","v":0},{"$f":"IFERROR(VLOOKUP($A172,Filtro!$A$5:$AY$629,22,FALSE),0)","v":0},{"$f":"IFERROR(VLOOKUP($A172,Filtro!$A$5:$AY$629,23,FALSE),0)","v":0},{"$f":"IFERROR(VLOOKUP($A172,Filtro!$A$5:$AY$629,24,FALSE),0)","v":0},{"$f":"IFERROR(VLOOKUP($A172,Filtro!$A$5:$AY$629,25,FALSE),0)","v":0},{"$f":"IFERROR(VLOOKUP($A172,Filtro!$A$5:$AY$629,26,FALSE),0)","v":0},{"$f":"IFERROR(VLOOKUP($A172,Filtro!$A$5:$AY$629,27,FALSE),0)","v":0},{"$f":"IFERROR(VLOOKUP($A172,Filtro!$A$5:$AY$629,28,FALSE),0)","v":0},{"$f":"IFERROR(VLOOKUP($A172,Filtro!$A$5:$AY$629,29,FALSE),0)","v":0},{"$f":"IFERROR(VLOOKUP($A172,Filtro!$A$5:$AY$629,30,FALSE),0)","v":0},{"$f":"IFERROR(VLOOKUP($A172,Filtro!$A$5:$AY$629,31,FALSE),0)","v":0},{"$f":"IFERROR(VLOOKUP($A172,Filtro!$A$5:$AY$629,32,FALSE),0)","v":0},{"$f":"IFERROR(VLOOKUP($A172,Filtro!$A$5:$AY$629,33,FALSE),0)","v":0},{"$f":"IFERROR(VLOOKUP($A172,Filtro!$A$5:$AY$629,34,FALSE),0)","v":0},{"$f":"IFERROR(VLOOKUP($A172,Filtro!$A$5:$AY$629,35,FALSE),0)","v":0},{"$f":"IFERROR(VLOOKUP($A172,Filtro!$A$5:$AY$629,36,FALSE),0)","v":0},{"$f":"IFERROR(VLOOKUP($A172,Filtro!$A$5:$AY$629,37,FALSE),0)","v":0},{"$f":"IFERROR(VLOOKUP($A172,Filtro!$A$5:$AY$629,38,FALSE),0)","v":0},{"$f":"IFERROR(VLOOKUP($A172,Filtro!$A$5:$AY$629,39,FALSE),0)","v":0},{"$f":"IFERROR(VLOOKUP($A172,Filtro!$A$5:$AY$629,40,FALSE),0)","v":0},{"$f":"IFERROR(VLOOKUP($A172,Filtro!$A$5:$AY$629,41,FALSE),0)","v":0},{"$f":"IFERROR(VLOOKUP($A172,Filtro!$A$5:$AY$629,42,FALSE),0)","v":0},{"$f":"IFERROR(VLOOKUP($A172,Filtro!$A$5:$AY$629,43,FALSE),0)","v":0},{"$f":"IFERROR(VLOOKUP($A172,Filtro!$A$5:$AY$629,44,FALSE),0)","v":0},{"$f":"IFERROR(VLOOKUP($A172,Filtro!$A$5:$AY$629,45,FALSE),0)","v":0},{"$f":"IFERROR(VLOOKUP($A172,Filtro!$A$5:$AY$629,46,FALSE),0)","v":0},""]
["P2501845","Asistencia ventilatoria Invasiva y No invasiva ","Asistencia ventilatoria Invasiva y No invasiva ",0,0,0,{"$f":"IFERROR(VLOOKUP($A173,Filtro!$A$5:$AY$629,5,FALSE),0)","v":0},{"$f":"IFERROR(VLOOKUP($A173,Filtro!$A$5:$AY$629,6,FALSE),0)","v":0},{"$f":"IFERROR(VLOOKUP($A173,Filtro!$A$5:$AY$629,7,FALSE),0)","v":0},{"$f":"IFERROR(VLOOKUP($A173,Filtro!$A$5:$AY$629,8,FALSE),0)","v":0},{"$f":"IFERROR(VLOOKUP($A173,Filtro!$A$5:$AY$629,9,FALSE),0)","v":0},{"$f":"IFERROR(VLOOKUP($A173,Filtro!$A$5:$AY$629,10,FALSE),0)","v":0},{"$f":"IFERROR(VLOOKUP($A173,Filtro!$A$5:$AY$629,11,FALSE),0)","v":0},{"$f":"IFERROR(VLOOKUP($A173,Filtro!$A$5:$AY$629,12,FALSE),0)","v":0},{"$f":"IFERROR(VLOOKUP($A173,Filtro!$A$5:$AY$629,13,FALSE),0)","v":0},{"$f":"IFERROR(VLOOKUP($A173,Filtro!$A$5:$AY$629,14,FALSE),0)","v":0},{"$f":"IFERROR(VLOOKUP($A173,Filtro!$A$5:$AY$629,15,FALSE),0)","v":0},{"$f":"IFERROR(VLOOKUP($A173,Filtro!$A$5:$AY$629,16,FALSE),0)","v":0},{"$f":"IFERROR(VLOOKUP($A173,Filtro!$A$5:$AY$629,17,FALSE),0)","v":0},{"$f":"IFERROR(VLOOKUP($A173,Filtro!$A$5:$AY$629,18,FALSE),0)","v":0},{"$f":"IFERROR(VLOOKUP($A173,Filtro!$A$5:$AY$629,19,FALSE),0)","v":0},{"$f":"IFERROR(VLOOKUP($A173,Filtro!$A$5:$AY$629,20,FALSE),0)","v":0},{"$f":"IFERROR(VLOOKUP($A173,Filtro!$A$5:$AY$629,21,FALSE),0)","v":0},{"$f":"IFERROR(VLOOKUP($A173,Filtro!$A$5:$AY$629,22,FALSE),0)","v":0},{"$f":"IFERROR(VLOOKUP($A173,Filtro!$A$5:$AY$629,23,FALSE),0)","v":0},{"$f":"IFERROR(VLOOKUP($A173,Filtro!$A$5:$AY$629,24,FALSE),0)","v":0},{"$f":"IFERROR(VLOOKUP($A173,Filtro!$A$5:$AY$629,25,FALSE),0)","v":0},{"$f":"IFERROR(VLOOKUP($A173,Filtro!$A$5:$AY$629,26,FALSE),0)","v":0},{"$f":"IFERROR(VLOOKUP($A173,Filtro!$A$5:$AY$629,27,FALSE),0)","v":0},{"$f":"IFERROR(VLOOKUP($A173,Filtro!$A$5:$AY$629,28,FALSE),0)","v":0},{"$f":"IFERROR(VLOOKUP($A173,Filtro!$A$5:$AY$629,29,FALSE),0)","v":0},{"$f":"IFERROR(VLOOKUP($A173,Filtro!$A$5:$AY$629,30,FALSE),0)","v":0},{"$f":"IFERROR(VLOOKUP($A173,Filtro!$A$5:$AY$629,31,FALSE),0)","v":0},{"$f":"IFERROR(VLOOKUP($A173,Filtro!$A$5:$AY$629,32,FALSE),0)","v":0},{"$f":"IFERROR(VLOOKUP($A173,Filtro!$A$5:$AY$629,33,FALSE),0)","v":0},{"$f":"IFERROR(VLOOKUP($A173,Filtro!$A$5:$AY$629,34,FALSE),0)","v":0},{"$f":"IFERROR(VLOOKUP($A173,Filtro!$A$5:$AY$629,35,FALSE),0)","v":0},{"$f":"IFERROR(VLOOKUP($A173,Filtro!$A$5:$AY$629,36,FALSE),0)","v":0},{"$f":"IFERROR(VLOOKUP($A173,Filtro!$A$5:$AY$629,37,FALSE),0)","v":0},{"$f":"IFERROR(VLOOKUP($A173,Filtro!$A$5:$AY$629,38,FALSE),0)","v":0},{"$f":"IFERROR(VLOOKUP($A173,Filtro!$A$5:$AY$629,39,FALSE),0)","v":0},{"$f":"IFERROR(VLOOKUP($A173,Filtro!$A$5:$AY$629,40,FALSE),0)","v":0},{"$f":"IFERROR(VLOOKUP($A173,Filtro!$A$5:$AY$629,41,FALSE),0)","v":0},{"$f":"IFERROR(VLOOKUP($A173,Filtro!$A$5:$AY$629,42,FALSE),0)","v":0},{"$f":"IFERROR(VLOOKUP($A173,Filtro!$A$5:$AY$629,43,FALSE),0)","v":0},{"$f":"IFERROR(VLOOKUP($A173,Filtro!$A$5:$AY$629,44,FALSE),0)","v":0},{"$f":"IFERROR(VLOOKUP($A173,Filtro!$A$5:$AY$629,45,FALSE),0)","v":0},{"$f":"IFERROR(VLOOKUP($A173,Filtro!$A$5:$AY$629,46,FALSE),0)","v":0},""]
["P2501846","Errores Innatos del Metabolismo",null,4,1,3,{"$f":"IFERROR(VLOOKUP($A174,Filtro!$A$5:$AY$629,5,FALSE),0)","v":0},{"$f":"IFERROR(VLOOKUP($A174,Filtro!$A$5:$AY$629,6,FALSE),0)","v":0},{"$f":"IFERROR(VLOOKUP($A174,Filtro!$A$5:$AY$629,7,FALSE),0)","v":0},{"$f":"IFERROR(VLOOKUP($A174,Filtro!$A$5:$AY$629,8,FALSE),0)","v":0},{"$f":"IFERROR(VLOOKUP($A174,Filtro!$A$5:$AY$629,9,FALSE),0)","v":0},{"$f":"IFERROR(VLOOKUP($A174,Filtro!$A$5:$AY$629,10,FALSE),0)","v":0},{"$f":"IFERROR(VLOOKUP($A174,Filtro!$A$5:$AY$629,11,FALSE),0)","v":0},{"$f":"IFERROR(VLOOKUP($A174,Filtro!$A$5:$AY$629,12,FALSE),0)","v":0},{"$f":"IFERROR(VLOOKUP($A174,Filtro!$A$5:$AY$629,13,FALSE),0)","v":0},{"$f":"IFERROR(VLOOKUP($A174,Filtro!$A$5:$AY$629,14,FALSE),0)","v":0},{"$f":"IFERROR(VLOOKUP($A174,Filtro!$A$5:$AY$629,15,FALSE),0)","v":0},{"$f":"IFERROR(VLOOKUP($A174,Filtro!$A$5:$AY$629,16,FALSE),0)","v":1},{"$f":"IFERROR(VLOOKUP($A174,Filtro!$A$5:$AY$629,17,FALSE),0)","v":0},{"$f":"IFERROR(VLOOKUP($A174,Filtro!$A$5:$AY$629,18,FALSE),0)","v":0},{"$f":"IFERROR(VLOOKUP($A174,Filtro!$A$5:$AY$629,19,FALSE),0)","v":0},{"$f":"IFERROR(VLOOKUP($A174,Filtro!$A$5:$AY$629,20,FALSE),0)","v":0},{"$f":"IFERROR(VLOOKUP($A174,Filtro!$A$5:$AY$629,21,FALSE),0)","v":0},{"$f":"IFERROR(VLOOKUP($A174,Filtro!$A$5:$AY$629,22,FALSE),0)","v":0},{"$f":"IFERROR(VLOOKUP($A174,Filtro!$A$5:$AY$629,23,FALSE),0)","v":0},{"$f":"IFERROR(VLOOKUP($A174,Filtro!$A$5:$AY$629,24,FALSE),0)","v":0},{"$f":"IFERROR(VLOOKUP($A174,Filtro!$A$5:$AY$629,25,FALSE),0)","v":0},{"$f":"IFERROR(VLOOKUP($A174,Filtro!$A$5:$AY$629,26,FALSE),0)","v":0},{"$f":"IFERROR(VLOOKUP($A174,Filtro!$A$5:$AY$629,27,FALSE),0)","v":0},{"$f":"IFERROR(VLOOKUP($A174,Filtro!$A$5:$AY$629,28,FALSE),0)","v":1},{"$f":"IFERROR(VLOOKUP($A174,Filtro!$A$5:$AY$629,29,FALSE),0)","v":0},{"$f":"IFERROR(VLOOKUP($A174,Filtro!$A$5:$AY$629,30,FALSE),0)","v":0},{"$f":"IFERROR(VLOOKUP($A174,Filtro!$A$5:$AY$629,31,FALSE),0)","v":1},{"$f":"IFERROR(VLOOKUP($A174,Filtro!$A$5:$AY$629,32,FALSE),0)","v":1},{"$f":"IFERROR(VLOOKUP($A174,Filtro!$A$5:$AY$629,33,FALSE),0)","v":0},{"$f":"IFERROR(VLOOKUP($A174,Filtro!$A$5:$AY$629,34,FALSE),0)","v":0},{"$f":"IFERROR(VLOOKUP($A174,Filtro!$A$5:$AY$629,35,FALSE),0)","v":0},{"$f":"IFERROR(VLOOKUP($A174,Filtro!$A$5:$AY$629,36,FALSE),0)","v":0},{"$f":"IFERROR(VLOOKUP($A174,Filtro!$A$5:$AY$629,37,FALSE),0)","v":0},{"$f":"IFERROR(VLOOKUP($A174,Filtro!$A$5:$AY$629,38,FALSE),0)","v":0},{"$f":"IFERROR(VLOOKUP($A174,Filtro!$A$5:$AY$629,39,FALSE),0)","v":0},{"$f":"IFERROR(VLOOKUP($A174,Filtro!$A$5:$AY$629,40,FALSE),0)","v":0},{"$f":"IFERROR(VLOOKUP($A174,Filtro!$A$5:$AY$629,41,FALSE),0)","v":0},{"$f":"IFERROR(VLOOKUP($A174,Filtro!$A$5:$AY$629,42,FALSE),0)","v":0},{"$f":"IFERROR(VLOOKUP($A174,Filtro!$A$5:$AY$629,43,FALSE),0)","v":0},{"$f":"IFERROR(VLOOKUP($A174,Filtro!$A$5:$AY$629,44,FALSE),0)","v":0},{"$f":"IFERROR(VLOOKUP($A174,Filtro!$A$5:$AY$629,45,FALSE),0)","v":0},{"$f":"IFERROR(VLOOKUP($A174,Filtro!$A$5:$AY$629,46,FALSE),0)","v":0},"",{"$nulls":35},{"$f":"IF(DF174=1,\"* No olvide escribir en las celdas de \"\"Pueblos Originarios\"\" (Digite Cero si no tiene).\",\"\")","v":""},{"$f":"IF(DG174=1,\"* No olvide escribir en las celdas de \"\"Población Migrante\"\" (Digite Cero si no tiene).\",\"\")","v":""},{"$f":"IF(DH174=1,\"* La suma de las celdas de \"\"Pueblos Originarios\"\"no debe superar el Total.\",\"\")","v":""},{"$f":"IF(DI174=1,\"* La suma de las celdas de \"\"Población Migrante\"\" no debe superar el Total.\",\"\")","v":""},{"$nulls":21},{"$f":"IF(AND($D174<>0,OR(AS174=\"\",AT174=\"\")),1,0)","v":0},{"$f":"IF(AND($D174<>0,OR(AU174=\"\",AV174=\"\")),1,0)","v":0},{"$f":"IF((AS174+AT174)>$D174,1,0)","v":0},{"$f":"IF((AV174+AU174)>$D174,1,0)","v":0}]
["P2501847","Asma","Asma",946,501,445,{"$f":"IFERROR(VLOOKUP($A175,Filtro!$A$5:$AY$629,5,FALSE),0)","v":0},{"$f":"IFERROR(VLOOKUP($A175,Filtro!$A$5:$AY$629,6,FALSE),0)","v":0},{"$f":"IFERROR(VLOOKUP($A175,Filtro!$A$5:$AY$629,7,FALSE),0)","v":0},{"$f":"IFERROR(VLOOKUP($A175,Filtro!$A$5:$AY$629,8,FALSE),0)","v":0},{"$f":"IFERROR(VLOOKUP($A175,Filtro!$A$5:$AY$629,9,FALSE),0)","v":0},{"$f":"IFERROR(VLOOKUP($A175,Filtro!$A$5:$AY$629,10,FALSE),0)","v":0},{"$f":"IFERROR(VLOOKUP($A175,Filtro!$A$5:$AY$629,11,FALSE),0)","v":0},{"$f":"IFERROR(VLOOKUP($A175,Filtro!$A$5:$AY$629,12,FALSE),0)","v":0},{"$f":"IFERROR(VLOOKUP($A175,Filtro!$A$5:$AY$629,13,FALSE),0)","v":0},{"$f":"IFERROR(VLOOKUP($A175,Filtro!$A$5:$AY$629,14,FALSE),0)","v":0},{"$f":"IFERROR(VLOOKUP($A175,Filtro!$A$5:$AY$629,15,FALSE),0)","v":0},{"$f":"IFERROR(VLOOKUP($A175,Filtro!$A$5:$AY$629,16,FALSE),0)","v":0},{"$f":"IFERROR(VLOOKUP($A175,Filtro!$A$5:$AY$629,17,FALSE),0)","v":0},{"$f":"IFERROR(VLOOKUP($A175,Filtro!$A$5:$AY$629,18,FALSE),0)","v":0},{"$f":"IFERROR(VLOOKUP($A175,Filtro!$A$5:$AY$629,19,FALSE),0)","v":1},{"$f":"IFERROR(VLOOKUP($A175,Filtro!$A$5:$AY$629,20,FALSE),0)","v":1},{"$f":"IFERROR(VLOOKUP($A175,Filtro!$A$5:$AY$629,21,FALSE),0)","v":4},{"$f":"IFERROR(VLOOKUP($A175,Filtro!$A$5:$AY$629,22,FALSE),0)","v":3},{"$f":"IFERROR(VLOOKUP($A175,Filtro!$A$5:$AY$629,23,FALSE),0)","v":7},{"$f":"IFERROR(VLOOKUP($A175,Filtro!$A$5:$AY$629,24,FALSE),0)","v":5},{"$f":"IFERROR(VLOOKUP($A175,Filtro!$A$5:$AY$629,25,FALSE),0)","v":10},{"$f":"IFERROR(VLOOKUP($A175,Filtro!$A$5:$AY$629,26,FALSE),0)","v":10},{"$f":"IFERROR(VLOOKUP($A175,Filtro!$A$5:$AY$629,27,FALSE),0)","v":16},{"$f":"IFERROR(VLOOKUP($A175,Filtro!$A$5:$AY$629,28,FALSE),0)","v":10},{"$f":"IFERROR(VLOOKUP($A175,Filtro!$A$5:$AY$629,29,FALSE),0)","v":6},{"$f":"IFERROR(VLOOKUP($A175,Filtro!$A$5:$AY$629,30,FALSE),0)","v":7},{"$f":"IFERROR(VLOOKUP($A175,Filtro!$A$5:$AY$629,31,FALSE),0)","v":27},{"$f":"IFERROR(VLOOKUP($A175,Filtro!$A$5:$AY$629,32,FALSE),0)","v":32},{"$f":"IFERROR(VLOOKUP($A175,Filtro!$A$5:$AY$629,33,FALSE),0)","v":63},{"$f":"IFERROR(VLOOKUP($A175,Filtro!$A$5:$AY$629,34,FALSE),0)","v":46},{"$f":"IFERROR(VLOOKUP($A175,Filtro!$A$5:$AY$629,35,FALSE),0)","v":78},{"$f":"IFERROR(VLOOKUP($A175,Filtro!$A$5:$AY$629,36,FALSE),0)","v":67},{"$f":"IFERROR(VLOOKUP($A175,Filtro!$A$5:$AY$629,37,FALSE),0)","v":103},{"$f":"IFERROR(VLOOKUP($A175,Filtro!$A$5:$AY$629,38,FALSE),0)","v":98},{"$f":"IFERROR(VLOOKUP($A175,Filtro!$A$5:$AY$629,39,FALSE),0)","v":125},{"$f":"IFERROR(VLOOKUP($A175,Filtro!$A$5:$AY$629,40,FALSE),0)","v":102},{"$f":"IFERROR(VLOOKUP($A175,Filtro!$A$5:$AY$629,41,FALSE),0)","v":61},{"$f":"IFERROR(VLOOKUP($A175,Filtro!$A$5:$AY$629,42,FALSE),0)","v":64},{"$f":"IFERROR(VLOOKUP($A175,Filtro!$A$5:$AY$629,43,FALSE),0)","v":0},{"$f":"IFERROR(VLOOKUP($A175,Filtro!$A$5:$AY$629,44,FALSE),0)","v":0},{"$f":"IFERROR(VLOOKUP($A175,Filtro!$A$5:$AY$629,45,FALSE),0)","v":0},{"$f":"IFERROR(VLOOKUP($A175,Filtro!$A$5:$AY$629,46,FALSE),0)","v":2},""]
["P2501848","Cardiopatía congénita","Cardiopatía congénita",61,34,27,{"$f":"IFERROR(VLOOKUP($A176,Filtro!$A$5:$AY$629,5,FALSE),0)","v":0},{"$f":"IFERROR(VLOOKUP($A176,Filtro!$A$5:$AY$629,6,FALSE),0)","v":0},{"$f":"IFERROR(VLOOKUP($A176,Filtro!$A$5:$AY$629,7,FALSE),0)","v":0},{"$f":"IFERROR(VLOOKUP($A176,Filtro!$A$5:$AY$629,8,FALSE),0)","v":0},{"$f":"IFERROR(VLOOKUP($A176,Filtro!$A$5:$AY$629,9,FALSE),0)","v":1},{"$f":"IFERROR(VLOOKUP($A176,Filtro!$A$5:$AY$629,10,FALSE),0)","v":1},{"$f":"IFERROR(VLOOKUP($A176,Filtro!$A$5:$AY$629,11,FALSE),0)","v":1},{"$f":"IFERROR(VLOOKUP($A176,Filtro!$A$5:$AY$629,12,FALSE),0)","v":0},{"$f":"IFERROR(VLOOKUP($A176,Filtro!$A$5:$AY$629,13,FALSE),0)","v":0},{"$f":"IFERROR(VLOOKUP($A176,Filtro!$A$5:$AY$629,14,FALSE),0)","v":0},{"$f":"IFERROR(VLOOKUP($A176,Filtro!$A$5:$AY$629,15,FALSE),0)","v":0},{"$f":"IFERROR(VLOOKUP($A176,Filtro!$A$5:$AY$629,16,FALSE),0)","v":1},{"$f":"IFERROR(VLOOKUP($A176,Filtro!$A$5:$AY$629,17,FALSE),0)","v":3},{"$f":"IFERROR(VLOOKUP($A176,Filtro!$A$5:$AY$629,18,FALSE),0)","v":0},{"$f":"IFERROR(VLOOKUP($A176,Filtro!$A$5:$AY$629,19,FALSE),0)","v":4},{"$f":"IFERROR(VLOOKUP($A176,Filtro!$A$5:$AY$629,20,FALSE),0)","v":2},{"$f":"IFERROR(VLOOKUP($A176,Filtro!$A$5:$AY$629,21,FALSE),0)","v":6},{"$f":"IFERROR(VLOOKUP($A176,Filtro!$A$5:$AY$629,22,FALSE),0)","v":4},{"$f":"IFERROR(VLOOKUP($A176,Filtro!$A$5:$AY$629,23,FALSE),0)","v":2},{"$f":"IFERROR(VLOOKUP($A176,Filtro!$A$5:$AY$629,24,FALSE),0)","v":2},{"$f":"IFERROR(VLOOKUP($A176,Filtro!$A$5:$AY$629,25,FALSE),0)","v":5},{"$f":"IFERROR(VLOOKUP($A176,Filtro!$A$5:$AY$629,26,FALSE),0)","v":4},{"$f":"IFERROR(VLOOKUP($A176,Filtro!$A$5:$AY$629,27,FALSE),0)","v":2},{"$f":"IFERROR(VLOOKUP($A176,Filtro!$A$5:$AY$629,28,FALSE),0)","v":3},{"$f":"IFERROR(VLOOKUP($A176,Filtro!$A$5:$AY$629,29,FALSE),0)","v":0},{"$f":"IFERROR(VLOOKUP($A176,Filtro!$A$5:$AY$629,30,FALSE),0)","v":0},{"$f":"IFERROR(VLOOKUP($A176,Filtro!$A$5:$AY$629,31,FALSE),0)","v":2},{"$f":"IFERROR(VLOOKUP($A176,Filtro!$A$5:$AY$629,32,FALSE),0)","v":4},{"$f":"IFERROR(VLOOKUP($A176,Filtro!$A$5:$AY$629,33,FALSE),0)","v":3},{"$f":"IFERROR(VLOOKUP($A176,Filtro!$A$5:$AY$629,34,FALSE),0)","v":3},{"$f":"IFERROR(VLOOKUP($A176,Filtro!$A$5:$AY$629,35,FALSE),0)","v":4},{"$f":"IFERROR(VLOOKUP($A176,Filtro!$A$5:$AY$629,36,FALSE),0)","v":0},{"$f":"IFERROR(VLOOKUP($A176,Filtro!$A$5:$AY$629,37,FALSE),0)","v":1},{"$f":"IFERROR(VLOOKUP($A176,Filtro!$A$5:$AY$629,38,FALSE),0)","v":2},{"$f":"IFERROR(VLOOKUP($A176,Filtro!$A$5:$AY$629,39,FALSE),0)","v":0},{"$f":"IFERROR(VLOOKUP($A176,Filtro!$A$5:$AY$629,40,FALSE),0)","v":1},{"$f":"IFERROR(VLOOKUP($A176,Filtro!$A$5:$AY$629,41,FALSE),0)","v":0},{"$f":"IFERROR(VLOOKUP($A176,Filtro!$A$5:$AY$629,42,FALSE),0)","v":0},{"$f":"IFERROR(VLOOKUP($A176,Filtro!$A$5:$AY$629,43,FALSE),0)","v":0},{"$f":"IFERROR(VLOOKUP($A176,Filtro!$A$5:$AY$629,44,FALSE),0)","v":0},{"$f":"IFERROR(VLOOKUP($A176,Filtro!$A$5:$AY$629,45,FALSE),0)","v":0},{"$f":"IFERROR(VLOOKUP($A176,Filtro!$A$5:$AY$629,46,FALSE),0)","v":0},""]
["P2501849","Enfermedad celiaca ","Enfermedad celiaca ",0,0,0,{"$f":"IFERROR(VLOOKUP($A177,Filtro!$A$5:$AY$629,5,FALSE),0)","v":0},{"$f":"IFERROR(VLOOKUP($A177,Filtro!$A$5:$AY$629,6,FALSE),0)","v":0},{"$f":"IFERROR(VLOOKUP($A177,Filtro!$A$5:$AY$629,7,FALSE),0)","v":0},{"$f":"IFERROR(VLOOKUP($A177,Filtro!$A$5:$AY$629,8,FALSE),0)","v":0},{"$f":"IFERROR(VLOOKUP($A177,Filtro!$A$5:$AY$629,9,FALSE),0)","v":0},{"$f":"IFERROR(VLOOKUP($A177,Filtro!$A$5:$AY$629,10,FALSE),0)","v":0},{"$f":"IFERROR(VLOOKUP($A177,Filtro!$A$5:$AY$629,11,FALSE),0)","v":0},{"$f":"IFERROR(VLOOKUP($A177,Filtro!$A$5:$AY$629,12,FALSE),0)","v":0},{"$f":"IFERROR(VLOOKUP($A177,Filtro!$A$5:$AY$629,13,FALSE),0)","v":0},{"$f":"IFERROR(VLOOKUP($A177,Filtro!$A$5:$AY$629,14,FALSE),0)","v":0},{"$f":"IFERROR(VLOOKUP($A177,Filtro!$A$5:$AY$629,15,FALSE),0)","v":0},{"$f":"IFERROR(VLOOKUP($A177,Filtro!$A$5:$AY$629,16,FALSE),0)","v":0},{"$f":"IFERROR(VLOOKUP($A177,Filtro!$A$5:$AY$629,17,FALSE),0)","v":0},{"$f":"IFERROR(VLOOKUP($A177,Filtro!$A$5:$AY$629,18,FALSE),0)","v":0},{"$f":"IFERROR(VLOOKUP($A177,Filtro!$A$5:$AY$629,19,FALSE),0)","v":0},{"$f":"IFERROR(VLOOKUP($A177,Filtro!$A$5:$AY$629,20,FALSE),0)","v":0},{"$f":"IFERROR(VLOOKUP($A177,Filtro!$A$5:$AY$629,21,FALSE),0)","v":0},{"$f":"IFERROR(VLOOKUP($A177,Filtro!$A$5:$AY$629,22,FALSE),0)","v":0},{"$f":"IFERROR(VLOOKUP($A177,Filtro!$A$5:$AY$629,23,FALSE),0)","v":0},{"$f":"IFERROR(VLOOKUP($A177,Filtro!$A$5:$AY$629,24,FALSE),0)","v":0},{"$f":"IFERROR(VLOOKUP($A177,Filtro!$A$5:$AY$629,25,FALSE),0)","v":0},{"$f":"IFERROR(VLOOKUP($A177,Filtro!$A$5:$AY$629,26,FALSE),0)","v":0},{"$f":"IFERROR(VLOOKUP($A177,Filtro!$A$5:$AY$629,27,FALSE),0)","v":0},{"$f":"IFERROR(VLOOKUP($A177,Filtro!$A$5:$AY$629,28,FALSE),0)","v":0},{"$f":"IFERROR(VLOOKUP($A177,Filtro!$A$5:$AY$629,29,FALSE),0)","v":0},{"$f":"IFERROR(VLOOKUP($A177,Filtro!$A$5:$AY$629,30,FALSE),0)","v":0},{"$f":"IFERROR(VLOOKUP($A177,Filtro!$A$5:$AY$629,31,FALSE),0)","v":0},{"$f":"IFERROR(VLOOKUP($A177,Filtro!$A$5:$AY$629,32,FALSE),0)","v":0},{"$f":"IFERROR(VLOOKUP($A177,Filtro!$A$5:$AY$629,33,FALSE),0)","v":0},{"$f":"IFERROR(VLOOKUP($A177,Filtro!$A$5:$AY$629,34,FALSE),0)","v":0},{"$f":"IFERROR(VLOOKUP($A177,Filtro!$A$5:$AY$629,35,FALSE),0)","v":0},{"$f":"IFERROR(VLOOKUP($A177,Filtro!$A$5:$AY$629,36,FALSE),0)","v":0},{"$f":"IFERROR(VLOOKUP($A177,Filtro!$A$5:$AY$629,37,FALSE),0)","v":0},{"$f":"IFERROR(VLOOKUP($A177,Filtro!$A$5:$AY$629,38,FALSE),0)","v":0},{"$f":"IFERROR(VLOOKUP($A177,Filtro!$A$5:$AY$629,39,FALSE),0)","v":0},{"$f":"IFERROR(VLOOKUP($A177,Filtro!$A$5:$AY$629,40,FALSE),0)","v":0},{"$f":"IFERROR(VLOOKUP($A177,Filtro!$A$5:$AY$629,41,FALSE),0)","v":0},{"$f":"IFERROR(VLOOKUP($A177,Filtro!$A$5:$AY$629,42,FALSE),0)","v":0},{"$f":"IFERROR(VLOOKUP($A177,Filtro!$A$5:$AY$629,43,FALSE),0)","v":0},{"$f":"IFERROR(VLOOKUP($A177,Filtro!$A$5:$AY$629,44,FALSE),0)","v":0},{"$f":"IFERROR(VLOOKUP($A177,Filtro!$A$5:$AY$629,45,FALSE),0)","v":0},{"$f":"IFERROR(VLOOKUP($A177,Filtro!$A$5:$AY$629,46,FALSE),0)","v":0},""]
["P2501850","Estrabismo ","Estrabismo ",21,12,9,{"$f":"IFERROR(VLOOKUP($A178,Filtro!$A$5:$AY$629,5,FALSE),0)","v":0},{"$f":"IFERROR(VLOOKUP($A178,Filtro!$A$5:$AY$629,6,FALSE),0)","v":0},{"$f":"IFERROR(VLOOKUP($A178,Filtro!$A$5:$AY$629,7,FALSE),0)","v":0},{"$f":"IFERROR(VLOOKUP($A178,Filtro!$A$5:$AY$629,8,FALSE),0)","v":0},{"$f":"IFERROR(VLOOKUP($A178,Filtro!$A$5:$AY$629,9,FALSE),0)","v":0},{"$f":"IFERROR(VLOOKUP($A178,Filtro!$A$5:$AY$629,10,FALSE),0)","v":0},{"$f":"IFERROR(VLOOKUP($A178,Filtro!$A$5:$AY$629,11,FALSE),0)","v":0},{"$f":"IFERROR(VLOOKUP($A178,Filtro!$A$5:$AY$629,12,FALSE),0)","v":0},{"$f":"IFERROR(VLOOKUP($A178,Filtro!$A$5:$AY$629,13,FALSE),0)","v":0},{"$f":"IFERROR(VLOOKUP($A178,Filtro!$A$5:$AY$629,14,FALSE),0)","v":0},{"$f":"IFERROR(VLOOKUP($A178,Filtro!$A$5:$AY$629,15,FALSE),0)","v":1},{"$f":"IFERROR(VLOOKUP($A178,Filtro!$A$5:$AY$629,16,FALSE),0)","v":0},{"$f":"IFERROR(VLOOKUP($A178,Filtro!$A$5:$AY$629,17,FALSE),0)","v":1},{"$f":"IFERROR(VLOOKUP($A178,Filtro!$A$5:$AY$629,18,FALSE),0)","v":0},{"$f":"IFERROR(VLOOKUP($A178,Filtro!$A$5:$AY$629,19,FALSE),0)","v":0},{"$f":"IFERROR(VLOOKUP($A178,Filtro!$A$5:$AY$629,20,FALSE),0)","v":0},{"$f":"IFERROR(VLOOKUP($A178,Filtro!$A$5:$AY$629,21,FALSE),0)","v":1},{"$f":"IFERROR(VLOOKUP($A178,Filtro!$A$5:$AY$629,22,FALSE),0)","v":0},{"$f":"IFERROR(VLOOKUP($A178,Filtro!$A$5:$AY$629,23,FALSE),0)","v":0},{"$f":"IFERROR(VLOOKUP($A178,Filtro!$A$5:$AY$629,24,FALSE),0)","v":1},{"$f":"IFERROR(VLOOKUP($A178,Filtro!$A$5:$AY$629,25,FALSE),0)","v":0},{"$f":"IFERROR(VLOOKUP($A178,Filtro!$A$5:$AY$629,26,FALSE),0)","v":0},{"$f":"IFERROR(VLOOKUP($A178,Filtro!$A$5:$AY$629,27,FALSE),0)","v":0},{"$f":"IFERROR(VLOOKUP($A178,Filtro!$A$5:$AY$629,28,FALSE),0)","v":0},{"$f":"IFERROR(VLOOKUP($A178,Filtro!$A$5:$AY$629,29,FALSE),0)","v":0},{"$f":"IFERROR(VLOOKUP($A178,Filtro!$A$5:$AY$629,30,FALSE),0)","v":0},{"$f":"IFERROR(VLOOKUP($A178,Filtro!$A$5:$AY$629,31,FALSE),0)","v":1},{"$f":"IFERROR(VLOOKUP($A178,Filtro!$A$5:$AY$629,32,FALSE),0)","v":2},{"$f":"IFERROR(VLOOKUP($A178,Filtro!$A$5:$AY$629,33,FALSE),0)","v":1},{"$f":"IFERROR(VLOOKUP($A178,Filtro!$A$5:$AY$629,34,FALSE),0)","v":2},{"$f":"IFERROR(VLOOKUP($A178,Filtro!$A$5:$AY$629,35,FALSE),0)","v":4},{"$f":"IFERROR(VLOOKUP($A178,Filtro!$A$5:$AY$629,36,FALSE),0)","v":1},{"$f":"IFERROR(VLOOKUP($A178,Filtro!$A$5:$AY$629,37,FALSE),0)","v":1},{"$f":"IFERROR(VLOOKUP($A178,Filtro!$A$5:$AY$629,38,FALSE),0)","v":3},{"$f":"IFERROR(VLOOKUP($A178,Filtro!$A$5:$AY$629,39,FALSE),0)","v":1},{"$f":"IFERROR(VLOOKUP($A178,Filtro!$A$5:$AY$629,40,FALSE),0)","v":0},{"$f":"IFERROR(VLOOKUP($A178,Filtro!$A$5:$AY$629,41,FALSE),0)","v":1},{"$f":"IFERROR(VLOOKUP($A178,Filtro!$A$5:$AY$629,42,FALSE),0)","v":0},{"$f":"IFERROR(VLOOKUP($A178,Filtro!$A$5:$AY$629,43,FALSE),0)","v":0},{"$f":"IFERROR(VLOOKUP($A178,Filtro!$A$5:$AY$629,44,FALSE),0)","v":0},{"$f":"IFERROR(VLOOKUP($A178,Filtro!$A$5:$AY$629,45,FALSE),0)","v":0},{"$f":"IFERROR(VLOOKUP($A178,Filtro!$A$5:$AY$629,46,FALSE),0)","v":0},""]
["P2501851","Errores de refracción","Errores de refracción",6,2,4,{"$f":"IFERROR(VLOOKUP($A179,Filtro!$A$5:$AY$629,5,FALSE),0)","v":0},{"$f":"IFERROR(VLOOKUP($A179,Filtro!$A$5:$AY$629,6,FALSE),0)","v":0},{"$f":"IFERROR(VLOOKUP($A179,Filtro!$A$5:$AY$629,7,FALSE),0)","v":0},{"$f":"IFERROR(VLOOKUP($A179,Filtro!$A$5:$AY$629,8,FALSE),0)","v":0},{"$f":"IFERROR(VLOOKUP($A179,Filtro!$A$5:$AY$629,9,FALSE),0)","v":0},{"$f":"IFERROR(VLOOKUP($A179,Filtro!$A$5:$AY$629,10,FALSE),0)","v":0},{"$f":"IFERROR(VLOOKUP($A179,Filtro!$A$5:$AY$629,11,FALSE),0)","v":0},{"$f":"IFERROR(VLOOKUP($A179,Filtro!$A$5:$AY$629,12,FALSE),0)","v":0},{"$f":"IFERROR(VLOOKUP($A179,Filtro!$A$5:$AY$629,13,FALSE),0)","v":0},{"$f":"IFERROR(VLOOKUP($A179,Filtro!$A$5:$AY$629,14,FALSE),0)","v":0},{"$f":"IFERROR(VLOOKUP($A179,Filtro!$A$5:$AY$629,15,FALSE),0)","v":0},{"$f":"IFERROR(VLOOKUP($A179,Filtro!$A$5:$AY$629,16,FALSE),0)","v":0},{"$f":"IFERROR(VLOOKUP($A179,Filtro!$A$5:$AY$629,17,FALSE),0)","v":0},{"$f":"IFERROR(VLOOKUP($A179,Filtro!$A$5:$AY$629,18,FALSE),0)","v":0},{"$f":"IFERROR(VLOOKUP($A179,Filtro!$A$5:$AY$629,19,FALSE),0)","v":0},{"$f":"IFERROR(VLOOKUP($A179,Filtro!$A$5:$AY$629,20,FALSE),0)","v":0},{"$f":"IFERROR(VLOOKUP($A179,Filtro!$A$5:$AY$629,21,FALSE),0)","v":0},{"$f":"IFERROR(VLOOKUP($A179,Filtro!$A$5:$AY$629,22,FALSE),0)","v":0},{"$f":"IFERROR(VLOOKUP($A179,Filtro!$A$5:$AY$629,23,FALSE),0)","v":0},{"$f":"IFERROR(VLOOKUP($A179,Filtro!$A$5:$AY$629,24,FALSE),0)","v":0},{"$f":"IFERROR(VLOOKUP($A179,Filtro!$A$5:$AY$629,25,FALSE),0)","v":0},{"$f":"IFERROR(VLOOKUP($A179,Filtro!$A$5:$AY$629,26,FALSE),0)","v":0},{"$f":"IFERROR(VLOOKUP($A179,Filtro!$A$5:$AY$629,27,FALSE),0)","v":0},{"$f":"IFERROR(VLOOKUP($A179,Filtro!$A$5:$AY$629,28,FALSE),0)","v":0},{"$f":"IFERROR(VLOOKUP($A179,Filtro!$A$5:$AY$629,29,FALSE),0)","v":0},{"$f":"IFERROR(VLOOKUP($A179,Filtro!$A$5:$AY$629,30,FALSE),0)","v":0},{"$f":"IFERROR(VLOOKUP($A179,Filtro!$A$5:$AY$629,31,FALSE),0)","v":0},{"$f":"IFERROR(VLOOKUP($A179,Filtro!$A$5:$AY$629,32,FALSE),0)","v":1},{"$f":"IFERROR(VLOOKUP($A179,Filtro!$A$5:$AY$629,33,FALSE),0)","v":0},{"$f":"IFERROR(VLOOKUP($A179,Filtro!$A$5:$AY$629,34,FALSE),0)","v":0},{"$f":"IFERROR(VLOOKUP($A179,Filtro!$A$5:$AY$629,35,FALSE),0)","v":0},{"$f":"IFERROR(VLOOKUP($A179,Filtro!$A$5:$AY$629,36,FALSE),0)","v":1},{"$f":"IFERROR(VLOOKUP($A179,Filtro!$A$5:$AY$629,37,FALSE),0)","v":1},{"$f":"IFERROR(VLOOKUP($A179,Filtro!$A$5:$AY$629,38,FALSE),0)","v":1},{"$f":"IFERROR(VLOOKUP($A179,Filtro!$A$5:$AY$629,39,FALSE),0)","v":0},{"$f":"IFERROR(VLOOKUP($A179,Filtro!$A$5:$AY$629,40,FALSE),0)","v":1},{"$f":"IFERROR(VLOOKUP($A179,Filtro!$A$5:$AY$629,41,FALSE),0)","v":1},{"$f":"IFERROR(VLOOKUP($A179,Filtro!$A$5:$AY$629,42,FALSE),0)","v":0},{"$f":"IFERROR(VLOOKUP($A179,Filtro!$A$5:$AY$629,43,FALSE),0)","v":0},{"$f":"IFERROR(VLOOKUP($A179,Filtro!$A$5:$AY$629,44,FALSE),0)","v":0},{"$f":"IFERROR(VLOOKUP($A179,Filtro!$A$5:$AY$629,45,FALSE),0)","v":0},{"$f":"IFERROR(VLOOKUP($A179,Filtro!$A$5:$AY$629,46,FALSE),0)","v":0},""]
["P2501852","Otras Enfermedades crónicas neurológicas (No incluye síndrome de Rett, Paráisis Cerebral, Epilepsia, TEA)","Otras Enfermedades crónicas neurológicas (No incluye síndrome de Rett, Parálisis Cerebral, Epiepsia, TEA)",24,15,9,{"$f":"IFERROR(VLOOKUP($A180,Filtro!$A$5:$AY$629,5,FALSE),0)","v":0},{"$f":"IFERROR(VLOOKUP($A180,Filtro!$A$5:$AY$629,6,FALSE),0)","v":0},{"$f":"IFERROR(VLOOKUP($A180,Filtro!$A$5:$AY$629,7,FALSE),0)","v":0},{"$f":"IFERROR(VLOOKUP($A180,Filtro!$A$5:$AY$629,8,FALSE),0)","v":0},{"$f":"IFERROR(VLOOKUP($A180,Filtro!$A$5:$AY$629,9,FALSE),0)","v":0},{"$f":"IFERROR(VLOOKUP($A180,Filtro!$A$5:$AY$629,10,FALSE),0)","v":0},{"$f":"IFERROR(VLOOKUP($A180,Filtro!$A$5:$AY$629,11,FALSE),0)","v":0},{"$f":"IFERROR(VLOOKUP($A180,Filtro!$A$5:$AY$629,12,FALSE),0)","v":0},{"$f":"IFERROR(VLOOKUP($A180,Filtro!$A$5:$AY$629,13,FALSE),0)","v":0},{"$f":"IFERROR(VLOOKUP($A180,Filtro!$A$5:$AY$629,14,FALSE),0)","v":0},{"$f":"IFERROR(VLOOKUP($A180,Filtro!$A$5:$AY$629,15,FALSE),0)","v":0},{"$f":"IFERROR(VLOOKUP($A180,Filtro!$A$5:$AY$629,16,FALSE),0)","v":0},{"$f":"IFERROR(VLOOKUP($A180,Filtro!$A$5:$AY$629,17,FALSE),0)","v":0},{"$f":"IFERROR(VLOOKUP($A180,Filtro!$A$5:$AY$629,18,FALSE),0)","v":2},{"$f":"IFERROR(VLOOKUP($A180,Filtro!$A$5:$AY$629,19,FALSE),0)","v":1},{"$f":"IFERROR(VLOOKUP($A180,Filtro!$A$5:$AY$629,20,FALSE),0)","v":0},{"$f":"IFERROR(VLOOKUP($A180,Filtro!$A$5:$AY$629,21,FALSE),0)","v":1},{"$f":"IFERROR(VLOOKUP($A180,Filtro!$A$5:$AY$629,22,FALSE),0)","v":0},{"$f":"IFERROR(VLOOKUP($A180,Filtro!$A$5:$AY$629,23,FALSE),0)","v":0},{"$f":"IFERROR(VLOOKUP($A180,Filtro!$A$5:$AY$629,24,FALSE),0)","v":0},{"$f":"IFERROR(VLOOKUP($A180,Filtro!$A$5:$AY$629,25,FALSE),0)","v":1},{"$f":"IFERROR(VLOOKUP($A180,Filtro!$A$5:$AY$629,26,FALSE),0)","v":4},{"$f":"IFERROR(VLOOKUP($A180,Filtro!$A$5:$AY$629,27,FALSE),0)","v":0},{"$f":"IFERROR(VLOOKUP($A180,Filtro!$A$5:$AY$629,28,FALSE),0)","v":0},{"$f":"IFERROR(VLOOKUP($A180,Filtro!$A$5:$AY$629,29,FALSE),0)","v":0},{"$f":"IFERROR(VLOOKUP($A180,Filtro!$A$5:$AY$629,30,FALSE),0)","v":0},{"$f":"IFERROR(VLOOKUP($A180,Filtro!$A$5:$AY$629,31,FALSE),0)","v":2},{"$f":"IFERROR(VLOOKUP($A180,Filtro!$A$5:$AY$629,32,FALSE),0)","v":0},{"$f":"IFERROR(VLOOKUP($A180,Filtro!$A$5:$AY$629,33,FALSE),0)","v":2},{"$f":"IFERROR(VLOOKUP($A180,Filtro!$A$5:$AY$629,34,FALSE),0)","v":1},{"$f":"IFERROR(VLOOKUP($A180,Filtro!$A$5:$AY$629,35,FALSE),0)","v":4},{"$f":"IFERROR(VLOOKUP($A180,Filtro!$A$5:$AY$629,36,FALSE),0)","v":0},{"$f":"IFERROR(VLOOKUP($A180,Filtro!$A$5:$AY$629,37,FALSE),0)","v":0},{"$f":"IFERROR(VLOOKUP($A180,Filtro!$A$5:$AY$629,38,FALSE),0)","v":2},{"$f":"IFERROR(VLOOKUP($A180,Filtro!$A$5:$AY$629,39,FALSE),0)","v":1},{"$f":"IFERROR(VLOOKUP($A180,Filtro!$A$5:$AY$629,40,FALSE),0)","v":0},{"$f":"IFERROR(VLOOKUP($A180,Filtro!$A$5:$AY$629,41,FALSE),0)","v":3},{"$f":"IFERROR(VLOOKUP($A180,Filtro!$A$5:$AY$629,42,FALSE),0)","v":0},{"$f":"IFERROR(VLOOKUP($A180,Filtro!$A$5:$AY$629,43,FALSE),0)","v":0},{"$f":"IFERROR(VLOOKUP($A180,Filtro!$A$5:$AY$629,44,FALSE),0)","v":0},{"$f":"IFERROR(VLOOKUP($A180,Filtro!$A$5:$AY$629,45,FALSE),0)","v":0},{"$f":"IFERROR(VLOOKUP($A180,Filtro!$A$5:$AY$629,46,FALSE),0)","v":0},{"$f":"CG180&CH180&CI180&CJ180","v":""},{"$nulls":35},{"$f":"IF(DF180=1,\"* No olvide escribir en las celdas de \"\"Pueblos Originarios\"\" (Digite Cero si no tiene).\",\"\")","v":""},{"$f":"IF(DG180=1,\"* No olvide escribir en las celdas de \"\"Población Migrante\"\" (Digite Cero si no tiene).\",\"\")","v":""},{"$f":"IF(DH180=1,\"* La suma de las celdas de \"\"Pueblos Originarios\"\"no debe superar el Total.\",\"\")","v":""},{"$f":"IF(DI180=1,\"* La suma de las celdas de \"\"Población Migrante\"\" no debe superar el Total.\",\"\")","v":""},{"$nulls":21},{"$f":"IF(AND($D180<>0,OR(AS180=\"\",AT180=\"\")),1,0)","v":0},{"$f":"IF(AND($D180<>0,OR(AU180=\"\",AV180=\"\")),1,0)","v":0},{"$f":"IF((AS180+AT180)>$D180,1,0)","v":0},{"$f":"IF((AV180+AU180)>$D180,1,0)","v":0}]
["P2501853","Disrrafias espinales","Disrafias espinales",1,0,1,{"$f":"IFERROR(VLOOKUP($A181,Filtro!$A$5:$AY$629,5,FALSE),0)","v":0},{"$f":"IFERROR(VLOOKUP($A181,Filtro!$A$5:$AY$629,6,FALSE),0)","v":0},{"$f":"IFERROR(VLOOKUP($A181,Filtro!$A$5:$AY$629,7,FALSE),0)","v":0},{"$f":"IFERROR(VLOOKUP($A181,Filtro!$A$5:$AY$629,8,FALSE),0)","v":0},{"$f":"IFERROR(VLOOKUP($A181,Filtro!$A$5:$AY$629,9,FALSE),0)","v":0},{"$f":"IFERROR(VLOOKUP($A181,Filtro!$A$5:$AY$629,10,FALSE),0)","v":0},{"$f":"IFERROR(VLOOKUP($A181,Filtro!$A$5:$AY$629,11,FALSE),0)","v":0},{"$f":"IFERROR(VLOOKUP($A181,Filtro!$A$5:$AY$629,12,FALSE),0)","v":0},{"$f":"IFERROR(VLOOKUP($A181,Filtro!$A$5:$AY$629,13,FALSE),0)","v":0},{"$f":"IFERROR(VLOOKUP($A181,Filtro!$A$5:$AY$629,14,FALSE),0)","v":0},{"$f":"IFERROR(VLOOKUP($A181,Filtro!$A$5:$AY$629,15,FALSE),0)","v":0},{"$f":"IFERROR(VLOOKUP($A181,Filtro!$A$5:$AY$629,16,FALSE),0)","v":0},{"$f":"IFERROR(VLOOKUP($A181,Filtro!$A$5:$AY$629,17,FALSE),0)","v":0},{"$f":"IFERROR(VLOOKUP($A181,Filtro!$A$5:$AY$629,18,FALSE),0)","v":0},{"$f":"IFERROR(VLOOKUP($A181,Filtro!$A$5:$AY$629,19,FALSE),0)","v":0},{"$f":"IFERROR(VLOOKUP($A181,Filtro!$A$5:$AY$629,20,FALSE),0)","v":0},{"$f":"IFERROR(VLOOKUP($A181,Filtro!$A$5:$AY$629,21,FALSE),0)","v":0},{"$f":"IFERROR(VLOOKUP($A181,Filtro!$A$5:$AY$629,22,FALSE),0)","v":1},{"$f":"IFERROR(VLOOKUP($A181,Filtro!$A$5:$AY$629,23,FALSE),0)","v":0},{"$f":"IFERROR(VLOOKUP($A181,Filtro!$A$5:$AY$629,24,FALSE),0)","v":0},{"$f":"IFERROR(VLOOKUP($A181,Filtro!$A$5:$AY$629,25,FALSE),0)","v":0},{"$f":"IFERROR(VLOOKUP($A181,Filtro!$A$5:$AY$629,26,FALSE),0)","v":0},{"$f":"IFERROR(VLOOKUP($A181,Filtro!$A$5:$AY$629,27,FALSE),0)","v":0},{"$f":"IFERROR(VLOOKUP($A181,Filtro!$A$5:$AY$629,28,FALSE),0)","v":0},{"$f":"IFERROR(VLOOKUP($A181,Filtro!$A$5:$AY$629,29,FALSE),0)","v":0},{"$f":"IFERROR(VLOOKUP($A181,Filtro!$A$5:$AY$629,30,FALSE),0)","v":0},{"$f":"IFERROR(VLOOKUP($A181,Filtro!$A$5:$AY$629,31,FALSE),0)","v":0},{"$f":"IFERROR(VLOOKUP($A181,Filtro!$A$5:$AY$629,32,FALSE),0)","v":0},{"$f":"IFERROR(VLOOKUP($A181,Filtro!$A$5:$AY$629,33,FALSE),0)","v":0},{"$f":"IFERROR(VLOOKUP($A181,Filtro!$A$5:$AY$629,34,FALSE),0)","v":0},{"$f":"IFERROR(VLOOKUP($A181,Filtro!$A$5:$AY$629,35,FALSE),0)","v":0},{"$f":"IFERROR(VLOOKUP($A181,Filtro!$A$5:$AY$629,36,FALSE),0)","v":0},{"$f":"IFERROR(VLOOKUP($A181,Filtro!$A$5:$AY$629,37,FALSE),0)","v":0},{"$f":"IFERROR(VLOOKUP($A181,Filtro!$A$5:$AY$629,38,FALSE),0)","v":0},{"$f":"IFERROR(VLOOKUP($A181,Filtro!$A$5:$AY$629,39,FALSE),0)","v":0},{"$f":"IFERROR(VLOOKUP($A181,Filtro!$A$5:$AY$629,40,FALSE),0)","v":0},{"$f":"IFERROR(VLOOKUP($A181,Filtro!$A$5:$AY$629,41,FALSE),0)","v":0},{"$f":"IFERROR(VLOOKUP($A181,Filtro!$A$5:$AY$629,42,FALSE),0)","v":0},{"$f":"IFERROR(VLOOKUP($A181,Filtro!$A$5:$AY$629,43,FALSE),0)","v":0},{"$f":"IFERROR(VLOOKUP($A181,Filtro!$A$5:$AY$629,44,FALSE),0)","v":0},{"$f":"IFERROR(VLOOKUP($A181,Filtro!$A$5:$AY$629,45,FALSE),0)","v":0},{"$f":"IFERROR(VLOOKUP($A181,Filtro!$A$5:$AY$629,46,FALSE),0)","v":0},"",{"$nulls":35},{"$f":"IF(DF181=1,\"* No olvide escribir en las celdas de \"\"Pueblos Originarios\"\" (Digite Cero si no tiene).\",\"\")","v":""},{"$f":"IF(DG181=1,\"* No olvide escribir en las celdas de \"\"Población Migrante\"\" (Digite Cero si no tiene).\",\"\")","v":""},{"$f":"IF(DH181=1,\"* La suma de las celdas de \"\"Pueblos Originarios\"\"no debe superar el Total.\",\"\")","v":""},{"$f":"IF(DI181=1,\"* La suma de las celdas de \"\"Población Migrante\"\" no debe superar el Total.\",\"\")","v":""},{"$nulls":21},{"$f":"IF(AND($D181<>0,OR(AS181=\"\",AT181=\"\")),1,0)","v":0},{"$f":"IF(AND($D181<>0,OR(AU181=\"\",AV181=\"\")),1,0)","v":0},{"$f":"IF((AS181+AT181)>$D181,1,0)","v":0},{"$f":"IF((AV181+AU181)>$D181,1,0)","v":0}]
["P2501854","Escoliosis","Escoliosis",7,3,4,{"$f":"IFERROR(VLOOKUP($A182,Filtro!$A$5:$AY$629,5,FALSE),0)","v":0},{"$f":"IFERROR(VLOOKUP($A182,Filtro!$A$5:$AY$629,6,FALSE),0)","v":0},{"$f":"IFERROR(VLOOKUP($A182,Filtro!$A$5:$AY$629,7,FALSE),0)","v":0},{"$f":"IFERROR(VLOOKUP($A182,Filtro!$A$5:$AY$629,8,FALSE),0)","v":0},{"$f":"IFERROR(VLOOKUP($A182,Filtro!$A$5:$AY$629,9,FALSE),0)","v":0},{"$f":"IFERROR(VLOOKUP($A182,Filtro!$A$5:$AY$629,10,FALSE),0)","v":0},{"$f":"IFERROR(VLOOKUP($A182,Filtro!$A$5:$AY$629,11,FALSE),0)","v":0},{"$f":"IFERROR(VLOOKUP($A182,Filtro!$A$5:$AY$629,12,FALSE),0)","v":0},{"$f":"IFERROR(VLOOKUP($A182,Filtro!$A$5:$AY$629,13,FALSE),0)","v":0},{"$f":"IFERROR(VLOOKUP($A182,Filtro!$A$5:$AY$629,14,FALSE),0)","v":0},{"$f":"IFERROR(VLOOKUP($A182,Filtro!$A$5:$AY$629,15,FALSE),0)","v":0},{"$f":"IFERROR(VLOOKUP($A182,Filtro!$A$5:$AY$629,16,FALSE),0)","v":0},{"$f":"IFERROR(VLOOKUP($A182,Filtro!$A$5:$AY$629,17,FALSE),0)","v":0},{"$f":"IFERROR(VLOOKUP($A182,Filtro!$A$5:$AY$629,18,FALSE),0)","v":0},{"$f":"IFERROR(VLOOKUP($A182,Filtro!$A$5:$AY$629,19,FALSE),0)","v":0},{"$f":"IFERROR(VLOOKUP($A182,Filtro!$A$5:$AY$629,20,FALSE),0)","v":0},{"$f":"IFERROR(VLOOKUP($A182,Filtro!$A$5:$AY$629,21,FALSE),0)","v":0},{"$f":"IFERROR(VLOOKUP($A182,Filtro!$A$5:$AY$629,22,FALSE),0)","v":0},{"$f":"IFERROR(VLOOKUP($A182,Filtro!$A$5:$AY$629,23,FALSE),0)","v":0},{"$f":"IFERROR(VLOOKUP($A182,Filtro!$A$5:$AY$629,24,FALSE),0)","v":0},{"$f":"IFERROR(VLOOKUP($A182,Filtro!$A$5:$AY$629,25,FALSE),0)","v":0},{"$f":"IFERROR(VLOOKUP($A182,Filtro!$A$5:$AY$629,26,FALSE),0)","v":0},{"$f":"IFERROR(VLOOKUP($A182,Filtro!$A$5:$AY$629,27,FALSE),0)","v":1},{"$f":"IFERROR(VLOOKUP($A182,Filtro!$A$5:$AY$629,28,FALSE),0)","v":0},{"$f":"IFERROR(VLOOKUP($A182,Filtro!$A$5:$AY$629,29,FALSE),0)","v":0},{"$f":"IFERROR(VLOOKUP($A182,Filtro!$A$5:$AY$629,30,FALSE),0)","v":0},{"$f":"IFERROR(VLOOKUP($A182,Filtro!$A$5:$AY$629,31,FALSE),0)","v":0},{"$f":"IFERROR(VLOOKUP($A182,Filtro!$A$5:$AY$629,32,FALSE),0)","v":0},{"$f":"IFERROR(VLOOKUP($A182,Filtro!$A$5:$AY$629,33,FALSE),0)","v":0},{"$f":"IFERROR(VLOOKUP($A182,Filtro!$A$5:$AY$629,34,FALSE),0)","v":0},{"$f":"IFERROR(VLOOKUP($A182,Filtro!$A$5:$AY$629,35,FALSE),0)","v":0},{"$f":"IFERROR(VLOOKUP($A182,Filtro!$A$5:$AY$629,36,FALSE),0)","v":0},{"$f":"IFERROR(VLOOKUP($A182,Filtro!$A$5:$AY$629,37,FALSE),0)","v":0},{"$f":"IFERROR(VLOOKUP($A182,Filtro!$A$5:$AY$629,38,FALSE),0)","v":1},{"$f":"IFERROR(VLOOKUP($A182,Filtro!$A$5:$AY$629,39,FALSE),0)","v":0},{"$f":"IFERROR(VLOOKUP($A182,Filtro!$A$5:$AY$629,40,FALSE),0)","v":3},{"$f":"IFERROR(VLOOKUP($A182,Filtro!$A$5:$AY$629,41,FALSE),0)","v":2},{"$f":"IFERROR(VLOOKUP($A182,Filtro!$A$5:$AY$629,42,FALSE),0)","v":0},{"$f":"IFERROR(VLOOKUP($A182,Filtro!$A$5:$AY$629,43,FALSE),0)","v":0},{"$f":"IFERROR(VLOOKUP($A182,Filtro!$A$5:$AY$629,44,FALSE),0)","v":0},{"$f":"IFERROR(VLOOKUP($A182,Filtro!$A$5:$AY$629,45,FALSE),0)","v":0},{"$f":"IFERROR(VLOOKUP($A182,Filtro!$A$5:$AY$629,46,FALSE),0)","v":0},""]
["P2501855","Displasia luxante de caderas","Displasia luxante de caderas",34,10,24,{"$f":"IFERROR(VLOOKUP($A183,Filtro!$A$5:$AY$629,5,FALSE),0)","v":0},{"$f":"IFERROR(VLOOKUP($A183,Filtro!$A$5:$AY$629,6,FALSE),0)","v":0},{"$f":"IFERROR(VLOOKUP($A183,Filtro!$A$5:$AY$629,7,FALSE),0)","v":0},{"$f":"IFERROR(VLOOKUP($A183,Filtro!$A$5:$AY$629,8,FALSE),0)","v":0},{"$f":"IFERROR(VLOOKUP($A183,Filtro!$A$5:$AY$629,9,FALSE),0)","v":0},{"$f":"IFERROR(VLOOKUP($A183,Filtro!$A$5:$AY$629,10,FALSE),0)","v":0},{"$f":"IFERROR(VLOOKUP($A183,Filtro!$A$5:$AY$629,11,FALSE),0)","v":0},{"$f":"IFERROR(VLOOKUP($A183,Filtro!$A$5:$AY$629,12,FALSE),0)","v":3},{"$f":"IFERROR(VLOOKUP($A183,Filtro!$A$5:$AY$629,13,FALSE),0)","v":2},{"$f":"IFERROR(VLOOKUP($A183,Filtro!$A$5:$AY$629,14,FALSE),0)","v":0},{"$f":"IFERROR(VLOOKUP($A183,Filtro!$A$5:$AY$629,15,FALSE),0)","v":2},{"$f":"IFERROR(VLOOKUP($A183,Filtro!$A$5:$AY$629,16,FALSE),0)","v":5},{"$f":"IFERROR(VLOOKUP($A183,Filtro!$A$5:$AY$629,17,FALSE),0)","v":1},{"$f":"IFERROR(VLOOKUP($A183,Filtro!$A$5:$AY$629,18,FALSE),0)","v":3},{"$f":"IFERROR(VLOOKUP($A183,Filtro!$A$5:$AY$629,19,FALSE),0)","v":4},{"$f":"IFERROR(VLOOKUP($A183,Filtro!$A$5:$AY$629,20,FALSE),0)","v":7},{"$f":"IFERROR(VLOOKUP($A183,Filtro!$A$5:$AY$629,21,FALSE),0)","v":0},{"$f":"IFERROR(VLOOKUP($A183,Filtro!$A$5:$AY$629,22,FALSE),0)","v":3},{"$f":"IFERROR(VLOOKUP($A183,Filtro!$A$5:$AY$629,23,FALSE),0)","v":0},{"$f":"IFERROR(VLOOKUP($A183,Filtro!$A$5:$AY$629,24,FALSE),0)","v":0},{"$f":"IFERROR(VLOOKUP($A183,Filtro!$A$5:$AY$629,25,FALSE),0)","v":0},{"$f":"IFERROR(VLOOKUP($A183,Filtro!$A$5:$AY$629,26,FALSE),0)","v":0},{"$f":"IFERROR(VLOOKUP($A183,Filtro!$A$5:$AY$629,27,FALSE),0)","v":0},{"$f":"IFERROR(VLOOKUP($A183,Filtro!$A$5:$AY$629,28,FALSE),0)","v":0},{"$f":"IFERROR(VLOOKUP($A183,Filtro!$A$5:$AY$629,29,FALSE),0)","v":0},{"$f":"IFERROR(VLOOKUP($A183,Filtro!$A$5:$AY$629,30,FALSE),0)","v":0},{"$f":"IFERROR(VLOOKUP($A183,Filtro!$A$5:$AY$629,31,FALSE),0)","v":0},{"$f":"IFERROR(VLOOKUP($A183,Filtro!$A$5:$AY$629,32,FALSE),0)","v":1},{"$f":"IFERROR(VLOOKUP($A183,Filtro!$A$5:$AY$629,33,FALSE),0)","v":0},{"$f":"IFERROR(VLOOKUP($A183,Filtro!$A$5:$AY$629,34,FALSE),0)","v":0},{"$f":"IFERROR(VLOOKUP($A183,Filtro!$A$5:$AY$629,35,FALSE),0)","v":0},{"$f":"IFERROR(VLOOKUP($A183,Filtro!$A$5:$AY$629,36,FALSE),0)","v":1},{"$f":"IFERROR(VLOOKUP($A183,Filtro!$A$5:$AY$629,37,FALSE),0)","v":1},{"$f":"IFERROR(VLOOKUP($A183,Filtro!$A$5:$AY$629,38,FALSE),0)","v":0},{"$f":"IFERROR(VLOOKUP($A183,Filtro!$A$5:$AY$629,39,FALSE),0)","v":0},{"$f":"IFERROR(VLOOKUP($A183,Filtro!$A$5:$AY$629,40,FALSE),0)","v":1},{"$f":"IFERROR(VLOOKUP($A183,Filtro!$A$5:$AY$629,41,FALSE),0)","v":0},{"$f":"IFERROR(VLOOKUP($A183,Filtro!$A$5:$AY$629,42,FALSE),0)","v":0},{"$f":"IFERROR(VLOOKUP($A183,Filtro!$A$5:$AY$629,43,FALSE),0)","v":0},{"$f":"IFERROR(VLOOKUP($A183,Filtro!$A$5:$AY$629,44,FALSE),0)","v":0},{"$f":"IFERROR(VLOOKUP($A183,Filtro!$A$5:$AY$629,45,FALSE),0)","v":0},{"$f":"IFERROR(VLOOKUP($A183,Filtro!$A$5:$AY$629,46,FALSE),0)","v":0},"",{"$nulls":35},{"$f":"IF(DF183=1,\"* No olvide escribir en las celdas de \"\"Pueblos Originarios\"\" (Digite Cero si no tiene).\",\"\")","v":""},{"$f":"IF(DG183=1,\"* No olvide escribir en las celdas de \"\"Población Migrante\"\" (Digite Cero si no tiene).\",\"\")","v":""},{"$f":"IF(DH183=1,\"* La suma de las celdas de \"\"Pueblos Originarios\"\"no debe superar el Total.\",\"\")","v":""},{"$f":"IF(DI183=1,\"* La suma de las celdas de \"\"Población Migrante\"\" no debe superar el Total.\",\"\")","v":""},{"$nulls":21},{"$f":"IF(AND($D183<>0,OR(AS183=\"\",AT183=\"\")),1,0)","v":0},{"$f":"IF(AND($D183<>0,OR(AU183=\"\",AV183=\"\")),1,0)","v":0},{"$f":"IF((AS183+AT183)>$D183,1,0)","v":0},{"$f":"IF((AV183+AU183)>$D183,1,0)","v":0}]
["P2501856","Cuidados paliativos","Cuidados paliativos",0,0,0,{"$f":"IFERROR(VLOOKUP($A184,Filtro!$A$5:$AY$629,5,FALSE),0)","v":0},{"$f":"IFERROR(VLOOKUP($A184,Filtro!$A$5:$AY$629,6,FALSE),0)","v":0},{"$f":"IFERROR(VLOOKUP($A184,Filtro!$A$5:$AY$629,7,FALSE),0)","v":0},{"$f":"IFERROR(VLOOKUP($A184,Filtro!$A$5:$AY$629,8,FALSE),0)","v":0},{"$f":"IFERROR(VLOOKUP($A184,Filtro!$A$5:$AY$629,9,FALSE),0)","v":0},{"$f":"IFERROR(VLOOKUP($A184,Filtro!$A$5:$AY$629,10,FALSE),0)","v":0},{"$f":"IFERROR(VLOOKUP($A184,Filtro!$A$5:$AY$629,11,FALSE),0)","v":0},{"$f":"IFERROR(VLOOKUP($A184,Filtro!$A$5:$AY$629,12,FALSE),0)","v":0},{"$f":"IFERROR(VLOOKUP($A184,Filtro!$A$5:$AY$629,13,FALSE),0)","v":0},{"$f":"IFERROR(VLOOKUP($A184,Filtro!$A$5:$AY$629,14,FALSE),0)","v":0},{"$f":"IFERROR(VLOOKUP($A184,Filtro!$A$5:$AY$629,15,FALSE),0)","v":0},{"$f":"IFERROR(VLOOKUP($A184,Filtro!$A$5:$AY$629,16,FALSE),0)","v":0},{"$f":"IFERROR(VLOOKUP($A184,Filtro!$A$5:$AY$629,17,FALSE),0)","v":0},{"$f":"IFERROR(VLOOKUP($A184,Filtro!$A$5:$AY$629,18,FALSE),0)","v":0},{"$f":"IFERROR(VLOOKUP($A184,Filtro!$A$5:$AY$629,19,FALSE),0)","v":0},{"$f":"IFERROR(VLOOKUP($A184,Filtro!$A$5:$AY$629,20,FALSE),0)","v":0},{"$f":"IFERROR(VLOOKUP($A184,Filtro!$A$5:$AY$629,21,FALSE),0)","v":0},{"$f":"IFERROR(VLOOKUP($A184,Filtro!$A$5:$AY$629,22,FALSE),0)","v":0},{"$f":"IFERROR(VLOOKUP($A184,Filtro!$A$5:$AY$629,23,FALSE),0)","v":0},{"$f":"IFERROR(VLOOKUP($A184,Filtro!$A$5:$AY$629,24,FALSE),0)","v":0},{"$f":"IFERROR(VLOOKUP($A184,Filtro!$A$5:$AY$629,25,FALSE),0)","v":0},{"$f":"IFERROR(VLOOKUP($A184,Filtro!$A$5:$AY$629,26,FALSE),0)","v":0},{"$f":"IFERROR(VLOOKUP($A184,Filtro!$A$5:$AY$629,27,FALSE),0)","v":0},{"$f":"IFERROR(VLOOKUP($A184,Filtro!$A$5:$AY$629,28,FALSE),0)","v":0},{"$f":"IFERROR(VLOOKUP($A184,Filtro!$A$5:$AY$629,29,FALSE),0)","v":0},{"$f":"IFERROR(VLOOKUP($A184,Filtro!$A$5:$AY$629,30,FALSE),0)","v":0},{"$f":"IFERROR(VLOOKUP($A184,Filtro!$A$5:$AY$629,31,FALSE),0)","v":0},{"$f":"IFERROR(VLOOKUP($A184,Filtro!$A$5:$AY$629,32,FALSE),0)","v":0},{"$f":"IFERROR(VLOOKUP($A184,Filtro!$A$5:$AY$629,33,FALSE),0)","v":0},{"$f":"IFERROR(VLOOKUP($A184,Filtro!$A$5:$AY$629,34,FALSE),0)","v":0},{"$f":"IFERROR(VLOOKUP($A184,Filtro!$A$5:$AY$629,35,FALSE),0)","v":0},{"$f":"IFERROR(VLOOKUP($A184,Filtro!$A$5:$AY$629,36,FALSE),0)","v":0},{"$f":"IFERROR(VLOOKUP($A184,Filtro!$A$5:$AY$629,37,FALSE),0)","v":0},{"$f":"IFERROR(VLOOKUP($A184,Filtro!$A$5:$AY$629,38,FALSE),0)","v":0},{"$f":"IFERROR(VLOOKUP($A184,Filtro!$A$5:$AY$629,39,FALSE),0)","v":0},{"$f":"IFERROR(VLOOKUP($A184,Filtro!$A$5:$AY$629,40,FALSE),0)","v":0},{"$f":"IFERROR(VLOOKUP($A184,Filtro!$A$5:$AY$629,41,FALSE),0)","v":0},{"$f":"IFERROR(VLOOKUP($A184,Filtro!$A$5:$AY$629,42,FALSE),0)","v":0},{"$f":"IFERROR(VLOOKUP($A184,Filtro!$A$5:$AY$629,43,FALSE),0)","v":0},{"$f":"IFERROR(VLOOKUP($A184,Filtro!$A$5:$AY$629,44,FALSE),0)","v":0},{"$f":"IFERROR(VLOOKUP($A184,Filtro!$A$5:$AY$629,45,FALSE),0)","v":0},{"$f":"IFERROR(VLOOKUP($A184,Filtro!$A$5:$AY$629,46,FALSE),0)","v":0},"",{"$nulls":35},{"$f":"IF(DF184=1,\"* No olvide escribir en las celdas de \"\"Pueblos Originarios\"\" (Digite Cero si no tiene).\",\"\")","v":""},{"$f":"IF(DG184=1,\"* No olvide escribir en las celdas de \"\"Población Migrante\"\" (Digite Cero si no tiene).\",\"\")","v":""},{"$f":"IF(DH184=1,\"* La suma de las celdas de \"\"Pueblos Originarios\"\"no debe superar el Total.\",\"\")","v":""},{"$f":"IF(DI184=1,\"* La suma de las celdas de \"\"Población Migrante\"\" no debe superar el Total.\",\"\")","v":""},{"$nulls":21},{"$f":"IF(AND($D184<>0,OR(AS184=\"\",AT184=\"\")),1,0)","v":0},{"$f":"IF(AND($D184<>0,OR(AU184=\"\",AV184=\"\")),1,0)","v":0},{"$f":"IF((AS184+AT184)>$D184,1,0)","v":0},{"$f":"IF((AV184+AU184)>$D184,1,0)","v":0}]
["P2501857","Gran Quemado","Gran Quemado",0,0,0,{"$f":"IFERROR(VLOOKUP($A185,Filtro!$A$5:$AY$629,5,FALSE),0)","v":0},{"$f":"IFERROR(VLOOKUP($A185,Filtro!$A$5:$AY$629,6,FALSE),0)","v":0},{"$f":"IFERROR(VLOOKUP($A185,Filtro!$A$5:$AY$629,7,FALSE),0)","v":0},{"$f":"IFERROR(VLOOKUP($A185,Filtro!$A$5:$AY$629,8,FALSE),0)","v":0},{"$f":"IFERROR(VLOOKUP($A185,Filtro!$A$5:$AY$629,9,FALSE),0)","v":0},{"$f":"IFERROR(VLOOKUP($A185,Filtro!$A$5:$AY$629,10,FALSE),0)","v":0},{"$f":"IFERROR(VLOOKUP($A185,Filtro!$A$5:$AY$629,11,FALSE),0)","v":0},{"$f":"IFERROR(VLOOKUP($A185,Filtro!$A$5:$AY$629,12,FALSE),0)","v":0},{"$f":"IFERROR(VLOOKUP($A185,Filtro!$A$5:$AY$629,13,FALSE),0)","v":0},{"$f":"IFERROR(VLOOKUP($A185,Filtro!$A$5:$AY$629,14,FALSE),0)","v":0},{"$f":"IFERROR(VLOOKUP($A185,Filtro!$A$5:$AY$629,15,FALSE),0)","v":0},{"$f":"IFERROR(VLOOKUP($A185,Filtro!$A$5:$AY$629,16,FALSE),0)","v":0},{"$f":"IFERROR(VLOOKUP($A185,Filtro!$A$5:$AY$629,17,FALSE),0)","v":0},{"$f":"IFERROR(VLOOKUP($A185,Filtro!$A$5:$AY$629,18,FALSE),0)","v":0},{"$f":"IFERROR(VLOOKUP($A185,Filtro!$A$5:$AY$629,19,FALSE),0)","v":0},{"$f":"IFERROR(VLOOKUP($A185,Filtro!$A$5:$AY$629,20,FALSE),0)","v":0},{"$f":"IFERROR(VLOOKUP($A185,Filtro!$A$5:$AY$629,21,FALSE),0)","v":0},{"$f":"IFERROR(VLOOKUP($A185,Filtro!$A$5:$AY$629,22,FALSE),0)","v":0},{"$f":"IFERROR(VLOOKUP($A185,Filtro!$A$5:$AY$629,23,FALSE),0)","v":0},{"$f":"IFERROR(VLOOKUP($A185,Filtro!$A$5:$AY$629,24,FALSE),0)","v":0},{"$f":"IFERROR(VLOOKUP($A185,Filtro!$A$5:$AY$629,25,FALSE),0)","v":0},{"$f":"IFERROR(VLOOKUP($A185,Filtro!$A$5:$AY$629,26,FALSE),0)","v":0},{"$f":"IFERROR(VLOOKUP($A185,Filtro!$A$5:$AY$629,27,FALSE),0)","v":0},{"$f":"IFERROR(VLOOKUP($A185,Filtro!$A$5:$AY$629,28,FALSE),0)","v":0},{"$f":"IFERROR(VLOOKUP($A185,Filtro!$A$5:$AY$629,29,FALSE),0)","v":0},{"$f":"IFERROR(VLOOKUP($A185,Filtro!$A$5:$AY$629,30,FALSE),0)","v":0},{"$f":"IFERROR(VLOOKUP($A185,Filtro!$A$5:$AY$629,31,FALSE),0)","v":0},{"$f":"IFERROR(VLOOKUP($A185,Filtro!$A$5:$AY$629,32,FALSE),0)","v":0},{"$f":"IFERROR(VLOOKUP($A185,Filtro!$A$5:$AY$629,33,FALSE),0)","v":0},{"$f":"IFERROR(VLOOKUP($A185,Filtro!$A$5:$AY$629,34,FALSE),0)","v":0},{"$f":"IFERROR(VLOOKUP($A185,Filtro!$A$5:$AY$629,35,FALSE),0)","v":0},{"$f":"IFERROR(VLOOKUP($A185,Filtro!$A$5:$AY$629,36,FALSE),0)","v":0},{"$f":"IFERROR(VLOOKUP($A185,Filtro!$A$5:$AY$629,37,FALSE),0)","v":0},{"$f":"IFERROR(VLOOKUP($A185,Filtro!$A$5:$AY$629,38,FALSE),0)","v":0},{"$f":"IFERROR(VLOOKUP($A185,Filtro!$A$5:$AY$629,39,FALSE),0)","v":0},{"$f":"IFERROR(VLOOKUP($A185,Filtro!$A$5:$AY$629,40,FALSE),0)","v":0},{"$f":"IFERROR(VLOOKUP($A185,Filtro!$A$5:$AY$629,41,FALSE),0)","v":0},{"$f":"IFERROR(VLOOKUP($A185,Filtro!$A$5:$AY$629,42,FALSE),0)","v":0},{"$f":"IFERROR(VLOOKUP($A185,Filtro!$A$5:$AY$629,43,FALSE),0)","v":0},{"$f":"IFERROR(VLOOKUP($A185,Filtro!$A$5:$AY$629,44,FALSE),0)","v":0},{"$f":"IFERROR(VLOOKUP($A185,Filtro!$A$5:$AY$629,45,FALSE),0)","v":0},{"$f":"IFERROR(VLOOKUP($A185,Filtro!$A$5:$AY$629,46,FALSE),0)","v":0},""]
[null,"SECCION I: POBLACIÓN SEGÚN NIVEL DE COMPLEJIDAD DE NIÑOS, NIÑAS Y ADOLESCENTES CON NECESIDADES ESPECIALES DE ATENCIÓN EN SALUD (NANEAS) (Incluida en sección A y A1)"]
[null,"NIVELES DE COMPLEJIDAD",null,"TOTAL",null,null,"GRUPOS DE EDAD (en meses - años) Y SEXO",{"$nulls":37},"Pueblos Originarios",null," Migrantes"]
[{"$nulls":6},"Menor de 1 mes",null,"1 mes",null,"2 meses",null,"3 meses",null,"4 meses",null,"5 meses",null,"6 meses",null,"7 a 11 meses",null,"12 a 17 meses",null,"18 a 23 meses",null,"24 a 35 meses",null,"36 a 41 meses",null,"42 a 47 meses",null,"48 a 59 meses",null,"60 a 71 meses",null,"6 a 7 años",null,"8 a 9 años",null,"10 a 14 años",null,"15 a 19 años"]
[{"$nulls":3},"Ambos sexos","Hombres","Mujeres","Hombres","Mujeres","Hombres","Mujeres","Hombres","Mujeres","Hombres","Mujeres","Hombres","Mujeres","Hombres","Mujeres","Hombres","Mujeres","Hombres","Mujeres","Hombres","Mujeres","Hombres","Mujeres","Hombres","Mujeres","Hombres","Mujeres","Hombres","Mujeres","Hombres","Mujeres","Hombres","Mujeres","Hombres","Mujeres","Hombres","Mujeres","Hombres","Mujeres","Hombres","Mujeres","Hombres","Mujeres","Hombres","Mujeres"]
[null,"TOTAL POBLACIÓN NANES BAJO CONTROL",null,{"$f":"SUM(E190:F190)","v":1},{"$f":"+G190+I190+K190+M190+O190+Q190+S190+U190+W190+Y190+AA190+AC190+AE190+AG190+AI190+AO190+AQ190+AK190+AM190","v":1},{"$f":"+H190+J190+L190+N190+P190+R190+T190+V190+X190+Z190+AB190+AD190+AF190+AH190+AJ190+AP190+AR190+AL190+AN190","v":0},{"$f":"SUM(G191:G193)","v":1},0,0,0,0,0,0,0,0,0,0,0,0,0,0,0,0,0,0,0,0,0,0,0,0,0,0,0,0,0,0,0,0,0,0,0,0,0,0,0,0,0]
["P2501858","BAJA COMPLEJIDAD",null,{"$f":"SUM(E191:F191)","v":2694},{"$f":"+G191+I191+K191+M191+O191+Q191+S191+U191+W191+Y191+AA191+AC191+AE191+AG191+AI191+AO191+AQ191+AK191+AM191","v":1594},{"$f":"+H191+J191+L191+N191+P191+R191+T191+V191+X191+Z191+AB191+AD191+AF191+AH191+AJ191+AP191+AR191+AL191+AN191","v":1100},{"$f":"IFERROR(VLOOKUP($A191,Filtro!$A$5:$AY$629,5,FALSE),0)","v":1},{"$f":"IFERROR(VLOOKUP($A191,Filtro!$A$5:$AY$629,6,FALSE),0)","v":0},{"$f":"IFERROR(VLOOKUP($A191,Filtro!$A$5:$AY$629,7,FALSE),0)","v":5},{"$f":"IFERROR(VLOOKUP($A191,Filtro!$A$5:$AY$629,8,FALSE),0)","v":6},{"$f":"IFERROR(VLOOKUP($A191,Filtro!$A$5:$AY$629,9,FALSE),0)","v":9},{"$f":"IFERROR(VLOOKUP($A191,Filtro!$A$5:$AY$629,10,FALSE),0)","v":7},{"$f":"IFERROR(VLOOKUP($A191,Filtro!$A$5:$AY$629,11,FALSE),0)","v":9},{"$f":"IFERROR(VLOOKUP($A191,Filtro!$A$5:$AY$629,12,FALSE),0)","v":7},{"$f":"IFERROR(VLOOKUP($A191,Filtro!$A$5:$AY$629,13,FALSE),0)","v":17},{"$f":"IFERROR(VLOOKUP($A191,Filtro!$A$5:$AY$629,14,FALSE),0)","v":10},{"$f":"IFERROR(VLOOKUP($A191,Filtro!$A$5:$AY$629,15,FALSE),0)","v":11},{"$f":"IFERROR(VLOOKUP($A191,Filtro!$A$5:$AY$629,16,FALSE),0)","v":9},{"$f":"IFERROR(VLOOKUP($A191,Filtro!$A$5:$AY$629,17,FALSE),0)","v":15},{"$f":"IFERROR(VLOOKUP($A191,Filtro!$A$5:$AY$629,18,FALSE),0)","v":12},{"$f":"IFERROR(VLOOKUP($A191,Filtro!$A$5:$AY$629,19,FALSE),0)","v":77},{"$f":"IFERROR(VLOOKUP($A191,Filtro!$A$5:$AY$629,20,FALSE),0)","v":42},{"$f":"IFERROR(VLOOKUP($A191,Filtro!$A$5:$AY$629,21,FALSE),0)","v":100},{"$f":"IFERROR(VLOOKUP($A191,Filtro!$A$5:$AY$629,22,FALSE),0)","v":76},{"$f":"IFERROR(VLOOKUP($A191,Filtro!$A$5:$AY$629,23,FALSE),0)","v":65},{"$f":"IFERROR(VLOOKUP($A191,Filtro!$A$5:$AY$629,24,FALSE),0)","v":36},{"$f":"IFERROR(VLOOKUP($A191,Filtro!$A$5:$AY$629,25,FALSE),0)","v":117},{"$f":"IFERROR(VLOOKUP($A191,Filtro!$A$5:$AY$629,26,FALSE),0)","v":94},{"$f":"IFERROR(VLOOKUP($A191,Filtro!$A$5:$AY$629,27,FALSE),0)","v":136},{"$f":"IFERROR(VLOOKUP($A191,Filtro!$A$5:$AY$629,28,FALSE),0)","v":96},{"$f":"IFERROR(VLOOKUP($A191,Filtro!$A$5:$AY$629,29,FALSE),0)","v":28},{"$f":"IFERROR(VLOOKUP($A191,Filtro!$A$5:$AY$629,30,FALSE),0)","v":18},{"$f":"IFERROR(VLOOKUP($A191,Filtro!$A$5:$AY$629,31,FALSE),0)","v":189},{"$f":"IFERROR(VLOOKUP($A191,Filtro!$A$5:$AY$629,32,FALSE),0)","v":115},{"$f":"IFERROR(VLOOKUP($A191,Filtro!$A$5:$AY$629,33,FALSE),0)","v":174},{"$f":"IFERROR(VLOOKUP($A191,Filtro!$A$5:$AY$629,34,FALSE),0)","v":92},{"$f":"IFERROR(VLOOKUP($A191,Filtro!$A$5:$AY$629,35,FALSE),0)","v":222},{"$f":"IFERROR(VLOOKUP($A191,Filtro!$A$5:$AY$629,36,FALSE),0)","v":170},{"$f":"IFERROR(VLOOKUP($A191,Filtro!$A$5:$AY$629,37,FALSE),0)","v":198},{"$f":"IFERROR(VLOOKUP($A191,Filtro!$A$5:$AY$629,38,FALSE),0)","v":129},{"$f":"IFERROR(VLOOKUP($A191,Filtro!$A$5:$AY$629,39,FALSE),0)","v":151},{"$f":"IFERROR(VLOOKUP($A191,Filtro!$A$5:$AY$629,40,FALSE),0)","v":116},{"$f":"IFERROR(VLOOKUP($A191,Filtro!$A$5:$AY$629,41,FALSE),0)","v":70},{"$f":"IFERROR(VLOOKUP($A191,Filtro!$A$5:$AY$629,42,FALSE),0)","v":65},{"$f":"IFERROR(VLOOKUP($A191,Filtro!$A$5:$AY$629,43,FALSE),0)","v":4},{"$f":"IFERROR(VLOOKUP($A191,Filtro!$A$5:$AY$629,44,FALSE),0)","v":4},{"$f":"IFERROR(VLOOKUP($A191,Filtro!$A$5:$AY$629,45,FALSE),0)","v":3},{"$f":"IFERROR(VLOOKUP($A191,Filtro!$A$5:$AY$629,46,FALSE),0)","v":2},{"$f":"CG191&CH191&CI191&CJ191","v":""},{"$nulls":35},{"$f":"IF(DF191=1,\"* No olvide escribir en las celdas de \"\"Pueblos Originarios\"\" (Digite Cero si no tiene).\",\"\")","v":""},{"$f":"IF(DG191=1,\"* No olvide escribir en las celdas de \"\"Población Migrante\"\" (Digite Cero si no tiene).\",\"\")","v":""},{"$f":"IF(DH191=1,\"* La suma de las celdas de \"\"Pueblos Originarios\"\"no debe superar el Total.\",\"\")","v":""},{"$f":"IF(DI191=1,\"* La suma de las celdas de \"\"Población Migrante\"\" no debe superar el Total.\",\"\")","v":""},{"$nulls":21},{"$f":"IF(AND($D191<>0,OR(AS191=\"\",AT191=\"\")),1,0)","v":0},{"$f":"IF(AND($D191<>0,OR(AU191=\"\",AV191=\"\")),1,0)","v":0},{"$f":"IF((AS191+AT191)>$D191,1,0)","v":0},{"$f":"IF((AV191+AU191)>$D191,1,0)","v":0}]
["P2501859","MEDIANA COMPLEJIDAD",null,{"$f":"SUM(E192:F192)","v":49},{"$f":"+G192+I192+K192+M192+O192+Q192+S192+U192+W192+Y192+AA192+AC192+AE192+AG192+AI192+AO192+AQ192+AK192+AM192","v":33},16,{"$f":"IFERROR(VLOOKUP($A192,Filtro!$A$5:$AY$629,5,FALSE),0)","v":0},{"$f":"IFERROR(VLOOKUP($A192,Filtro!$A$5:$AY$629,6,FALSE),0)","v":0},{"$f":"IFERROR(VLOOKUP($A192,Filtro!$A$5:$AY$629,7,FALSE),0)","v":0},{"$f":"IFERROR(VLOOKUP($A192,Filtro!$A$5:$AY$629,8,FALSE),0)","v":0},{"$f":"IFERROR(VLOOKUP($A192,Filtro!$A$5:$AY$629,9,FALSE),0)","v":3},{"$f":"IFERROR(VLOOKUP($A192,Filtro!$A$5:$AY$629,10,FALSE),0)","v":3},{"$f":"IFERROR(VLOOKUP($A192,Filtro!$A$5:$AY$629,11,FALSE),0)","v":0},{"$f":"IFERROR(VLOOKUP($A192,Filtro!$A$5:$AY$629,12,FALSE),0)","v":0},{"$f":"IFERROR(VLOOKUP($A192,Filtro!$A$5:$AY$629,13,FALSE),0)","v":0},{"$f":"IFERROR(VLOOKUP($A192,Filtro!$A$5:$AY$629,14,FALSE),0)","v":1},{"$f":"IFERROR(VLOOKUP($A192,Filtro!$A$5:$AY$629,15,FALSE),0)","v":1},{"$f":"IFERROR(VLOOKUP($A192,Filtro!$A$5:$AY$629,16,FALSE),0)","v":0},{"$f":"IFERROR(VLOOKUP($A192,Filtro!$A$5:$AY$629,17,FALSE),0)","v":1},{"$f":"IFERROR(VLOOKUP($A192,Filtro!$A$5:$AY$629,18,FALSE),0)","v":0},{"$f":"IFERROR(VLOOKUP($A192,Filtro!$A$5:$AY$629,19,FALSE),0)","v":0},{"$f":"IFERROR(VLOOKUP($A192,Filtro!$A$5:$AY$629,20,FALSE),0)","v":1},{"$f":"IFERROR(VLOOKUP($A192,Filtro!$A$5:$AY$629,21,FALSE),0)","v":1},{"$f":"IFERROR(VLOOKUP($A192,Filtro!$A$5:$AY$629,22,FALSE),0)","v":1},{"$f":"IFERROR(VLOOKUP($A192,Filtro!$A$5:$AY$629,23,FALSE),0)","v":4},{"$f":"IFERROR(VLOOKUP($A192,Filtro!$A$5:$AY$629,24,FALSE),0)","v":1},{"$f":"IFERROR(VLOOKUP($A192,Filtro!$A$5:$AY$629,25,FALSE),0)","v":1},{"$f":"IFERROR(VLOOKUP($A192,Filtro!$A$5:$AY$629,26,FALSE),0)","v":3},{"$f":"IFERROR(VLOOKUP($A192,Filtro!$A$5:$AY$629,27,FALSE),0)","v":3},{"$f":"IFERROR(VLOOKUP($A192,Filtro!$A$5:$AY$629,28,FALSE),0)","v":1},{"$f":"IFERROR(VLOOKUP($A192,Filtro!$A$5:$AY$629,29,FALSE),0)","v":0},{"$f":"IFERROR(VLOOKUP($A192,Filtro!$A$5:$AY$629,30,FALSE),0)","v":0},{"$f":"IFERROR(VLOOKUP($A192,Filtro!$A$5:$AY$629,31,FALSE),0)","v":5},{"$f":"IFERROR(VLOOKUP($A192,Filtro!$A$5:$AY$629,32,FALSE),0)","v":1},{"$f":"IFERROR(VLOOKUP($A192,Filtro!$A$5:$AY$629,33,FALSE),0)","v":3},{"$f":"IFERROR(VLOOKUP($A192,Filtro!$A$5:$AY$629,34,FALSE),0)","v":1},{"$f":"IFERROR(VLOOKUP($A192,Filtro!$A$5:$AY$629,35,FALSE),0)","v":7},{"$f":"IFERROR(VLOOKUP($A192,Filtro!$A$5:$AY$629,36,FALSE),0)","v":0},{"$f":"IFERROR(VLOOKUP($A192,Filtro!$A$5:$AY$629,37,FALSE),0)","v":2},{"$f":"IFERROR(VLOOKUP($A192,Filtro!$A$5:$AY$629,38,FALSE),0)","v":2},{"$f":"IFERROR(VLOOKUP($A192,Filtro!$A$5:$AY$629,39,FALSE),0)","v":1},{"$f":"IFERROR(VLOOKUP($A192,Filtro!$A$5:$AY$629,40,FALSE),0)","v":0},{"$f":"IFERROR(VLOOKUP($A192,Filtro!$A$5:$AY$629,41,FALSE),0)","v":1},{"$f":"IFERROR(VLOOKUP($A192,Filtro!$A$5:$AY$629,42,FALSE),0)","v":1},{"$f":"IFERROR(VLOOKUP($A192,Filtro!$A$5:$AY$629,43,FALSE),0)","v":0},{"$f":"IFERROR(VLOOKUP($A192,Filtro!$A$5:$AY$629,44,FALSE),0)","v":0},{"$f":"IFERROR(VLOOKUP($A192,Filtro!$A$5:$AY$629,45,FALSE),0)","v":0},{"$f":"IFERROR(VLOOKUP($A192,Filtro!$A$5:$AY$629,46,FALSE),0)","v":0},{"$f":"CG192&CH192&CI192&CJ192","v":""},{"$nulls":35},{"$f":"IF(DF192=1,\"* No olvide escribir en las celdas de \"\"Pueblos Originarios\"\" (Digite Cero si no tiene).\",\"\")","v":""},{"$f":"IF(DG192=1,\"* No olvide escribir en las celdas de \"\"Población Migrante\"\" (Digite Cero si no tiene).\",\"\")","v":""},{"$f":"IF(DH192=1,\"* La suma de las celdas de \"\"Pueblos Originarios\"\"no debe superar el Total.\",\"\")","v":""},{"$f":"IF(DI192=1,\"* La suma de las celdas de \"\"Población Migrante\"\" no debe superar el Total.\",\"\")","v":""},{"$nulls":21},{"$f":"IF(AND($D192<>0,OR(AS192=\"\",AT192=\"\")),1,0)","v":0},{"$f":"IF(AND($D192<>0,OR(AU192=\"\",AV192=\"\")),1,0)","v":0},{"$f":"IF((AS192+AT192)>$D192,1,0)","v":0},{"$f":"IF((AV192+AU192)>$D192,1,0)","v":0}]
["P2501860","ALTA COMPLEJIDAD",null,21,10,11,{"$f":"IFERROR(VLOOKUP($A193,Filtro!$A$5:$AY$629,5,FALSE),0)","v":0},{"$f":"IFERROR(VLOOKUP($A193,Filtro!$A$5:$AY$629,6,FALSE),0)","v":0},{"$f":"IFERROR(VLOOKUP($A193,Filtro!$A$5:$AY$629,7,FALSE),0)","v":0},{"$f":"IFERROR(VLOOKUP($A193,Filtro!$A$5:$AY$629,8,FALSE),0)","v":0},{"$f":"IFERROR(VLOOKUP($A193,Filtro!$A$5:$AY$629,9,FALSE),0)","v":0},{"$f":"IFERROR(VLOOKUP($A193,Filtro!$A$5:$AY$629,10,FALSE),0)","v":1},{"$f":"IFERROR(VLOOKUP($A193,Filtro!$A$5:$AY$629,11,FALSE),0)","v":0},{"$f":"IFERROR(VLOOKUP($A193,Filtro!$A$5:$AY$629,12,FALSE),0)","v":0},{"$f":"IFERROR(VLOOKUP($A193,Filtro!$A$5:$AY$629,13,FALSE),0)","v":0},{"$f":"IFERROR(VLOOKUP($A193,Filtro!$A$5:$AY$629,14,FALSE),0)","v":0},{"$f":"IFERROR(VLOOKUP($A193,Filtro!$A$5:$AY$629,15,FALSE),0)","v":0},{"$f":"IFERROR(VLOOKUP($A193,Filtro!$A$5:$AY$629,16,FALSE),0)","v":0},{"$f":"IFERROR(VLOOKUP($A193,Filtro!$A$5:$AY$629,17,FALSE),0)","v":2},{"$f":"IFERROR(VLOOKUP($A193,Filtro!$A$5:$AY$629,18,FALSE),0)","v":1},{"$f":"IFERROR(VLOOKUP($A193,Filtro!$A$5:$AY$629,19,FALSE),0)","v":0},{"$f":"IFERROR(VLOOKUP($A193,Filtro!$A$5:$AY$629,20,FALSE),0)","v":0},{"$f":"IFERROR(VLOOKUP($A193,Filtro!$A$5:$AY$629,21,FALSE),0)","v":0},{"$f":"IFERROR(VLOOKUP($A193,Filtro!$A$5:$AY$629,22,FALSE),0)","v":0},{"$f":"IFERROR(VLOOKUP($A193,Filtro!$A$5:$AY$629,23,FALSE),0)","v":0},{"$f":"IFERROR(VLOOKUP($A193,Filtro!$A$5:$AY$629,24,FALSE),0)","v":2},{"$f":"IFERROR(VLOOKUP($A193,Filtro!$A$5:$AY$629,25,FALSE),0)","v":0},{"$f":"IFERROR(VLOOKUP($A193,Filtro!$A$5:$AY$629,26,FALSE),0)","v":1},{"$f":"IFERROR(VLOOKUP($A193,Filtro!$A$5:$AY$629,27,FALSE),0)","v":0},{"$f":"IFERROR(VLOOKUP($A193,Filtro!$A$5:$AY$629,28,FALSE),0)","v":0},{"$f":"IFERROR(VLOOKUP($A193,Filtro!$A$5:$AY$629,29,FALSE),0)","v":0},{"$f":"IFERROR(VLOOKUP($A193,Filtro!$A$5:$AY$629,30,FALSE),0)","v":0},{"$f":"IFERROR(VLOOKUP($A193,Filtro!$A$5:$AY$629,31,FALSE),0)","v":1},{"$f":"IFERROR(VLOOKUP($A193,Filtro!$A$5:$AY$629,32,FALSE),0)","v":1},{"$f":"IFERROR(VLOOKUP($A193,Filtro!$A$5:$AY$629,33,FALSE),0)","v":0},{"$f":"IFERROR(VLOOKUP($A193,Filtro!$A$5:$AY$629,34,FALSE),0)","v":4},{"$f":"IFERROR(VLOOKUP($A193,Filtro!$A$5:$AY$629,35,FALSE),0)","v":3},{"$f":"IFERROR(VLOOKUP($A193,Filtro!$A$5:$AY$629,36,FALSE),0)","v":0},{"$f":"IFERROR(VLOOKUP($A193,Filtro!$A$5:$AY$629,37,FALSE),0)","v":2},{"$f":"IFERROR(VLOOKUP($A193,Filtro!$A$5:$AY$629,38,FALSE),0)","v":0},{"$f":"IFERROR(VLOOKUP($A193,Filtro!$A$5:$AY$629,39,FALSE),0)","v":0},{"$f":"IFERROR(VLOOKUP($A193,Filtro!$A$5:$AY$629,40,FALSE),0)","v":1},{"$f":"IFERROR(VLOOKUP($A193,Filtro!$A$5:$AY$629,41,FALSE),0)","v":2},{"$f":"IFERROR(VLOOKUP($A193,Filtro!$A$5:$AY$629,42,FALSE),0)","v":0},{"$f":"IFERROR(VLOOKUP($A193,Filtro!$A$5:$AY$629,43,FALSE),0)","v":0},{"$f":"IFERROR(VLOOKUP($A193,Filtro!$A$5:$AY$629,44,FALSE),0)","v":0},{"$f":"IFERROR(VLOOKUP($A193,Filtro!$A$5:$AY$629,45,FALSE),0)","v":0},{"$f":"IFERROR(VLOOKUP($A193,Filtro!$A$5:$AY$629,46,FALSE),0)","v":0},"",{"$nulls":35},"","","","",{"$nulls":21},0,0,0,0]
[null,"SECCION J: POBLACIÓN EN CONTROL, SEGÚN RIESGO ODONTOLÓGICO Y DAÑO POR CARIES"]
[null,"INDICADOR ODONTOLÓGICO\nY\nPARÁMETROS DE MEDICIÓN",null,"TOTAL",null,null,"GRUPOS DE EDAD  Y SEXO",{"$nulls":19},"Pueblos Originarios",null," Migrantes",null,"Usuarios con Discapacidad",null,"Niños y Niñas Red Mejor Niñez",null,"Niños y Niñas Red SENAME"]
[{"$nulls":6},"< 1 AÑO",null,"1 AÑO",null,"2 AÑOS",null,"3 AÑOS",null,"4 AÑOS",null,"5 AÑOS",null,"6 AÑOS",null,"7 AÑOS",null,"8 AÑOS",null,"9 AÑOS "]
[{"$nulls":3},"Ambos sexos","Hombres","Mujeres","Hombres","Mujeres","Hombres","Mujeres","Hombres","Mujeres","Hombres","Mujeres","Hombres","Mujeres","Hombres","Mujeres","Hombres","Mujeres","Hombres","Mujeres","Hombres","Mujeres","Hombres","Mujeres","Hombres","Mujeres","Hombres","Mujeres","Hombres","Mujeres","Hombres","Mujeres","Hombres","Mujeres"]
[null,"TOTAL DE NIÑOS(AS) EN CONTROL CON ENFOQUE DE RIESGO ODONTOLÓGICO",null,{"$f":"SUM(E198:F198)","v":34415},{"$f":"+G198+I198+K198+M198+O198+Q198+S198+U198+W198+Y198","v":17435},{"$f":"+H198+J198+L198+N198+P198+R198+T198+V198+X198+Z198","v":16980},{"$f":"+G201+G208","v":2484},{"$f":"+H201+H208","v":2136},1990,2077,1726,1630,1545,1413,1525,1470,1494,1638,2183,2162,1559,1532,1526,1517,1403,1405,66,67,169,245,29,24,42,46,48,{"$f":"+AJ201+AJ208","v":34}]
["P2501861","EVALUACIÓN DE RIESGO SEGÚN PAUTA CERO","ALTO RIESGO ",{"$f":"SUM(E199:F199)","v":8308},4235,4073,{"$f":"IFERROR(VLOOKUP($A199,Filtro!$A$5:$AY$629,5,FALSE),0)","v":437},{"$f":"IFERROR(VLOOKUP($A199,Filtro!$A$5:$AY$629,6,FALSE),0)","v":424},{"$f":"IFERROR(VLOOKUP($A199,Filtro!$A$5:$AY$629,7,FALSE),0)","v":357},{"$f":"IFERROR(VLOOKUP($A199,Filtro!$A$5:$AY$629,8,FALSE),0)","v":373},{"$f":"IFERROR(VLOOKUP($A199,Filtro!$A$5:$AY$629,9,FALSE),0)","v":407},{"$f":"IFERROR(VLOOKUP($A199,Filtro!$A$5:$AY$629,10,FALSE),0)","v":368},{"$f":"IFERROR(VLOOKUP($A199,Filtro!$A$5:$AY$629,11,FALSE),0)","v":367},{"$f":"IFERROR(VLOOKUP($A199,Filtro!$A$5:$AY$629,12,FALSE),0)","v":344},{"$f":"IFERROR(VLOOKUP($A199,Filtro!$A$5:$AY$629,13,FALSE),0)","v":400},{"$f":"IFERROR(VLOOKUP($A199,Filtro!$A$5:$AY$629,14,FALSE),0)","v":362},{"$f":"IFERROR(VLOOKUP($A199,Filtro!$A$5:$AY$629,15,FALSE),0)","v":426},{"$f":"IFERROR(VLOOKUP($A199,Filtro!$A$5:$AY$629,16,FALSE),0)","v":427},{"$f":"IFERROR(VLOOKUP($A199,Filtro!$A$5:$AY$629,17,FALSE),0)","v":518},{"$f":"IFERROR(VLOOKUP($A199,Filtro!$A$5:$AY$629,18,FALSE),0)","v":519},{"$f":"IFERROR(VLOOKUP($A199,Filtro!$A$5:$AY$629,19,FALSE),0)","v":425},{"$f":"IFERROR(VLOOKUP($A199,Filtro!$A$5:$AY$629,20,FALSE),0)","v":413},{"$f":"IFERROR(VLOOKUP($A199,Filtro!$A$5:$AY$629,21,FALSE),0)","v":464},{"$f":"IFERROR(VLOOKUP($A199,Filtro!$A$5:$AY$629,22,FALSE),0)","v":480},{"$f":"IFERROR(VLOOKUP($A199,Filtro!$A$5:$AY$629,23,FALSE),0)","v":434},{"$f":"IFERROR(VLOOKUP($A199,Filtro!$A$5:$AY$629,24,FALSE),0)","v":363},{"$f":"IFERROR(VLOOKUP($A199,Filtro!$A$5:$AY$629,25,FALSE),0)","v":14},{"$f":"IFERROR(VLOOKUP($A199,Filtro!$A$5:$AY$629,26,FALSE),0)","v":13},{"$f":"IFERROR(VLOOKUP($A199,Filtro!$A$5:$AY$629,27,FALSE),0)","v":32},{"$f":"IFERROR(VLOOKUP($A199,Filtro!$A$5:$AY$629,28,FALSE),0)","v":45},{"$f":"IFERROR(VLOOKUP($A199,Filtro!$A$5:$AY$629,29,FALSE),0)","v":9},{"$f":"IFERROR(VLOOKUP($A199,Filtro!$A$5:$AY$629,30,FALSE),0)","v":12},{"$f":"IFERROR(VLOOKUP($A199,Filtro!$A$5:$AY$629,31,FALSE),0)","v":4},{"$f":"IFERROR(VLOOKUP($A199,Filtro!$A$5:$AY$629,32,FALSE),0)","v":2},{"$f":"IFERROR(VLOOKUP($A199,Filtro!$A$5:$AY$629,33,FALSE),0)","v":12},{"$f":"IFERROR(VLOOKUP($A199,Filtro!$A$5:$AY$629,34,FALSE),0)","v":7}]
["P2501862",null,"BAJO RIESGO ",7670,3809,3861,{"$f":"IFERROR(VLOOKUP($A200,Filtro!$A$5:$AY$629,5,FALSE),0)","v":664},{"$f":"IFERROR(VLOOKUP($A200,Filtro!$A$5:$AY$629,6,FALSE),0)","v":638},{"$f":"IFERROR(VLOOKUP($A200,Filtro!$A$5:$AY$629,7,FALSE),0)","v":623},{"$f":"IFERROR(VLOOKUP($A200,Filtro!$A$5:$AY$629,8,FALSE),0)","v":677},{"$f":"IFERROR(VLOOKUP($A200,Filtro!$A$5:$AY$629,9,FALSE),0)","v":438},{"$f":"IFERROR(VLOOKUP($A200,Filtro!$A$5:$AY$629,10,FALSE),0)","v":430},{"$f":"IFERROR(VLOOKUP($A200,Filtro!$A$5:$AY$629,11,FALSE),0)","v":398},{"$f":"IFERROR(VLOOKUP($A200,Filtro!$A$5:$AY$629,12,FALSE),0)","v":363},{"$f":"IFERROR(VLOOKUP($A200,Filtro!$A$5:$AY$629,13,FALSE),0)","v":328},{"$f":"IFERROR(VLOOKUP($A200,Filtro!$A$5:$AY$629,14,FALSE),0)","v":319},{"$f":"IFERROR(VLOOKUP($A200,Filtro!$A$5:$AY$629,15,FALSE),0)","v":269},{"$f":"IFERROR(VLOOKUP($A200,Filtro!$A$5:$AY$629,16,FALSE),0)","v":322},{"$f":"IFERROR(VLOOKUP($A200,Filtro!$A$5:$AY$629,17,FALSE),0)","v":435},{"$f":"IFERROR(VLOOKUP($A200,Filtro!$A$5:$AY$629,18,FALSE),0)","v":432},{"$f":"IFERROR(VLOOKUP($A200,Filtro!$A$5:$AY$629,19,FALSE),0)","v":263},{"$f":"IFERROR(VLOOKUP($A200,Filtro!$A$5:$AY$629,20,FALSE),0)","v":272},{"$f":"IFERROR(VLOOKUP($A200,Filtro!$A$5:$AY$629,21,FALSE),0)","v":220},{"$f":"IFERROR(VLOOKUP($A200,Filtro!$A$5:$AY$629,22,FALSE),0)","v":202},{"$f":"IFERROR(VLOOKUP($A200,Filtro!$A$5:$AY$629,23,FALSE),0)","v":171},{"$f":"IFERROR(VLOOKUP($A200,Filtro!$A$5:$AY$629,24,FALSE),0)","v":206},{"$f":"IFERROR(VLOOKUP($A200,Filtro!$A$5:$AY$629,25,FALSE),0)","v":24},{"$f":"IFERROR(VLOOKUP($A200,Filtro!$A$5:$AY$629,26,FALSE),0)","v":25},{"$f":"IFERROR(VLOOKUP($A200,Filtro!$A$5:$AY$629,27,FALSE),0)","v":20},{"$f":"IFERROR(VLOOKUP($A200,Filtro!$A$5:$AY$629,28,FALSE),0)","v":43},{"$f":"IFERROR(VLOOKUP($A200,Filtro!$A$5:$AY$629,29,FALSE),0)","v":3},{"$f":"IFERROR(VLOOKUP($A200,Filtro!$A$5:$AY$629,30,FALSE),0)","v":1},{"$f":"IFERROR(VLOOKUP($A200,Filtro!$A$5:$AY$629,31,FALSE),0)","v":9},{"$f":"IFERROR(VLOOKUP($A200,Filtro!$A$5:$AY$629,32,FALSE),0)","v":12},{"$f":"IFERROR(VLOOKUP($A200,Filtro!$A$5:$AY$629,33,FALSE),0)","v":5},{"$f":"IFERROR(VLOOKUP($A200,Filtro!$A$5:$AY$629,34,FALSE),0)","v":6}]
[null,null,"TOTAL ",{"$f":"SUM(E201:F201)","v":15978},{"$f":"+G201+I201+K201+M201+O201+Q201+S201+U201+W201+Y201","v":8044},{"$f":"+H201+J201+L201+N201+P201+R201+T201+V201+X201+Z201","v":7934},{"$f":"SUM(G199:G200)","v":1101},{"$f":"SUM(H199:H200)","v":1062},980,1050,845,798,765,707,728,681,695,749,953,951,688,685,684,682,605,569,38,38,52,88,12,13,13,14,17,13]
["P2501863","EVALUACIÓN DE DAÑO POR CARIES SEGÚN ÍNDICE ceod O COPD",0,{"$f":"SUM(E202:F202)","v":11117},{"$f":"+G202+I202+K202+M202+O202+Q202+S202+U202+W202+Y202","v":5675},5442,{"$f":"IFERROR(VLOOKUP($A202,Filtro!$A$5:$AY$629,5,FALSE),0)","v":1230},{"$f":"IFERROR(VLOOKUP($A202,Filtro!$A$5:$AY$629,6,FALSE),0)","v":1068},{"$f":"IFERROR(VLOOKUP($A202,Filtro!$A$5:$AY$629,7,FALSE),0)","v":963},{"$f":"IFERROR(VLOOKUP($A202,Filtro!$A$5:$AY$629,8,FALSE),0)","v":990},{"$f":"IFERROR(VLOOKUP($A202,Filtro!$A$5:$AY$629,9,FALSE),0)","v":763},{"$f":"IFERROR(VLOOKUP($A202,Filtro!$A$5:$AY$629,10,FALSE),0)","v":692},{"$f":"IFERROR(VLOOKUP($A202,Filtro!$A$5:$AY$629,11,FALSE),0)","v":517},{"$f":"IFERROR(VLOOKUP($A202,Filtro!$A$5:$AY$629,12,FALSE),0)","v":436},{"$f":"IFERROR(VLOOKUP($A202,Filtro!$A$5:$AY$629,13,FALSE),0)","v":433},{"$f":"IFERROR(VLOOKUP($A202,Filtro!$A$5:$AY$629,14,FALSE),0)","v":403},{"$f":"IFERROR(VLOOKUP($A202,Filtro!$A$5:$AY$629,15,FALSE),0)","v":311},{"$f":"IFERROR(VLOOKUP($A202,Filtro!$A$5:$AY$629,16,FALSE),0)","v":331},{"$f":"IFERROR(VLOOKUP($A202,Filtro!$A$5:$AY$629,17,FALSE),0)","v":561},{"$f":"IFERROR(VLOOKUP($A202,Filtro!$A$5:$AY$629,18,FALSE),0)","v":573},{"$f":"IFERROR(VLOOKUP($A202,Filtro!$A$5:$AY$629,19,FALSE),0)","v":329},{"$f":"IFERROR(VLOOKUP($A202,Filtro!$A$5:$AY$629,20,FALSE),0)","v":335},{"$f":"IFERROR(VLOOKUP($A202,Filtro!$A$5:$AY$629,21,FALSE),0)","v":276},{"$f":"IFERROR(VLOOKUP($A202,Filtro!$A$5:$AY$629,22,FALSE),0)","v":298},{"$f":"IFERROR(VLOOKUP($A202,Filtro!$A$5:$AY$629,23,FALSE),0)","v":292},{"$f":"IFERROR(VLOOKUP($A202,Filtro!$A$5:$AY$629,24,FALSE),0)","v":316},{"$f":"IFERROR(VLOOKUP($A202,Filtro!$A$5:$AY$629,25,FALSE),0)","v":21},{"$f":"IFERROR(VLOOKUP($A202,Filtro!$A$5:$AY$629,26,FALSE),0)","v":20},{"$f":"IFERROR(VLOOKUP($A202,Filtro!$A$5:$AY$629,27,FALSE),0)","v":36},{"$f":"IFERROR(VLOOKUP($A202,Filtro!$A$5:$AY$629,28,FALSE),0)","v":55},{"$f":"IFERROR(VLOOKUP($A202,Filtro!$A$5:$AY$629,29,FALSE),0)","v":3},{"$f":"IFERROR(VLOOKUP($A202,Filtro!$A$5:$AY$629,30,FALSE),0)","v":6},{"$f":"IFERROR(VLOOKUP($A202,Filtro!$A$5:$AY$629,31,FALSE),0)","v":4},{"$f":"IFERROR(VLOOKUP($A202,Filtro!$A$5:$AY$629,32,FALSE),0)","v":5},{"$f":"IFERROR(VLOOKUP($A202,Filtro!$A$5:$AY$629,33,FALSE),0)","v":10},{"$f":"IFERROR(VLOOKUP($A202,Filtro!$A$5:$AY$629,34,FALSE),0)","v":3}]
["P2501864",null,"1 a 2",2847,1420,1427,{"$f":"IFERROR(VLOOKUP($A203,Filtro!$A$5:$AY$629,5,FALSE),0)","v":81},{"$f":"IFERROR(VLOOKUP($A203,Filtro!$A$5:$AY$629,6,FALSE),0)","v":5},{"$f":"IFERROR(VLOOKUP($A203,Filtro!$A$5:$AY$629,7,FALSE),0)","v":38},{"$f":"IFERROR(VLOOKUP($A203,Filtro!$A$5:$AY$629,8,FALSE),0)","v":26},{"$f":"IFERROR(VLOOKUP($A203,Filtro!$A$5:$AY$629,9,FALSE),0)","v":63},{"$f":"IFERROR(VLOOKUP($A203,Filtro!$A$5:$AY$629,10,FALSE),0)","v":68},{"$f":"IFERROR(VLOOKUP($A203,Filtro!$A$5:$AY$629,11,FALSE),0)","v":120},{"$f":"IFERROR(VLOOKUP($A203,Filtro!$A$5:$AY$629,12,FALSE),0)","v":106},{"$f":"IFERROR(VLOOKUP($A203,Filtro!$A$5:$AY$629,13,FALSE),0)","v":151},{"$f":"IFERROR(VLOOKUP($A203,Filtro!$A$5:$AY$629,14,FALSE),0)","v":148},{"$f":"IFERROR(VLOOKUP($A203,Filtro!$A$5:$AY$629,15,FALSE),0)","v":168},{"$f":"IFERROR(VLOOKUP($A203,Filtro!$A$5:$AY$629,16,FALSE),0)","v":202},{"$f":"IFERROR(VLOOKUP($A203,Filtro!$A$5:$AY$629,17,FALSE),0)","v":229},{"$f":"IFERROR(VLOOKUP($A203,Filtro!$A$5:$AY$629,18,FALSE),0)","v":227},{"$f":"IFERROR(VLOOKUP($A203,Filtro!$A$5:$AY$629,19,FALSE),0)","v":199},{"$f":"IFERROR(VLOOKUP($A203,Filtro!$A$5:$AY$629,20,FALSE),0)","v":212},{"$f":"IFERROR(VLOOKUP($A203,Filtro!$A$5:$AY$629,21,FALSE),0)","v":184},{"$f":"IFERROR(VLOOKUP($A203,Filtro!$A$5:$AY$629,22,FALSE),0)","v":223},{"$f":"IFERROR(VLOOKUP($A203,Filtro!$A$5:$AY$629,23,FALSE),0)","v":187},{"$f":"IFERROR(VLOOKUP($A203,Filtro!$A$5:$AY$629,24,FALSE),0)","v":210},{"$f":"IFERROR(VLOOKUP($A203,Filtro!$A$5:$AY$629,25,FALSE),0)","v":0},{"$f":"IFERROR(VLOOKUP($A203,Filtro!$A$5:$AY$629,26,FALSE),0)","v":1},{"$f":"IFERROR(VLOOKUP($A203,Filtro!$A$5:$AY$629,27,FALSE),0)","v":37},{"$f":"IFERROR(VLOOKUP($A203,Filtro!$A$5:$AY$629,28,FALSE),0)","v":56},{"$f":"IFERROR(VLOOKUP($A203,Filtro!$A$5:$AY$629,29,FALSE),0)","v":3},{"$f":"IFERROR(VLOOKUP($A203,Filtro!$A$5:$AY$629,30,FALSE),0)","v":3},{"$f":"IFERROR(VLOOKUP($A203,Filtro!$A$5:$AY$629,31,FALSE),0)","v":10},{"$f":"IFERROR(VLOOKUP($A203,Filtro!$A$5:$AY$629,32,FALSE),0)","v":11},{"$f":"IFERROR(VLOOKUP($A203,Filtro!$A$5:$AY$629,33,FALSE),0)","v":7},{"$f":"IFERROR(VLOOKUP($A203,Filtro!$A$5:$AY$629,34,FALSE),0)","v":7}]
["P2501865",null,"3 a 4",1919,959,960,{"$f":"IFERROR(VLOOKUP($A204,Filtro!$A$5:$AY$629,5,FALSE),0)","v":43},{"$f":"IFERROR(VLOOKUP($A204,Filtro!$A$5:$AY$629,6,FALSE),0)","v":0},{"$f":"IFERROR(VLOOKUP($A204,Filtro!$A$5:$AY$629,7,FALSE),0)","v":6},{"$f":"IFERROR(VLOOKUP($A204,Filtro!$A$5:$AY$629,8,FALSE),0)","v":8},{"$f":"IFERROR(VLOOKUP($A204,Filtro!$A$5:$AY$629,9,FALSE),0)","v":26},{"$f":"IFERROR(VLOOKUP($A204,Filtro!$A$5:$AY$629,10,FALSE),0)","v":45},{"$f":"IFERROR(VLOOKUP($A204,Filtro!$A$5:$AY$629,11,FALSE),0)","v":76},{"$f":"IFERROR(VLOOKUP($A204,Filtro!$A$5:$AY$629,12,FALSE),0)","v":85},{"$f":"IFERROR(VLOOKUP($A204,Filtro!$A$5:$AY$629,13,FALSE),0)","v":105},{"$f":"IFERROR(VLOOKUP($A204,Filtro!$A$5:$AY$629,14,FALSE),0)","v":117},{"$f":"IFERROR(VLOOKUP($A204,Filtro!$A$5:$AY$629,15,FALSE),0)","v":127},{"$f":"IFERROR(VLOOKUP($A204,Filtro!$A$5:$AY$629,16,FALSE),0)","v":149},{"$f":"IFERROR(VLOOKUP($A204,Filtro!$A$5:$AY$629,17,FALSE),0)","v":145},{"$f":"IFERROR(VLOOKUP($A204,Filtro!$A$5:$AY$629,18,FALSE),0)","v":162},{"$f":"IFERROR(VLOOKUP($A204,Filtro!$A$5:$AY$629,19,FALSE),0)","v":127},{"$f":"IFERROR(VLOOKUP($A204,Filtro!$A$5:$AY$629,20,FALSE),0)","v":114},{"$f":"IFERROR(VLOOKUP($A204,Filtro!$A$5:$AY$629,21,FALSE),0)","v":160},{"$f":"IFERROR(VLOOKUP($A204,Filtro!$A$5:$AY$629,22,FALSE),0)","v":134},{"$f":"IFERROR(VLOOKUP($A204,Filtro!$A$5:$AY$629,23,FALSE),0)","v":144},{"$f":"IFERROR(VLOOKUP($A204,Filtro!$A$5:$AY$629,24,FALSE),0)","v":146},{"$f":"IFERROR(VLOOKUP($A204,Filtro!$A$5:$AY$629,25,FALSE),0)","v":2},{"$f":"IFERROR(VLOOKUP($A204,Filtro!$A$5:$AY$629,26,FALSE),0)","v":6},{"$f":"IFERROR(VLOOKUP($A204,Filtro!$A$5:$AY$629,27,FALSE),0)","v":14},{"$f":"IFERROR(VLOOKUP($A204,Filtro!$A$5:$AY$629,28,FALSE),0)","v":16},{"$f":"IFERROR(VLOOKUP($A204,Filtro!$A$5:$AY$629,29,FALSE),0)","v":2},{"$f":"IFERROR(VLOOKUP($A204,Filtro!$A$5:$AY$629,30,FALSE),0)","v":0},{"$f":"IFERROR(VLOOKUP($A204,Filtro!$A$5:$AY$629,31,FALSE),0)","v":9},{"$f":"IFERROR(VLOOKUP($A204,Filtro!$A$5:$AY$629,32,FALSE),0)","v":9},{"$f":"IFERROR(VLOOKUP($A204,Filtro!$A$5:$AY$629,33,FALSE),0)","v":8},{"$f":"IFERROR(VLOOKUP($A204,Filtro!$A$5:$AY$629,34,FALSE),0)","v":7}]
["P2501866",null,"5 a 6",1190,587,603,{"$f":"IFERROR(VLOOKUP($A205,Filtro!$A$5:$AY$629,5,FALSE),0)","v":13},{"$f":"IFERROR(VLOOKUP($A205,Filtro!$A$5:$AY$629,6,FALSE),0)","v":1},{"$f":"IFERROR(VLOOKUP($A205,Filtro!$A$5:$AY$629,7,FALSE),0)","v":3},{"$f":"IFERROR(VLOOKUP($A205,Filtro!$A$5:$AY$629,8,FALSE),0)","v":2},{"$f":"IFERROR(VLOOKUP($A205,Filtro!$A$5:$AY$629,9,FALSE),0)","v":13},{"$f":"IFERROR(VLOOKUP($A205,Filtro!$A$5:$AY$629,10,FALSE),0)","v":15},{"$f":"IFERROR(VLOOKUP($A205,Filtro!$A$5:$AY$629,11,FALSE),0)","v":33},{"$f":"IFERROR(VLOOKUP($A205,Filtro!$A$5:$AY$629,12,FALSE),0)","v":47},{"$f":"IFERROR(VLOOKUP($A205,Filtro!$A$5:$AY$629,13,FALSE),0)","v":49},{"$f":"IFERROR(VLOOKUP($A205,Filtro!$A$5:$AY$629,14,FALSE),0)","v":57},{"$f":"IFERROR(VLOOKUP($A205,Filtro!$A$5:$AY$629,15,FALSE),0)","v":81},{"$f":"IFERROR(VLOOKUP($A205,Filtro!$A$5:$AY$629,16,FALSE),0)","v":103},{"$f":"IFERROR(VLOOKUP($A205,Filtro!$A$5:$AY$629,17,FALSE),0)","v":128},{"$f":"IFERROR(VLOOKUP($A205,Filtro!$A$5:$AY$629,18,FALSE),0)","v":119},{"$f":"IFERROR(VLOOKUP($A205,Filtro!$A$5:$AY$629,19,FALSE),0)","v":85},{"$f":"IFERROR(VLOOKUP($A205,Filtro!$A$5:$AY$629,20,FALSE),0)","v":89},{"$f":"IFERROR(VLOOKUP($A205,Filtro!$A$5:$AY$629,21,FALSE),0)","v":98},{"$f":"IFERROR(VLOOKUP($A205,Filtro!$A$5:$AY$629,22,FALSE),0)","v":85},{"$f":"IFERROR(VLOOKUP($A205,Filtro!$A$5:$AY$629,23,FALSE),0)","v":84},{"$f":"IFERROR(VLOOKUP($A205,Filtro!$A$5:$AY$629,24,FALSE),0)","v":85},{"$f":"IFERROR(VLOOKUP($A205,Filtro!$A$5:$AY$629,25,FALSE),0)","v":3},{"$f":"IFERROR(VLOOKUP($A205,Filtro!$A$5:$AY$629,26,FALSE),0)","v":1},{"$f":"IFERROR(VLOOKUP($A205,Filtro!$A$5:$AY$629,27,FALSE),0)","v":9},{"$f":"IFERROR(VLOOKUP($A205,Filtro!$A$5:$AY$629,28,FALSE),0)","v":8},{"$f":"IFERROR(VLOOKUP($A205,Filtro!$A$5:$AY$629,29,FALSE),0)","v":2},{"$f":"IFERROR(VLOOKUP($A205,Filtro!$A$5:$AY$629,30,FALSE),0)","v":1},{"$f":"IFERROR(VLOOKUP($A205,Filtro!$A$5:$AY$629,31,FALSE),0)","v":2},{"$f":"IFERROR(VLOOKUP($A205,Filtro!$A$5:$AY$629,32,FALSE),0)","v":3},{"$f":"IFERROR(VLOOKUP($A205,Filtro!$A$5:$AY$629,33,FALSE),0)","v":3},{"$f":"IFERROR(VLOOKUP($A205,Filtro!$A$5:$AY$629,34,FALSE),0)","v":1}]
["P2501867",null,"7 a 8",753,409,344,{"$f":"IFERROR(VLOOKUP($A206,Filtro!$A$5:$AY$629,5,FALSE),0)","v":12},{"$f":"IFERROR(VLOOKUP($A206,Filtro!$A$5:$AY$629,6,FALSE),0)","v":0},{"$f":"IFERROR(VLOOKUP($A206,Filtro!$A$5:$AY$629,7,FALSE),0)","v":0},{"$f":"IFERROR(VLOOKUP($A206,Filtro!$A$5:$AY$629,8,FALSE),0)","v":1},{"$f":"IFERROR(VLOOKUP($A206,Filtro!$A$5:$AY$629,9,FALSE),0)","v":12},{"$f":"IFERROR(VLOOKUP($A206,Filtro!$A$5:$AY$629,10,FALSE),0)","v":6},{"$f":"IFERROR(VLOOKUP($A206,Filtro!$A$5:$AY$629,11,FALSE),0)","v":20},{"$f":"IFERROR(VLOOKUP($A206,Filtro!$A$5:$AY$629,12,FALSE),0)","v":16},{"$f":"IFERROR(VLOOKUP($A206,Filtro!$A$5:$AY$629,13,FALSE),0)","v":32},{"$f":"IFERROR(VLOOKUP($A206,Filtro!$A$5:$AY$629,14,FALSE),0)","v":30},{"$f":"IFERROR(VLOOKUP($A206,Filtro!$A$5:$AY$629,15,FALSE),0)","v":58},{"$f":"IFERROR(VLOOKUP($A206,Filtro!$A$5:$AY$629,16,FALSE),0)","v":54},{"$f":"IFERROR(VLOOKUP($A206,Filtro!$A$5:$AY$629,17,FALSE),0)","v":75},{"$f":"IFERROR(VLOOKUP($A206,Filtro!$A$5:$AY$629,18,FALSE),0)","v":65},{"$f":"IFERROR(VLOOKUP($A206,Filtro!$A$5:$AY$629,19,FALSE),0)","v":70},{"$f":"IFERROR(VLOOKUP($A206,Filtro!$A$5:$AY$629,20,FALSE),0)","v":63},{"$f":"IFERROR(VLOOKUP($A206,Filtro!$A$5:$AY$629,21,FALSE),0)","v":76},{"$f":"IFERROR(VLOOKUP($A206,Filtro!$A$5:$AY$629,22,FALSE),0)","v":54},{"$f":"IFERROR(VLOOKUP($A206,Filtro!$A$5:$AY$629,23,FALSE),0)","v":54},{"$f":"IFERROR(VLOOKUP($A206,Filtro!$A$5:$AY$629,24,FALSE),0)","v":55},{"$f":"IFERROR(VLOOKUP($A206,Filtro!$A$5:$AY$629,25,FALSE),0)","v":1},{"$f":"IFERROR(VLOOKUP($A206,Filtro!$A$5:$AY$629,26,FALSE),0)","v":0},{"$f":"IFERROR(VLOOKUP($A206,Filtro!$A$5:$AY$629,27,FALSE),0)","v":8},{"$f":"IFERROR(VLOOKUP($A206,Filtro!$A$5:$AY$629,28,FALSE),0)","v":5},{"$f":"IFERROR(VLOOKUP($A206,Filtro!$A$5:$AY$629,29,FALSE),0)","v":4},{"$f":"IFERROR(VLOOKUP($A206,Filtro!$A$5:$AY$629,30,FALSE),0)","v":1},{"$f":"IFERROR(VLOOKUP($A206,Filtro!$A$5:$AY$629,31,FALSE),0)","v":3},{"$f":"IFERROR(VLOOKUP($A206,Filtro!$A$5:$AY$629,32,FALSE),0)","v":2},{"$f":"IFERROR(VLOOKUP($A206,Filtro!$A$5:$AY$629,33,FALSE),0)","v":2},{"$f":"IFERROR(VLOOKUP($A206,Filtro!$A$5:$AY$629,34,FALSE),0)","v":2}]
["P2501868",null,"9 o más",611,341,270,{"$f":"IFERROR(VLOOKUP($A207,Filtro!$A$5:$AY$629,5,FALSE),0)","v":4},{"$f":"IFERROR(VLOOKUP($A207,Filtro!$A$5:$AY$629,6,FALSE),0)","v":0},{"$f":"IFERROR(VLOOKUP($A207,Filtro!$A$5:$AY$629,7,FALSE),0)","v":0},{"$f":"IFERROR(VLOOKUP($A207,Filtro!$A$5:$AY$629,8,FALSE),0)","v":0},{"$f":"IFERROR(VLOOKUP($A207,Filtro!$A$5:$AY$629,9,FALSE),0)","v":4},{"$f":"IFERROR(VLOOKUP($A207,Filtro!$A$5:$AY$629,10,FALSE),0)","v":6},{"$f":"IFERROR(VLOOKUP($A207,Filtro!$A$5:$AY$629,11,FALSE),0)","v":14},{"$f":"IFERROR(VLOOKUP($A207,Filtro!$A$5:$AY$629,12,FALSE),0)","v":16},{"$f":"IFERROR(VLOOKUP($A207,Filtro!$A$5:$AY$629,13,FALSE),0)","v":27},{"$f":"IFERROR(VLOOKUP($A207,Filtro!$A$5:$AY$629,14,FALSE),0)","v":34},{"$f":"IFERROR(VLOOKUP($A207,Filtro!$A$5:$AY$629,15,FALSE),0)","v":54},{"$f":"IFERROR(VLOOKUP($A207,Filtro!$A$5:$AY$629,16,FALSE),0)","v":50},{"$f":"IFERROR(VLOOKUP($A207,Filtro!$A$5:$AY$629,17,FALSE),0)","v":92},{"$f":"IFERROR(VLOOKUP($A207,Filtro!$A$5:$AY$629,18,FALSE),0)","v":65},{"$f":"IFERROR(VLOOKUP($A207,Filtro!$A$5:$AY$629,19,FALSE),0)","v":61},{"$f":"IFERROR(VLOOKUP($A207,Filtro!$A$5:$AY$629,20,FALSE),0)","v":34},{"$f":"IFERROR(VLOOKUP($A207,Filtro!$A$5:$AY$629,21,FALSE),0)","v":48},{"$f":"IFERROR(VLOOKUP($A207,Filtro!$A$5:$AY$629,22,FALSE),0)","v":41},{"$f":"IFERROR(VLOOKUP($A207,Filtro!$A$5:$AY$629,23,FALSE),0)","v":37},{"$f":"IFERROR(VLOOKUP($A207,Filtro!$A$5:$AY$629,24,FALSE),0)","v":24},{"$f":"IFERROR(VLOOKUP($A207,Filtro!$A$5:$AY$629,25,FALSE),0)","v":1},{"$f":"IFERROR(VLOOKUP($A207,Filtro!$A$5:$AY$629,26,FALSE),0)","v":1},{"$f":"IFERROR(VLOOKUP($A207,Filtro!$A$5:$AY$629,27,FALSE),0)","v":13},{"$f":"IFERROR(VLOOKUP($A207,Filtro!$A$5:$AY$629,28,FALSE),0)","v":17},{"$f":"IFERROR(VLOOKUP($A207,Filtro!$A$5:$AY$629,29,FALSE),0)","v":3},{"$f":"IFERROR(VLOOKUP($A207,Filtro!$A$5:$AY$629,30,FALSE),0)","v":0},{"$f":"IFERROR(VLOOKUP($A207,Filtro!$A$5:$AY$629,31,FALSE),0)","v":1},{"$f":"IFERROR(VLOOKUP($A207,Filtro!$A$5:$AY$629,32,FALSE),0)","v":2},{"$f":"IFERROR(VLOOKUP($A207,Filtro!$A$5:$AY$629,33,FALSE),0)","v":1},{"$f":"IFERROR(VLOOKUP($A207,Filtro!$A$5:$AY$629,34,FALSE),0)","v":1}]
[null,null,"TOTAL ",18437,9391,9046,{"$f":"SUM(G202:G207)","v":1383},{"$f":"SUM(H202:H207)","v":1074},1010,1027,881,832,780,706,797,789,799,889,1230,1211,871,847,842,835,798,836,28,29,117,157,17,11,29,32,31,21]
["P2501869","INASISTENTES A CONTROL ODONTOLÓGICO",null,{"$f":"SUM(E209:F209)","v":9188},{"$f":"+G209+I209+K209+M209+O209+Q209+S209+U209+W209+Y209","v":4717},4471,{"$f":"IFERROR(VLOOKUP($A209,Filtro!$A$5:$AY$629,5,FALSE),0)","v":197},{"$f":"IFERROR(VLOOKUP($A209,Filtro!$A$5:$AY$629,6,FALSE),0)","v":219},{"$f":"IFERROR(VLOOKUP($A209,Filtro!$A$5:$AY$629,7,FALSE),0)","v":388},{"$f":"IFERROR(VLOOKUP($A209,Filtro!$A$5:$AY$629,8,FALSE),0)","v":364},{"$f":"IFERROR(VLOOKUP($A209,Filtro!$A$5:$AY$629,9,FALSE),0)","v":346},{"$f":"IFERROR(VLOOKUP($A209,Filtro!$A$5:$AY$629,10,FALSE),0)","v":378},{"$f":"IFERROR(VLOOKUP($A209,Filtro!$A$5:$AY$629,11,FALSE),0)","v":434},{"$f":"IFERROR(VLOOKUP($A209,Filtro!$A$5:$AY$629,12,FALSE),0)","v":389},{"$f":"IFERROR(VLOOKUP($A209,Filtro!$A$5:$AY$629,13,FALSE),0)","v":610},{"$f":"IFERROR(VLOOKUP($A209,Filtro!$A$5:$AY$629,14,FALSE),0)","v":469},{"$f":"IFERROR(VLOOKUP($A209,Filtro!$A$5:$AY$629,15,FALSE),0)","v":500},{"$f":"IFERROR(VLOOKUP($A209,Filtro!$A$5:$AY$629,16,FALSE),0)","v":501},{"$f":"IFERROR(VLOOKUP($A209,Filtro!$A$5:$AY$629,17,FALSE),0)","v":606},{"$f":"IFERROR(VLOOKUP($A209,Filtro!$A$5:$AY$629,18,FALSE),0)","v":665},{"$f":"IFERROR(VLOOKUP($A209,Filtro!$A$5:$AY$629,19,FALSE),0)","v":586},{"$f":"IFERROR(VLOOKUP($A209,Filtro!$A$5:$AY$629,20,FALSE),0)","v":567},{"$f":"IFERROR(VLOOKUP($A209,Filtro!$A$5:$AY$629,21,FALSE),0)","v":457},{"$f":"IFERROR(VLOOKUP($A209,Filtro!$A$5:$AY$629,22,FALSE),0)","v":491},{"$f":"IFERROR(VLOOKUP($A209,Filtro!$A$5:$AY$629,23,FALSE),0)","v":593},{"$f":"IFERROR(VLOOKUP($A209,Filtro!$A$5:$AY$629,24,FALSE),0)","v":428},{"$f":"IFERROR(VLOOKUP($A209,Filtro!$A$5:$AY$629,25,FALSE),0)","v":54},{"$f":"IFERROR(VLOOKUP($A209,Filtro!$A$5:$AY$629,26,FALSE),0)","v":0},{"$f":"IFERROR(VLOOKUP($A209,Filtro!$A$5:$AY$629,27,FALSE),0)","v":14},{"$f":"IFERROR(VLOOKUP($A209,Filtro!$A$5:$AY$629,28,FALSE),0)","v":41},{"$f":"IFERROR(VLOOKUP($A209,Filtro!$A$5:$AY$629,29,FALSE),0)","v":3},{"$f":"IFERROR(VLOOKUP($A209,Filtro!$A$5:$AY$629,30,FALSE),0)","v":2},{"$f":"IFERROR(VLOOKUP($A209,Filtro!$A$5:$AY$629,31,FALSE),0)","v":0},{"$f":"IFERROR(VLOOKUP($A209,Filtro!$A$5:$AY$629,32,FALSE),0)","v":0},{"$f":"IFERROR(VLOOKUP($A209,Filtro!$A$5:$AY$629,33,FALSE),0)","v":15},{"$f":"IFERROR(VLOOKUP($A209,Filtro!$A$5:$AY$629,34,FALSE),0)","v":13}]
[]
[]
["CODIGOS ELIMINADOS"]
["P2100400"]
["P2200900"]
["P2300410"]
["P2300420"]
["P2300460"]
["P2300470"]
["P2300480"]
["P2300490"]
["P2300500"]
["P2300510"]
["P2300520"]
["P2500100"]
["P2500800"]
["P2500900"]
["P2501000"]
["P2501100"]
["P2501200"]
["P2501300"]
["P2501500"]
["CODIGOS NUEVOS"]
["P2501800"]
["P2501801"]
["P2501802"]
["P2501803"]
["P2501804"]
["P2501805"]
["P2501806"]
["P2501807"]
["P2501808"]
["P2501809"]
["P2501810"]
["P2501811"]
["P2501812"]
["P2501813"]
["P2501814"]
["P2501815"]
["P2501816"]
["P2501817"]
["P2501818"]
["P2501819"]
["P2501820"]
["P2501821"]
["P2501822"]
["P2501823"]
["P2501824"]
["P2501825"]
["P2501826"]
["P2501827"]
["P2501828"]
["P2501829"]
["P2501830"]
["P2501831"]
["P2501832"]
["P2501833"]
["P2501834"]
["P2501835"]
["P2501836"]
["P2501837"]
["P2501838"]
["P2501839"]
["P2501840"]
["P2501841"]
["P2501842"]
["P2501843"]
["P2501844"]
["P2501845"]
["P2501846"]
["P2501847"]
["P2501848"]
["P2501849"]
["P2501850"]
["P2501851"]
["P2501852"]
["P2501853"]
["P2501854"]
["P2501855"]
["P2501856"]
["P2501857"]
["P2501858"]
["P2501859"]
["P2501860"]
["P2501861"]
["P2501862"]
["P2501863"]
["P2501864"]
["P2501865"]
["P2501866"]

{"sheet":"P3","index":4,"n_rows":96,"n_cols":94,"rows_kept":96,"merged":[[6,1,6,25],[8,1,10,2],[8,3,9,5],[8,6,8,39],[8,40,10,40],[8,41,9,42],[8,43,9,44],[9,6,9,7],[9,8,9,9],[9,10,9,11],[9,12,9,13],[9,14,9,15],[9,16,9,17],[9,18,9,19],[9,20,9,21],[9,22,9,23],[9,24,9,25],[9,26,9,27],[9,28,9,29],[9,30,9,31],[9,32,9,33],[9,34,9,35],[9,36,9,37],[9,38,9,39],[11,1,13,1],[14,1,16,1],[17,1,18,1],[19,1,19,2],[20,1,20,2],[21,1,21,2],[22,1,22,2],[23,1,23,2],[25,1,25,2],[26,1,26,2],[27,1,27,2],[28,1,28,2],[29,1,29,2],[30,1,30,2],[31,1,33,1],[34,1,40,1],[42,1,42,42],[43,1,44,1],[43,2,44,2],[43,3,44,3],[43,4,44,4],[43,5,43,11],[46,1,46,39],[47,1,49,2],[47,3,48,5],[47,6,47,39],[48,6,48,7],[48,8,48,9],[48,10,48,11],[48,12,48,13],[48,14,48,15],[48,16,48,17],[48,18,48,19],[48,20,48,21],[48,22,48,23],[48,24,48,25],[48,26,48,27],[48,28,48,29],[48,30,48,31],[48,32,48,33],[48,34,48,35],[48,36,48,37],[48,38,48,39],[50,1,53,1],[54,1,54,39],[55,1,57,2],[55,3,56,5],[55,6,55,39],[56,6,56,7],[56,8,56,9],[56,10,56,11],[56,12,56,13],[56,14,56,15],[56,16,56,17],[56,18,56,19],[56,20,56,21],[56,22,56,23],[56,24,56,25],[56,26,56,27],[56,28,56,29],[56,30,56,31],[56,32,56,33],[56,34,56,35],[56,36,56,37],[56,38,56,39],[58,1,61,1],[62,1,64,1],[66,1,68,1],[66,2,68,2],[66,3,67,5],[66,6,66,39],[67,6,67,7],[67,8,67,9],[67,10,67,11],[67,12,67,13],[67,14,67,15],[67,16,67,17],[67,18,67,19],[67,20,67,21],[67,22,67,23],[67,24,67,25],[67,26,67,27],[67,28,67,29],[67,30,67,31],[67,32,67,33],[67,34,67,35],[67,36,67,37],[67,38,67,39],[69,1,71,1],[72,1,74,1],[75,1,77,1]]}
[null,"DATOS DEL ESTABLECIMIENTO"]
[null,{"$f":"CONCATENATE(\"COMUNA: \",NOMBRE!$B$2,\" - \",\"( \",NOMBRE!$C$2,NOMBRE!$D$2,NOMBRE!$E$2,NOMBRE!$F$2,NOMBRE!$G$2,\" )\")","v":"COMUNA:  - (  )"}]
[null,{"$f":"CONCATENATE(\"ESTABLECIMIENTO/ESTRATEGIA: \",NOMBRE!$B$3,\" - \",\"( \",NOMBRE!$C$3,NOMBRE!$D$3,NOMBRE!$E$3,NOMBRE!$F$3,NOMBRE!$G$3,NOMBRE!$H$3,\" )\")","v":"ESTABLECIMIENTO/ESTRATEGIA:  - (  )"}]
[null,{"$f":"CONCATENATE(\"MES: \",NOMBRE!$B$6,\" - \",\"( \",NOMBRE!$C$6,NOMBRE!$D$6,\" )\")","v":"MES:  - (  )"}]
[null,{"$f":"CONCATENATE(\"AÑO: \",NOMBRE!$B$7)","v":"AÑO: 2023"}]
[]
[null,"REM-P3. POBLACIÓN EN CONTROL OTROS PROGRAMAS"]
[null,"SECCIÓN A: EXISTENCIA DE POBLACIÓN EN CONTROL"]
[null,"PROGRAMAS",null,"TOTAL",null,null,"GRUPOS DE EDAD (en años) Y SEXO",{"$nulls":33},"Con espirometría vigente","Pueblos Originarios",null,"Migrantes"]
[{"$nulls":6},"0 a 4 años",null,"5 a 9 años",null,"10 a 14 años",null,"15 a 19 años",null,"20 a 24 años",null,"25 a 29 años",null,"30 a 34 años",null,"35 a 39 años",null,"40 a 44 años",null,"45 a 49 años",null,"50 a 54 años",null,"55 a 59 años",null,"60 a 64 años",null,"65 a 69 años",null,"70 a 74 años",null,"75 a 79 años",null,"80 y más años"]
[{"$nulls":3},"Ambos\nsexos","Hombres","Mujeres","Hombres","Mujeres","Hombres","Mujeres","Hombres","Mujeres","Hombres","Mujeres","Hombres","Mujeres","Hombres","Mujeres","Hombres","Mujeres","Hombres","Mujeres","Hombres","Mujeres","Hombres","Mujeres","Hombres","Mujeres","Hombres","Mujeres","Hombres","Mujeres","Hombres ","Mujeres","Hombres ","Mujeres","Hombres ","Mujeres","Hombres ","Mujeres",null,"Hombres ","Mujeres","Hombres ","Mujeres"]
["P3160950","SÍNDROME BRONQUIAL OBSTRUCTIVA RECURRENTE (SBOR)","LEVE",{"$f":"SUM(E12:F12)","v":492},{"$f":"+G12","v":278},{"$f":"+H12","v":214},{"$f":"IFERROR(VLOOKUP($A12,Filtro!$A$5:$AY$629,5,FALSE),0)","v":278},{"$f":"IFERROR(VLOOKUP($A12,Filtro!$A$5:$AY$629,6,FALSE),0)","v":214},0,0,0,0,0,0,0,0,0,0,0,0,0,0,0,0,0,0,0,0,0,0,0,0,0,0,0,0,0,0,0,0,{"$f":"IFERROR(VLOOKUP($A12,Filtro!$A$5:$AY$629,39,FALSE),0)","v":1},{"$f":"IFERROR(VLOOKUP($A12,Filtro!$A$5:$AY$629,40,FALSE),0)","v":0},{"$f":"IFERROR(VLOOKUP($A12,Filtro!$A$5:$AY$629,41,FALSE),0)","v":0},{"$f":"IFERROR(VLOOKUP($A12,Filtro!$A$5:$AY$629,42,FALSE),0)","v":1},{"$f":"IFERROR(VLOOKUP($A12,Filtro!$A$5:$AY$629,43,FALSE),0)","v":4},{"$nulls":35},{"$f":"IF($AO12<=$G12+$H12,\"\",\"* La Población bajo control con Espirometría Vigente no debe ser mayor al Total de Población en Control. \")","v":""},{"$f":"IF($D12>=$AP12+$AQ12,\"\",\"* La Población Migrantes no debe ser mayor al Total de Población en Control. \")","v":""},null,{"$f":"IF(AND(E12<>0,AP12=\"\"),\"* No olvide escribir en la celda de Población Migrantes (Digite CERO si no tiene). \",IF(AND(F12<>0,AQ12=\"\"),\"* No olvide escribir en la celda de Población Migrantes (Digite CERO si no tiene). \",\"\"))","v":""},{"$nulls":4},{"$f":"IF($AO12<=$G12+$H12,0,1)","v":0},{"$f":"IF($D12>=$AP12+$AQ12,0,1)","v":0},null,{"$f":"IF(AND(E12<>0,AP12=\"\"),1,IF(AND(F12<>0,AQ12=\"\"),1,0))","v":0}]
["P3160960",null,"MODERADO",{"$f":"SUM(E13:F13)","v":337},{"$f":"+G13","v":195},{"$f":"+H13","v":142},{"$f":"IFERROR(VLOOKUP($A13,Filtro!$A$5:$AY$629,5,FALSE),0)","v":195},{"$f":"IFERROR(VLOOKUP($A13,Filtro!$A$5:$AY$629,6,FALSE),0)","v":142},0,0,0,0,0,0,0,0,0,0,0,0,0,0,0,0,0,0,0,0,0,0,0,0,0,0,0,0,0,0,0,0,{"$f":"IFERROR(VLOOKUP($A13,Filtro!$A$5:$AY$629,39,FALSE),0)","v":0},{"$f":"IFERROR(VLOOKUP($A13,Filtro!$A$5:$AY$629,40,FALSE),0)","v":1},{"$f":"IFERROR(VLOOKUP($A13,Filtro!$A$5:$AY$629,41,FALSE),0)","v":0},{"$f":"IFERROR(VLOOKUP($A13,Filtro!$A$5:$AY$629,42,FALSE),0)","v":3},{"$f":"IFERROR(VLOOKUP($A13,Filtro!$A$5:$AY$629,43,FALSE),0)","v":2},{"$nulls":35},{"$f":"IF($AO13<=$G13+$H13,\"\",\"* La Población bajo control con Espirometría Vigente no debe ser mayor al Total de Población en Control. \")","v":""},"",null,"",{"$nulls":4},{"$f":"IF($AO13<=$G13+$H13,0,1)","v":0},{"$f":"IF($D13>=$AP13+$AQ13,0,1)","v":0},null,0]
["P3160970",null,"SEVERO",21,9,12,{"$f":"IFERROR(VLOOKUP($A14,Filtro!$A$5:$AY$629,5,FALSE),0)","v":9},{"$f":"IFERROR(VLOOKUP($A14,Filtro!$A$5:$AY$629,6,FALSE),0)","v":12},0,0,0,0,0,0,0,0,0,0,0,0,0,0,0,0,0,0,0,0,0,0,0,0,0,0,0,0,0,0,0,0,{"$f":"IFERROR(VLOOKUP($A14,Filtro!$A$5:$AY$629,39,FALSE),0)","v":0},{"$f":"IFERROR(VLOOKUP($A14,Filtro!$A$5:$AY$629,40,FALSE),0)","v":0},{"$f":"IFERROR(VLOOKUP($A14,Filtro!$A$5:$AY$629,41,FALSE),0)","v":0},{"$f":"IFERROR(VLOOKUP($A14,Filtro!$A$5:$AY$629,42,FALSE),0)","v":0},{"$f":"IFERROR(VLOOKUP($A14,Filtro!$A$5:$AY$629,43,FALSE),0)","v":0},{"$nulls":35},{"$f":"IF($AO14<=$G14+$H14,\"\",\"* La Población bajo control con Espirometría Vigente no debe ser mayor al Total de Población en Control. \")","v":""},"",null,"",{"$nulls":4},{"$f":"IF($AO14<=$G14+$H14,0,1)","v":0},0,null,0]
["P3160980","ASMA BRONQUIAL","LEVE",8183,{"$f":"+G15+I15+K15+M15+O15+Q15+S15+U15+W15+Y15+AA15+AC15+AE15+AG15+AI15+AK15+AM15","v":3019},{"$f":"+H15+J15+L15+N15+P15+R15+T15+V15+X15+Z15+AB15+AD15+AF15+AH15+AJ15+AL15+AN15","v":5164},{"$f":"IFERROR(VLOOKUP($A15,Filtro!$A$5:$AY$629,5,FALSE),0)","v":92},{"$f":"IFERROR(VLOOKUP($A15,Filtro!$A$5:$AY$629,6,FALSE),0)","v":102},{"$f":"IFERROR(VLOOKUP($A15,Filtro!$A$5:$AY$629,7,FALSE),0)","v":828},{"$f":"IFERROR(VLOOKUP($A15,Filtro!$A$5:$AY$629,8,FALSE),0)","v":620},{"$f":"IFERROR(VLOOKUP($A15,Filtro!$A$5:$AY$629,9,FALSE),0)","v":680},{"$f":"IFERROR(VLOOKUP($A15,Filtro!$A$5:$AY$629,10,FALSE),0)","v":537},{"$f":"IFERROR(VLOOKUP($A15,Filtro!$A$5:$AY$629,11,FALSE),0)","v":349},{"$f":"IFERROR(VLOOKUP($A15,Filtro!$A$5:$AY$629,12,FALSE),0)","v":305},{"$f":"IFERROR(VLOOKUP($A15,Filtro!$A$5:$AY$629,13,FALSE),0)","v":126},{"$f":"IFERROR(VLOOKUP($A15,Filtro!$A$5:$AY$629,14,FALSE),0)","v":249},{"$f":"IFERROR(VLOOKUP($A15,Filtro!$A$5:$AY$629,15,FALSE),0)","v":110},{"$f":"IFERROR(VLOOKUP($A15,Filtro!$A$5:$AY$629,16,FALSE),0)","v":220},{"$f":"IFERROR(VLOOKUP($A15,Filtro!$A$5:$AY$629,17,FALSE),0)","v":62},{"$f":"IFERROR(VLOOKUP($A15,Filtro!$A$5:$AY$629,18,FALSE),0)","v":210},{"$f":"IFERROR(VLOOKUP($A15,Filtro!$A$5:$AY$629,19,FALSE),0)","v":47},{"$f":"IFERROR(VLOOKUP($A15,Filtro!$A$5:$AY$629,20,FALSE),0)","v":222},{"$f":"IFERROR(VLOOKUP($A15,Filtro!$A$5:$AY$629,21,FALSE),0)","v":64},{"$f":"IFERROR(VLOOKUP($A15,Filtro!$A$5:$AY$629,22,FALSE),0)","v":217},{"$f":"IFERROR(VLOOKUP($A15,Filtro!$A$5:$AY$629,23,FALSE),0)","v":42},{"$f":"IFERROR(VLOOKUP($A15,Filtro!$A$5:$AY$629,24,FALSE),0)","v":267},{"$f":"IFERROR(VLOOKUP($A15,Filtro!$A$5:$AY$629,25,FALSE),0)","v":50},{"$f":"IFERROR(VLOOKUP($A15,Filtro!$A$5:$AY$629,26,FALSE),0)","v":295},{"$f":"IFERROR(VLOOKUP($A15,Filtro!$A$5:$AY$629,27,FALSE),0)","v":73},{"$f":"IFERROR(VLOOKUP($A15,Filtro!$A$5:$AY$629,28,FALSE),0)","v":340},{"$f":"IFERROR(VLOOKUP($A15,Filtro!$A$5:$AY$629,29,FALSE),0)","v":98},{"$f":"IFERROR(VLOOKUP($A15,Filtro!$A$5:$AY$629,30,FALSE),0)","v":344},{"$f":"IFERROR(VLOOKUP($A15,Filtro!$A$5:$AY$629,31,FALSE),0)","v":113},{"$f":"IFERROR(VLOOKUP($A15,Filtro!$A$5:$AY$629,32,FALSE),0)","v":358},{"$f":"IFERROR(VLOOKUP($A15,Filtro!$A$5:$AY$629,33,FALSE),0)","v":92},{"$f":"IFERROR(VLOOKUP($A15,Filtro!$A$5:$AY$629,34,FALSE),0)","v":341},{"$f":"IFERROR(VLOOKUP($A15,Filtro!$A$5:$AY$629,35,FALSE),0)","v":102},{"$f":"IFERROR(VLOOKUP($A15,Filtro!$A$5:$AY$629,36,FALSE),0)","v":230},{"$f":"IFERROR(VLOOKUP($A15,Filtro!$A$5:$AY$629,37,FALSE),0)","v":91},{"$f":"IFERROR(VLOOKUP($A15,Filtro!$A$5:$AY$629,38,FALSE),0)","v":307},{"$f":"IFERROR(VLOOKUP($A15,Filtro!$A$5:$AY$629,39,FALSE),0)","v":1542},{"$f":"IFERROR(VLOOKUP($A15,Filtro!$A$5:$AY$629,40,FALSE),0)","v":2},{"$f":"IFERROR(VLOOKUP($A15,Filtro!$A$5:$AY$629,41,FALSE),0)","v":7},{"$f":"IFERROR(VLOOKUP($A15,Filtro!$A$5:$AY$629,42,FALSE),0)","v":15},{"$f":"IFERROR(VLOOKUP($A15,Filtro!$A$5:$AY$629,43,FALSE),0)","v":34},{"$nulls":35},{"$f":"IF($AO15<=SUM($G15:$AN15),\"\",\"* La Población bajo control con Espirometría Vigente no debe ser mayor al Total de Población en Control. \")","v":""},"",null,"",{"$nulls":4},{"$f":"IF($AO15<=SUM($G15:$AN15),0,1)","v":0},0,null,0]
["P3160990",null,"MODERADO",4495,{"$f":"+G16+I16+K16+M16+O16+Q16+S16+U16+W16+Y16+AA16+AC16+AE16+AG16+AI16+AK16+AM16","v":1611},2884,{"$f":"IFERROR(VLOOKUP($A16,Filtro!$A$5:$AY$629,5,FALSE),0)","v":98},{"$f":"IFERROR(VLOOKUP($A16,Filtro!$A$5:$AY$629,6,FALSE),0)","v":63},{"$f":"IFERROR(VLOOKUP($A16,Filtro!$A$5:$AY$629,7,FALSE),0)","v":412},{"$f":"IFERROR(VLOOKUP($A16,Filtro!$A$5:$AY$629,8,FALSE),0)","v":308},{"$f":"IFERROR(VLOOKUP($A16,Filtro!$A$5:$AY$629,9,FALSE),0)","v":338},{"$f":"IFERROR(VLOOKUP($A16,Filtro!$A$5:$AY$629,10,FALSE),0)","v":275},{"$f":"IFERROR(VLOOKUP($A16,Filtro!$A$5:$AY$629,11,FALSE),0)","v":177},{"$f":"IFERROR(VLOOKUP($A16,Filtro!$A$5:$AY$629,12,FALSE),0)","v":155},{"$f":"IFERROR(VLOOKUP($A16,Filtro!$A$5:$AY$629,13,FALSE),0)","v":43},{"$f":"IFERROR(VLOOKUP($A16,Filtro!$A$5:$AY$629,14,FALSE),0)","v":92},{"$f":"IFERROR(VLOOKUP($A16,Filtro!$A$5:$AY$629,15,FALSE),0)","v":48},{"$f":"IFERROR(VLOOKUP($A16,Filtro!$A$5:$AY$629,16,FALSE),0)","v":102},{"$f":"IFERROR(VLOOKUP($A16,Filtro!$A$5:$AY$629,17,FALSE),0)","v":35},{"$f":"IFERROR(VLOOKUP($A16,Filtro!$A$5:$AY$629,18,FALSE),0)","v":121},{"$f":"IFERROR(VLOOKUP($A16,Filtro!$A$5:$AY$629,19,FALSE),0)","v":33},{"$f":"IFERROR(VLOOKUP($A16,Filtro!$A$5:$AY$629,20,FALSE),0)","v":114},{"$f":"IFERROR(VLOOKUP($A16,Filtro!$A$5:$AY$629,21,FALSE),0)","v":19},{"$f":"IFERROR(VLOOKUP($A16,Filtro!$A$5:$AY$629,22,FALSE),0)","v":118},{"$f":"IFERROR(VLOOKUP($A16,Filtro!$A$5:$AY$629,23,FALSE),0)","v":28},{"$f":"IFERROR(VLOOKUP($A16,Filtro!$A$5:$AY$629,24,FALSE),0)","v":146},{"$f":"IFERROR(VLOOKUP($A16,Filtro!$A$5:$AY$629,25,FALSE),0)","v":45},{"$f":"IFERROR(VLOOKUP($A16,Filtro!$A$5:$AY$629,26,FALSE),0)","v":161},{"$f":"IFERROR(VLOOKUP($A16,Filtro!$A$5:$AY$629,27,FALSE),0)","v":42},{"$f":"IFERROR(VLOOKUP($A16,Filtro!$A$5:$AY$629,28,FALSE),0)","v":221},{"$f":"IFERROR(VLOOKUP($A16,Filtro!$A$5:$AY$629,29,FALSE),0)","v":51},{"$f":"IFERROR(VLOOKUP($A16,Filtro!$A$5:$AY$629,30,FALSE),0)","v":204},{"$f":"IFERROR(VLOOKUP($A16,Filtro!$A$5:$AY$629,31,FALSE),0)","v":64},{"$f":"IFERROR(VLOOKUP($A16,Filtro!$A$5:$AY$629,32,FALSE),0)","v":198},{"$f":"IFERROR(VLOOKUP($A16,Filtro!$A$5:$AY$629,33,FALSE),0)","v":50},{"$f":"IFERROR(VLOOKUP($A16,Filtro!$A$5:$AY$629,34,FALSE),0)","v":207},{"$f":"IFERROR(VLOOKUP($A16,Filtro!$A$5:$AY$629,35,FALSE),0)","v":46},{"$f":"IFERROR(VLOOKUP($A16,Filtro!$A$5:$AY$629,36,FALSE),0)","v":162},{"$f":"IFERROR(VLOOKUP($A16,Filtro!$A$5:$AY$629,37,FALSE),0)","v":82},{"$f":"IFERROR(VLOOKUP($A16,Filtro!$A$5:$AY$629,38,FALSE),0)","v":237},{"$f":"IFERROR(VLOOKUP($A16,Filtro!$A$5:$AY$629,39,FALSE),0)","v":543},{"$f":"IFERROR(VLOOKUP($A16,Filtro!$A$5:$AY$629,40,FALSE),0)","v":1},{"$f":"IFERROR(VLOOKUP($A16,Filtro!$A$5:$AY$629,41,FALSE),0)","v":3},{"$f":"IFERROR(VLOOKUP($A16,Filtro!$A$5:$AY$629,42,FALSE),0)","v":9},{"$f":"IFERROR(VLOOKUP($A16,Filtro!$A$5:$AY$629,43,FALSE),0)","v":11},{"$nulls":35},{"$f":"IF($AO16<=SUM($G16:$AN16),\"\",\"* La Población bajo control con Espirometría Vigente no debe ser mayor al Total de Población en Control. \")","v":""},"",null,"",{"$nulls":4},{"$f":"IF($AO16<=SUM($G16:$AN16),0,1)","v":0},0,null,0]
["P3161000",null,"SEVERO",546,132,414,{"$f":"IFERROR(VLOOKUP($A17,Filtro!$A$5:$AY$629,5,FALSE),0)","v":2},{"$f":"IFERROR(VLOOKUP($A17,Filtro!$A$5:$AY$629,6,FALSE),0)","v":0},{"$f":"IFERROR(VLOOKUP($A17,Filtro!$A$5:$AY$629,7,FALSE),0)","v":6},{"$f":"IFERROR(VLOOKUP($A17,Filtro!$A$5:$AY$629,8,FALSE),0)","v":9},{"$f":"IFERROR(VLOOKUP($A17,Filtro!$A$5:$AY$629,9,FALSE),0)","v":13},{"$f":"IFERROR(VLOOKUP($A17,Filtro!$A$5:$AY$629,10,FALSE),0)","v":8},{"$f":"IFERROR(VLOOKUP($A17,Filtro!$A$5:$AY$629,11,FALSE),0)","v":3},{"$f":"IFERROR(VLOOKUP($A17,Filtro!$A$5:$AY$629,12,FALSE),0)","v":8},{"$f":"IFERROR(VLOOKUP($A17,Filtro!$A$5:$AY$629,13,FALSE),0)","v":2},{"$f":"IFERROR(VLOOKUP($A17,Filtro!$A$5:$AY$629,14,FALSE),0)","v":6},{"$f":"IFERROR(VLOOKUP($A17,Filtro!$A$5:$AY$629,15,FALSE),0)","v":3},{"$f":"IFERROR(VLOOKUP($A17,Filtro!$A$5:$AY$629,16,FALSE),0)","v":7},{"$f":"IFERROR(VLOOKUP($A17,Filtro!$A$5:$AY$629,17,FALSE),0)","v":5},{"$f":"IFERROR(VLOOKUP($A17,Filtro!$A$5:$AY$629,18,FALSE),0)","v":16},{"$f":"IFERROR(VLOOKUP($A17,Filtro!$A$5:$AY$629,19,FALSE),0)","v":5},{"$f":"IFERROR(VLOOKUP($A17,Filtro!$A$5:$AY$629,20,FALSE),0)","v":15},{"$f":"IFERROR(VLOOKUP($A17,Filtro!$A$5:$AY$629,21,FALSE),0)","v":1},{"$f":"IFERROR(VLOOKUP($A17,Filtro!$A$5:$AY$629,22,FALSE),0)","v":18},{"$f":"IFERROR(VLOOKUP($A17,Filtro!$A$5:$AY$629,23,FALSE),0)","v":5},{"$f":"IFERROR(VLOOKUP($A17,Filtro!$A$5:$AY$629,24,FALSE),0)","v":20},{"$f":"IFERROR(VLOOKUP($A17,Filtro!$A$5:$AY$629,25,FALSE),0)","v":7},{"$f":"IFERROR(VLOOKUP($A17,Filtro!$A$5:$AY$629,26,FALSE),0)","v":27},{"$f":"IFERROR(VLOOKUP($A17,Filtro!$A$5:$AY$629,27,FALSE),0)","v":10},{"$f":"IFERROR(VLOOKUP($A17,Filtro!$A$5:$AY$629,28,FALSE),0)","v":33},{"$f":"IFERROR(VLOOKUP($A17,Filtro!$A$5:$AY$629,29,FALSE),0)","v":14},{"$f":"IFERROR(VLOOKUP($A17,Filtro!$A$5:$AY$629,30,FALSE),0)","v":56},{"$f":"IFERROR(VLOOKUP($A17,Filtro!$A$5:$AY$629,31,FALSE),0)","v":10},{"$f":"IFERROR(VLOOKUP($A17,Filtro!$A$5:$AY$629,32,FALSE),0)","v":42},{"$f":"IFERROR(VLOOKUP($A17,Filtro!$A$5:$AY$629,33,FALSE),0)","v":16},{"$f":"IFERROR(VLOOKUP($A17,Filtro!$A$5:$AY$629,34,FALSE),0)","v":51},{"$f":"IFERROR(VLOOKUP($A17,Filtro!$A$5:$AY$629,35,FALSE),0)","v":12},{"$f":"IFERROR(VLOOKUP($A17,Filtro!$A$5:$AY$629,36,FALSE),0)","v":40},{"$f":"IFERROR(VLOOKUP($A17,Filtro!$A$5:$AY$629,37,FALSE),0)","v":18},{"$f":"IFERROR(VLOOKUP($A17,Filtro!$A$5:$AY$629,38,FALSE),0)","v":58},{"$f":"IFERROR(VLOOKUP($A17,Filtro!$A$5:$AY$629,39,FALSE),0)","v":99},{"$f":"IFERROR(VLOOKUP($A17,Filtro!$A$5:$AY$629,40,FALSE),0)","v":0},{"$f":"IFERROR(VLOOKUP($A17,Filtro!$A$5:$AY$629,41,FALSE),0)","v":0},{"$f":"IFERROR(VLOOKUP($A17,Filtro!$A$5:$AY$629,42,FALSE),0)","v":1},{"$f":"IFERROR(VLOOKUP($A17,Filtro!$A$5:$AY$629,43,FALSE),0)","v":1},{"$nulls":35},{"$f":"IF($AO17<=SUM($G17:$AN17),\"\",\"* La Población bajo control con Espirometría Vigente no debe ser mayor al Total de Población en Control. \")","v":""},"",null,"",{"$nulls":4},{"$f":"IF($AO17<=SUM($G17:$AN17),0,1)","v":0},0,null,0]
["P3161010","ENFERMEDAD PULMONAR OBSTRUCTIVA CRÓNICA (EPOC)","TIPO A",{"$f":"SUM(E18:F18)","v":3106},{"$f":"+W18+Y18+AA18+AC18+AE18+AG18+AI18+AK18+AM18","v":1496},{"$f":"+X18+Z18+AB18+AD18+AF18+AH18+AJ18+AL18+AN18","v":1610},{"$f":"IFERROR(VLOOKUP($A18,Filtro!$A$5:$AY$629,5,FALSE),0)","v":0},{"$f":"IFERROR(VLOOKUP($A18,Filtro!$A$5:$AY$629,6,FALSE),0)","v":0},{"$f":"IFERROR(VLOOKUP($A18,Filtro!$A$5:$AY$629,7,FALSE),0)","v":0},{"$f":"IFERROR(VLOOKUP($A18,Filtro!$A$5:$AY$629,8,FALSE),0)","v":0},{"$f":"IFERROR(VLOOKUP($A18,Filtro!$A$5:$AY$629,9,FALSE),0)","v":0},{"$f":"IFERROR(VLOOKUP($A18,Filtro!$A$5:$AY$629,10,FALSE),0)","v":0},{"$f":"IFERROR(VLOOKUP($A18,Filtro!$A$5:$AY$629,11,FALSE),0)","v":0},{"$f":"IFERROR(VLOOKUP($A18,Filtro!$A$5:$AY$629,12,FALSE),0)","v":0},{"$f":"IFERROR(VLOOKUP($A18,Filtro!$A$5:$AY$629,13,FALSE),0)","v":0},{"$f":"IFERROR(VLOOKUP($A18,Filtro!$A$5:$AY$629,14,FALSE),0)","v":0},{"$f":"IFERROR(VLOOKUP($A18,Filtro!$A$5:$AY$629,15,FALSE),0)","v":0},{"$f":"IFERROR(VLOOKUP($A18,Filtro!$A$5:$AY$629,16,FALSE),0)","v":0},{"$f":"IFERROR(VLOOKUP($A18,Filtro!$A$5:$AY$629,17,FALSE),0)","v":0},{"$f":"IFERROR(VLOOKUP($A18,Filtro!$A$5:$AY$629,18,FALSE),0)","v":0},{"$f":"IFERROR(VLOOKUP($A18,Filtro!$A$5:$AY$629,19,FALSE),0)","v":0},{"$f":"IFERROR(VLOOKUP($A18,Filtro!$A$5:$AY$629,20,FALSE),0)","v":0},{"$f":"IFERROR(VLOOKUP($A18,Filtro!$A$5:$AY$629,21,FALSE),0)","v":5},{"$f":"IFERROR(VLOOKUP($A18,Filtro!$A$5:$AY$629,22,FALSE),0)","v":6},{"$f":"IFERROR(VLOOKUP($A18,Filtro!$A$5:$AY$629,23,FALSE),0)","v":14},{"$f":"IFERROR(VLOOKUP($A18,Filtro!$A$5:$AY$629,24,FALSE),0)","v":17},{"$f":"IFERROR(VLOOKUP($A18,Filtro!$A$5:$AY$629,25,FALSE),0)","v":18},{"$f":"IFERROR(VLOOKUP($A18,Filtro!$A$5:$AY$629,26,FALSE),0)","v":29},{"$f":"IFERROR(VLOOKUP($A18,Filtro!$A$5:$AY$629,27,FALSE),0)","v":58},{"$f":"IFERROR(VLOOKUP($A18,Filtro!$A$5:$AY$629,28,FALSE),0)","v":77},{"$f":"IFERROR(VLOOKUP($A18,Filtro!$A$5:$AY$629,29,FALSE),0)","v":113},{"$f":"IFERROR(VLOOKUP($A18,Filtro!$A$5:$AY$629,30,FALSE),0)","v":147},{"$f":"IFERROR(VLOOKUP($A18,Filtro!$A$5:$AY$629,31,FALSE),0)","v":182},{"$f":"IFERROR(VLOOKUP($A18,Filtro!$A$5:$AY$629,32,FALSE),0)","v":244},{"$f":"IFERROR(VLOOKUP($A18,Filtro!$A$5:$AY$629,33,FALSE),0)","v":254},{"$f":"IFERROR(VLOOKUP($A18,Filtro!$A$5:$AY$629,34,FALSE),0)","v":249},{"$f":"IFERROR(VLOOKUP($A18,Filtro!$A$5:$AY$629,35,FALSE),0)","v":295},{"$f":"IFERROR(VLOOKUP($A18,Filtro!$A$5:$AY$629,36,FALSE),0)","v":250},{"$f":"IFERROR(VLOOKUP($A18,Filtro!$A$5:$AY$629,37,FALSE),0)","v":557},{"$f":"IFERROR(VLOOKUP($A18,Filtro!$A$5:$AY$629,38,FALSE),0)","v":591},{"$f":"IFERROR(VLOOKUP($A18,Filtro!$A$5:$AY$629,39,FALSE),0)","v":714},{"$f":"IFERROR(VLOOKUP($A18,Filtro!$A$5:$AY$629,40,FALSE),0)","v":2},{"$f":"IFERROR(VLOOKUP($A18,Filtro!$A$5:$AY$629,41,FALSE),0)","v":0},{"$f":"IFERROR(VLOOKUP($A18,Filtro!$A$5:$AY$629,42,FALSE),0)","v":1},{"$f":"IFERROR(VLOOKUP($A18,Filtro!$A$5:$AY$629,43,FALSE),0)","v":1},{"$nulls":35},{"$f":"IF($AO18<=SUM($W18:$AN18),\"\",\"* La Población bajo control con Espirometría Vigente no debe ser mayor al Total de Población en Control. \")","v":""},"",null,"",{"$nulls":4},{"$f":"IF($AO18<=SUM($W18:$AN18),0,1)","v":0},0,null,0]
["P3161020",null,"TIPO B",{"$f":"SUM(E19:F19)","v":476},{"$f":"+W19+Y19+AA19+AC19+AE19+AG19+AI19+AK19+AM19","v":239},{"$f":"+X19+Z19+AB19+AD19+AF19+AH19+AJ19+AL19+AN19","v":237},{"$f":"IFERROR(VLOOKUP($A19,Filtro!$A$5:$AY$629,5,FALSE),0)","v":0},{"$f":"IFERROR(VLOOKUP($A19,Filtro!$A$5:$AY$629,6,FALSE),0)","v":0},{"$f":"IFERROR(VLOOKUP($A19,Filtro!$A$5:$AY$629,7,FALSE),0)","v":0},{"$f":"IFERROR(VLOOKUP($A19,Filtro!$A$5:$AY$629,8,FALSE),0)","v":0},{"$f":"IFERROR(VLOOKUP($A19,Filtro!$A$5:$AY$629,9,FALSE),0)","v":0},{"$f":"IFERROR(VLOOKUP($A19,Filtro!$A$5:$AY$629,10,FALSE),0)","v":0},{"$f":"IFERROR(VLOOKUP($A19,Filtro!$A$5:$AY$629,11,FALSE),0)","v":0},{"$f":"IFERROR(VLOOKUP($A19,Filtro!$A$5:$AY$629,12,FALSE),0)","v":0},{"$f":"IFERROR(VLOOKUP($A19,Filtro!$A$5:$AY$629,13,FALSE),0)","v":0},{"$f":"IFERROR(VLOOKUP($A19,Filtro!$A$5:$AY$629,14,FALSE),0)","v":0},{"$f":"IFERROR(VLOOKUP($A19,Filtro!$A$5:$AY$629,15,FALSE),0)","v":0},{"$f":"IFERROR(VLOOKUP($A19,Filtro!$A$5:$AY$629,16,FALSE),0)","v":0},{"$f":"IFERROR(VLOOKUP($A19,Filtro!$A$5:$AY$629,17,FALSE),0)","v":0},{"$f":"IFERROR(VLOOKUP($A19,Filtro!$A$5:$AY$629,18,FALSE),0)","v":0},{"$f":"IFERROR(VLOOKUP($A19,Filtro!$A$5:$AY$629,19,FALSE),0)","v":0},{"$f":"IFERROR(VLOOKUP($A19,Filtro!$A$5:$AY$629,20,FALSE),0)","v":0},{"$f":"IFERROR(VLOOKUP($A19,Filtro!$A$5:$AY$629,21,FALSE),0)","v":0},{"$f":"IFERROR(VLOOKUP($A19,Filtro!$A$5:$AY$629,22,FALSE),0)","v":0},{"$f":"IFERROR(VLOOKUP($A19,Filtro!$A$5:$AY$629,23,FALSE),0)","v":1},{"$f":"IFERROR(VLOOKUP($A19,Filtro!$A$5:$AY$629,24,FALSE),0)","v":1},{"$f":"IFERROR(VLOOKUP($A19,Filtro!$A$5:$AY$629,25,FALSE),0)","v":6},{"$f":"IFERROR(VLOOKUP($A19,Filtro!$A$5:$AY$629,26,FALSE),0)","v":6},{"$f":"IFERROR(VLOOKUP($A19,Filtro!$A$5:$AY$629,27,FALSE),0)","v":8},{"$f":"IFERROR(VLOOKUP($A19,Filtro!$A$5:$AY$629,28,FALSE),0)","v":7},{"$f":"IFERROR(VLOOKUP($A19,Filtro!$A$5:$AY$629,29,FALSE),0)","v":13},{"$f":"IFERROR(VLOOKUP($A19,Filtro!$A$5:$AY$629,30,FALSE),0)","v":15},{"$f":"IFERROR(VLOOKUP($A19,Filtro!$A$5:$AY$629,31,FALSE),0)","v":31},{"$f":"IFERROR(VLOOKUP($A19,Filtro!$A$5:$AY$629,32,FALSE),0)","v":29},{"$f":"IFERROR(VLOOKUP($A19,Filtro!$A$5:$AY$629,33,FALSE),0)","v":42},{"$f":"IFERROR(VLOOKUP($A19,Filtro!$A$5:$AY$629,34,FALSE),0)","v":33},{"$f":"IFERROR(VLOOKUP($A19,Filtro!$A$5:$AY$629,35,FALSE),0)","v":50},{"$f":"IFERROR(VLOOKUP($A19,Filtro!$A$5:$AY$629,36,FALSE),0)","v":49},{"$f":"IFERROR(VLOOKUP($A19,Filtro!$A$5:$AY$629,37,FALSE),0)","v":88},{"$f":"IFERROR(VLOOKUP($A19,Filtro!$A$5:$AY$629,38,FALSE),0)","v":97},{"$f":"IFERROR(VLOOKUP($A19,Filtro!$A$5:$AY$629,39,FALSE),0)","v":112},{"$f":"IFERROR(VLOOKUP($A19,Filtro!$A$5:$AY$629,40,FALSE),0)","v":0},{"$f":"IFERROR(VLOOKUP($A19,Filtro!$A$5:$AY$629,41,FALSE),0)","v":0},{"$f":"IFERROR(VLOOKUP($A19,Filtro!$A$5:$AY$629,42,FALSE),0)","v":0},{"$f":"IFERROR(VLOOKUP($A19,Filtro!$A$5:$AY$629,43,FALSE),0)","v":1},{"$nulls":35},{"$f":"IF($AO19<=SUM($W19:$AN19),\"\",\"* La Población bajo control con Espirometría Vigente no debe ser mayor al Total de Población en Control. \")","v":""},"",null,"",{"$nulls":4},{"$f":"IF($AO19<=SUM($W19:$AN19),0,1)","v":0},0,null,0]
["P3161030","OTRAS RESPIRATORIAS CRONICAS",null,1257,{"$f":"+G20+I20+K20+M20+O20+Q20+S20+U20+W20+Y20+AA20+AC20+AE20+AG20+AI20+AK20+AM20","v":680},{"$f":"+H20+J20+L20+N20+P20+R20+T20+V20+X20+Z20+AB20+AD20+AF20+AH20+AJ20+AL20+AN20","v":577},{"$f":"IFERROR(VLOOKUP($A20,Filtro!$A$5:$AY$629,5,FALSE),0)","v":15},{"$f":"IFERROR(VLOOKUP($A20,Filtro!$A$5:$AY$629,6,FALSE),0)","v":18},{"$f":"IFERROR(VLOOKUP($A20,Filtro!$A$5:$AY$629,7,FALSE),0)","v":35},{"$f":"IFERROR(VLOOKUP($A20,Filtro!$A$5:$AY$629,8,FALSE),0)","v":27},{"$f":"IFERROR(VLOOKUP($A20,Filtro!$A$5:$AY$629,9,FALSE),0)","v":13},{"$f":"IFERROR(VLOOKUP($A20,Filtro!$A$5:$AY$629,10,FALSE),0)","v":12},{"$f":"IFERROR(VLOOKUP($A20,Filtro!$A$5:$AY$629,11,FALSE),0)","v":4},{"$f":"IFERROR(VLOOKUP($A20,Filtro!$A$5:$AY$629,12,FALSE),0)","v":1},{"$f":"IFERROR(VLOOKUP($A20,Filtro!$A$5:$AY$629,13,FALSE),0)","v":2},{"$f":"IFERROR(VLOOKUP($A20,Filtro!$A$5:$AY$629,14,FALSE),0)","v":4},{"$f":"IFERROR(VLOOKUP($A20,Filtro!$A$5:$AY$629,15,FALSE),0)","v":0},{"$f":"IFERROR(VLOOKUP($A20,Filtro!$A$5:$AY$629,16,FALSE),0)","v":5},{"$f":"IFERROR(VLOOKUP($A20,Filtro!$A$5:$AY$629,17,FALSE),0)","v":2},{"$f":"IFERROR(VLOOKUP($A20,Filtro!$A$5:$AY$629,18,FALSE),0)","v":9},{"$f":"IFERROR(VLOOKUP($A20,Filtro!$A$5:$AY$629,19,FALSE),0)","v":2},{"$f":"IFERROR(VLOOKUP($A20,Filtro!$A$5:$AY$629,20,FALSE),0)","v":10},{"$f":"IFERROR(VLOOKUP($A20,Filtro!$A$5:$AY$629,21,FALSE),0)","v":7},{"$f":"IFERROR(VLOOKUP($A20,Filtro!$A$5:$AY$629,22,FALSE),0)","v":14},{"$f":"IFERROR(VLOOKUP($A20,Filtro!$A$5:$AY$629,23,FALSE),0)","v":7},{"$f":"IFERROR(VLOOKUP($A20,Filtro!$A$5:$AY$629,24,FALSE),0)","v":11},{"$f":"IFERROR(VLOOKUP($A20,Filtro!$A$5:$AY$629,25,FALSE),0)","v":10},{"$f":"IFERROR(VLOOKUP($A20,Filtro!$A$5:$AY$629,26,FALSE),0)","v":17},{"$f":"IFERROR(VLOOKUP($A20,Filtro!$A$5:$AY$629,27,FALSE),0)","v":28},{"$f":"IFERROR(VLOOKUP($A20,Filtro!$A$5:$AY$629,28,FALSE),0)","v":31},{"$f":"IFERROR(VLOOKUP($A20,Filtro!$A$5:$AY$629,29,FALSE),0)","v":46},{"$f":"IFERROR(VLOOKUP($A20,Filtro!$A$5:$AY$629,30,FALSE),0)","v":45},{"$f":"IFERROR(VLOOKUP($A20,Filtro!$A$5:$AY$629,31,FALSE),0)","v":79},{"$f":"IFERROR(VLOOKUP($A20,Filtro!$A$5:$AY$629,32,FALSE),0)","v":61},{"$f":"IFERROR(VLOOKUP($A20,Filtro!$A$5:$AY$629,33,FALSE),0)","v":116},{"$f":"IFERROR(VLOOKUP($A20,Filtro!$A$5:$AY$629,34,FALSE),0)","v":65},{"$f":"IFERROR(VLOOKUP($A20,Filtro!$A$5:$AY$629,35,FALSE),0)","v":108},{"$f":"IFERROR(VLOOKUP($A20,Filtro!$A$5:$AY$629,36,FALSE),0)","v":97},{"$f":"IFERROR(VLOOKUP($A20,Filtro!$A$5:$AY$629,37,FALSE),0)","v":206},{"$f":"IFERROR(VLOOKUP($A20,Filtro!$A$5:$AY$629,38,FALSE),0)","v":150},{"$f":"IFERROR(VLOOKUP($A20,Filtro!$A$5:$AY$629,39,FALSE),0)","v":0},{"$f":"IFERROR(VLOOKUP($A20,Filtro!$A$5:$AY$629,40,FALSE),0)","v":2},{"$f":"IFERROR(VLOOKUP($A20,Filtro!$A$5:$AY$629,41,FALSE),0)","v":0},{"$f":"IFERROR(VLOOKUP($A20,Filtro!$A$5:$AY$629,42,FALSE),0)","v":5},{"$f":"IFERROR(VLOOKUP($A20,Filtro!$A$5:$AY$629,43,FALSE),0)","v":5},{"$nulls":36},"",null,"",{"$nulls":5},0,null,0]
["P3120500","OXIGENO DEPENDIENTE",null,290,{"$f":"+G21+I21+K21+M21+O21+Q21+S21+U21+W21+Y21+AA21+AC21+AE21+AG21+AI21+AK21+AM21","v":129},{"$f":"+H21+J21+L21+N21+P21+R21+T21+V21+X21+Z21+AB21+AD21+AF21+AH21+AJ21+AL21+AN21","v":161},{"$f":"IFERROR(VLOOKUP($A21,Filtro!$A$5:$AY$629,5,FALSE),0)","v":4},{"$f":"IFERROR(VLOOKUP($A21,Filtro!$A$5:$AY$629,6,FALSE),0)","v":4},{"$f":"IFERROR(VLOOKUP($A21,Filtro!$A$5:$AY$629,7,FALSE),0)","v":6},{"$f":"IFERROR(VLOOKUP($A21,Filtro!$A$5:$AY$629,8,FALSE),0)","v":3},{"$f":"IFERROR(VLOOKUP($A21,Filtro!$A$5:$AY$629,9,FALSE),0)","v":1},{"$f":"IFERROR(VLOOKUP($A21,Filtro!$A$5:$AY$629,10,FALSE),0)","v":2},{"$f":"IFERROR(VLOOKUP($A21,Filtro!$A$5:$AY$629,11,FALSE),0)","v":5},{"$f":"IFERROR(VLOOKUP($A21,Filtro!$A$5:$AY$629,12,FALSE),0)","v":1},{"$f":"IFERROR(VLOOKUP($A21,Filtro!$A$5:$AY$629,13,FALSE),0)","v":1},{"$f":"IFERROR(VLOOKUP($A21,Filtro!$A$5:$AY$629,14,FALSE),0)","v":0},{"$f":"IFERROR(VLOOKUP($A21,Filtro!$A$5:$AY$629,15,FALSE),0)","v":2},{"$f":"IFERROR(VLOOKUP($A21,Filtro!$A$5:$AY$629,16,FALSE),0)","v":1},{"$f":"IFERROR(VLOOKUP($A21,Filtro!$A$5:$AY$629,17,FALSE),0)","v":0},{"$f":"IFERROR(VLOOKUP($A21,Filtro!$A$5:$AY$629,18,FALSE),0)","v":0},{"$f":"IFERROR(VLOOKUP($A21,Filtro!$A$5:$AY$629,19,FALSE),0)","v":1},{"$f":"IFERROR(VLOOKUP($A21,Filtro!$A$5:$AY$629,20,FALSE),0)","v":0},{"$f":"IFERROR(VLOOKUP($A21,Filtro!$A$5:$AY$629,21,FALSE),0)","v":2},{"$f":"IFERROR(VLOOKUP($A21,Filtro!$A$5:$AY$629,22,FALSE),0)","v":2},{"$f":"IFERROR(VLOOKUP($A21,Filtro!$A$5:$AY$629,23,FALSE),0)","v":2},{"$f":"IFERROR(VLOOKUP($A21,Filtro!$A$5:$AY$629,24,FALSE),0)","v":1},{"$f":"IFERROR(VLOOKUP($A21,Filtro!$A$5:$AY$629,25,FALSE),0)","v":1},{"$f":"IFERROR(VLOOKUP($A21,Filtro!$A$5:$AY$629,26,FALSE),0)","v":2},{"$f":"IFERROR(VLOOKUP($A21,Filtro!$A$5:$AY$629,27,FALSE),0)","v":8},{"$f":"IFERROR(VLOOKUP($A21,Filtro!$A$5:$AY$629,28,FALSE),0)","v":5},{"$f":"IFERROR(VLOOKUP($A21,Filtro!$A$5:$AY$629,29,FALSE),0)","v":6},{"$f":"IFERROR(VLOOKUP($A21,Filtro!$A$5:$AY$629,30,FALSE),0)","v":9},{"$f":"IFERROR(VLOOKUP($A21,Filtro!$A$5:$AY$629,31,FALSE),0)","v":7},{"$f":"IFERROR(VLOOKUP($A21,Filtro!$A$5:$AY$629,32,FALSE),0)","v":16},{"$f":"IFERROR(VLOOKUP($A21,Filtro!$A$5:$AY$629,33,FALSE),0)","v":20},{"$f":"IFERROR(VLOOKUP($A21,Filtro!$A$5:$AY$629,34,FALSE),0)","v":18},{"$f":"IFERROR(VLOOKUP($A21,Filtro!$A$5:$AY$629,35,FALSE),0)","v":19},{"$f":"IFERROR(VLOOKUP($A21,Filtro!$A$5:$AY$629,36,FALSE),0)","v":33},{"$f":"IFERROR(VLOOKUP($A21,Filtro!$A$5:$AY$629,37,FALSE),0)","v":44},{"$f":"IFERROR(VLOOKUP($A21,Filtro!$A$5:$AY$629,38,FALSE),0)","v":64},{"$f":"IFERROR(VLOOKUP($A21,Filtro!$A$5:$AY$629,39,FALSE),0)","v":0},{"$f":"IFERROR(VLOOKUP($A21,Filtro!$A$5:$AY$629,40,FALSE),0)","v":0},{"$f":"IFERROR(VLOOKUP($A21,Filtro!$A$5:$AY$629,41,FALSE),0)","v":0},{"$f":"IFERROR(VLOOKUP($A21,Filtro!$A$5:$AY$629,42,FALSE),0)","v":0},{"$f":"IFERROR(VLOOKUP($A21,Filtro!$A$5:$AY$629,43,FALSE),0)","v":1},{"$nulls":36},"",null,"",{"$nulls":5},0,null,0]
["P3161050","ASISTENCIA VENTILATORIA NO INVASIVA O INVASIVA ",null,{"$f":"SUM(E22:F22)","v":54},28,26,{"$f":"IFERROR(VLOOKUP($A22,Filtro!$A$5:$AY$629,5,FALSE),0)","v":0},{"$f":"IFERROR(VLOOKUP($A22,Filtro!$A$5:$AY$629,6,FALSE),0)","v":1},{"$f":"IFERROR(VLOOKUP($A22,Filtro!$A$5:$AY$629,7,FALSE),0)","v":0},{"$f":"IFERROR(VLOOKUP($A22,Filtro!$A$5:$AY$629,8,FALSE),0)","v":3},{"$f":"IFERROR(VLOOKUP($A22,Filtro!$A$5:$AY$629,9,FALSE),0)","v":3},{"$f":"IFERROR(VLOOKUP($A22,Filtro!$A$5:$AY$629,10,FALSE),0)","v":2},{"$f":"IFERROR(VLOOKUP($A22,Filtro!$A$5:$AY$629,11,FALSE),0)","v":3},{"$f":"IFERROR(VLOOKUP($A22,Filtro!$A$5:$AY$629,12,FALSE),0)","v":0},{"$f":"IFERROR(VLOOKUP($A22,Filtro!$A$5:$AY$629,13,FALSE),0)","v":3},{"$f":"IFERROR(VLOOKUP($A22,Filtro!$A$5:$AY$629,14,FALSE),0)","v":0},{"$f":"IFERROR(VLOOKUP($A22,Filtro!$A$5:$AY$629,15,FALSE),0)","v":4},{"$f":"IFERROR(VLOOKUP($A22,Filtro!$A$5:$AY$629,16,FALSE),0)","v":0},{"$f":"IFERROR(VLOOKUP($A22,Filtro!$A$5:$AY$629,17,FALSE),0)","v":1},{"$f":"IFERROR(VLOOKUP($A22,Filtro!$A$5:$AY$629,18,FALSE),0)","v":1},{"$f":"IFERROR(VLOOKUP($A22,Filtro!$A$5:$AY$629,19,FALSE),0)","v":1},{"$f":"IFERROR(VLOOKUP($A22,Filtro!$A$5:$AY$629,20,FALSE),0)","v":1},{"$f":"IFERROR(VLOOKUP($A22,Filtro!$A$5:$AY$629,21,FALSE),0)","v":0},{"$f":"IFERROR(VLOOKUP($A22,Filtro!$A$5:$AY$629,22,FALSE),0)","v":0},{"$f":"IFERROR(VLOOKUP($A22,Filtro!$A$5:$AY$629,23,FALSE),0)","v":1},{"$f":"IFERROR(VLOOKUP($A22,Filtro!$A$5:$AY$629,24,FALSE),0)","v":1},{"$f":"IFERROR(VLOOKUP($A22,Filtro!$A$5:$AY$629,25,FALSE),0)","v":1},{"$f":"IFERROR(VLOOKUP($A22,Filtro!$A$5:$AY$629,26,FALSE),0)","v":3},{"$f":"IFERROR(VLOOKUP($A22,Filtro!$A$5:$AY$629,27,FALSE),0)","v":0},{"$f":"IFERROR(VLOOKUP($A22,Filtro!$A$5:$AY$629,28,FALSE),0)","v":1},{"$f":"IFERROR(VLOOKUP($A22,Filtro!$A$5:$AY$629,29,FALSE),0)","v":0},{"$f":"IFERROR(VLOOKUP($A22,Filtro!$A$5:$AY$629,30,FALSE),0)","v":3},{"$f":"IFERROR(VLOOKUP($A22,Filtro!$A$5:$AY$629,31,FALSE),0)","v":3},{"$f":"IFERROR(VLOOKUP($A22,Filtro!$A$5:$AY$629,32,FALSE),0)","v":4},{"$f":"IFERROR(VLOOKUP($A22,Filtro!$A$5:$AY$629,33,FALSE),0)","v":3},{"$f":"IFERROR(VLOOKUP($A22,Filtro!$A$5:$AY$629,34,FALSE),0)","v":3},{"$f":"IFERROR(VLOOKUP($A22,Filtro!$A$5:$AY$629,35,FALSE),0)","v":3},{"$f":"IFERROR(VLOOKUP($A22,Filtro!$A$5:$AY$629,36,FALSE),0)","v":1},{"$f":"IFERROR(VLOOKUP($A22,Filtro!$A$5:$AY$629,37,FALSE),0)","v":2},{"$f":"IFERROR(VLOOKUP($A22,Filtro!$A$5:$AY$629,38,FALSE),0)","v":2},{"$f":"IFERROR(VLOOKUP($A22,Filtro!$A$5:$AY$629,39,FALSE),0)","v":0},{"$f":"IFERROR(VLOOKUP($A22,Filtro!$A$5:$AY$629,40,FALSE),0)","v":0},{"$f":"IFERROR(VLOOKUP($A22,Filtro!$A$5:$AY$629,41,FALSE),0)","v":0},{"$f":"IFERROR(VLOOKUP($A22,Filtro!$A$5:$AY$629,42,FALSE),0)","v":0},{"$f":"IFERROR(VLOOKUP($A22,Filtro!$A$5:$AY$629,43,FALSE),0)","v":0},{"$nulls":36},"",null,"",{"$nulls":5},0,null,0]
["P3120600","FIBROSIS QUÍSTICA ",null,{"$f":"SUM(E23:F23)","v":16},{"$f":"+G23+I23+K23+M23+O23+Q23+S23+U23+W23+Y23+AA23+AC23+AE23","v":12},{"$f":"+H23+J23+L23+N23+P23+R23+T23+V23+X23+Z23+AB23+AD23+AF23","v":4},{"$f":"IFERROR(VLOOKUP($A23,Filtro!$A$5:$AY$629,5,FALSE),0)","v":3},{"$f":"IFERROR(VLOOKUP($A23,Filtro!$A$5:$AY$629,6,FALSE),0)","v":0},{"$f":"IFERROR(VLOOKUP($A23,Filtro!$A$5:$AY$629,7,FALSE),0)","v":0},{"$f":"IFERROR(VLOOKUP($A23,Filtro!$A$5:$AY$629,8,FALSE),0)","v":1},{"$f":"IFERROR(VLOOKUP($A23,Filtro!$A$5:$AY$629,9,FALSE),0)","v":5},{"$f":"IFERROR(VLOOKUP($A23,Filtro!$A$5:$AY$629,10,FALSE),0)","v":2},{"$f":"IFERROR(VLOOKUP($A23,Filtro!$A$5:$AY$629,11,FALSE),0)","v":2},{"$f":"IFERROR(VLOOKUP($A23,Filtro!$A$5:$AY$629,12,FALSE),0)","v":0},{"$f":"IFERROR(VLOOKUP($A23,Filtro!$A$5:$AY$629,13,FALSE),0)","v":2},{"$f":"IFERROR(VLOOKUP($A23,Filtro!$A$5:$AY$629,14,FALSE),0)","v":0},{"$f":"IFERROR(VLOOKUP($A23,Filtro!$A$5:$AY$629,15,FALSE),0)","v":0},{"$f":"IFERROR(VLOOKUP($A23,Filtro!$A$5:$AY$629,16,FALSE),0)","v":1},{"$f":"IFERROR(VLOOKUP($A23,Filtro!$A$5:$AY$629,17,FALSE),0)","v":0},{"$f":"IFERROR(VLOOKUP($A23,Filtro!$A$5:$AY$629,18,FALSE),0)","v":0},{"$f":"IFERROR(VLOOKUP($A23,Filtro!$A$5:$AY$629,19,FALSE),0)","v":0},{"$f":"IFERROR(VLOOKUP($A23,Filtro!$A$5:$AY$629,20,FALSE),0)","v":0},{"$f":"IFERROR(VLOOKUP($A23,Filtro!$A$5:$AY$629,21,FALSE),0)","v":0},{"$f":"IFERROR(VLOOKUP($A23,Filtro!$A$5:$AY$629,22,FALSE),0)","v":0},{"$f":"IFERROR(VLOOKUP($A23,Filtro!$A$5:$AY$629,23,FALSE),0)","v":0},{"$f":"IFERROR(VLOOKUP($A23,Filtro!$A$5:$AY$629,24,FALSE),0)","v":0},{"$f":"IFERROR(VLOOKUP($A23,Filtro!$A$5:$AY$629,25,FALSE),0)","v":0},{"$f":"IFERROR(VLOOKUP($A23,Filtro!$A$5:$AY$629,26,FALSE),0)","v":0},{"$f":"IFERROR(VLOOKUP($A23,Filtro!$A$5:$AY$629,27,FALSE),0)","v":0},{"$f":"IFERROR(VLOOKUP($A23,Filtro!$A$5:$AY$629,28,FALSE),0)","v":0},{"$f":"IFERROR(VLOOKUP($A23,Filtro!$A$5:$AY$629,29,FALSE),0)","v":0},{"$f":"IFERROR(VLOOKUP($A23,Filtro!$A$5:$AY$629,30,FALSE),0)","v":0},{"$f":"IFERROR(VLOOKUP($A23,Filtro!$A$5:$AY$629,31,FALSE),0)","v":0},{"$f":"IFERROR(VLOOKUP($A23,Filtro!$A$5:$AY$629,32,FALSE),0)","v":0},{"$f":"IFERROR(VLOOKUP($A23,Filtro!$A$5:$AY$629,33,FALSE),0)","v":0},{"$f":"IFERROR(VLOOKUP($A23,Filtro!$A$5:$AY$629,34,FALSE),0)","v":0},{"$f":"IFERROR(VLOOKUP($A23,Filtro!$A$5:$AY$629,35,FALSE),0)","v":0},{"$f":"IFERROR(VLOOKUP($A23,Filtro!$A$5:$AY$629,36,FALSE),0)","v":0},{"$f":"IFERROR(VLOOKUP($A23,Filtro!$A$5:$AY$629,37,FALSE),0)","v":0},{"$f":"IFERROR(VLOOKUP($A23,Filtro!$A$5:$AY$629,38,FALSE),0)","v":0},{"$f":"IFERROR(VLOOKUP($A23,Filtro!$A$5:$AY$629,39,FALSE),0)","v":0},{"$f":"IFERROR(VLOOKUP($A23,Filtro!$A$5:$AY$629,40,FALSE),0)","v":0},{"$f":"IFERROR(VLOOKUP($A23,Filtro!$A$5:$AY$629,41,FALSE),0)","v":0},{"$f":"IFERROR(VLOOKUP($A23,Filtro!$A$5:$AY$629,42,FALSE),0)","v":0},{"$f":"IFERROR(VLOOKUP($A23,Filtro!$A$5:$AY$629,43,FALSE),0)","v":0},{"$nulls":36},"",null,"",{"$nulls":5},0,null,0]
["P3120700","EPILEPSIA ",null,2217,{"$f":"+G24+I24+K24+M24+O24+Q24+S24+U24+W24+Y24+AA24+AC24+AE24+AG24+AI24+AK24+AM24","v":1064},{"$f":"+H24+J24+L24+N24+P24+R24+T24+V24+X24+Z24+AB24+AD24+AF24+AH24+AJ24+AL24+AN24","v":1153},{"$f":"IFERROR(VLOOKUP($A24,Filtro!$A$5:$AY$629,5,FALSE),0)","v":17},{"$f":"IFERROR(VLOOKUP($A24,Filtro!$A$5:$AY$629,6,FALSE),0)","v":14},{"$f":"IFERROR(VLOOKUP($A24,Filtro!$A$5:$AY$629,7,FALSE),0)","v":30},{"$f":"IFERROR(VLOOKUP($A24,Filtro!$A$5:$AY$629,8,FALSE),0)","v":32},{"$f":"IFERROR(VLOOKUP($A24,Filtro!$A$5:$AY$629,9,FALSE),0)","v":41},{"$f":"IFERROR(VLOOKUP($A24,Filtro!$A$5:$AY$629,10,FALSE),0)","v":31},{"$f":"IFERROR(VLOOKUP($A24,Filtro!$A$5:$AY$629,11,FALSE),0)","v":60},{"$f":"IFERROR(VLOOKUP($A24,Filtro!$A$5:$AY$629,12,FALSE),0)","v":85},{"$f":"IFERROR(VLOOKUP($A24,Filtro!$A$5:$AY$629,13,FALSE),0)","v":68},{"$f":"IFERROR(VLOOKUP($A24,Filtro!$A$5:$AY$629,14,FALSE),0)","v":57},{"$f":"IFERROR(VLOOKUP($A24,Filtro!$A$5:$AY$629,15,FALSE),0)","v":58},{"$f":"IFERROR(VLOOKUP($A24,Filtro!$A$5:$AY$629,16,FALSE),0)","v":85},{"$f":"IFERROR(VLOOKUP($A24,Filtro!$A$5:$AY$629,17,FALSE),0)","v":67},{"$f":"IFERROR(VLOOKUP($A24,Filtro!$A$5:$AY$629,18,FALSE),0)","v":80},{"$f":"IFERROR(VLOOKUP($A24,Filtro!$A$5:$AY$629,19,FALSE),0)","v":91},{"$f":"IFERROR(VLOOKUP($A24,Filtro!$A$5:$AY$629,20,FALSE),0)","v":86},{"$f":"IFERROR(VLOOKUP($A24,Filtro!$A$5:$AY$629,21,FALSE),0)","v":82},{"$f":"IFERROR(VLOOKUP($A24,Filtro!$A$5:$AY$629,22,FALSE),0)","v":86},{"$f":"IFERROR(VLOOKUP($A24,Filtro!$A$5:$AY$629,23,FALSE),0)","v":82},{"$f":"IFERROR(VLOOKUP($A24,Filtro!$A$5:$AY$629,24,FALSE),0)","v":92},{"$f":"IFERROR(VLOOKUP($A24,Filtro!$A$5:$AY$629,25,FALSE),0)","v":90},{"$f":"IFERROR(VLOOKUP($A24,Filtro!$A$5:$AY$629,26,FALSE),0)","v":88},{"$f":"IFERROR(VLOOKUP($A24,Filtro!$A$5:$AY$629,27,FALSE),0)","v":99},{"$f":"IFERROR(VLOOKUP($A24,Filtro!$A$5:$AY$629,28,FALSE),0)","v":86},{"$f":"IFERROR(VLOOKUP($A24,Filtro!$A$5:$AY$629,29,FALSE),0)","v":74},{"$f":"IFERROR(VLOOKUP($A24,Filtro!$A$5:$AY$629,30,FALSE),0)","v":90},{"$f":"IFERROR(VLOOKUP($A24,Filtro!$A$5:$AY$629,31,FALSE),0)","v":65},{"$f":"IFERROR(VLOOKUP($A24,Filtro!$A$5:$AY$629,32,FALSE),0)","v":73},{"$f":"IFERROR(VLOOKUP($A24,Filtro!$A$5:$AY$629,33,FALSE),0)","v":42},{"$f":"IFERROR(VLOOKUP($A24,Filtro!$A$5:$AY$629,34,FALSE),0)","v":54},{"$f":"IFERROR(VLOOKUP($A24,Filtro!$A$5:$AY$629,35,FALSE),0)","v":43},{"$f":"IFERROR(VLOOKUP($A24,Filtro!$A$5:$AY$629,36,FALSE),0)","v":41},{"$f":"IFERROR(VLOOKUP($A24,Filtro!$A$5:$AY$629,37,FALSE),0)","v":55},{"$f":"IFERROR(VLOOKUP($A24,Filtro!$A$5:$AY$629,38,FALSE),0)","v":73},{"$f":"IFERROR(VLOOKUP($A24,Filtro!$A$5:$AY$629,39,FALSE),0)","v":0},{"$f":"IFERROR(VLOOKUP($A24,Filtro!$A$5:$AY$629,40,FALSE),0)","v":53},{"$f":"IFERROR(VLOOKUP($A24,Filtro!$A$5:$AY$629,41,FALSE),0)","v":68},{"$f":"IFERROR(VLOOKUP($A24,Filtro!$A$5:$AY$629,42,FALSE),0)","v":3},{"$f":"IFERROR(VLOOKUP($A24,Filtro!$A$5:$AY$629,43,FALSE),0)","v":5},{"$nulls":36},"",null,"",{"$nulls":5},0,null,0]
["P3170100","GLAUCOMA",null,318,{"$f":"+G25+I25+K25+M25+O25+Q25+S25+U25+W25+Y25+AA25+AC25+AE25+AG25+AI25+AK25+AM25","v":110},208,{"$f":"IFERROR(VLOOKUP($A25,Filtro!$A$5:$AY$629,5,FALSE),0)","v":0},{"$f":"IFERROR(VLOOKUP($A25,Filtro!$A$5:$AY$629,6,FALSE),0)","v":0},{"$f":"IFERROR(VLOOKUP($A25,Filtro!$A$5:$AY$629,7,FALSE),0)","v":0},{"$f":"IFERROR(VLOOKUP($A25,Filtro!$A$5:$AY$629,8,FALSE),0)","v":0},{"$f":"IFERROR(VLOOKUP($A25,Filtro!$A$5:$AY$629,9,FALSE),0)","v":0},{"$f":"IFERROR(VLOOKUP($A25,Filtro!$A$5:$AY$629,10,FALSE),0)","v":0},{"$f":"IFERROR(VLOOKUP($A25,Filtro!$A$5:$AY$629,11,FALSE),0)","v":0},{"$f":"IFERROR(VLOOKUP($A25,Filtro!$A$5:$AY$629,12,FALSE),0)","v":0},{"$f":"IFERROR(VLOOKUP($A25,Filtro!$A$5:$AY$629,13,FALSE),0)","v":0},{"$f":"IFERROR(VLOOKUP($A25,Filtro!$A$5:$AY$629,14,FALSE),0)","v":1},{"$f":"IFERROR(VLOOKUP($A25,Filtro!$A$5:$AY$629,15,FALSE),0)","v":0},{"$f":"IFERROR(VLOOKUP($A25,Filtro!$A$5:$AY$629,16,FALSE),0)","v":0},{"$f":"IFERROR(VLOOKUP($A25,Filtro!$A$5:$AY$629,17,FALSE),0)","v":0},{"$f":"IFERROR(VLOOKUP($A25,Filtro!$A$5:$AY$629,18,FALSE),0)","v":2},{"$f":"IFERROR(VLOOKUP($A25,Filtro!$A$5:$AY$629,19,FALSE),0)","v":0},{"$f":"IFERROR(VLOOKUP($A25,Filtro!$A$5:$AY$629,20,FALSE),0)","v":1},{"$f":"IFERROR(VLOOKUP($A25,Filtro!$A$5:$AY$629,21,FALSE),0)","v":1},{"$f":"IFERROR(VLOOKUP($A25,Filtro!$A$5:$AY$629,22,FALSE),0)","v":3},{"$f":"IFERROR(VLOOKUP($A25,Filtro!$A$5:$AY$629,23,FALSE),0)","v":1},{"$f":"IFERROR(VLOOKUP($A25,Filtro!$A$5:$AY$629,24,FALSE),0)","v":11},{"$f":"IFERROR(VLOOKUP($A25,Filtro!$A$5:$AY$629,25,FALSE),0)","v":3},{"$f":"IFERROR(VLOOKUP($A25,Filtro!$A$5:$AY$629,26,FALSE),0)","v":17},{"$f":"IFERROR(VLOOKUP($A25,Filtro!$A$5:$AY$629,27,FALSE),0)","v":4},{"$f":"IFERROR(VLOOKUP($A25,Filtro!$A$5:$AY$629,28,FALSE),0)","v":25},{"$f":"IFERROR(VLOOKUP($A25,Filtro!$A$5:$AY$629,29,FALSE),0)","v":17},{"$f":"IFERROR(VLOOKUP($A25,Filtro!$A$5:$AY$629,30,FALSE),0)","v":32},{"$f":"IFERROR(VLOOKUP($A25,Filtro!$A$5:$AY$629,31,FALSE),0)","v":22},{"$f":"IFERROR(VLOOKUP($A25,Filtro!$A$5:$AY$629,32,FALSE),0)","v":34},{"$f":"IFERROR(VLOOKUP($A25,Filtro!$A$5:$AY$629,33,FALSE),0)","v":18},{"$f":"IFERROR(VLOOKUP($A25,Filtro!$A$5:$AY$629,34,FALSE),0)","v":33},{"$f":"IFERROR(VLOOKUP($A25,Filtro!$A$5:$AY$629,35,FALSE),0)","v":14},{"$f":"IFERROR(VLOOKUP($A25,Filtro!$A$5:$AY$629,36,FALSE),0)","v":17},{"$f":"IFERROR(VLOOKUP($A25,Filtro!$A$5:$AY$629,37,FALSE),0)","v":30},{"$f":"IFERROR(VLOOKUP($A25,Filtro!$A$5:$AY$629,38,FALSE),0)","v":32},{"$f":"IFERROR(VLOOKUP($A25,Filtro!$A$5:$AY$629,39,FALSE),0)","v":0},{"$f":"IFERROR(VLOOKUP($A25,Filtro!$A$5:$AY$629,40,FALSE),0)","v":0},{"$f":"IFERROR(VLOOKUP($A25,Filtro!$A$5:$AY$629,41,FALSE),0)","v":0},{"$f":"IFERROR(VLOOKUP($A25,Filtro!$A$5:$AY$629,42,FALSE),0)","v":0},{"$f":"IFERROR(VLOOKUP($A25,Filtro!$A$5:$AY$629,43,FALSE),0)","v":0},{"$nulls":36},"",null,"",{"$nulls":5},0,null,0]
["P3140200","ENFERMEDAD DE PARKINSON ",null,883,448,435,{"$f":"IFERROR(VLOOKUP($A26,Filtro!$A$5:$AY$629,5,FALSE),0)","v":0},{"$f":"IFERROR(VLOOKUP($A26,Filtro!$A$5:$AY$629,6,FALSE),0)","v":0},{"$f":"IFERROR(VLOOKUP($A26,Filtro!$A$5:$AY$629,7,FALSE),0)","v":0},{"$f":"IFERROR(VLOOKUP($A26,Filtro!$A$5:$AY$629,8,FALSE),0)","v":0},{"$f":"IFERROR(VLOOKUP($A26,Filtro!$A$5:$AY$629,9,FALSE),0)","v":0},{"$f":"IFERROR(VLOOKUP($A26,Filtro!$A$5:$AY$629,10,FALSE),0)","v":0},{"$f":"IFERROR(VLOOKUP($A26,Filtro!$A$5:$AY$629,11,FALSE),0)","v":0},{"$f":"IFERROR(VLOOKUP($A26,Filtro!$A$5:$AY$629,12,FALSE),0)","v":0},{"$f":"IFERROR(VLOOKUP($A26,Filtro!$A$5:$AY$629,13,FALSE),0)","v":0},{"$f":"IFERROR(VLOOKUP($A26,Filtro!$A$5:$AY$629,14,FALSE),0)","v":0},{"$f":"IFERROR(VLOOKUP($A26,Filtro!$A$5:$AY$629,15,FALSE),0)","v":1},{"$f":"IFERROR(VLOOKUP($A26,Filtro!$A$5:$AY$629,16,FALSE),0)","v":0},{"$f":"IFERROR(VLOOKUP($A26,Filtro!$A$5:$AY$629,17,FALSE),0)","v":0},{"$f":"IFERROR(VLOOKUP($A26,Filtro!$A$5:$AY$629,18,FALSE),0)","v":0},{"$f":"IFERROR(VLOOKUP($A26,Filtro!$A$5:$AY$629,19,FALSE),0)","v":0},{"$f":"IFERROR(VLOOKUP($A26,Filtro!$A$5:$AY$629,20,FALSE),0)","v":3},{"$f":"IFERROR(VLOOKUP($A26,Filtro!$A$5:$AY$629,21,FALSE),0)","v":3},{"$f":"IFERROR(VLOOKUP($A26,Filtro!$A$5:$AY$629,22,FALSE),0)","v":2},{"$f":"IFERROR(VLOOKUP($A26,Filtro!$A$5:$AY$629,23,FALSE),0)","v":5},{"$f":"IFERROR(VLOOKUP($A26,Filtro!$A$5:$AY$629,24,FALSE),0)","v":3},{"$f":"IFERROR(VLOOKUP($A26,Filtro!$A$5:$AY$629,25,FALSE),0)","v":27},{"$f":"IFERROR(VLOOKUP($A26,Filtro!$A$5:$AY$629,26,FALSE),0)","v":28},{"$f":"IFERROR(VLOOKUP($A26,Filtro!$A$5:$AY$629,27,FALSE),0)","v":23},{"$f":"IFERROR(VLOOKUP($A26,Filtro!$A$5:$AY$629,28,FALSE),0)","v":27},{"$f":"IFERROR(VLOOKUP($A26,Filtro!$A$5:$AY$629,29,FALSE),0)","v":35},{"$f":"IFERROR(VLOOKUP($A26,Filtro!$A$5:$AY$629,30,FALSE),0)","v":35},{"$f":"IFERROR(VLOOKUP($A26,Filtro!$A$5:$AY$629,31,FALSE),0)","v":69},{"$f":"IFERROR(VLOOKUP($A26,Filtro!$A$5:$AY$629,32,FALSE),0)","v":46},{"$f":"IFERROR(VLOOKUP($A26,Filtro!$A$5:$AY$629,33,FALSE),0)","v":77},{"$f":"IFERROR(VLOOKUP($A26,Filtro!$A$5:$AY$629,34,FALSE),0)","v":65},{"$f":"IFERROR(VLOOKUP($A26,Filtro!$A$5:$AY$629,35,FALSE),0)","v":75},{"$f":"IFERROR(VLOOKUP($A26,Filtro!$A$5:$AY$629,36,FALSE),0)","v":74},{"$f":"IFERROR(VLOOKUP($A26,Filtro!$A$5:$AY$629,37,FALSE),0)","v":133},{"$f":"IFERROR(VLOOKUP($A26,Filtro!$A$5:$AY$629,38,FALSE),0)","v":152},{"$f":"IFERROR(VLOOKUP($A26,Filtro!$A$5:$AY$629,39,FALSE),0)","v":0},{"$f":"IFERROR(VLOOKUP($A26,Filtro!$A$5:$AY$629,40,FALSE),0)","v":14},{"$f":"IFERROR(VLOOKUP($A26,Filtro!$A$5:$AY$629,41,FALSE),0)","v":18},{"$f":"IFERROR(VLOOKUP($A26,Filtro!$A$5:$AY$629,42,FALSE),0)","v":0},{"$f":"IFERROR(VLOOKUP($A26,Filtro!$A$5:$AY$629,43,FALSE),0)","v":3},{"$nulls":36},"",null,"",{"$nulls":5},0,null,0]
["P3140300","ARTROSIS DE CADERA Y RODILLA ",null,11976,2780,9196,{"$f":"IFERROR(VLOOKUP($A27,Filtro!$A$5:$AY$629,5,FALSE),0)","v":0},{"$f":"IFERROR(VLOOKUP($A27,Filtro!$A$5:$AY$629,6,FALSE),0)","v":0},{"$f":"IFERROR(VLOOKUP($A27,Filtro!$A$5:$AY$629,7,FALSE),0)","v":0},{"$f":"IFERROR(VLOOKUP($A27,Filtro!$A$5:$AY$629,8,FALSE),0)","v":0},{"$f":"IFERROR(VLOOKUP($A27,Filtro!$A$5:$AY$629,9,FALSE),0)","v":0},{"$f":"IFERROR(VLOOKUP($A27,Filtro!$A$5:$AY$629,10,FALSE),0)","v":0},{"$f":"IFERROR(VLOOKUP($A27,Filtro!$A$5:$AY$629,11,FALSE),0)","v":1},{"$f":"IFERROR(VLOOKUP($A27,Filtro!$A$5:$AY$629,12,FALSE),0)","v":2},{"$f":"IFERROR(VLOOKUP($A27,Filtro!$A$5:$AY$629,13,FALSE),0)","v":0},{"$f":"IFERROR(VLOOKUP($A27,Filtro!$A$5:$AY$629,14,FALSE),0)","v":4},{"$f":"IFERROR(VLOOKUP($A27,Filtro!$A$5:$AY$629,15,FALSE),0)","v":1},{"$f":"IFERROR(VLOOKUP($A27,Filtro!$A$5:$AY$629,16,FALSE),0)","v":6},{"$f":"IFERROR(VLOOKUP($A27,Filtro!$A$5:$AY$629,17,FALSE),0)","v":1},{"$f":"IFERROR(VLOOKUP($A27,Filtro!$A$5:$AY$629,18,FALSE),0)","v":10},{"$f":"IFERROR(VLOOKUP($A27,Filtro!$A$5:$AY$629,19,FALSE),0)","v":6},{"$f":"IFERROR(VLOOKUP($A27,Filtro!$A$5:$AY$629,20,FALSE),0)","v":17},{"$f":"IFERROR(VLOOKUP($A27,Filtro!$A$5:$AY$629,21,FALSE),0)","v":3},{"$f":"IFERROR(VLOOKUP($A27,Filtro!$A$5:$AY$629,22,FALSE),0)","v":44},{"$f":"IFERROR(VLOOKUP($A27,Filtro!$A$5:$AY$629,23,FALSE),0)","v":17},{"$f":"IFERROR(VLOOKUP($A27,Filtro!$A$5:$AY$629,24,FALSE),0)","v":119},{"$f":"IFERROR(VLOOKUP($A27,Filtro!$A$5:$AY$629,25,FALSE),0)","v":43},{"$f":"IFERROR(VLOOKUP($A27,Filtro!$A$5:$AY$629,26,FALSE),0)","v":274},{"$f":"IFERROR(VLOOKUP($A27,Filtro!$A$5:$AY$629,27,FALSE),0)","v":152},{"$f":"IFERROR(VLOOKUP($A27,Filtro!$A$5:$AY$629,28,FALSE),0)","v":807},{"$f":"IFERROR(VLOOKUP($A27,Filtro!$A$5:$AY$629,29,FALSE),0)","v":382},{"$f":"IFERROR(VLOOKUP($A27,Filtro!$A$5:$AY$629,30,FALSE),0)","v":1330},{"$f":"IFERROR(VLOOKUP($A27,Filtro!$A$5:$AY$629,31,FALSE),0)","v":435},{"$f":"IFERROR(VLOOKUP($A27,Filtro!$A$5:$AY$629,32,FALSE),0)","v":1570},{"$f":"IFERROR(VLOOKUP($A27,Filtro!$A$5:$AY$629,33,FALSE),0)","v":503},{"$f":"IFERROR(VLOOKUP($A27,Filtro!$A$5:$AY$629,34,FALSE),0)","v":1604},{"$f":"IFERROR(VLOOKUP($A27,Filtro!$A$5:$AY$629,35,FALSE),0)","v":466},{"$f":"IFERROR(VLOOKUP($A27,Filtro!$A$5:$AY$629,36,FALSE),0)","v":1334},{"$f":"IFERROR(VLOOKUP($A27,Filtro!$A$5:$AY$629,37,FALSE),0)","v":770},{"$f":"IFERROR(VLOOKUP($A27,Filtro!$A$5:$AY$629,38,FALSE),0)","v":2075},{"$f":"IFERROR(VLOOKUP($A27,Filtro!$A$5:$AY$629,39,FALSE),0)","v":0},{"$f":"IFERROR(VLOOKUP($A27,Filtro!$A$5:$AY$629,40,FALSE),0)","v":13},{"$f":"IFERROR(VLOOKUP($A27,Filtro!$A$5:$AY$629,41,FALSE),0)","v":54},{"$f":"IFERROR(VLOOKUP($A27,Filtro!$A$5:$AY$629,42,FALSE),0)","v":4},{"$f":"IFERROR(VLOOKUP($A27,Filtro!$A$5:$AY$629,43,FALSE),0)","v":17},{"$nulls":36},"",null,"",{"$nulls":5},0,null,0]
["P3120800","ALIVIO DEL DOLOR",null,1554,752,802,{"$f":"IFERROR(VLOOKUP($A28,Filtro!$A$5:$AY$629,5,FALSE),0)","v":0},{"$f":"IFERROR(VLOOKUP($A28,Filtro!$A$5:$AY$629,6,FALSE),0)","v":1},{"$f":"IFERROR(VLOOKUP($A28,Filtro!$A$5:$AY$629,7,FALSE),0)","v":1},{"$f":"IFERROR(VLOOKUP($A28,Filtro!$A$5:$AY$629,8,FALSE),0)","v":0},{"$f":"IFERROR(VLOOKUP($A28,Filtro!$A$5:$AY$629,9,FALSE),0)","v":0},{"$f":"IFERROR(VLOOKUP($A28,Filtro!$A$5:$AY$629,10,FALSE),0)","v":1},{"$f":"IFERROR(VLOOKUP($A28,Filtro!$A$5:$AY$629,11,FALSE),0)","v":1},{"$f":"IFERROR(VLOOKUP($A28,Filtro!$A$5:$AY$629,12,FALSE),0)","v":2},{"$f":"IFERROR(VLOOKUP($A28,Filtro!$A$5:$AY$629,13,FALSE),0)","v":5},{"$f":"IFERROR(VLOOKUP($A28,Filtro!$A$5:$AY$629,14,FALSE),0)","v":0},{"$f":"IFERROR(VLOOKUP($A28,Filtro!$A$5:$AY$629,15,FALSE),0)","v":12},{"$f":"IFERROR(VLOOKUP($A28,Filtro!$A$5:$AY$629,16,FALSE),0)","v":4},{"$f":"IFERROR(VLOOKUP($A28,Filtro!$A$5:$AY$629,17,FALSE),0)","v":10},{"$f":"IFERROR(VLOOKUP($A28,Filtro!$A$5:$AY$629,18,FALSE),0)","v":10},{"$f":"IFERROR(VLOOKUP($A28,Filtro!$A$5:$AY$629,19,FALSE),0)","v":5},{"$f":"IFERROR(VLOOKUP($A28,Filtro!$A$5:$AY$629,20,FALSE),0)","v":25},{"$f":"IFERROR(VLOOKUP($A28,Filtro!$A$5:$AY$629,21,FALSE),0)","v":11},{"$f":"IFERROR(VLOOKUP($A28,Filtro!$A$5:$AY$629,22,FALSE),0)","v":33},{"$f":"IFERROR(VLOOKUP($A28,Filtro!$A$5:$AY$629,23,FALSE),0)","v":18},{"$f":"IFERROR(VLOOKUP($A28,Filtro!$A$5:$AY$629,24,FALSE),0)","v":54},{"$f":"IFERROR(VLOOKUP($A28,Filtro!$A$5:$AY$629,25,FALSE),0)","v":21},{"$f":"IFERROR(VLOOKUP($A28,Filtro!$A$5:$AY$629,26,FALSE),0)","v":75},{"$f":"IFERROR(VLOOKUP($A28,Filtro!$A$5:$AY$629,27,FALSE),0)","v":43},{"$f":"IFERROR(VLOOKUP($A28,Filtro!$A$5:$AY$629,28,FALSE),0)","v":96},{"$f":"IFERROR(VLOOKUP($A28,Filtro!$A$5:$AY$629,29,FALSE),0)","v":66},{"$f":"IFERROR(VLOOKUP($A28,Filtro!$A$5:$AY$629,30,FALSE),0)","v":69},{"$f":"IFERROR(VLOOKUP($A28,Filtro!$A$5:$AY$629,31,FALSE),0)","v":97},{"$f":"IFERROR(VLOOKUP($A28,Filtro!$A$5:$AY$629,32,FALSE),0)","v":85},{"$f":"IFERROR(VLOOKUP($A28,Filtro!$A$5:$AY$629,33,FALSE),0)","v":132},{"$f":"IFERROR(VLOOKUP($A28,Filtro!$A$5:$AY$629,34,FALSE),0)","v":79},{"$f":"IFERROR(VLOOKUP($A28,Filtro!$A$5:$AY$629,35,FALSE),0)","v":127},{"$f":"IFERROR(VLOOKUP($A28,Filtro!$A$5:$AY$629,36,FALSE),0)","v":107},{"$f":"IFERROR(VLOOKUP($A28,Filtro!$A$5:$AY$629,37,FALSE),0)","v":203},{"$f":"IFERROR(VLOOKUP($A28,Filtro!$A$5:$AY$629,38,FALSE),0)","v":161},{"$f":"IFERROR(VLOOKUP($A28,Filtro!$A$5:$AY$629,39,FALSE),0)","v":0},{"$f":"IFERROR(VLOOKUP($A28,Filtro!$A$5:$AY$629,40,FALSE),0)","v":0},{"$f":"IFERROR(VLOOKUP($A28,Filtro!$A$5:$AY$629,41,FALSE),0)","v":0},{"$f":"IFERROR(VLOOKUP($A28,Filtro!$A$5:$AY$629,42,FALSE),0)","v":0},{"$f":"IFERROR(VLOOKUP($A28,Filtro!$A$5:$AY$629,43,FALSE),0)","v":1},{"$nulls":36},"",null,"",{"$nulls":5},0,null,0]
["P3161040","HIPOTIROIDISMO",null,23788,4245,19543,{"$f":"IFERROR(VLOOKUP($A29,Filtro!$A$5:$AY$629,5,FALSE),0)","v":1},{"$f":"IFERROR(VLOOKUP($A29,Filtro!$A$5:$AY$629,6,FALSE),0)","v":2},{"$f":"IFERROR(VLOOKUP($A29,Filtro!$A$5:$AY$629,7,FALSE),0)","v":7},{"$f":"IFERROR(VLOOKUP($A29,Filtro!$A$5:$AY$629,8,FALSE),0)","v":3},{"$f":"IFERROR(VLOOKUP($A29,Filtro!$A$5:$AY$629,9,FALSE),0)","v":11},{"$f":"IFERROR(VLOOKUP($A29,Filtro!$A$5:$AY$629,10,FALSE),0)","v":16},{"$f":"IFERROR(VLOOKUP($A29,Filtro!$A$5:$AY$629,11,FALSE),0)","v":56},{"$f":"IFERROR(VLOOKUP($A29,Filtro!$A$5:$AY$629,12,FALSE),0)","v":163},{"$f":"IFERROR(VLOOKUP($A29,Filtro!$A$5:$AY$629,13,FALSE),0)","v":71},{"$f":"IFERROR(VLOOKUP($A29,Filtro!$A$5:$AY$629,14,FALSE),0)","v":355},{"$f":"IFERROR(VLOOKUP($A29,Filtro!$A$5:$AY$629,15,FALSE),0)","v":54},{"$f":"IFERROR(VLOOKUP($A29,Filtro!$A$5:$AY$629,16,FALSE),0)","v":456},{"$f":"IFERROR(VLOOKUP($A29,Filtro!$A$5:$AY$629,17,FALSE),0)","v":58},{"$f":"IFERROR(VLOOKUP($A29,Filtro!$A$5:$AY$629,18,FALSE),0)","v":599},{"$f":"IFERROR(VLOOKUP($A29,Filtro!$A$5:$AY$629,19,FALSE),0)","v":77},{"$f":"IFERROR(VLOOKUP($A29,Filtro!$A$5:$AY$629,20,FALSE),0)","v":837},{"$f":"IFERROR(VLOOKUP($A29,Filtro!$A$5:$AY$629,21,FALSE),0)","v":94},{"$f":"IFERROR(VLOOKUP($A29,Filtro!$A$5:$AY$629,22,FALSE),0)","v":964},{"$f":"IFERROR(VLOOKUP($A29,Filtro!$A$5:$AY$629,23,FALSE),0)","v":148},{"$f":"IFERROR(VLOOKUP($A29,Filtro!$A$5:$AY$629,24,FALSE),0)","v":1345},{"$f":"IFERROR(VLOOKUP($A29,Filtro!$A$5:$AY$629,25,FALSE),0)","v":251},{"$f":"IFERROR(VLOOKUP($A29,Filtro!$A$5:$AY$629,26,FALSE),0)","v":1756},{"$f":"IFERROR(VLOOKUP($A29,Filtro!$A$5:$AY$629,27,FALSE),0)","v":351},{"$f":"IFERROR(VLOOKUP($A29,Filtro!$A$5:$AY$629,28,FALSE),0)","v":2411},{"$f":"IFERROR(VLOOKUP($A29,Filtro!$A$5:$AY$629,29,FALSE),0)","v":501},{"$f":"IFERROR(VLOOKUP($A29,Filtro!$A$5:$AY$629,30,FALSE),0)","v":2681},{"$f":"IFERROR(VLOOKUP($A29,Filtro!$A$5:$AY$629,31,FALSE),0)","v":513},{"$f":"IFERROR(VLOOKUP($A29,Filtro!$A$5:$AY$629,32,FALSE),0)","v":2186},{"$f":"IFERROR(VLOOKUP($A29,Filtro!$A$5:$AY$629,33,FALSE),0)","v":582},{"$f":"IFERROR(VLOOKUP($A29,Filtro!$A$5:$AY$629,34,FALSE),0)","v":1961},{"$f":"IFERROR(VLOOKUP($A29,Filtro!$A$5:$AY$629,35,FALSE),0)","v":528},{"$f":"IFERROR(VLOOKUP($A29,Filtro!$A$5:$AY$629,36,FALSE),0)","v":1641},{"$f":"IFERROR(VLOOKUP($A29,Filtro!$A$5:$AY$629,37,FALSE),0)","v":942},{"$f":"IFERROR(VLOOKUP($A29,Filtro!$A$5:$AY$629,38,FALSE),0)","v":2167},{"$f":"IFERROR(VLOOKUP($A29,Filtro!$A$5:$AY$629,39,FALSE),0)","v":0},{"$f":"IFERROR(VLOOKUP($A29,Filtro!$A$5:$AY$629,40,FALSE),0)","v":15},{"$f":"IFERROR(VLOOKUP($A29,Filtro!$A$5:$AY$629,41,FALSE),0)","v":29},{"$f":"IFERROR(VLOOKUP($A29,Filtro!$A$5:$AY$629,42,FALSE),0)","v":3},{"$f":"IFERROR(VLOOKUP($A29,Filtro!$A$5:$AY$629,43,FALSE),0)","v":55},{"$nulls":36},"",null,"",{"$nulls":5},0,null,0]
["P3160910","DEPENDENCIA LEVE",null,1674,565,1109,{"$f":"IFERROR(VLOOKUP($A30,Filtro!$A$5:$AY$629,5,FALSE),0)","v":0},{"$f":"IFERROR(VLOOKUP($A30,Filtro!$A$5:$AY$629,6,FALSE),0)","v":0},{"$f":"IFERROR(VLOOKUP($A30,Filtro!$A$5:$AY$629,7,FALSE),0)","v":0},{"$f":"IFERROR(VLOOKUP($A30,Filtro!$A$5:$AY$629,8,FALSE),0)","v":0},{"$f":"IFERROR(VLOOKUP($A30,Filtro!$A$5:$AY$629,9,FALSE),0)","v":0},{"$f":"IFERROR(VLOOKUP($A30,Filtro!$A$5:$AY$629,10,FALSE),0)","v":0},{"$f":"IFERROR(VLOOKUP($A30,Filtro!$A$5:$AY$629,11,FALSE),0)","v":2},{"$f":"IFERROR(VLOOKUP($A30,Filtro!$A$5:$AY$629,12,FALSE),0)","v":0},{"$f":"IFERROR(VLOOKUP($A30,Filtro!$A$5:$AY$629,13,FALSE),0)","v":0},{"$f":"IFERROR(VLOOKUP($A30,Filtro!$A$5:$AY$629,14,FALSE),0)","v":0},{"$f":"IFERROR(VLOOKUP($A30,Filtro!$A$5:$AY$629,15,FALSE),0)","v":0},{"$f":"IFERROR(VLOOKUP($A30,Filtro!$A$5:$AY$629,16,FALSE),0)","v":0},{"$f":"IFERROR(VLOOKUP($A30,Filtro!$A$5:$AY$629,17,FALSE),0)","v":1},{"$f":"IFERROR(VLOOKUP($A30,Filtro!$A$5:$AY$629,18,FALSE),0)","v":3},{"$f":"IFERROR(VLOOKUP($A30,Filtro!$A$5:$AY$629,19,FALSE),0)","v":0},{"$f":"IFERROR(VLOOKUP($A30,Filtro!$A$5:$AY$629,20,FALSE),0)","v":1},{"$f":"IFERROR(VLOOKUP($A30,Filtro!$A$5:$AY$629,21,FALSE),0)","v":3},{"$f":"IFERROR(VLOOKUP($A30,Filtro!$A$5:$AY$629,22,FALSE),0)","v":2},{"$f":"IFERROR(VLOOKUP($A30,Filtro!$A$5:$AY$629,23,FALSE),0)","v":3},{"$f":"IFERROR(VLOOKUP($A30,Filtro!$A$5:$AY$629,24,FALSE),0)","v":6},{"$f":"IFERROR(VLOOKUP($A30,Filtro!$A$5:$AY$629,25,FALSE),0)","v":5},{"$f":"IFERROR(VLOOKUP($A30,Filtro!$A$5:$AY$629,26,FALSE),0)","v":4},{"$f":"IFERROR(VLOOKUP($A30,Filtro!$A$5:$AY$629,27,FALSE),0)","v":6},{"$f":"IFERROR(VLOOKUP($A30,Filtro!$A$5:$AY$629,28,FALSE),0)","v":6},{"$f":"IFERROR(VLOOKUP($A30,Filtro!$A$5:$AY$629,29,FALSE),0)","v":16},{"$f":"IFERROR(VLOOKUP($A30,Filtro!$A$5:$AY$629,30,FALSE),0)","v":14},{"$f":"IFERROR(VLOOKUP($A30,Filtro!$A$5:$AY$629,31,FALSE),0)","v":64},{"$f":"IFERROR(VLOOKUP($A30,Filtro!$A$5:$AY$629,32,FALSE),0)","v":114},{"$f":"IFERROR(VLOOKUP($A30,Filtro!$A$5:$AY$629,33,FALSE),0)","v":72},{"$f":"IFERROR(VLOOKUP($A30,Filtro!$A$5:$AY$629,34,FALSE),0)","v":146},{"$f":"IFERROR(VLOOKUP($A30,Filtro!$A$5:$AY$629,35,FALSE),0)","v":111},{"$f":"IFERROR(VLOOKUP($A30,Filtro!$A$5:$AY$629,36,FALSE),0)","v":225},{"$f":"IFERROR(VLOOKUP($A30,Filtro!$A$5:$AY$629,37,FALSE),0)","v":282},{"$f":"IFERROR(VLOOKUP($A30,Filtro!$A$5:$AY$629,38,FALSE),0)","v":588},{"$f":"IFERROR(VLOOKUP($A30,Filtro!$A$5:$AY$629,39,FALSE),0)","v":0},{"$f":"IFERROR(VLOOKUP($A30,Filtro!$A$5:$AY$629,40,FALSE),0)","v":0},{"$f":"IFERROR(VLOOKUP($A30,Filtro!$A$5:$AY$629,41,FALSE),0)","v":0},{"$f":"IFERROR(VLOOKUP($A30,Filtro!$A$5:$AY$629,42,FALSE),0)","v":0},{"$f":"IFERROR(VLOOKUP($A30,Filtro!$A$5:$AY$629,43,FALSE),0)","v":0},{"$nulls":36},"",null,"",{"$nulls":5},0,null,0]
["P3160920","DEPENDENCIA MODERADA",null,640,206,434,{"$f":"IFERROR(VLOOKUP($A31,Filtro!$A$5:$AY$629,5,FALSE),0)","v":0},{"$f":"IFERROR(VLOOKUP($A31,Filtro!$A$5:$AY$629,6,FALSE),0)","v":0},{"$f":"IFERROR(VLOOKUP($A31,Filtro!$A$5:$AY$629,7,FALSE),0)","v":0},{"$f":"IFERROR(VLOOKUP($A31,Filtro!$A$5:$AY$629,8,FALSE),0)","v":0},{"$f":"IFERROR(VLOOKUP($A31,Filtro!$A$5:$AY$629,9,FALSE),0)","v":0},{"$f":"IFERROR(VLOOKUP($A31,Filtro!$A$5:$AY$629,10,FALSE),0)","v":0},{"$f":"IFERROR(VLOOKUP($A31,Filtro!$A$5:$AY$629,11,FALSE),0)","v":0},{"$f":"IFERROR(VLOOKUP($A31,Filtro!$A$5:$AY$629,12,FALSE),0)","v":0},{"$f":"IFERROR(VLOOKUP($A31,Filtro!$A$5:$AY$629,13,FALSE),0)","v":0},{"$f":"IFERROR(VLOOKUP($A31,Filtro!$A$5:$AY$629,14,FALSE),0)","v":4},{"$f":"IFERROR(VLOOKUP($A31,Filtro!$A$5:$AY$629,15,FALSE),0)","v":3},{"$f":"IFERROR(VLOOKUP($A31,Filtro!$A$5:$AY$629,16,FALSE),0)","v":2},{"$f":"IFERROR(VLOOKUP($A31,Filtro!$A$5:$AY$629,17,FALSE),0)","v":1},{"$f":"IFERROR(VLOOKUP($A31,Filtro!$A$5:$AY$629,18,FALSE),0)","v":2},{"$f":"IFERROR(VLOOKUP($A31,Filtro!$A$5:$AY$629,19,FALSE),0)","v":4},{"$f":"IFERROR(VLOOKUP($A31,Filtro!$A$5:$AY$629,20,FALSE),0)","v":3},{"$f":"IFERROR(VLOOKUP($A31,Filtro!$A$5:$AY$629,21,FALSE),0)","v":1},{"$f":"IFERROR(VLOOKUP($A31,Filtro!$A$5:$AY$629,22,FALSE),0)","v":4},{"$f":"IFERROR(VLOOKUP($A31,Filtro!$A$5:$AY$629,23,FALSE),0)","v":5},{"$f":"IFERROR(VLOOKUP($A31,Filtro!$A$5:$AY$629,24,FALSE),0)","v":2},{"$f":"IFERROR(VLOOKUP($A31,Filtro!$A$5:$AY$629,25,FALSE),0)","v":3},{"$f":"IFERROR(VLOOKUP($A31,Filtro!$A$5:$AY$629,26,FALSE),0)","v":5},{"$f":"IFERROR(VLOOKUP($A31,Filtro!$A$5:$AY$629,27,FALSE),0)","v":9},{"$f":"IFERROR(VLOOKUP($A31,Filtro!$A$5:$AY$629,28,FALSE),0)","v":12},{"$f":"IFERROR(VLOOKUP($A31,Filtro!$A$5:$AY$629,29,FALSE),0)","v":9},{"$f":"IFERROR(VLOOKUP($A31,Filtro!$A$5:$AY$629,30,FALSE),0)","v":18},{"$f":"IFERROR(VLOOKUP($A31,Filtro!$A$5:$AY$629,31,FALSE),0)","v":20},{"$f":"IFERROR(VLOOKUP($A31,Filtro!$A$5:$AY$629,32,FALSE),0)","v":23},{"$f":"IFERROR(VLOOKUP($A31,Filtro!$A$5:$AY$629,33,FALSE),0)","v":19},{"$f":"IFERROR(VLOOKUP($A31,Filtro!$A$5:$AY$629,34,FALSE),0)","v":34},{"$f":"IFERROR(VLOOKUP($A31,Filtro!$A$5:$AY$629,35,FALSE),0)","v":38},{"$f":"IFERROR(VLOOKUP($A31,Filtro!$A$5:$AY$629,36,FALSE),0)","v":50},{"$f":"IFERROR(VLOOKUP($A31,Filtro!$A$5:$AY$629,37,FALSE),0)","v":94},{"$f":"IFERROR(VLOOKUP($A31,Filtro!$A$5:$AY$629,38,FALSE),0)","v":275},{"$f":"IFERROR(VLOOKUP($A31,Filtro!$A$5:$AY$629,39,FALSE),0)","v":0},{"$f":"IFERROR(VLOOKUP($A31,Filtro!$A$5:$AY$629,40,FALSE),0)","v":0},{"$f":"IFERROR(VLOOKUP($A31,Filtro!$A$5:$AY$629,41,FALSE),0)","v":0},{"$f":"IFERROR(VLOOKUP($A31,Filtro!$A$5:$AY$629,42,FALSE),0)","v":0},{"$f":"IFERROR(VLOOKUP($A31,Filtro!$A$5:$AY$629,43,FALSE),0)","v":0},{"$nulls":36},"",null,"",{"$nulls":5},0,null,0]
["P3130200","DEPENDENCIA SEVERA","ONCOLÓGICA",336,174,162,{"$f":"IFERROR(VLOOKUP($A32,Filtro!$A$5:$AY$629,5,FALSE),0)","v":0},{"$f":"IFERROR(VLOOKUP($A32,Filtro!$A$5:$AY$629,6,FALSE),0)","v":0},{"$f":"IFERROR(VLOOKUP($A32,Filtro!$A$5:$AY$629,7,FALSE),0)","v":0},{"$f":"IFERROR(VLOOKUP($A32,Filtro!$A$5:$AY$629,8,FALSE),0)","v":0},{"$f":"IFERROR(VLOOKUP($A32,Filtro!$A$5:$AY$629,9,FALSE),0)","v":0},{"$f":"IFERROR(VLOOKUP($A32,Filtro!$A$5:$AY$629,10,FALSE),0)","v":1},{"$f":"IFERROR(VLOOKUP($A32,Filtro!$A$5:$AY$629,11,FALSE),0)","v":0},{"$f":"IFERROR(VLOOKUP($A32,Filtro!$A$5:$AY$629,12,FALSE),0)","v":0},{"$f":"IFERROR(VLOOKUP($A32,Filtro!$A$5:$AY$629,13,FALSE),0)","v":0},{"$f":"IFERROR(VLOOKUP($A32,Filtro!$A$5:$AY$629,14,FALSE),0)","v":0},{"$f":"IFERROR(VLOOKUP($A32,Filtro!$A$5:$AY$629,15,FALSE),0)","v":0},{"$f":"IFERROR(VLOOKUP($A32,Filtro!$A$5:$AY$629,16,FALSE),0)","v":1},{"$f":"IFERROR(VLOOKUP($A32,Filtro!$A$5:$AY$629,17,FALSE),0)","v":1},{"$f":"IFERROR(VLOOKUP($A32,Filtro!$A$5:$AY$629,18,FALSE),0)","v":1},{"$f":"IFERROR(VLOOKUP($A32,Filtro!$A$5:$AY$629,19,FALSE),0)","v":1},{"$f":"IFERROR(VLOOKUP($A32,Filtro!$A$5:$AY$629,20,FALSE),0)","v":1},{"$f":"IFERROR(VLOOKUP($A32,Filtro!$A$5:$AY$629,21,FALSE),0)","v":1},{"$f":"IFERROR(VLOOKUP($A32,Filtro!$A$5:$AY$629,22,FALSE),0)","v":4},{"$f":"IFERROR(VLOOKUP($A32,Filtro!$A$5:$AY$629,23,FALSE),0)","v":0},{"$f":"IFERROR(VLOOKUP($A32,Filtro!$A$5:$AY$629,24,FALSE),0)","v":3},{"$f":"IFERROR(VLOOKUP($A32,Filtro!$A$5:$AY$629,25,FALSE),0)","v":1},{"$f":"IFERROR(VLOOKUP($A32,Filtro!$A$5:$AY$629,26,FALSE),0)","v":2},{"$f":"IFERROR(VLOOKUP($A32,Filtro!$A$5:$AY$629,27,FALSE),0)","v":7},{"$f":"IFERROR(VLOOKUP($A32,Filtro!$A$5:$AY$629,28,FALSE),0)","v":6},{"$f":"IFERROR(VLOOKUP($A32,Filtro!$A$5:$AY$629,29,FALSE),0)","v":5},{"$f":"IFERROR(VLOOKUP($A32,Filtro!$A$5:$AY$629,30,FALSE),0)","v":8},{"$f":"IFERROR(VLOOKUP($A32,Filtro!$A$5:$AY$629,31,FALSE),0)","v":22},{"$f":"IFERROR(VLOOKUP($A32,Filtro!$A$5:$AY$629,32,FALSE),0)","v":17},{"$f":"IFERROR(VLOOKUP($A32,Filtro!$A$5:$AY$629,33,FALSE),0)","v":23},{"$f":"IFERROR(VLOOKUP($A32,Filtro!$A$5:$AY$629,34,FALSE),0)","v":14},{"$f":"IFERROR(VLOOKUP($A32,Filtro!$A$5:$AY$629,35,FALSE),0)","v":31},{"$f":"IFERROR(VLOOKUP($A32,Filtro!$A$5:$AY$629,36,FALSE),0)","v":29},{"$f":"IFERROR(VLOOKUP($A32,Filtro!$A$5:$AY$629,37,FALSE),0)","v":82},{"$f":"IFERROR(VLOOKUP($A32,Filtro!$A$5:$AY$629,38,FALSE),0)","v":75},{"$f":"IFERROR(VLOOKUP($A32,Filtro!$A$5:$AY$629,39,FALSE),0)","v":0},{"$f":"IFERROR(VLOOKUP($A32,Filtro!$A$5:$AY$629,40,FALSE),0)","v":1},{"$f":"IFERROR(VLOOKUP($A32,Filtro!$A$5:$AY$629,41,FALSE),0)","v":0},{"$f":"IFERROR(VLOOKUP($A32,Filtro!$A$5:$AY$629,42,FALSE),0)","v":0},{"$f":"IFERROR(VLOOKUP($A32,Filtro!$A$5:$AY$629,43,FALSE),0)","v":2},{"$nulls":36},"",null,"",{"$nulls":5},0,null,0]
["P3140400",null,"NO ONCOLÓGICA",3551,1250,2301,{"$f":"IFERROR(VLOOKUP($A33,Filtro!$A$5:$AY$629,5,FALSE),0)","v":4},{"$f":"IFERROR(VLOOKUP($A33,Filtro!$A$5:$AY$629,6,FALSE),0)","v":3},{"$f":"IFERROR(VLOOKUP($A33,Filtro!$A$5:$AY$629,7,FALSE),0)","v":19},{"$f":"IFERROR(VLOOKUP($A33,Filtro!$A$5:$AY$629,8,FALSE),0)","v":10},{"$f":"IFERROR(VLOOKUP($A33,Filtro!$A$5:$AY$629,9,FALSE),0)","v":19},{"$f":"IFERROR(VLOOKUP($A33,Filtro!$A$5:$AY$629,10,FALSE),0)","v":24},{"$f":"IFERROR(VLOOKUP($A33,Filtro!$A$5:$AY$629,11,FALSE),0)","v":26},{"$f":"IFERROR(VLOOKUP($A33,Filtro!$A$5:$AY$629,12,FALSE),0)","v":22},{"$f":"IFERROR(VLOOKUP($A33,Filtro!$A$5:$AY$629,13,FALSE),0)","v":32},{"$f":"IFERROR(VLOOKUP($A33,Filtro!$A$5:$AY$629,14,FALSE),0)","v":10},{"$f":"IFERROR(VLOOKUP($A33,Filtro!$A$5:$AY$629,15,FALSE),0)","v":30},{"$f":"IFERROR(VLOOKUP($A33,Filtro!$A$5:$AY$629,16,FALSE),0)","v":21},{"$f":"IFERROR(VLOOKUP($A33,Filtro!$A$5:$AY$629,17,FALSE),0)","v":29},{"$f":"IFERROR(VLOOKUP($A33,Filtro!$A$5:$AY$629,18,FALSE),0)","v":31},{"$f":"IFERROR(VLOOKUP($A33,Filtro!$A$5:$AY$629,19,FALSE),0)","v":37},{"$f":"IFERROR(VLOOKUP($A33,Filtro!$A$5:$AY$629,20,FALSE),0)","v":25},{"$f":"IFERROR(VLOOKUP($A33,Filtro!$A$5:$AY$629,21,FALSE),0)","v":34},{"$f":"IFERROR(VLOOKUP($A33,Filtro!$A$5:$AY$629,22,FALSE),0)","v":23},{"$f":"IFERROR(VLOOKUP($A33,Filtro!$A$5:$AY$629,23,FALSE),0)","v":35},{"$f":"IFERROR(VLOOKUP($A33,Filtro!$A$5:$AY$629,24,FALSE),0)","v":26},{"$f":"IFERROR(VLOOKUP($A33,Filtro!$A$5:$AY$629,25,FALSE),0)","v":44},{"$f":"IFERROR(VLOOKUP($A33,Filtro!$A$5:$AY$629,26,FALSE),0)","v":44},{"$f":"IFERROR(VLOOKUP($A33,Filtro!$A$5:$AY$629,27,FALSE),0)","v":55},{"$f":"IFERROR(VLOOKUP($A33,Filtro!$A$5:$AY$629,28,FALSE),0)","v":48},{"$f":"IFERROR(VLOOKUP($A33,Filtro!$A$5:$AY$629,29,FALSE),0)","v":57},{"$f":"IFERROR(VLOOKUP($A33,Filtro!$A$5:$AY$629,30,FALSE),0)","v":42},{"$f":"IFERROR(VLOOKUP($A33,Filtro!$A$5:$AY$629,31,FALSE),0)","v":77},{"$f":"IFERROR(VLOOKUP($A33,Filtro!$A$5:$AY$629,32,FALSE),0)","v":94},{"$f":"IFERROR(VLOOKUP($A33,Filtro!$A$5:$AY$629,33,FALSE),0)","v":111},{"$f":"IFERROR(VLOOKUP($A33,Filtro!$A$5:$AY$629,34,FALSE),0)","v":149},{"$f":"IFERROR(VLOOKUP($A33,Filtro!$A$5:$AY$629,35,FALSE),0)","v":150},{"$f":"IFERROR(VLOOKUP($A33,Filtro!$A$5:$AY$629,36,FALSE),0)","v":252},{"$f":"IFERROR(VLOOKUP($A33,Filtro!$A$5:$AY$629,37,FALSE),0)","v":491},{"$f":"IFERROR(VLOOKUP($A33,Filtro!$A$5:$AY$629,38,FALSE),0)","v":1477},{"$f":"IFERROR(VLOOKUP($A33,Filtro!$A$5:$AY$629,39,FALSE),0)","v":0},{"$f":"IFERROR(VLOOKUP($A33,Filtro!$A$5:$AY$629,40,FALSE),0)","v":1},{"$f":"IFERROR(VLOOKUP($A33,Filtro!$A$5:$AY$629,41,FALSE),0)","v":3},{"$f":"IFERROR(VLOOKUP($A33,Filtro!$A$5:$AY$629,42,FALSE),0)","v":0},{"$f":"IFERROR(VLOOKUP($A33,Filtro!$A$5:$AY$629,43,FALSE),0)","v":0},{"$nulls":36},"",null,"",{"$nulls":5},0,null,0]
["P3171610",null,"TOTAL PERSONAS CON LESIÓN POR PRESIÓN*",350,{"$f":"+G34+I34+K34+M34+O34+Q34+S34+U34+W34+Y34+AA34+AC34+AE34+AG34+AI34+AK34+AM34","v":122},{"$f":"+H34+J34+L34+N34+P34+R34+T34+V34+X34+Z34+AB34+AD34+AF34+AH34+AJ34+AL34+AN34","v":228},{"$f":"IFERROR(VLOOKUP($A34,Filtro!$A$5:$AY$629,5,FALSE),0)","v":0},{"$f":"IFERROR(VLOOKUP($A34,Filtro!$A$5:$AY$629,6,FALSE),0)","v":0},{"$f":"IFERROR(VLOOKUP($A34,Filtro!$A$5:$AY$629,7,FALSE),0)","v":1},{"$f":"IFERROR(VLOOKUP($A34,Filtro!$A$5:$AY$629,8,FALSE),0)","v":0},{"$f":"IFERROR(VLOOKUP($A34,Filtro!$A$5:$AY$629,9,FALSE),0)","v":0},{"$f":"IFERROR(VLOOKUP($A34,Filtro!$A$5:$AY$629,10,FALSE),0)","v":0},{"$f":"IFERROR(VLOOKUP($A34,Filtro!$A$5:$AY$629,11,FALSE),0)","v":0},{"$f":"IFERROR(VLOOKUP($A34,Filtro!$A$5:$AY$629,12,FALSE),0)","v":1},{"$f":"IFERROR(VLOOKUP($A34,Filtro!$A$5:$AY$629,13,FALSE),0)","v":2},{"$f":"IFERROR(VLOOKUP($A34,Filtro!$A$5:$AY$629,14,FALSE),0)","v":1},{"$f":"IFERROR(VLOOKUP($A34,Filtro!$A$5:$AY$629,15,FALSE),0)","v":0},{"$f":"IFERROR(VLOOKUP($A34,Filtro!$A$5:$AY$629,16,FALSE),0)","v":1},{"$f":"IFERROR(VLOOKUP($A34,Filtro!$A$5:$AY$629,17,FALSE),0)","v":2},{"$f":"IFERROR(VLOOKUP($A34,Filtro!$A$5:$AY$629,18,FALSE),0)","v":1},{"$f":"IFERROR(VLOOKUP($A34,Filtro!$A$5:$AY$629,19,FALSE),0)","v":2},{"$f":"IFERROR(VLOOKUP($A34,Filtro!$A$5:$AY$629,20,FALSE),0)","v":0},{"$f":"IFERROR(VLOOKUP($A34,Filtro!$A$5:$AY$629,21,FALSE),0)","v":1},{"$f":"IFERROR(VLOOKUP($A34,Filtro!$A$5:$AY$629,22,FALSE),0)","v":1},{"$f":"IFERROR(VLOOKUP($A34,Filtro!$A$5:$AY$629,23,FALSE),0)","v":0},{"$f":"IFERROR(VLOOKUP($A34,Filtro!$A$5:$AY$629,24,FALSE),0)","v":3},{"$f":"IFERROR(VLOOKUP($A34,Filtro!$A$5:$AY$629,25,FALSE),0)","v":5},{"$f":"IFERROR(VLOOKUP($A34,Filtro!$A$5:$AY$629,26,FALSE),0)","v":0},{"$f":"IFERROR(VLOOKUP($A34,Filtro!$A$5:$AY$629,27,FALSE),0)","v":2},{"$f":"IFERROR(VLOOKUP($A34,Filtro!$A$5:$AY$629,28,FALSE),0)","v":2},{"$f":"IFERROR(VLOOKUP($A34,Filtro!$A$5:$AY$629,29,FALSE),0)","v":7},{"$f":"IFERROR(VLOOKUP($A34,Filtro!$A$5:$AY$629,30,FALSE),0)","v":5},{"$f":"IFERROR(VLOOKUP($A34,Filtro!$A$5:$AY$629,31,FALSE),0)","v":8},{"$f":"IFERROR(VLOOKUP($A34,Filtro!$A$5:$AY$629,32,FALSE),0)","v":12},{"$f":"IFERROR(VLOOKUP($A34,Filtro!$A$5:$AY$629,33,FALSE),0)","v":18},{"$f":"IFERROR(VLOOKUP($A34,Filtro!$A$5:$AY$629,34,FALSE),0)","v":22},{"$f":"IFERROR(VLOOKUP($A34,Filtro!$A$5:$AY$629,35,FALSE),0)","v":18},{"$f":"IFERROR(VLOOKUP($A34,Filtro!$A$5:$AY$629,36,FALSE),0)","v":33},{"$f":"IFERROR(VLOOKUP($A34,Filtro!$A$5:$AY$629,37,FALSE),0)","v":56},{"$f":"IFERROR(VLOOKUP($A34,Filtro!$A$5:$AY$629,38,FALSE),0)","v":146},{"$f":"IFERROR(VLOOKUP($A34,Filtro!$A$5:$AY$629,39,FALSE),0)","v":0},{"$f":"IFERROR(VLOOKUP($A34,Filtro!$A$5:$AY$629,40,FALSE),0)","v":0},{"$f":"IFERROR(VLOOKUP($A34,Filtro!$A$5:$AY$629,41,FALSE),0)","v":0},{"$f":"IFERROR(VLOOKUP($A34,Filtro!$A$5:$AY$629,42,FALSE),0)","v":0},{"$f":"IFERROR(VLOOKUP($A34,Filtro!$A$5:$AY$629,43,FALSE),0)","v":0},{"$nulls":36},"",{"$f":"IF($D34<=$D32+$D33,\"\",\"Dependencia severa con escaras no debe ser mayor que los Dependientes oncológicos más no Oncológicos. \")","v":""},"",{"$nulls":5},0,{"$f":"IF($D34<=$D32+$D33,0,1)","v":0},0]
["P3160800","ATENCIÓN DOMICILIARIA POR DEPENDENCIA SEVERA","TOTAL PERSONAS",{"$f":"SUM(E35:F35)","v":3867},{"$f":"+G35+I35+K35+M35+O35+Q35+S35+U35+W35+Y35+AA35+AC35+AE35+AG35+AI35+AK35+AM35","v":1428},{"$f":"+H35+J35+L35+N35+P35+R35+T35+V35+X35+Z35+AB35+AD35+AF35+AH35+AJ35+AL35+AN35","v":2439},{"$f":"IFERROR(VLOOKUP($A35,Filtro!$A$5:$AY$629,5,FALSE),0)","v":4},{"$f":"IFERROR(VLOOKUP($A35,Filtro!$A$5:$AY$629,6,FALSE),0)","v":3},{"$f":"IFERROR(VLOOKUP($A35,Filtro!$A$5:$AY$629,7,FALSE),0)","v":19},{"$f":"IFERROR(VLOOKUP($A35,Filtro!$A$5:$AY$629,8,FALSE),0)","v":10},{"$f":"IFERROR(VLOOKUP($A35,Filtro!$A$5:$AY$629,9,FALSE),0)","v":18},{"$f":"IFERROR(VLOOKUP($A35,Filtro!$A$5:$AY$629,10,FALSE),0)","v":24},{"$f":"IFERROR(VLOOKUP($A35,Filtro!$A$5:$AY$629,11,FALSE),0)","v":25},{"$f":"IFERROR(VLOOKUP($A35,Filtro!$A$5:$AY$629,12,FALSE),0)","v":23},{"$f":"IFERROR(VLOOKUP($A35,Filtro!$A$5:$AY$629,13,FALSE),0)","v":31},{"$f":"IFERROR(VLOOKUP($A35,Filtro!$A$5:$AY$629,14,FALSE),0)","v":9},{"$f":"IFERROR(VLOOKUP($A35,Filtro!$A$5:$AY$629,15,FALSE),0)","v":29},{"$f":"IFERROR(VLOOKUP($A35,Filtro!$A$5:$AY$629,16,FALSE),0)","v":22},{"$f":"IFERROR(VLOOKUP($A35,Filtro!$A$5:$AY$629,17,FALSE),0)","v":34},{"$f":"IFERROR(VLOOKUP($A35,Filtro!$A$5:$AY$629,18,FALSE),0)","v":27},{"$f":"IFERROR(VLOOKUP($A35,Filtro!$A$5:$AY$629,19,FALSE),0)","v":38},{"$f":"IFERROR(VLOOKUP($A35,Filtro!$A$5:$AY$629,20,FALSE),0)","v":26},{"$f":"IFERROR(VLOOKUP($A35,Filtro!$A$5:$AY$629,21,FALSE),0)","v":35},{"$f":"IFERROR(VLOOKUP($A35,Filtro!$A$5:$AY$629,22,FALSE),0)","v":27},{"$f":"IFERROR(VLOOKUP($A35,Filtro!$A$5:$AY$629,23,FALSE),0)","v":37},{"$f":"IFERROR(VLOOKUP($A35,Filtro!$A$5:$AY$629,24,FALSE),0)","v":28},{"$f":"IFERROR(VLOOKUP($A35,Filtro!$A$5:$AY$629,25,FALSE),0)","v":47},{"$f":"IFERROR(VLOOKUP($A35,Filtro!$A$5:$AY$629,26,FALSE),0)","v":43},{"$f":"IFERROR(VLOOKUP($A35,Filtro!$A$5:$AY$629,27,FALSE),0)","v":61},{"$f":"IFERROR(VLOOKUP($A35,Filtro!$A$5:$AY$629,28,FALSE),0)","v":54},{"$f":"IFERROR(VLOOKUP($A35,Filtro!$A$5:$AY$629,29,FALSE),0)","v":62},{"$f":"IFERROR(VLOOKUP($A35,Filtro!$A$5:$AY$629,30,FALSE),0)","v":53},{"$f":"IFERROR(VLOOKUP($A35,Filtro!$A$5:$AY$629,31,FALSE),0)","v":98},{"$f":"IFERROR(VLOOKUP($A35,Filtro!$A$5:$AY$629,32,FALSE),0)","v":109},{"$f":"IFERROR(VLOOKUP($A35,Filtro!$A$5:$AY$629,33,FALSE),0)","v":137},{"$f":"IFERROR(VLOOKUP($A35,Filtro!$A$5:$AY$629,34,FALSE),0)","v":156},{"$f":"IFERROR(VLOOKUP($A35,Filtro!$A$5:$AY$629,35,FALSE),0)","v":183},{"$f":"IFERROR(VLOOKUP($A35,Filtro!$A$5:$AY$629,36,FALSE),0)","v":282},{"$f":"IFERROR(VLOOKUP($A35,Filtro!$A$5:$AY$629,37,FALSE),0)","v":570},{"$f":"IFERROR(VLOOKUP($A35,Filtro!$A$5:$AY$629,38,FALSE),0)","v":1543},{"$f":"IFERROR(VLOOKUP($A35,Filtro!$A$5:$AY$629,39,FALSE),0)","v":0},{"$f":"IFERROR(VLOOKUP($A35,Filtro!$A$5:$AY$629,40,FALSE),0)","v":0},{"$f":"IFERROR(VLOOKUP($A35,Filtro!$A$5:$AY$629,41,FALSE),0)","v":2},{"$f":"IFERROR(VLOOKUP($A35,Filtro!$A$5:$AY$629,42,FALSE),0)","v":1},{"$f":"IFERROR(VLOOKUP($A35,Filtro!$A$5:$AY$629,43,FALSE),0)","v":3},{"$nulls":36},"",{"$f":"IF($D35<=$D32+$D33,\"\",\"* Atención Domiciliaria por Dependencia Severa: Total Personas no debe ser mayor que los Dependientes oncológicos más no Oncológicos. \")","v":""},"",{"$nulls":5},0,{"$f":"IF($D35<=$D32+$D33,0,1)","v":0},0]
["P3171611",null,"ONCOLÓGICA",329,172,157,{"$f":"IFERROR(VLOOKUP($A36,Filtro!$A$5:$AY$629,5,FALSE),0)","v":0},{"$f":"IFERROR(VLOOKUP($A36,Filtro!$A$5:$AY$629,6,FALSE),0)","v":0},{"$f":"IFERROR(VLOOKUP($A36,Filtro!$A$5:$AY$629,7,FALSE),0)","v":0},{"$f":"IFERROR(VLOOKUP($A36,Filtro!$A$5:$AY$629,8,FALSE),0)","v":0},{"$f":"IFERROR(VLOOKUP($A36,Filtro!$A$5:$AY$629,9,FALSE),0)","v":0},{"$f":"IFERROR(VLOOKUP($A36,Filtro!$A$5:$AY$629,10,FALSE),0)","v":1},{"$f":"IFERROR(VLOOKUP($A36,Filtro!$A$5:$AY$629,11,FALSE),0)","v":0},{"$f":"IFERROR(VLOOKUP($A36,Filtro!$A$5:$AY$629,12,FALSE),0)","v":0},{"$f":"IFERROR(VLOOKUP($A36,Filtro!$A$5:$AY$629,13,FALSE),0)","v":0},{"$f":"IFERROR(VLOOKUP($A36,Filtro!$A$5:$AY$629,14,FALSE),0)","v":0},{"$f":"IFERROR(VLOOKUP($A36,Filtro!$A$5:$AY$629,15,FALSE),0)","v":0},{"$f":"IFERROR(VLOOKUP($A36,Filtro!$A$5:$AY$629,16,FALSE),0)","v":1},{"$f":"IFERROR(VLOOKUP($A36,Filtro!$A$5:$AY$629,17,FALSE),0)","v":1},{"$f":"IFERROR(VLOOKUP($A36,Filtro!$A$5:$AY$629,18,FALSE),0)","v":1},{"$f":"IFERROR(VLOOKUP($A36,Filtro!$A$5:$AY$629,19,FALSE),0)","v":1},{"$f":"IFERROR(VLOOKUP($A36,Filtro!$A$5:$AY$629,20,FALSE),0)","v":1},{"$f":"IFERROR(VLOOKUP($A36,Filtro!$A$5:$AY$629,21,FALSE),0)","v":1},{"$f":"IFERROR(VLOOKUP($A36,Filtro!$A$5:$AY$629,22,FALSE),0)","v":4},{"$f":"IFERROR(VLOOKUP($A36,Filtro!$A$5:$AY$629,23,FALSE),0)","v":0},{"$f":"IFERROR(VLOOKUP($A36,Filtro!$A$5:$AY$629,24,FALSE),0)","v":3},{"$f":"IFERROR(VLOOKUP($A36,Filtro!$A$5:$AY$629,25,FALSE),0)","v":1},{"$f":"IFERROR(VLOOKUP($A36,Filtro!$A$5:$AY$629,26,FALSE),0)","v":2},{"$f":"IFERROR(VLOOKUP($A36,Filtro!$A$5:$AY$629,27,FALSE),0)","v":7},{"$f":"IFERROR(VLOOKUP($A36,Filtro!$A$5:$AY$629,28,FALSE),0)","v":6},{"$f":"IFERROR(VLOOKUP($A36,Filtro!$A$5:$AY$629,29,FALSE),0)","v":5},{"$f":"IFERROR(VLOOKUP($A36,Filtro!$A$5:$AY$629,30,FALSE),0)","v":8},{"$f":"IFERROR(VLOOKUP($A36,Filtro!$A$5:$AY$629,31,FALSE),0)","v":21},{"$f":"IFERROR(VLOOKUP($A36,Filtro!$A$5:$AY$629,32,FALSE),0)","v":17},{"$f":"IFERROR(VLOOKUP($A36,Filtro!$A$5:$AY$629,33,FALSE),0)","v":23},{"$f":"IFERROR(VLOOKUP($A36,Filtro!$A$5:$AY$629,34,FALSE),0)","v":14},{"$f":"IFERROR(VLOOKUP($A36,Filtro!$A$5:$AY$629,35,FALSE),0)","v":30},{"$f":"IFERROR(VLOOKUP($A36,Filtro!$A$5:$AY$629,36,FALSE),0)","v":29},{"$f":"IFERROR(VLOOKUP($A36,Filtro!$A$5:$AY$629,37,FALSE),0)","v":82},{"$f":"IFERROR(VLOOKUP($A36,Filtro!$A$5:$AY$629,38,FALSE),0)","v":70},{"$f":"IFERROR(VLOOKUP($A36,Filtro!$A$5:$AY$629,39,FALSE),0)","v":0},{"$f":"IFERROR(VLOOKUP($A36,Filtro!$A$5:$AY$629,40,FALSE),0)","v":1},{"$f":"IFERROR(VLOOKUP($A36,Filtro!$A$5:$AY$629,41,FALSE),0)","v":0},{"$f":"IFERROR(VLOOKUP($A36,Filtro!$A$5:$AY$629,42,FALSE),0)","v":0},{"$f":"IFERROR(VLOOKUP($A36,Filtro!$A$5:$AY$629,43,FALSE),0)","v":2},{"$nulls":36},"",{"$f":"IF($D36<=$D35,\"\",\"* Atención Domiciliaria por Dependencia Severa: Total Personas con Escaras no debe ser mayor al Total Personas. \")","v":""},"",{"$f":"IF($D36<=$D34,\"\",\"* Atención Domiciliaria por Dependencia Severa: Total Personas con Escaras no debe ser mayor a las personas con Dependencia Severa con Escaras. \")","v":""},{"$nulls":4},0,{"$f":"IF($D36<=$D35,0,1)","v":0},0,{"$f":"IF($D36<=$D34,0,1)","v":0}]
["P3171612",null,"NO ONCOLÓGICA",{"$f":"SUM(E37:F37)","v":3296},1175,2121,{"$f":"IFERROR(VLOOKUP($A37,Filtro!$A$5:$AY$629,5,FALSE),0)","v":4},{"$f":"IFERROR(VLOOKUP($A37,Filtro!$A$5:$AY$629,6,FALSE),0)","v":3},{"$f":"IFERROR(VLOOKUP($A37,Filtro!$A$5:$AY$629,7,FALSE),0)","v":17},{"$f":"IFERROR(VLOOKUP($A37,Filtro!$A$5:$AY$629,8,FALSE),0)","v":10},{"$f":"IFERROR(VLOOKUP($A37,Filtro!$A$5:$AY$629,9,FALSE),0)","v":19},{"$f":"IFERROR(VLOOKUP($A37,Filtro!$A$5:$AY$629,10,FALSE),0)","v":22},{"$f":"IFERROR(VLOOKUP($A37,Filtro!$A$5:$AY$629,11,FALSE),0)","v":26},{"$f":"IFERROR(VLOOKUP($A37,Filtro!$A$5:$AY$629,12,FALSE),0)","v":19},{"$f":"IFERROR(VLOOKUP($A37,Filtro!$A$5:$AY$629,13,FALSE),0)","v":30},{"$f":"IFERROR(VLOOKUP($A37,Filtro!$A$5:$AY$629,14,FALSE),0)","v":9},{"$f":"IFERROR(VLOOKUP($A37,Filtro!$A$5:$AY$629,15,FALSE),0)","v":27},{"$f":"IFERROR(VLOOKUP($A37,Filtro!$A$5:$AY$629,16,FALSE),0)","v":21},{"$f":"IFERROR(VLOOKUP($A37,Filtro!$A$5:$AY$629,17,FALSE),0)","v":30},{"$f":"IFERROR(VLOOKUP($A37,Filtro!$A$5:$AY$629,18,FALSE),0)","v":27},{"$f":"IFERROR(VLOOKUP($A37,Filtro!$A$5:$AY$629,19,FALSE),0)","v":37},{"$f":"IFERROR(VLOOKUP($A37,Filtro!$A$5:$AY$629,20,FALSE),0)","v":24},{"$f":"IFERROR(VLOOKUP($A37,Filtro!$A$5:$AY$629,21,FALSE),0)","v":32},{"$f":"IFERROR(VLOOKUP($A37,Filtro!$A$5:$AY$629,22,FALSE),0)","v":20},{"$f":"IFERROR(VLOOKUP($A37,Filtro!$A$5:$AY$629,23,FALSE),0)","v":33},{"$f":"IFERROR(VLOOKUP($A37,Filtro!$A$5:$AY$629,24,FALSE),0)","v":24},{"$f":"IFERROR(VLOOKUP($A37,Filtro!$A$5:$AY$629,25,FALSE),0)","v":44},{"$f":"IFERROR(VLOOKUP($A37,Filtro!$A$5:$AY$629,26,FALSE),0)","v":41},{"$f":"IFERROR(VLOOKUP($A37,Filtro!$A$5:$AY$629,27,FALSE),0)","v":53},{"$f":"IFERROR(VLOOKUP($A37,Filtro!$A$5:$AY$629,28,FALSE),0)","v":42},{"$f":"IFERROR(VLOOKUP($A37,Filtro!$A$5:$AY$629,29,FALSE),0)","v":56},{"$f":"IFERROR(VLOOKUP($A37,Filtro!$A$5:$AY$629,30,FALSE),0)","v":42},{"$f":"IFERROR(VLOOKUP($A37,Filtro!$A$5:$AY$629,31,FALSE),0)","v":68},{"$f":"IFERROR(VLOOKUP($A37,Filtro!$A$5:$AY$629,32,FALSE),0)","v":87},{"$f":"IFERROR(VLOOKUP($A37,Filtro!$A$5:$AY$629,33,FALSE),0)","v":105},{"$f":"IFERROR(VLOOKUP($A37,Filtro!$A$5:$AY$629,34,FALSE),0)","v":140},{"$f":"IFERROR(VLOOKUP($A37,Filtro!$A$5:$AY$629,35,FALSE),0)","v":133},{"$f":"IFERROR(VLOOKUP($A37,Filtro!$A$5:$AY$629,36,FALSE),0)","v":229},{"$f":"IFERROR(VLOOKUP($A37,Filtro!$A$5:$AY$629,37,FALSE),0)","v":461},{"$f":"IFERROR(VLOOKUP($A37,Filtro!$A$5:$AY$629,38,FALSE),0)","v":1361},{"$f":"IFERROR(VLOOKUP($A37,Filtro!$A$5:$AY$629,39,FALSE),0)","v":0},{"$f":"IFERROR(VLOOKUP($A37,Filtro!$A$5:$AY$629,40,FALSE),0)","v":1},{"$f":"IFERROR(VLOOKUP($A37,Filtro!$A$5:$AY$629,41,FALSE),0)","v":3},{"$f":"IFERROR(VLOOKUP($A37,Filtro!$A$5:$AY$629,42,FALSE),0)","v":1},{"$f":"IFERROR(VLOOKUP($A37,Filtro!$A$5:$AY$629,43,FALSE),0)","v":3}]
["P3171613",null,"CON DEMENCIA",719,166,553,{"$f":"IFERROR(VLOOKUP($A38,Filtro!$A$5:$AY$629,5,FALSE),0)","v":0},{"$f":"IFERROR(VLOOKUP($A38,Filtro!$A$5:$AY$629,6,FALSE),0)","v":0},{"$f":"IFERROR(VLOOKUP($A38,Filtro!$A$5:$AY$629,7,FALSE),0)","v":0},{"$f":"IFERROR(VLOOKUP($A38,Filtro!$A$5:$AY$629,8,FALSE),0)","v":0},{"$f":"IFERROR(VLOOKUP($A38,Filtro!$A$5:$AY$629,9,FALSE),0)","v":0},{"$f":"IFERROR(VLOOKUP($A38,Filtro!$A$5:$AY$629,10,FALSE),0)","v":0},{"$f":"IFERROR(VLOOKUP($A38,Filtro!$A$5:$AY$629,11,FALSE),0)","v":0},{"$f":"IFERROR(VLOOKUP($A38,Filtro!$A$5:$AY$629,12,FALSE),0)","v":0},{"$f":"IFERROR(VLOOKUP($A38,Filtro!$A$5:$AY$629,13,FALSE),0)","v":0},{"$f":"IFERROR(VLOOKUP($A38,Filtro!$A$5:$AY$629,14,FALSE),0)","v":0},{"$f":"IFERROR(VLOOKUP($A38,Filtro!$A$5:$AY$629,15,FALSE),0)","v":0},{"$f":"IFERROR(VLOOKUP($A38,Filtro!$A$5:$AY$629,16,FALSE),0)","v":0},{"$f":"IFERROR(VLOOKUP($A38,Filtro!$A$5:$AY$629,17,FALSE),0)","v":0},{"$f":"IFERROR(VLOOKUP($A38,Filtro!$A$5:$AY$629,18,FALSE),0)","v":1},{"$f":"IFERROR(VLOOKUP($A38,Filtro!$A$5:$AY$629,19,FALSE),0)","v":1},{"$f":"IFERROR(VLOOKUP($A38,Filtro!$A$5:$AY$629,20,FALSE),0)","v":0},{"$f":"IFERROR(VLOOKUP($A38,Filtro!$A$5:$AY$629,21,FALSE),0)","v":0},{"$f":"IFERROR(VLOOKUP($A38,Filtro!$A$5:$AY$629,22,FALSE),0)","v":0},{"$f":"IFERROR(VLOOKUP($A38,Filtro!$A$5:$AY$629,23,FALSE),0)","v":0},{"$f":"IFERROR(VLOOKUP($A38,Filtro!$A$5:$AY$629,24,FALSE),0)","v":0},{"$f":"IFERROR(VLOOKUP($A38,Filtro!$A$5:$AY$629,25,FALSE),0)","v":1},{"$f":"IFERROR(VLOOKUP($A38,Filtro!$A$5:$AY$629,26,FALSE),0)","v":1},{"$f":"IFERROR(VLOOKUP($A38,Filtro!$A$5:$AY$629,27,FALSE),0)","v":0},{"$f":"IFERROR(VLOOKUP($A38,Filtro!$A$5:$AY$629,28,FALSE),0)","v":2},{"$f":"IFERROR(VLOOKUP($A38,Filtro!$A$5:$AY$629,29,FALSE),0)","v":3},{"$f":"IFERROR(VLOOKUP($A38,Filtro!$A$5:$AY$629,30,FALSE),0)","v":4},{"$f":"IFERROR(VLOOKUP($A38,Filtro!$A$5:$AY$629,31,FALSE),0)","v":8},{"$f":"IFERROR(VLOOKUP($A38,Filtro!$A$5:$AY$629,32,FALSE),0)","v":17},{"$f":"IFERROR(VLOOKUP($A38,Filtro!$A$5:$AY$629,33,FALSE),0)","v":11},{"$f":"IFERROR(VLOOKUP($A38,Filtro!$A$5:$AY$629,34,FALSE),0)","v":35},{"$f":"IFERROR(VLOOKUP($A38,Filtro!$A$5:$AY$629,35,FALSE),0)","v":26},{"$f":"IFERROR(VLOOKUP($A38,Filtro!$A$5:$AY$629,36,FALSE),0)","v":60},{"$f":"IFERROR(VLOOKUP($A38,Filtro!$A$5:$AY$629,37,FALSE),0)","v":116},{"$f":"IFERROR(VLOOKUP($A38,Filtro!$A$5:$AY$629,38,FALSE),0)","v":433},{"$f":"IFERROR(VLOOKUP($A38,Filtro!$A$5:$AY$629,39,FALSE),0)","v":0},{"$f":"IFERROR(VLOOKUP($A38,Filtro!$A$5:$AY$629,40,FALSE),0)","v":0},{"$f":"IFERROR(VLOOKUP($A38,Filtro!$A$5:$AY$629,41,FALSE),0)","v":0},{"$f":"IFERROR(VLOOKUP($A38,Filtro!$A$5:$AY$629,42,FALSE),0)","v":0},{"$f":"IFERROR(VLOOKUP($A38,Filtro!$A$5:$AY$629,43,FALSE),0)","v":2}]
["P3171614",null,"INSTITUCIONALIZADA",256,91,165,{"$f":"IFERROR(VLOOKUP($A39,Filtro!$A$5:$AY$629,5,FALSE),0)","v":0},{"$f":"IFERROR(VLOOKUP($A39,Filtro!$A$5:$AY$629,6,FALSE),0)","v":0},{"$f":"IFERROR(VLOOKUP($A39,Filtro!$A$5:$AY$629,7,FALSE),0)","v":0},{"$f":"IFERROR(VLOOKUP($A39,Filtro!$A$5:$AY$629,8,FALSE),0)","v":0},{"$f":"IFERROR(VLOOKUP($A39,Filtro!$A$5:$AY$629,9,FALSE),0)","v":0},{"$f":"IFERROR(VLOOKUP($A39,Filtro!$A$5:$AY$629,10,FALSE),0)","v":0},{"$f":"IFERROR(VLOOKUP($A39,Filtro!$A$5:$AY$629,11,FALSE),0)","v":0},{"$f":"IFERROR(VLOOKUP($A39,Filtro!$A$5:$AY$629,12,FALSE),0)","v":0},{"$f":"IFERROR(VLOOKUP($A39,Filtro!$A$5:$AY$629,13,FALSE),0)","v":0},{"$f":"IFERROR(VLOOKUP($A39,Filtro!$A$5:$AY$629,14,FALSE),0)","v":0},{"$f":"IFERROR(VLOOKUP($A39,Filtro!$A$5:$AY$629,15,FALSE),0)","v":0},{"$f":"IFERROR(VLOOKUP($A39,Filtro!$A$5:$AY$629,16,FALSE),0)","v":0},{"$f":"IFERROR(VLOOKUP($A39,Filtro!$A$5:$AY$629,17,FALSE),0)","v":0},{"$f":"IFERROR(VLOOKUP($A39,Filtro!$A$5:$AY$629,18,FALSE),0)","v":0},{"$f":"IFERROR(VLOOKUP($A39,Filtro!$A$5:$AY$629,19,FALSE),0)","v":0},{"$f":"IFERROR(VLOOKUP($A39,Filtro!$A$5:$AY$629,20,FALSE),0)","v":0},{"$f":"IFERROR(VLOOKUP($A39,Filtro!$A$5:$AY$629,21,FALSE),0)","v":0},{"$f":"IFERROR(VLOOKUP($A39,Filtro!$A$5:$AY$629,22,FALSE),0)","v":0},{"$f":"IFERROR(VLOOKUP($A39,Filtro!$A$5:$AY$629,23,FALSE),0)","v":0},{"$f":"IFERROR(VLOOKUP($A39,Filtro!$A$5:$AY$629,24,FALSE),0)","v":0},{"$f":"IFERROR(VLOOKUP($A39,Filtro!$A$5:$AY$629,25,FALSE),0)","v":0},{"$f":"IFERROR(VLOOKUP($A39,Filtro!$A$5:$AY$629,26,FALSE),0)","v":1},{"$f":"IFERROR(VLOOKUP($A39,Filtro!$A$5:$AY$629,27,FALSE),0)","v":1},{"$f":"IFERROR(VLOOKUP($A39,Filtro!$A$5:$AY$629,28,FALSE),0)","v":0},{"$f":"IFERROR(VLOOKUP($A39,Filtro!$A$5:$AY$629,29,FALSE),0)","v":2},{"$f":"IFERROR(VLOOKUP($A39,Filtro!$A$5:$AY$629,30,FALSE),0)","v":2},{"$f":"IFERROR(VLOOKUP($A39,Filtro!$A$5:$AY$629,31,FALSE),0)","v":12},{"$f":"IFERROR(VLOOKUP($A39,Filtro!$A$5:$AY$629,32,FALSE),0)","v":6},{"$f":"IFERROR(VLOOKUP($A39,Filtro!$A$5:$AY$629,33,FALSE),0)","v":13},{"$f":"IFERROR(VLOOKUP($A39,Filtro!$A$5:$AY$629,34,FALSE),0)","v":6},{"$f":"IFERROR(VLOOKUP($A39,Filtro!$A$5:$AY$629,35,FALSE),0)","v":13},{"$f":"IFERROR(VLOOKUP($A39,Filtro!$A$5:$AY$629,36,FALSE),0)","v":30},{"$f":"IFERROR(VLOOKUP($A39,Filtro!$A$5:$AY$629,37,FALSE),0)","v":50},{"$f":"IFERROR(VLOOKUP($A39,Filtro!$A$5:$AY$629,38,FALSE),0)","v":120},{"$f":"IFERROR(VLOOKUP($A39,Filtro!$A$5:$AY$629,39,FALSE),0)","v":0},{"$f":"IFERROR(VLOOKUP($A39,Filtro!$A$5:$AY$629,40,FALSE),0)","v":0},{"$f":"IFERROR(VLOOKUP($A39,Filtro!$A$5:$AY$629,41,FALSE),0)","v":0},{"$f":"IFERROR(VLOOKUP($A39,Filtro!$A$5:$AY$629,42,FALSE),0)","v":0},{"$f":"IFERROR(VLOOKUP($A39,Filtro!$A$5:$AY$629,43,FALSE),0)","v":0}]
["P3171615",null,"TOTAL PERSONAS CON LESIÓN POR PRESIÓN*",299,99,200,{"$f":"IFERROR(VLOOKUP($A40,Filtro!$A$5:$AY$629,5,FALSE),0)","v":0},{"$f":"IFERROR(VLOOKUP($A40,Filtro!$A$5:$AY$629,6,FALSE),0)","v":0},{"$f":"IFERROR(VLOOKUP($A40,Filtro!$A$5:$AY$629,7,FALSE),0)","v":1},{"$f":"IFERROR(VLOOKUP($A40,Filtro!$A$5:$AY$629,8,FALSE),0)","v":0},{"$f":"IFERROR(VLOOKUP($A40,Filtro!$A$5:$AY$629,9,FALSE),0)","v":0},{"$f":"IFERROR(VLOOKUP($A40,Filtro!$A$5:$AY$629,10,FALSE),0)","v":0},{"$f":"IFERROR(VLOOKUP($A40,Filtro!$A$5:$AY$629,11,FALSE),0)","v":0},{"$f":"IFERROR(VLOOKUP($A40,Filtro!$A$5:$AY$629,12,FALSE),0)","v":1},{"$f":"IFERROR(VLOOKUP($A40,Filtro!$A$5:$AY$629,13,FALSE),0)","v":2},{"$f":"IFERROR(VLOOKUP($A40,Filtro!$A$5:$AY$629,14,FALSE),0)","v":0},{"$f":"IFERROR(VLOOKUP($A40,Filtro!$A$5:$AY$629,15,FALSE),0)","v":0},{"$f":"IFERROR(VLOOKUP($A40,Filtro!$A$5:$AY$629,16,FALSE),0)","v":1},{"$f":"IFERROR(VLOOKUP($A40,Filtro!$A$5:$AY$629,17,FALSE),0)","v":1},{"$f":"IFERROR(VLOOKUP($A40,Filtro!$A$5:$AY$629,18,FALSE),0)","v":0},{"$f":"IFERROR(VLOOKUP($A40,Filtro!$A$5:$AY$629,19,FALSE),0)","v":0},{"$f":"IFERROR(VLOOKUP($A40,Filtro!$A$5:$AY$629,20,FALSE),0)","v":0},{"$f":"IFERROR(VLOOKUP($A40,Filtro!$A$5:$AY$629,21,FALSE),0)","v":1},{"$f":"IFERROR(VLOOKUP($A40,Filtro!$A$5:$AY$629,22,FALSE),0)","v":1},{"$f":"IFERROR(VLOOKUP($A40,Filtro!$A$5:$AY$629,23,FALSE),0)","v":0},{"$f":"IFERROR(VLOOKUP($A40,Filtro!$A$5:$AY$629,24,FALSE),0)","v":2},{"$f":"IFERROR(VLOOKUP($A40,Filtro!$A$5:$AY$629,25,FALSE),0)","v":5},{"$f":"IFERROR(VLOOKUP($A40,Filtro!$A$5:$AY$629,26,FALSE),0)","v":0},{"$f":"IFERROR(VLOOKUP($A40,Filtro!$A$5:$AY$629,27,FALSE),0)","v":3},{"$f":"IFERROR(VLOOKUP($A40,Filtro!$A$5:$AY$629,28,FALSE),0)","v":2},{"$f":"IFERROR(VLOOKUP($A40,Filtro!$A$5:$AY$629,29,FALSE),0)","v":5},{"$f":"IFERROR(VLOOKUP($A40,Filtro!$A$5:$AY$629,30,FALSE),0)","v":5},{"$f":"IFERROR(VLOOKUP($A40,Filtro!$A$5:$AY$629,31,FALSE),0)","v":7},{"$f":"IFERROR(VLOOKUP($A40,Filtro!$A$5:$AY$629,32,FALSE),0)","v":7},{"$f":"IFERROR(VLOOKUP($A40,Filtro!$A$5:$AY$629,33,FALSE),0)","v":17},{"$f":"IFERROR(VLOOKUP($A40,Filtro!$A$5:$AY$629,34,FALSE),0)","v":21},{"$f":"IFERROR(VLOOKUP($A40,Filtro!$A$5:$AY$629,35,FALSE),0)","v":16},{"$f":"IFERROR(VLOOKUP($A40,Filtro!$A$5:$AY$629,36,FALSE),0)","v":31},{"$f":"IFERROR(VLOOKUP($A40,Filtro!$A$5:$AY$629,37,FALSE),0)","v":41},{"$f":"IFERROR(VLOOKUP($A40,Filtro!$A$5:$AY$629,38,FALSE),0)","v":129},{"$f":"IFERROR(VLOOKUP($A40,Filtro!$A$5:$AY$629,39,FALSE),0)","v":0},{"$f":"IFERROR(VLOOKUP($A40,Filtro!$A$5:$AY$629,40,FALSE),0)","v":0},{"$f":"IFERROR(VLOOKUP($A40,Filtro!$A$5:$AY$629,41,FALSE),0)","v":0},{"$f":"IFERROR(VLOOKUP($A40,Filtro!$A$5:$AY$629,42,FALSE),0)","v":1},{"$f":"IFERROR(VLOOKUP($A40,Filtro!$A$5:$AY$629,43,FALSE),0)","v":1}]
["P3170200",null,"CON INDICACIÓN DE NUTRICIÓN ENTERAL DOMICILIARIA (NED) ",{"$f":"SUM(E41:F41)","v":96},{"$f":"+G41+I41+K41+M41+O41+Q41+S41+U41+W41+Y41+AA41+AC41+AE41+AG41+AI41+AK41+AM41","v":31},{"$f":"+H41+J41+L41+N41+P41+R41+T41+V41+X41+Z41+AB41+AD41+AF41+AH41+AJ41+AL41+AN41","v":65},{"$f":"IFERROR(VLOOKUP($A41,Filtro!$A$5:$AY$629,5,FALSE),0)","v":0},{"$f":"IFERROR(VLOOKUP($A41,Filtro!$A$5:$AY$629,6,FALSE),0)","v":1},{"$f":"IFERROR(VLOOKUP($A41,Filtro!$A$5:$AY$629,7,FALSE),0)","v":1},{"$f":"IFERROR(VLOOKUP($A41,Filtro!$A$5:$AY$629,8,FALSE),0)","v":1},{"$f":"IFERROR(VLOOKUP($A41,Filtro!$A$5:$AY$629,9,FALSE),0)","v":3},{"$f":"IFERROR(VLOOKUP($A41,Filtro!$A$5:$AY$629,10,FALSE),0)","v":1},{"$f":"IFERROR(VLOOKUP($A41,Filtro!$A$5:$AY$629,11,FALSE),0)","v":1},{"$f":"IFERROR(VLOOKUP($A41,Filtro!$A$5:$AY$629,12,FALSE),0)","v":2},{"$f":"IFERROR(VLOOKUP($A41,Filtro!$A$5:$AY$629,13,FALSE),0)","v":0},{"$f":"IFERROR(VLOOKUP($A41,Filtro!$A$5:$AY$629,14,FALSE),0)","v":3},{"$f":"IFERROR(VLOOKUP($A41,Filtro!$A$5:$AY$629,15,FALSE),0)","v":1},{"$f":"IFERROR(VLOOKUP($A41,Filtro!$A$5:$AY$629,16,FALSE),0)","v":0},{"$f":"IFERROR(VLOOKUP($A41,Filtro!$A$5:$AY$629,17,FALSE),0)","v":1},{"$f":"IFERROR(VLOOKUP($A41,Filtro!$A$5:$AY$629,18,FALSE),0)","v":1},{"$f":"IFERROR(VLOOKUP($A41,Filtro!$A$5:$AY$629,19,FALSE),0)","v":3},{"$f":"IFERROR(VLOOKUP($A41,Filtro!$A$5:$AY$629,20,FALSE),0)","v":0},{"$f":"IFERROR(VLOOKUP($A41,Filtro!$A$5:$AY$629,21,FALSE),0)","v":0},{"$f":"IFERROR(VLOOKUP($A41,Filtro!$A$5:$AY$629,22,FALSE),0)","v":0},{"$f":"IFERROR(VLOOKUP($A41,Filtro!$A$5:$AY$629,23,FALSE),0)","v":2},{"$f":"IFERROR(VLOOKUP($A41,Filtro!$A$5:$AY$629,24,FALSE),0)","v":2},{"$f":"IFERROR(VLOOKUP($A41,Filtro!$A$5:$AY$629,25,FALSE),0)","v":1},{"$f":"IFERROR(VLOOKUP($A41,Filtro!$A$5:$AY$629,26,FALSE),0)","v":0},{"$f":"IFERROR(VLOOKUP($A41,Filtro!$A$5:$AY$629,27,FALSE),0)","v":1},{"$f":"IFERROR(VLOOKUP($A41,Filtro!$A$5:$AY$629,28,FALSE),0)","v":0},{"$f":"IFERROR(VLOOKUP($A41,Filtro!$A$5:$AY$629,29,FALSE),0)","v":0},{"$f":"IFERROR(VLOOKUP($A41,Filtro!$A$5:$AY$629,30,FALSE),0)","v":4},{"$f":"IFERROR(VLOOKUP($A41,Filtro!$A$5:$AY$629,31,FALSE),0)","v":2},{"$f":"IFERROR(VLOOKUP($A41,Filtro!$A$5:$AY$629,32,FALSE),0)","v":2},{"$f":"IFERROR(VLOOKUP($A41,Filtro!$A$5:$AY$629,33,FALSE),0)","v":3},{"$f":"IFERROR(VLOOKUP($A41,Filtro!$A$5:$AY$629,34,FALSE),0)","v":4},{"$f":"IFERROR(VLOOKUP($A41,Filtro!$A$5:$AY$629,35,FALSE),0)","v":6},{"$f":"IFERROR(VLOOKUP($A41,Filtro!$A$5:$AY$629,36,FALSE),0)","v":10},{"$f":"IFERROR(VLOOKUP($A41,Filtro!$A$5:$AY$629,37,FALSE),0)","v":6},{"$f":"IFERROR(VLOOKUP($A41,Filtro!$A$5:$AY$629,38,FALSE),0)","v":34},{"$f":"IFERROR(VLOOKUP($A41,Filtro!$A$5:$AY$629,39,FALSE),0)","v":0},{"$f":"IFERROR(VLOOKUP($A41,Filtro!$A$5:$AY$629,40,FALSE),0)","v":0},{"$f":"IFERROR(VLOOKUP($A41,Filtro!$A$5:$AY$629,41,FALSE),0)","v":0},{"$f":"IFERROR(VLOOKUP($A41,Filtro!$A$5:$AY$629,42,FALSE),0)","v":0},{"$f":"IFERROR(VLOOKUP($A41,Filtro!$A$5:$AY$629,43,FALSE),0)","v":0},{"$nulls":36},"",{"$f":"IF($D41<=$D35,\"\",\"Total Personas con indicación de Nutrición Enteral Domiciliaria no debe ser mayor al Total Personas. \")","v":""},"",{"$nulls":5},{"$f":"IF($D41>=$AP41+$AQ41,0,1)","v":0},{"$f":"IF($D41<=$D35,0,1)","v":0},0]
[null,"(*) Incluidos en Dependencia Severa Oncológica y NO Oncológica"]
[null,"SECCION B: CUIDADORES DE PACIENTES CON DEPENDENCIA SEVERA"]
[null,"CONCEPTO","Total","Hombres","Mujeres","ATENCIÓN DOMICILIARIA POR DEPENDENCIA SEVERA"]
[{"$nulls":5},"Total Cuidadoras/es capacitadas/os","Total cuidadoras/es con examen preventivo vigente","Cuidadoras/es sin examen preventivo, ingresado a programa de salud","Cuidadoras/es con apoyo monetario","Cuidadoras/es en espera de apoyo monetario","Total Cuidadoras/es con evaluacion anual de nivel de sobrecarga","Total Cuidadoras/es mayores de 65 años"]
["P5300600","NÚMERO DE CUIDADORES",{"$f":"SUM(D46:E46)","v":4799},{"$f":"IFERROR(VLOOKUP($A46,Filtro!$A$5:$AY$629,2,FALSE),0)","v":3918},{"$f":"IFERROR(VLOOKUP($A46,Filtro!$A$5:$AY$629,3,FALSE),0)","v":881},{"$f":"IFERROR(VLOOKUP($A46,Filtro!$A$5:$AY$629,4,FALSE),0)","v":3039},{"$f":"IFERROR(VLOOKUP($A46,Filtro!$A$5:$AY$629,5,FALSE),0)","v":2002},{"$f":"IFERROR(VLOOKUP($A46,Filtro!$A$5:$AY$629,6,FALSE),0)","v":755},{"$f":"IFERROR(VLOOKUP($A46,Filtro!$A$5:$AY$629,7,FALSE),0)","v":1043},{"$f":"IFERROR(VLOOKUP($A46,Filtro!$A$5:$AY$629,8,FALSE),0)","v":807},{"$f":"IFERROR(VLOOKUP($A46,Filtro!$A$5:$AY$629,9,FALSE),0)","v":731},{"$f":"IFERROR(VLOOKUP($A46,Filtro!$A$5:$AY$629,10,FALSE),0)","v":2095},{"$nulls":72},{"$f":"IF((D46+$E46>=$I46),\"\",\"* Los Cuidadores con apoyo monetario no debe ser mayor al Total de Cuidadores. \")","v":""},{"$f":"IF((D46+$E46>=$F46),\"\",\"* Los Cuidadores Capacitados no debe ser mayor al Total Cuidadores. \")","v":""},{"$nulls":6},{"$f":"IF($E46>=$I46,0,1)","v":1},{"$f":"IF($E46>=$F46,0,1)","v":1}]
[null,"SECCION C: POBLACIÓN EN CONTROL EN PROGRAMA DE REHABILITACIÓN PULMONAR EN SALA IRA-ERA"]
[null,"PROGRAMA",null,"TOTAL",null,null,"GRUPOS DE EDAD (en años) Y SEXO"]
[{"$nulls":6},"0 a 4 años",null,"5 a 9 años",null,"10 a 14 años",null,"15 a 19 años",null,"20 a 24 años",null,"25 a 29 años",null,"30 a 34 años",null,"35 a 39 años",null,"40 a 44 años",null,"45 a 49 años",null,"50 a 54 años",null,"55 a 59 años",null,"60 a 64 años",null,"65 a 69 años",null,"70 a 74 años",null,"75 a 79 años",null,"80 y más años"]
[{"$nulls":3},"Ambos\nsexos","Hombres","Mujeres","Hombres","Mujeres","Hombres","Mujeres","Hombres","Mujeres","Hombres","Mujeres","Hombres","Mujeres","Hombres","Mujeres","Hombres","Mujeres","Hombres","Mujeres","Hombres","Mujeres","Hombres","Mujeres","Hombres","Mujeres","Hombres","Mujeres","Hombres","Mujeres","Hombres ","Mujeres","Hombres ","Mujeres","Hombres ","Mujeres","Hombres ","Mujeres"]
["P3170400","REHABILITACIÓN PULMONAR","Ingresos",{"$f":"SUM(E51:F51)","v":66},{"$f":"+G51+I51+K51+M51+O51+Q51+S51+U51+W51+Y51+AA51+AC51+AE51+AG51+AI51+AK51+AM51","v":28},{"$f":"+H51+J51+L51+N51+P51+R51+T51+V51+X51+Z51+AB51+AD51+AF51+AH51+AJ51+AL51+AN51","v":38},{"$f":"IFERROR(VLOOKUP($A51,Filtro!$A$5:$AY$629,5,FALSE),0)","v":0},{"$f":"IFERROR(VLOOKUP($A51,Filtro!$A$5:$AY$629,6,FALSE),0)","v":0},{"$f":"IFERROR(VLOOKUP($A51,Filtro!$A$5:$AY$629,7,FALSE),0)","v":1},{"$f":"IFERROR(VLOOKUP($A51,Filtro!$A$5:$AY$629,8,FALSE),0)","v":0},{"$f":"IFERROR(VLOOKUP($A51,Filtro!$A$5:$AY$629,9,FALSE),0)","v":0},{"$f":"IFERROR(VLOOKUP($A51,Filtro!$A$5:$AY$629,10,FALSE),0)","v":0},{"$f":"IFERROR(VLOOKUP($A51,Filtro!$A$5:$AY$629,11,FALSE),0)","v":0},{"$f":"IFERROR(VLOOKUP($A51,Filtro!$A$5:$AY$629,12,FALSE),0)","v":0},{"$f":"IFERROR(VLOOKUP($A51,Filtro!$A$5:$AY$629,13,FALSE),0)","v":0},{"$f":"IFERROR(VLOOKUP($A51,Filtro!$A$5:$AY$629,14,FALSE),0)","v":0},{"$f":"IFERROR(VLOOKUP($A51,Filtro!$A$5:$AY$629,15,FALSE),0)","v":0},{"$f":"IFERROR(VLOOKUP($A51,Filtro!$A$5:$AY$629,16,FALSE),0)","v":0},{"$f":"IFERROR(VLOOKUP($A51,Filtro!$A$5:$AY$629,17,FALSE),0)","v":0},{"$f":"IFERROR(VLOOKUP($A51,Filtro!$A$5:$AY$629,18,FALSE),0)","v":1},{"$f":"IFERROR(VLOOKUP($A51,Filtro!$A$5:$AY$629,19,FALSE),0)","v":1},{"$f":"IFERROR(VLOOKUP($A51,Filtro!$A$5:$AY$629,20,FALSE),0)","v":0},{"$f":"IFERROR(VLOOKUP($A51,Filtro!$A$5:$AY$629,21,FALSE),0)","v":1},{"$f":"IFERROR(VLOOKUP($A51,Filtro!$A$5:$AY$629,22,FALSE),0)","v":0},{"$f":"IFERROR(VLOOKUP($A51,Filtro!$A$5:$AY$629,23,FALSE),0)","v":0},{"$f":"IFERROR(VLOOKUP($A51,Filtro!$A$5:$AY$629,24,FALSE),0)","v":1},{"$f":"IFERROR(VLOOKUP($A51,Filtro!$A$5:$AY$629,25,FALSE),0)","v":3},{"$f":"IFERROR(VLOOKUP($A51,Filtro!$A$5:$AY$629,26,FALSE),0)","v":1},{"$f":"IFERROR(VLOOKUP($A51,Filtro!$A$5:$AY$629,27,FALSE),0)","v":2},{"$f":"IFERROR(VLOOKUP($A51,Filtro!$A$5:$AY$629,28,FALSE),0)","v":1},{"$f":"IFERROR(VLOOKUP($A51,Filtro!$A$5:$AY$629,29,FALSE),0)","v":1},{"$f":"IFERROR(VLOOKUP($A51,Filtro!$A$5:$AY$629,30,FALSE),0)","v":4},{"$f":"IFERROR(VLOOKUP($A51,Filtro!$A$5:$AY$629,31,FALSE),0)","v":5},{"$f":"IFERROR(VLOOKUP($A51,Filtro!$A$5:$AY$629,32,FALSE),0)","v":6},{"$f":"IFERROR(VLOOKUP($A51,Filtro!$A$5:$AY$629,33,FALSE),0)","v":3},{"$f":"IFERROR(VLOOKUP($A51,Filtro!$A$5:$AY$629,34,FALSE),0)","v":9},{"$f":"IFERROR(VLOOKUP($A51,Filtro!$A$5:$AY$629,35,FALSE),0)","v":8},{"$f":"IFERROR(VLOOKUP($A51,Filtro!$A$5:$AY$629,36,FALSE),0)","v":9},{"$f":"IFERROR(VLOOKUP($A51,Filtro!$A$5:$AY$629,37,FALSE),0)","v":3},{"$f":"IFERROR(VLOOKUP($A51,Filtro!$A$5:$AY$629,38,FALSE),0)","v":6}]
["P3170500",null,"Abandonos",{"$f":"SUM(E52:F52)","v":19},{"$f":"+G52+I52+K52+M52+O52+Q52+S52+U52+W52+Y52+AA52+AC52+AE52+AG52+AI52+AK52+AM52","v":11},{"$f":"+H52+J52+L52+N52+P52+R52+T52+V52+X52+Z52+AB52+AD52+AF52+AH52+AJ52+AL52+AN52","v":8},{"$f":"IFERROR(VLOOKUP($A52,Filtro!$A$5:$AY$629,5,FALSE),0)","v":0},{"$f":"IFERROR(VLOOKUP($A52,Filtro!$A$5:$AY$629,6,FALSE),0)","v":0},{"$f":"IFERROR(VLOOKUP($A52,Filtro!$A$5:$AY$629,7,FALSE),0)","v":0},{"$f":"IFERROR(VLOOKUP($A52,Filtro!$A$5:$AY$629,8,FALSE),0)","v":0},{"$f":"IFERROR(VLOOKUP($A52,Filtro!$A$5:$AY$629,9,FALSE),0)","v":0},{"$f":"IFERROR(VLOOKUP($A52,Filtro!$A$5:$AY$629,10,FALSE),0)","v":0},{"$f":"IFERROR(VLOOKUP($A52,Filtro!$A$5:$AY$629,11,FALSE),0)","v":0},{"$f":"IFERROR(VLOOKUP($A52,Filtro!$A$5:$AY$629,12,FALSE),0)","v":0},{"$f":"IFERROR(VLOOKUP($A52,Filtro!$A$5:$AY$629,13,FALSE),0)","v":2},{"$f":"IFERROR(VLOOKUP($A52,Filtro!$A$5:$AY$629,14,FALSE),0)","v":0},{"$f":"IFERROR(VLOOKUP($A52,Filtro!$A$5:$AY$629,15,FALSE),0)","v":0},{"$f":"IFERROR(VLOOKUP($A52,Filtro!$A$5:$AY$629,16,FALSE),0)","v":0},{"$f":"IFERROR(VLOOKUP($A52,Filtro!$A$5:$AY$629,17,FALSE),0)","v":0},{"$f":"IFERROR(VLOOKUP($A52,Filtro!$A$5:$AY$629,18,FALSE),0)","v":0},{"$f":"IFERROR(VLOOKUP($A52,Filtro!$A$5:$AY$629,19,FALSE),0)","v":1},{"$f":"IFERROR(VLOOKUP($A52,Filtro!$A$5:$AY$629,20,FALSE),0)","v":0},{"$f":"IFERROR(VLOOKUP($A52,Filtro!$A$5:$AY$629,21,FALSE),0)","v":0},{"$f":"IFERROR(VLOOKUP($A52,Filtro!$A$5:$AY$629,22,FALSE),0)","v":0},{"$f":"IFERROR(VLOOKUP($A52,Filtro!$A$5:$AY$629,23,FALSE),0)","v":0},{"$f":"IFERROR(VLOOKUP($A52,Filtro!$A$5:$AY$629,24,FALSE),0)","v":1},{"$f":"IFERROR(VLOOKUP($A52,Filtro!$A$5:$AY$629,25,FALSE),0)","v":0},{"$f":"IFERROR(VLOOKUP($A52,Filtro!$A$5:$AY$629,26,FALSE),0)","v":0},{"$f":"IFERROR(VLOOKUP($A52,Filtro!$A$5:$AY$629,27,FALSE),0)","v":2},{"$f":"IFERROR(VLOOKUP($A52,Filtro!$A$5:$AY$629,28,FALSE),0)","v":1},{"$f":"IFERROR(VLOOKUP($A52,Filtro!$A$5:$AY$629,29,FALSE),0)","v":0},{"$f":"IFERROR(VLOOKUP($A52,Filtro!$A$5:$AY$629,30,FALSE),0)","v":0},{"$f":"IFERROR(VLOOKUP($A52,Filtro!$A$5:$AY$629,31,FALSE),0)","v":1},{"$f":"IFERROR(VLOOKUP($A52,Filtro!$A$5:$AY$629,32,FALSE),0)","v":3},{"$f":"IFERROR(VLOOKUP($A52,Filtro!$A$5:$AY$629,33,FALSE),0)","v":2},{"$f":"IFERROR(VLOOKUP($A52,Filtro!$A$5:$AY$629,34,FALSE),0)","v":0},{"$f":"IFERROR(VLOOKUP($A52,Filtro!$A$5:$AY$629,35,FALSE),0)","v":3},{"$f":"IFERROR(VLOOKUP($A52,Filtro!$A$5:$AY$629,36,FALSE),0)","v":2},{"$f":"IFERROR(VLOOKUP($A52,Filtro!$A$5:$AY$629,37,FALSE),0)","v":0},{"$f":"IFERROR(VLOOKUP($A52,Filtro!$A$5:$AY$629,38,FALSE),0)","v":1}]
["P3170600",null,"Egresos por termino de ciclo",30,13,17,{"$f":"IFERROR(VLOOKUP($A53,Filtro!$A$5:$AY$629,5,FALSE),0)","v":0},{"$f":"IFERROR(VLOOKUP($A53,Filtro!$A$5:$AY$629,6,FALSE),0)","v":0},{"$f":"IFERROR(VLOOKUP($A53,Filtro!$A$5:$AY$629,7,FALSE),0)","v":3},{"$f":"IFERROR(VLOOKUP($A53,Filtro!$A$5:$AY$629,8,FALSE),0)","v":0},{"$f":"IFERROR(VLOOKUP($A53,Filtro!$A$5:$AY$629,9,FALSE),0)","v":0},{"$f":"IFERROR(VLOOKUP($A53,Filtro!$A$5:$AY$629,10,FALSE),0)","v":0},{"$f":"IFERROR(VLOOKUP($A53,Filtro!$A$5:$AY$629,11,FALSE),0)","v":0},{"$f":"IFERROR(VLOOKUP($A53,Filtro!$A$5:$AY$629,12,FALSE),0)","v":0},{"$f":"IFERROR(VLOOKUP($A53,Filtro!$A$5:$AY$629,13,FALSE),0)","v":0},{"$f":"IFERROR(VLOOKUP($A53,Filtro!$A$5:$AY$629,14,FALSE),0)","v":0},{"$f":"IFERROR(VLOOKUP($A53,Filtro!$A$5:$AY$629,15,FALSE),0)","v":0},{"$f":"IFERROR(VLOOKUP($A53,Filtro!$A$5:$AY$629,16,FALSE),0)","v":0},{"$f":"IFERROR(VLOOKUP($A53,Filtro!$A$5:$AY$629,17,FALSE),0)","v":0},{"$f":"IFERROR(VLOOKUP($A53,Filtro!$A$5:$AY$629,18,FALSE),0)","v":1},{"$f":"IFERROR(VLOOKUP($A53,Filtro!$A$5:$AY$629,19,FALSE),0)","v":0},{"$f":"IFERROR(VLOOKUP($A53,Filtro!$A$5:$AY$629,20,FALSE),0)","v":0},{"$f":"IFERROR(VLOOKUP($A53,Filtro!$A$5:$AY$629,21,FALSE),0)","v":0},{"$f":"IFERROR(VLOOKUP($A53,Filtro!$A$5:$AY$629,22,FALSE),0)","v":0},{"$f":"IFERROR(VLOOKUP($A53,Filtro!$A$5:$AY$629,23,FALSE),0)","v":0},{"$f":"IFERROR(VLOOKUP($A53,Filtro!$A$5:$AY$629,24,FALSE),0)","v":0},{"$f":"IFERROR(VLOOKUP($A53,Filtro!$A$5:$AY$629,25,FALSE),0)","v":1},{"$f":"IFERROR(VLOOKUP($A53,Filtro!$A$5:$AY$629,26,FALSE),0)","v":1},{"$f":"IFERROR(VLOOKUP($A53,Filtro!$A$5:$AY$629,27,FALSE),0)","v":0},{"$f":"IFERROR(VLOOKUP($A53,Filtro!$A$5:$AY$629,28,FALSE),0)","v":0},{"$f":"IFERROR(VLOOKUP($A53,Filtro!$A$5:$AY$629,29,FALSE),0)","v":1},{"$f":"IFERROR(VLOOKUP($A53,Filtro!$A$5:$AY$629,30,FALSE),0)","v":3},{"$f":"IFERROR(VLOOKUP($A53,Filtro!$A$5:$AY$629,31,FALSE),0)","v":2},{"$f":"IFERROR(VLOOKUP($A53,Filtro!$A$5:$AY$629,32,FALSE),0)","v":3},{"$f":"IFERROR(VLOOKUP($A53,Filtro!$A$5:$AY$629,33,FALSE),0)","v":2},{"$f":"IFERROR(VLOOKUP($A53,Filtro!$A$5:$AY$629,34,FALSE),0)","v":4},{"$f":"IFERROR(VLOOKUP($A53,Filtro!$A$5:$AY$629,35,FALSE),0)","v":3},{"$f":"IFERROR(VLOOKUP($A53,Filtro!$A$5:$AY$629,36,FALSE),0)","v":2},{"$f":"IFERROR(VLOOKUP($A53,Filtro!$A$5:$AY$629,37,FALSE),0)","v":1},{"$f":"IFERROR(VLOOKUP($A53,Filtro!$A$5:$AY$629,38,FALSE),0)","v":3}]
["P3170700",null,"Articulacion continuidad en intersector",0,0,{"$f":"+H54+J54+L54+N54+P54+R54+T54+V54+X54+Z54+AB54+AD54+AF54+AH54+AJ54+AL54+AN54","v":0},{"$f":"IFERROR(VLOOKUP($A54,Filtro!$A$5:$AY$629,5,FALSE),0)","v":0},{"$f":"IFERROR(VLOOKUP($A54,Filtro!$A$5:$AY$629,6,FALSE),0)","v":0},{"$f":"IFERROR(VLOOKUP($A54,Filtro!$A$5:$AY$629,7,FALSE),0)","v":0},{"$f":"IFERROR(VLOOKUP($A54,Filtro!$A$5:$AY$629,8,FALSE),0)","v":0},{"$f":"IFERROR(VLOOKUP($A54,Filtro!$A$5:$AY$629,9,FALSE),0)","v":0},{"$f":"IFERROR(VLOOKUP($A54,Filtro!$A$5:$AY$629,10,FALSE),0)","v":0},{"$f":"IFERROR(VLOOKUP($A54,Filtro!$A$5:$AY$629,11,FALSE),0)","v":0},{"$f":"IFERROR(VLOOKUP($A54,Filtro!$A$5:$AY$629,12,FALSE),0)","v":0},{"$f":"IFERROR(VLOOKUP($A54,Filtro!$A$5:$AY$629,13,FALSE),0)","v":0},{"$f":"IFERROR(VLOOKUP($A54,Filtro!$A$5:$AY$629,14,FALSE),0)","v":0},{"$f":"IFERROR(VLOOKUP($A54,Filtro!$A$5:$AY$629,15,FALSE),0)","v":0},{"$f":"IFERROR(VLOOKUP($A54,Filtro!$A$5:$AY$629,16,FALSE),0)","v":0},{"$f":"IFERROR(VLOOKUP($A54,Filtro!$A$5:$AY$629,17,FALSE),0)","v":0},{"$f":"IFERROR(VLOOKUP($A54,Filtro!$A$5:$AY$629,18,FALSE),0)","v":0},{"$f":"IFERROR(VLOOKUP($A54,Filtro!$A$5:$AY$629,19,FALSE),0)","v":0},{"$f":"IFERROR(VLOOKUP($A54,Filtro!$A$5:$AY$629,20,FALSE),0)","v":0},{"$f":"IFERROR(VLOOKUP($A54,Filtro!$A$5:$AY$629,21,FALSE),0)","v":0},{"$f":"IFERROR(VLOOKUP($A54,Filtro!$A$5:$AY$629,22,FALSE),0)","v":0},{"$f":"IFERROR(VLOOKUP($A54,Filtro!$A$5:$AY$629,23,FALSE),0)","v":0},{"$f":"IFERROR(VLOOKUP($A54,Filtro!$A$5:$AY$629,24,FALSE),0)","v":0},{"$f":"IFERROR(VLOOKUP($A54,Filtro!$A$5:$AY$629,25,FALSE),0)","v":0},{"$f":"IFERROR(VLOOKUP($A54,Filtro!$A$5:$AY$629,26,FALSE),0)","v":0},{"$f":"IFERROR(VLOOKUP($A54,Filtro!$A$5:$AY$629,27,FALSE),0)","v":0},{"$f":"IFERROR(VLOOKUP($A54,Filtro!$A$5:$AY$629,28,FALSE),0)","v":0},{"$f":"IFERROR(VLOOKUP($A54,Filtro!$A$5:$AY$629,29,FALSE),0)","v":0},{"$f":"IFERROR(VLOOKUP($A54,Filtro!$A$5:$AY$629,30,FALSE),0)","v":0},{"$f":"IFERROR(VLOOKUP($A54,Filtro!$A$5:$AY$629,31,FALSE),0)","v":0},{"$f":"IFERROR(VLOOKUP($A54,Filtro!$A$5:$AY$629,32,FALSE),0)","v":0},{"$f":"IFERROR(VLOOKUP($A54,Filtro!$A$5:$AY$629,33,FALSE),0)","v":0},{"$f":"IFERROR(VLOOKUP($A54,Filtro!$A$5:$AY$629,34,FALSE),0)","v":0},{"$f":"IFERROR(VLOOKUP($A54,Filtro!$A$5:$AY$629,35,FALSE),0)","v":0},{"$f":"IFERROR(VLOOKUP($A54,Filtro!$A$5:$AY$629,36,FALSE),0)","v":0},{"$f":"IFERROR(VLOOKUP($A54,Filtro!$A$5:$AY$629,37,FALSE),0)","v":0},{"$f":"IFERROR(VLOOKUP($A54,Filtro!$A$5:$AY$629,38,FALSE),0)","v":0}]
[null,"SECCION D: NIVEL DE CONTROL DE POBLACION RESPIRATORIA CRONICA"]
[null,"PROGRAMAS",null,"TOTAL",null,null,"GRUPOS DE EDAD (en años) Y SEXO"]
[{"$nulls":6},"0 a 4 años",null,"5 a 9 años",null,"10 a 14 años",null,"15 a 19 años",null,"20 a 24 años",null,"25 a 29 años",null,"30 a 34 años",null,"35 a 39 años",null,"40 a 44 años",null,"45 a 49 años",null,"50 a 54 años",null,"55 a 59 años",null,"60 a 64 años",null,"65 a 69 años",null,"70 a 74 años",null,"75 a 79 años",null,"80 y más años"]
[{"$nulls":3},"Ambos\nsexos","Hombres","Mujeres","Hombres","Mujeres","Hombres","Mujeres","Hombres","Mujeres","Hombres","Mujeres","Hombres","Mujeres","Hombres","Mujeres","Hombres","Mujeres","Hombres","Mujeres","Hombres","Mujeres","Hombres","Mujeres","Hombres","Mujeres","Hombres","Mujeres","Hombres","Mujeres","Hombres ","Mujeres","Hombres ","Mujeres","Hombres ","Mujeres","Hombres ","Mujeres"]
["P3161041","ASMA BRONQUIAL","Controlado",{"$f":"+E59+F59","v":7946},{"$f":"+G59+I59+K59+M59+O59+Q59+S59++U59+W59+Y59+AA59+AC59+AE59++AG59+AI59+AK59+AM59","v":2959},{"$f":"+H59+J59+L59+N59+P59+R59+T59++V59+X59+Z59+AB59+AD59+AF59++AH59+AJ59+AL59+AN59","v":4987},{"$f":"IFERROR(VLOOKUP($A59,Filtro!$A$5:$AY$629,5,FALSE),0)","v":95},{"$f":"IFERROR(VLOOKUP($A59,Filtro!$A$5:$AY$629,6,FALSE),0)","v":72},{"$f":"IFERROR(VLOOKUP($A59,Filtro!$A$5:$AY$629,7,FALSE),0)","v":771},{"$f":"IFERROR(VLOOKUP($A59,Filtro!$A$5:$AY$629,8,FALSE),0)","v":532},{"$f":"IFERROR(VLOOKUP($A59,Filtro!$A$5:$AY$629,9,FALSE),0)","v":708},{"$f":"IFERROR(VLOOKUP($A59,Filtro!$A$5:$AY$629,10,FALSE),0)","v":549},{"$f":"IFERROR(VLOOKUP($A59,Filtro!$A$5:$AY$629,11,FALSE),0)","v":366},{"$f":"IFERROR(VLOOKUP($A59,Filtro!$A$5:$AY$629,12,FALSE),0)","v":294},{"$f":"IFERROR(VLOOKUP($A59,Filtro!$A$5:$AY$629,13,FALSE),0)","v":102},{"$f":"IFERROR(VLOOKUP($A59,Filtro!$A$5:$AY$629,14,FALSE),0)","v":218},{"$f":"IFERROR(VLOOKUP($A59,Filtro!$A$5:$AY$629,15,FALSE),0)","v":93},{"$f":"IFERROR(VLOOKUP($A59,Filtro!$A$5:$AY$629,16,FALSE),0)","v":168},{"$f":"IFERROR(VLOOKUP($A59,Filtro!$A$5:$AY$629,17,FALSE),0)","v":56},{"$f":"IFERROR(VLOOKUP($A59,Filtro!$A$5:$AY$629,18,FALSE),0)","v":171},{"$f":"IFERROR(VLOOKUP($A59,Filtro!$A$5:$AY$629,19,FALSE),0)","v":40},{"$f":"IFERROR(VLOOKUP($A59,Filtro!$A$5:$AY$629,20,FALSE),0)","v":198},{"$f":"IFERROR(VLOOKUP($A59,Filtro!$A$5:$AY$629,21,FALSE),0)","v":44},{"$f":"IFERROR(VLOOKUP($A59,Filtro!$A$5:$AY$629,22,FALSE),0)","v":197},{"$f":"IFERROR(VLOOKUP($A59,Filtro!$A$5:$AY$629,23,FALSE),0)","v":35},{"$f":"IFERROR(VLOOKUP($A59,Filtro!$A$5:$AY$629,24,FALSE),0)","v":255},{"$f":"IFERROR(VLOOKUP($A59,Filtro!$A$5:$AY$629,25,FALSE),0)","v":58},{"$f":"IFERROR(VLOOKUP($A59,Filtro!$A$5:$AY$629,26,FALSE),0)","v":277},{"$f":"IFERROR(VLOOKUP($A59,Filtro!$A$5:$AY$629,27,FALSE),0)","v":71},{"$f":"IFERROR(VLOOKUP($A59,Filtro!$A$5:$AY$629,28,FALSE),0)","v":353},{"$f":"IFERROR(VLOOKUP($A59,Filtro!$A$5:$AY$629,29,FALSE),0)","v":104},{"$f":"IFERROR(VLOOKUP($A59,Filtro!$A$5:$AY$629,30,FALSE),0)","v":358},{"$f":"IFERROR(VLOOKUP($A59,Filtro!$A$5:$AY$629,31,FALSE),0)","v":109},{"$f":"IFERROR(VLOOKUP($A59,Filtro!$A$5:$AY$629,32,FALSE),0)","v":380},{"$f":"IFERROR(VLOOKUP($A59,Filtro!$A$5:$AY$629,33,FALSE),0)","v":101},{"$f":"IFERROR(VLOOKUP($A59,Filtro!$A$5:$AY$629,34,FALSE),0)","v":374},{"$f":"IFERROR(VLOOKUP($A59,Filtro!$A$5:$AY$629,35,FALSE),0)","v":95},{"$f":"IFERROR(VLOOKUP($A59,Filtro!$A$5:$AY$629,36,FALSE),0)","v":267},{"$f":"IFERROR(VLOOKUP($A59,Filtro!$A$5:$AY$629,37,FALSE),0)","v":111},{"$f":"IFERROR(VLOOKUP($A59,Filtro!$A$5:$AY$629,38,FALSE),0)","v":324}]
["P3161042",null,"Parcialmente Controlado",{"$f":"+E60+F60","v":2382},{"$f":"+G60+I60+K60+M60+O60+Q60+S60++U60+W60+Y60+AA60+AC60+AE60++AG60+AI60+AK60+AM60","v":797},{"$f":"+H60+J60+L60+N60+P60+R60+T60++V60+X60+Z60+AB60+AD60+AF60++AH60+AJ60+AL60+AN60","v":1585},{"$f":"IFERROR(VLOOKUP($A60,Filtro!$A$5:$AY$629,5,FALSE),0)","v":54},{"$f":"IFERROR(VLOOKUP($A60,Filtro!$A$5:$AY$629,6,FALSE),0)","v":42},{"$f":"IFERROR(VLOOKUP($A60,Filtro!$A$5:$AY$629,7,FALSE),0)","v":246},{"$f":"IFERROR(VLOOKUP($A60,Filtro!$A$5:$AY$629,8,FALSE),0)","v":208},{"$f":"IFERROR(VLOOKUP($A60,Filtro!$A$5:$AY$629,9,FALSE),0)","v":157},{"$f":"IFERROR(VLOOKUP($A60,Filtro!$A$5:$AY$629,10,FALSE),0)","v":141},{"$f":"IFERROR(VLOOKUP($A60,Filtro!$A$5:$AY$629,11,FALSE),0)","v":63},{"$f":"IFERROR(VLOOKUP($A60,Filtro!$A$5:$AY$629,12,FALSE),0)","v":94},{"$f":"IFERROR(VLOOKUP($A60,Filtro!$A$5:$AY$629,13,FALSE),0)","v":22},{"$f":"IFERROR(VLOOKUP($A60,Filtro!$A$5:$AY$629,14,FALSE),0)","v":54},{"$f":"IFERROR(VLOOKUP($A60,Filtro!$A$5:$AY$629,15,FALSE),0)","v":24},{"$f":"IFERROR(VLOOKUP($A60,Filtro!$A$5:$AY$629,16,FALSE),0)","v":71},{"$f":"IFERROR(VLOOKUP($A60,Filtro!$A$5:$AY$629,17,FALSE),0)","v":16},{"$f":"IFERROR(VLOOKUP($A60,Filtro!$A$5:$AY$629,18,FALSE),0)","v":77},{"$f":"IFERROR(VLOOKUP($A60,Filtro!$A$5:$AY$629,19,FALSE),0)","v":20},{"$f":"IFERROR(VLOOKUP($A60,Filtro!$A$5:$AY$629,20,FALSE),0)","v":63},{"$f":"IFERROR(VLOOKUP($A60,Filtro!$A$5:$AY$629,21,FALSE),0)","v":13},{"$f":"IFERROR(VLOOKUP($A60,Filtro!$A$5:$AY$629,22,FALSE),0)","v":66},{"$f":"IFERROR(VLOOKUP($A60,Filtro!$A$5:$AY$629,23,FALSE),0)","v":20},{"$f":"IFERROR(VLOOKUP($A60,Filtro!$A$5:$AY$629,24,FALSE),0)","v":76},{"$f":"IFERROR(VLOOKUP($A60,Filtro!$A$5:$AY$629,25,FALSE),0)","v":13},{"$f":"IFERROR(VLOOKUP($A60,Filtro!$A$5:$AY$629,26,FALSE),0)","v":98},{"$f":"IFERROR(VLOOKUP($A60,Filtro!$A$5:$AY$629,27,FALSE),0)","v":23},{"$f":"IFERROR(VLOOKUP($A60,Filtro!$A$5:$AY$629,28,FALSE),0)","v":106},{"$f":"IFERROR(VLOOKUP($A60,Filtro!$A$5:$AY$629,29,FALSE),0)","v":25},{"$f":"IFERROR(VLOOKUP($A60,Filtro!$A$5:$AY$629,30,FALSE),0)","v":106},{"$f":"IFERROR(VLOOKUP($A60,Filtro!$A$5:$AY$629,31,FALSE),0)","v":32},{"$f":"IFERROR(VLOOKUP($A60,Filtro!$A$5:$AY$629,32,FALSE),0)","v":106},{"$f":"IFERROR(VLOOKUP($A60,Filtro!$A$5:$AY$629,33,FALSE),0)","v":24},{"$f":"IFERROR(VLOOKUP($A60,Filtro!$A$5:$AY$629,34,FALSE),0)","v":101},{"$f":"IFERROR(VLOOKUP($A60,Filtro!$A$5:$AY$629,35,FALSE),0)","v":22},{"$f":"IFERROR(VLOOKUP($A60,Filtro!$A$5:$AY$629,36,FALSE),0)","v":77},{"$f":"IFERROR(VLOOKUP($A60,Filtro!$A$5:$AY$629,37,FALSE),0)","v":23},{"$f":"IFERROR(VLOOKUP($A60,Filtro!$A$5:$AY$629,38,FALSE),0)","v":99}]
["P3161043",null,"No Controlado",978,316,662,{"$f":"IFERROR(VLOOKUP($A61,Filtro!$A$5:$AY$629,5,FALSE),0)","v":21},{"$f":"IFERROR(VLOOKUP($A61,Filtro!$A$5:$AY$629,6,FALSE),0)","v":26},{"$f":"IFERROR(VLOOKUP($A61,Filtro!$A$5:$AY$629,7,FALSE),0)","v":87},{"$f":"IFERROR(VLOOKUP($A61,Filtro!$A$5:$AY$629,8,FALSE),0)","v":74},{"$f":"IFERROR(VLOOKUP($A61,Filtro!$A$5:$AY$629,9,FALSE),0)","v":63},{"$f":"IFERROR(VLOOKUP($A61,Filtro!$A$5:$AY$629,10,FALSE),0)","v":53},{"$f":"IFERROR(VLOOKUP($A61,Filtro!$A$5:$AY$629,11,FALSE),0)","v":26},{"$f":"IFERROR(VLOOKUP($A61,Filtro!$A$5:$AY$629,12,FALSE),0)","v":31},{"$f":"IFERROR(VLOOKUP($A61,Filtro!$A$5:$AY$629,13,FALSE),0)","v":4},{"$f":"IFERROR(VLOOKUP($A61,Filtro!$A$5:$AY$629,14,FALSE),0)","v":21},{"$f":"IFERROR(VLOOKUP($A61,Filtro!$A$5:$AY$629,15,FALSE),0)","v":10},{"$f":"IFERROR(VLOOKUP($A61,Filtro!$A$5:$AY$629,16,FALSE),0)","v":34},{"$f":"IFERROR(VLOOKUP($A61,Filtro!$A$5:$AY$629,17,FALSE),0)","v":5},{"$f":"IFERROR(VLOOKUP($A61,Filtro!$A$5:$AY$629,18,FALSE),0)","v":42},{"$f":"IFERROR(VLOOKUP($A61,Filtro!$A$5:$AY$629,19,FALSE),0)","v":6},{"$f":"IFERROR(VLOOKUP($A61,Filtro!$A$5:$AY$629,20,FALSE),0)","v":30},{"$f":"IFERROR(VLOOKUP($A61,Filtro!$A$5:$AY$629,21,FALSE),0)","v":12},{"$f":"IFERROR(VLOOKUP($A61,Filtro!$A$5:$AY$629,22,FALSE),0)","v":27},{"$f":"IFERROR(VLOOKUP($A61,Filtro!$A$5:$AY$629,23,FALSE),0)","v":9},{"$f":"IFERROR(VLOOKUP($A61,Filtro!$A$5:$AY$629,24,FALSE),0)","v":42},{"$f":"IFERROR(VLOOKUP($A61,Filtro!$A$5:$AY$629,25,FALSE),0)","v":12},{"$f":"IFERROR(VLOOKUP($A61,Filtro!$A$5:$AY$629,26,FALSE),0)","v":44},{"$f":"IFERROR(VLOOKUP($A61,Filtro!$A$5:$AY$629,27,FALSE),0)","v":10},{"$f":"IFERROR(VLOOKUP($A61,Filtro!$A$5:$AY$629,28,FALSE),0)","v":45},{"$f":"IFERROR(VLOOKUP($A61,Filtro!$A$5:$AY$629,29,FALSE),0)","v":12},{"$f":"IFERROR(VLOOKUP($A61,Filtro!$A$5:$AY$629,30,FALSE),0)","v":52},{"$f":"IFERROR(VLOOKUP($A61,Filtro!$A$5:$AY$629,31,FALSE),0)","v":13},{"$f":"IFERROR(VLOOKUP($A61,Filtro!$A$5:$AY$629,32,FALSE),0)","v":42},{"$f":"IFERROR(VLOOKUP($A61,Filtro!$A$5:$AY$629,33,FALSE),0)","v":7},{"$f":"IFERROR(VLOOKUP($A61,Filtro!$A$5:$AY$629,34,FALSE),0)","v":39},{"$f":"IFERROR(VLOOKUP($A61,Filtro!$A$5:$AY$629,35,FALSE),0)","v":7},{"$f":"IFERROR(VLOOKUP($A61,Filtro!$A$5:$AY$629,36,FALSE),0)","v":20},{"$f":"IFERROR(VLOOKUP($A61,Filtro!$A$5:$AY$629,37,FALSE),0)","v":12},{"$f":"IFERROR(VLOOKUP($A61,Filtro!$A$5:$AY$629,38,FALSE),0)","v":40}]
["P3161044",null,"No evaluada",1370,489,881,{"$f":"IFERROR(VLOOKUP($A62,Filtro!$A$5:$AY$629,5,FALSE),0)","v":16},{"$f":"IFERROR(VLOOKUP($A62,Filtro!$A$5:$AY$629,6,FALSE),0)","v":14},{"$f":"IFERROR(VLOOKUP($A62,Filtro!$A$5:$AY$629,7,FALSE),0)","v":102},{"$f":"IFERROR(VLOOKUP($A62,Filtro!$A$5:$AY$629,8,FALSE),0)","v":93},{"$f":"IFERROR(VLOOKUP($A62,Filtro!$A$5:$AY$629,9,FALSE),0)","v":71},{"$f":"IFERROR(VLOOKUP($A62,Filtro!$A$5:$AY$629,10,FALSE),0)","v":62},{"$f":"IFERROR(VLOOKUP($A62,Filtro!$A$5:$AY$629,11,FALSE),0)","v":52},{"$f":"IFERROR(VLOOKUP($A62,Filtro!$A$5:$AY$629,12,FALSE),0)","v":42},{"$f":"IFERROR(VLOOKUP($A62,Filtro!$A$5:$AY$629,13,FALSE),0)","v":33},{"$f":"IFERROR(VLOOKUP($A62,Filtro!$A$5:$AY$629,14,FALSE),0)","v":40},{"$f":"IFERROR(VLOOKUP($A62,Filtro!$A$5:$AY$629,15,FALSE),0)","v":25},{"$f":"IFERROR(VLOOKUP($A62,Filtro!$A$5:$AY$629,16,FALSE),0)","v":43},{"$f":"IFERROR(VLOOKUP($A62,Filtro!$A$5:$AY$629,17,FALSE),0)","v":19},{"$f":"IFERROR(VLOOKUP($A62,Filtro!$A$5:$AY$629,18,FALSE),0)","v":54},{"$f":"IFERROR(VLOOKUP($A62,Filtro!$A$5:$AY$629,19,FALSE),0)","v":16},{"$f":"IFERROR(VLOOKUP($A62,Filtro!$A$5:$AY$629,20,FALSE),0)","v":45},{"$f":"IFERROR(VLOOKUP($A62,Filtro!$A$5:$AY$629,21,FALSE),0)","v":15},{"$f":"IFERROR(VLOOKUP($A62,Filtro!$A$5:$AY$629,22,FALSE),0)","v":41},{"$f":"IFERROR(VLOOKUP($A62,Filtro!$A$5:$AY$629,23,FALSE),0)","v":12},{"$f":"IFERROR(VLOOKUP($A62,Filtro!$A$5:$AY$629,24,FALSE),0)","v":43},{"$f":"IFERROR(VLOOKUP($A62,Filtro!$A$5:$AY$629,25,FALSE),0)","v":8},{"$f":"IFERROR(VLOOKUP($A62,Filtro!$A$5:$AY$629,26,FALSE),0)","v":52},{"$f":"IFERROR(VLOOKUP($A62,Filtro!$A$5:$AY$629,27,FALSE),0)","v":17},{"$f":"IFERROR(VLOOKUP($A62,Filtro!$A$5:$AY$629,28,FALSE),0)","v":56},{"$f":"IFERROR(VLOOKUP($A62,Filtro!$A$5:$AY$629,29,FALSE),0)","v":15},{"$f":"IFERROR(VLOOKUP($A62,Filtro!$A$5:$AY$629,30,FALSE),0)","v":58},{"$f":"IFERROR(VLOOKUP($A62,Filtro!$A$5:$AY$629,31,FALSE),0)","v":20},{"$f":"IFERROR(VLOOKUP($A62,Filtro!$A$5:$AY$629,32,FALSE),0)","v":55},{"$f":"IFERROR(VLOOKUP($A62,Filtro!$A$5:$AY$629,33,FALSE),0)","v":21},{"$f":"IFERROR(VLOOKUP($A62,Filtro!$A$5:$AY$629,34,FALSE),0)","v":56},{"$f":"IFERROR(VLOOKUP($A62,Filtro!$A$5:$AY$629,35,FALSE),0)","v":22},{"$f":"IFERROR(VLOOKUP($A62,Filtro!$A$5:$AY$629,36,FALSE),0)","v":51},{"$f":"IFERROR(VLOOKUP($A62,Filtro!$A$5:$AY$629,37,FALSE),0)","v":25},{"$f":"IFERROR(VLOOKUP($A62,Filtro!$A$5:$AY$629,38,FALSE),0)","v":76},{"$f":"CC62","v":""},{"$nulls":39},{"$f":"IF(SUM(D15:D17)>=SUM(D59:D62),\"\",\"* El total de Asma Bronquial en ambos sexo no puede ser mayor al total de Asma Bronquial de ambos sexo de la Sección A. \")","v":""},{"$nulls":7},{"$f":"IF(SUM(D15:D17)>=SUM(D59:D62),0,1)","v":0}]
["P3161045","ENFERMEDAD PULMONAR OBSTRUCTIVA CRÓNICA (EPOC)","Logra Control Adecuado",2343,{"$f":"+W63+Y63+AA63+AC63+AE63+AG63+AI63+AK63+AM63","v":1136},{"$f":"+X63+Z63+AB63+AD63+AF63+AH63+AJ63+AL63+AN63","v":1207},0,0,0,0,0,0,0,0,0,0,0,0,0,0,0,0,{"$f":"IFERROR(VLOOKUP($A63,Filtro!$A$5:$AY$629,21,FALSE),0)","v":5},{"$f":"IFERROR(VLOOKUP($A63,Filtro!$A$5:$AY$629,22,FALSE),0)","v":4},{"$f":"IFERROR(VLOOKUP($A63,Filtro!$A$5:$AY$629,23,FALSE),0)","v":10},{"$f":"IFERROR(VLOOKUP($A63,Filtro!$A$5:$AY$629,24,FALSE),0)","v":9},{"$f":"IFERROR(VLOOKUP($A63,Filtro!$A$5:$AY$629,25,FALSE),0)","v":16},{"$f":"IFERROR(VLOOKUP($A63,Filtro!$A$5:$AY$629,26,FALSE),0)","v":21},{"$f":"IFERROR(VLOOKUP($A63,Filtro!$A$5:$AY$629,27,FALSE),0)","v":47},{"$f":"IFERROR(VLOOKUP($A63,Filtro!$A$5:$AY$629,28,FALSE),0)","v":53},{"$f":"IFERROR(VLOOKUP($A63,Filtro!$A$5:$AY$629,29,FALSE),0)","v":85},{"$f":"IFERROR(VLOOKUP($A63,Filtro!$A$5:$AY$629,30,FALSE),0)","v":101},{"$f":"IFERROR(VLOOKUP($A63,Filtro!$A$5:$AY$629,31,FALSE),0)","v":144},{"$f":"IFERROR(VLOOKUP($A63,Filtro!$A$5:$AY$629,32,FALSE),0)","v":190},{"$f":"IFERROR(VLOOKUP($A63,Filtro!$A$5:$AY$629,33,FALSE),0)","v":189},{"$f":"IFERROR(VLOOKUP($A63,Filtro!$A$5:$AY$629,34,FALSE),0)","v":205},{"$f":"IFERROR(VLOOKUP($A63,Filtro!$A$5:$AY$629,35,FALSE),0)","v":229},{"$f":"IFERROR(VLOOKUP($A63,Filtro!$A$5:$AY$629,36,FALSE),0)","v":190},{"$f":"IFERROR(VLOOKUP($A63,Filtro!$A$5:$AY$629,37,FALSE),0)","v":411},{"$f":"IFERROR(VLOOKUP($A63,Filtro!$A$5:$AY$629,38,FALSE),0)","v":434}]
["P3161046",null,"No Logra Control Adecuado",424,{"$f":"+W64+Y64+AA64+AC64+AE64+AG64+AI64+AK64+AM64","v":180},{"$f":"+X64+Z64+AB64+AD64+AF64+AH64+AJ64+AL64+AN64","v":244},0,0,0,0,0,0,0,0,0,0,0,0,0,0,0,0,{"$f":"IFERROR(VLOOKUP($A64,Filtro!$A$5:$AY$629,21,FALSE),0)","v":1},{"$f":"IFERROR(VLOOKUP($A64,Filtro!$A$5:$AY$629,22,FALSE),0)","v":2},{"$f":"IFERROR(VLOOKUP($A64,Filtro!$A$5:$AY$629,23,FALSE),0)","v":2},{"$f":"IFERROR(VLOOKUP($A64,Filtro!$A$5:$AY$629,24,FALSE),0)","v":4},{"$f":"IFERROR(VLOOKUP($A64,Filtro!$A$5:$AY$629,25,FALSE),0)","v":2},{"$f":"IFERROR(VLOOKUP($A64,Filtro!$A$5:$AY$629,26,FALSE),0)","v":4},{"$f":"IFERROR(VLOOKUP($A64,Filtro!$A$5:$AY$629,27,FALSE),0)","v":8},{"$f":"IFERROR(VLOOKUP($A64,Filtro!$A$5:$AY$629,28,FALSE),0)","v":11},{"$f":"IFERROR(VLOOKUP($A64,Filtro!$A$5:$AY$629,29,FALSE),0)","v":9},{"$f":"IFERROR(VLOOKUP($A64,Filtro!$A$5:$AY$629,30,FALSE),0)","v":32},{"$f":"IFERROR(VLOOKUP($A64,Filtro!$A$5:$AY$629,31,FALSE),0)","v":29},{"$f":"IFERROR(VLOOKUP($A64,Filtro!$A$5:$AY$629,32,FALSE),0)","v":34},{"$f":"IFERROR(VLOOKUP($A64,Filtro!$A$5:$AY$629,33,FALSE),0)","v":33},{"$f":"IFERROR(VLOOKUP($A64,Filtro!$A$5:$AY$629,34,FALSE),0)","v":29},{"$f":"IFERROR(VLOOKUP($A64,Filtro!$A$5:$AY$629,35,FALSE),0)","v":36},{"$f":"IFERROR(VLOOKUP($A64,Filtro!$A$5:$AY$629,36,FALSE),0)","v":44},{"$f":"IFERROR(VLOOKUP($A64,Filtro!$A$5:$AY$629,37,FALSE),0)","v":60},{"$f":"IFERROR(VLOOKUP($A64,Filtro!$A$5:$AY$629,38,FALSE),0)","v":84}]
["P3161047",null,"No evaluada",608,278,330,0,0,0,0,0,0,0,0,0,0,0,0,0,0,0,0,{"$f":"IFERROR(VLOOKUP($A65,Filtro!$A$5:$AY$629,21,FALSE),0)","v":0},{"$f":"IFERROR(VLOOKUP($A65,Filtro!$A$5:$AY$629,22,FALSE),0)","v":1},{"$f":"IFERROR(VLOOKUP($A65,Filtro!$A$5:$AY$629,23,FALSE),0)","v":4},{"$f":"IFERROR(VLOOKUP($A65,Filtro!$A$5:$AY$629,24,FALSE),0)","v":3},{"$f":"IFERROR(VLOOKUP($A65,Filtro!$A$5:$AY$629,25,FALSE),0)","v":6},{"$f":"IFERROR(VLOOKUP($A65,Filtro!$A$5:$AY$629,26,FALSE),0)","v":7},{"$f":"IFERROR(VLOOKUP($A65,Filtro!$A$5:$AY$629,27,FALSE),0)","v":7},{"$f":"IFERROR(VLOOKUP($A65,Filtro!$A$5:$AY$629,28,FALSE),0)","v":11},{"$f":"IFERROR(VLOOKUP($A65,Filtro!$A$5:$AY$629,29,FALSE),0)","v":23},{"$f":"IFERROR(VLOOKUP($A65,Filtro!$A$5:$AY$629,30,FALSE),0)","v":28},{"$f":"IFERROR(VLOOKUP($A65,Filtro!$A$5:$AY$629,31,FALSE),0)","v":28},{"$f":"IFERROR(VLOOKUP($A65,Filtro!$A$5:$AY$629,32,FALSE),0)","v":39},{"$f":"IFERROR(VLOOKUP($A65,Filtro!$A$5:$AY$629,33,FALSE),0)","v":46},{"$f":"IFERROR(VLOOKUP($A65,Filtro!$A$5:$AY$629,34,FALSE),0)","v":42},{"$f":"IFERROR(VLOOKUP($A65,Filtro!$A$5:$AY$629,35,FALSE),0)","v":52},{"$f":"IFERROR(VLOOKUP($A65,Filtro!$A$5:$AY$629,36,FALSE),0)","v":41},{"$f":"IFERROR(VLOOKUP($A65,Filtro!$A$5:$AY$629,37,FALSE),0)","v":112},{"$f":"IFERROR(VLOOKUP($A65,Filtro!$A$5:$AY$629,38,FALSE),0)","v":158},{"$f":"CC65","v":""},{"$nulls":39},{"$f":"IF(SUM(D63:D65)>SUM(D18:D19),\"* El total de EPOC en ambos sexos no puede ser superior al total de EPOC en ambos sexos de la sección A. \",\"\")","v":""},{"$nulls":7},{"$f":"IF(SUM(D63:D65)>SUM(D18:D19),1,0)","v":0}]
[null,"SECCIÓN E:  RESULTADO DE ENCUESTA CALIDAD DE VIDA"]
[null,"DIAGNÓSTICO","ACTIVIDAD","TOTAL",null,null,"POR EDAD"]
[{"$nulls":6},"0 a 4 años",null,"5 - 9 \naños",null,"10 - 14\naños",null,"15 - 19\naños",null,"20 a 24 años\n",null,"25 a 29 años",null,"30 a 34 años",null,"35 a 39 años",null,"40 - 44 años",null,"45 - 49 años",null,"50 - 54 años",null,"55 - 59 años",null,"60 - 64 años",null,"65 - 69 años",null,"70 - 74 años",null,"75 - 79 años",null,"80 y mas años"]
[{"$nulls":3},"Ambos Sexos","Hombres","Mujeres","Hombres","Mujeres","Hombres","Mujeres","Hombres","Mujeres","Hombres","Mujeres","Hombres","Mujeres","Hombres","Mujeres","Hombres","Mujeres","Hombres","Mujeres","Hombres","Mujeres","Hombres","Mujeres","Hombres","Mujeres","Hombres","Mujeres","Hombres","Mujeres","Hombres","Mujeres","Hombres","Mujeres","Hombres","Mujeres","Hombres","Mujeres"]
["P3170800","ENFERMEDAD PULMONAR OBSTRUCTIVA CRÓNICA (EPOC)","Evaluados",{"$f":"IFERROR(VLOOKUP($A70,[1]FILTRO!$A64:$AY689,2,FALSE),0)","v":1284},{"$f":"IFERROR(VLOOKUP($A70,[1]FILTRO!$A64:$AY689,3,FALSE),0)","v":631},{"$f":"IFERROR(VLOOKUP($A70,[1]FILTRO!$A64:$AY689,4,FALSE),0)","v":653},0,0,0,0,0,0,0,0,0,0,0,0,0,0,0,0,{"$f":"IFERROR(VLOOKUP($A70,Filtro!$A$5:$AY$629,21,FALSE),0)","v":2},{"$f":"IFERROR(VLOOKUP($A70,Filtro!$A$5:$AY$629,22,FALSE),0)","v":3},{"$f":"IFERROR(VLOOKUP($A70,Filtro!$A$5:$AY$629,23,FALSE),0)","v":8},{"$f":"IFERROR(VLOOKUP($A70,Filtro!$A$5:$AY$629,24,FALSE),0)","v":6},{"$f":"IFERROR(VLOOKUP($A70,Filtro!$A$5:$AY$629,25,FALSE),0)","v":9},{"$f":"IFERROR(VLOOKUP($A70,Filtro!$A$5:$AY$629,26,FALSE),0)","v":11},{"$f":"IFERROR(VLOOKUP($A70,Filtro!$A$5:$AY$629,27,FALSE),0)","v":28},{"$f":"IFERROR(VLOOKUP($A70,Filtro!$A$5:$AY$629,28,FALSE),0)","v":27},{"$f":"IFERROR(VLOOKUP($A70,Filtro!$A$5:$AY$629,29,FALSE),0)","v":61},{"$f":"IFERROR(VLOOKUP($A70,Filtro!$A$5:$AY$629,30,FALSE),0)","v":68},{"$f":"IFERROR(VLOOKUP($A70,Filtro!$A$5:$AY$629,31,FALSE),0)","v":89},{"$f":"IFERROR(VLOOKUP($A70,Filtro!$A$5:$AY$629,32,FALSE),0)","v":99},{"$f":"IFERROR(VLOOKUP($A70,Filtro!$A$5:$AY$629,33,FALSE),0)","v":107},{"$f":"IFERROR(VLOOKUP($A70,Filtro!$A$5:$AY$629,34,FALSE),0)","v":118},{"$f":"IFERROR(VLOOKUP($A70,Filtro!$A$5:$AY$629,35,FALSE),0)","v":131},{"$f":"IFERROR(VLOOKUP($A70,Filtro!$A$5:$AY$629,36,FALSE),0)","v":106},{"$f":"IFERROR(VLOOKUP($A70,Filtro!$A$5:$AY$629,37,FALSE),0)","v":196},{"$f":"IFERROR(VLOOKUP($A70,Filtro!$A$5:$AY$629,38,FALSE),0)","v":215}]
["P3170900",null,"Mejora en relación a  año anterior",{"$f":"IFERROR(VLOOKUP($A71,[1]FILTRO!$A65:$AY690,2,FALSE),0)","v":642},{"$f":"IFERROR(VLOOKUP($A71,[1]FILTRO!$A65:$AY690,3,FALSE),0)","v":336},{"$f":"IFERROR(VLOOKUP($A71,[1]FILTRO!$A65:$AY690,4,FALSE),0)","v":306},0,0,0,0,0,0,0,0,0,0,0,0,0,0,0,0,{"$f":"IFERROR(VLOOKUP($A71,Filtro!$A$5:$AY$629,21,FALSE),0)","v":0},{"$f":"IFERROR(VLOOKUP($A71,Filtro!$A$5:$AY$629,22,FALSE),0)","v":2},{"$f":"IFERROR(VLOOKUP($A71,Filtro!$A$5:$AY$629,23,FALSE),0)","v":3},{"$f":"IFERROR(VLOOKUP($A71,Filtro!$A$5:$AY$629,24,FALSE),0)","v":3},{"$f":"IFERROR(VLOOKUP($A71,Filtro!$A$5:$AY$629,25,FALSE),0)","v":3},{"$f":"IFERROR(VLOOKUP($A71,Filtro!$A$5:$AY$629,26,FALSE),0)","v":2},{"$f":"IFERROR(VLOOKUP($A71,Filtro!$A$5:$AY$629,27,FALSE),0)","v":15},{"$f":"IFERROR(VLOOKUP($A71,Filtro!$A$5:$AY$629,28,FALSE),0)","v":9},{"$f":"IFERROR(VLOOKUP($A71,Filtro!$A$5:$AY$629,29,FALSE),0)","v":42},{"$f":"IFERROR(VLOOKUP($A71,Filtro!$A$5:$AY$629,30,FALSE),0)","v":33},{"$f":"IFERROR(VLOOKUP($A71,Filtro!$A$5:$AY$629,31,FALSE),0)","v":45},{"$f":"IFERROR(VLOOKUP($A71,Filtro!$A$5:$AY$629,32,FALSE),0)","v":48},{"$f":"IFERROR(VLOOKUP($A71,Filtro!$A$5:$AY$629,33,FALSE),0)","v":63},{"$f":"IFERROR(VLOOKUP($A71,Filtro!$A$5:$AY$629,34,FALSE),0)","v":65},{"$f":"IFERROR(VLOOKUP($A71,Filtro!$A$5:$AY$629,35,FALSE),0)","v":73},{"$f":"IFERROR(VLOOKUP($A71,Filtro!$A$5:$AY$629,36,FALSE),0)","v":48},{"$f":"IFERROR(VLOOKUP($A71,Filtro!$A$5:$AY$629,37,FALSE),0)","v":92},{"$f":"IFERROR(VLOOKUP($A71,Filtro!$A$5:$AY$629,38,FALSE),0)","v":96}]
["P3171000",null,"No mejora en relación a año anterior",{"$f":"IFERROR(VLOOKUP($A72,[1]FILTRO!$A66:$AY691,2,FALSE),0)","v":274},{"$f":"IFERROR(VLOOKUP($A72,[1]FILTRO!$A66:$AY691,3,FALSE),0)","v":117},{"$f":"IFERROR(VLOOKUP($A72,[1]FILTRO!$A66:$AY691,4,FALSE),0)","v":157},0,0,0,0,0,0,0,0,0,0,0,0,0,0,0,0,{"$f":"IFERROR(VLOOKUP($A72,Filtro!$A$5:$AY$629,21,FALSE),0)","v":4},{"$f":"IFERROR(VLOOKUP($A72,Filtro!$A$5:$AY$629,22,FALSE),0)","v":0},{"$f":"IFERROR(VLOOKUP($A72,Filtro!$A$5:$AY$629,23,FALSE),0)","v":1},{"$f":"IFERROR(VLOOKUP($A72,Filtro!$A$5:$AY$629,24,FALSE),0)","v":1},{"$f":"IFERROR(VLOOKUP($A72,Filtro!$A$5:$AY$629,25,FALSE),0)","v":1},{"$f":"IFERROR(VLOOKUP($A72,Filtro!$A$5:$AY$629,26,FALSE),0)","v":2},{"$f":"IFERROR(VLOOKUP($A72,Filtro!$A$5:$AY$629,27,FALSE),0)","v":5},{"$f":"IFERROR(VLOOKUP($A72,Filtro!$A$5:$AY$629,28,FALSE),0)","v":7},{"$f":"IFERROR(VLOOKUP($A72,Filtro!$A$5:$AY$629,29,FALSE),0)","v":6},{"$f":"IFERROR(VLOOKUP($A72,Filtro!$A$5:$AY$629,30,FALSE),0)","v":13},{"$f":"IFERROR(VLOOKUP($A72,Filtro!$A$5:$AY$629,31,FALSE),0)","v":20},{"$f":"IFERROR(VLOOKUP($A72,Filtro!$A$5:$AY$629,32,FALSE),0)","v":28},{"$f":"IFERROR(VLOOKUP($A72,Filtro!$A$5:$AY$629,33,FALSE),0)","v":13},{"$f":"IFERROR(VLOOKUP($A72,Filtro!$A$5:$AY$629,34,FALSE),0)","v":26},{"$f":"IFERROR(VLOOKUP($A72,Filtro!$A$5:$AY$629,35,FALSE),0)","v":24},{"$f":"IFERROR(VLOOKUP($A72,Filtro!$A$5:$AY$629,36,FALSE),0)","v":25},{"$f":"IFERROR(VLOOKUP($A72,Filtro!$A$5:$AY$629,37,FALSE),0)","v":43},{"$f":"IFERROR(VLOOKUP($A72,Filtro!$A$5:$AY$629,38,FALSE),0)","v":55}]
["P3171100","ASMA BRONQUIAL","Evaluados",{"$f":"IFERROR(VLOOKUP($A73,[1]FILTRO!$A67:$AY692,2,FALSE),0)","v":4056},{"$f":"IFERROR(VLOOKUP($A73,[1]FILTRO!$A67:$AY692,3,FALSE),0)","v":1340},{"$f":"IFERROR(VLOOKUP($A73,[1]FILTRO!$A67:$AY692,4,FALSE),0)","v":2716},{"$f":"IFERROR(VLOOKUP($A73,Filtro!$A$5:$AY$629,5,FALSE),0)","v":50},{"$f":"IFERROR(VLOOKUP($A73,Filtro!$A$5:$AY$629,6,FALSE),0)","v":53},{"$f":"IFERROR(VLOOKUP($A73,Filtro!$A$5:$AY$629,7,FALSE),0)","v":317},{"$f":"IFERROR(VLOOKUP($A73,Filtro!$A$5:$AY$629,8,FALSE),0)","v":250},{"$f":"IFERROR(VLOOKUP($A73,Filtro!$A$5:$AY$629,9,FALSE),0)","v":262},{"$f":"IFERROR(VLOOKUP($A73,Filtro!$A$5:$AY$629,10,FALSE),0)","v":209},{"$f":"IFERROR(VLOOKUP($A73,Filtro!$A$5:$AY$629,11,FALSE),0)","v":113},{"$f":"IFERROR(VLOOKUP($A73,Filtro!$A$5:$AY$629,12,FALSE),0)","v":96},{"$f":"IFERROR(VLOOKUP($A73,Filtro!$A$5:$AY$629,13,FALSE),0)","v":59},{"$f":"IFERROR(VLOOKUP($A73,Filtro!$A$5:$AY$629,14,FALSE),0)","v":126},{"$f":"IFERROR(VLOOKUP($A73,Filtro!$A$5:$AY$629,15,FALSE),0)","v":60},{"$f":"IFERROR(VLOOKUP($A73,Filtro!$A$5:$AY$629,16,FALSE),0)","v":107},{"$f":"IFERROR(VLOOKUP($A73,Filtro!$A$5:$AY$629,17,FALSE),0)","v":33},{"$f":"IFERROR(VLOOKUP($A73,Filtro!$A$5:$AY$629,18,FALSE),0)","v":120},{"$f":"IFERROR(VLOOKUP($A73,Filtro!$A$5:$AY$629,19,FALSE),0)","v":24},{"$f":"IFERROR(VLOOKUP($A73,Filtro!$A$5:$AY$629,20,FALSE),0)","v":131},{"$f":"IFERROR(VLOOKUP($A73,Filtro!$A$5:$AY$629,21,FALSE),0)","v":23},{"$f":"IFERROR(VLOOKUP($A73,Filtro!$A$5:$AY$629,22,FALSE),0)","v":117},{"$f":"IFERROR(VLOOKUP($A73,Filtro!$A$5:$AY$629,23,FALSE),0)","v":33},{"$f":"IFERROR(VLOOKUP($A73,Filtro!$A$5:$AY$629,24,FALSE),0)","v":174},{"$f":"IFERROR(VLOOKUP($A73,Filtro!$A$5:$AY$629,25,FALSE),0)","v":32},{"$f":"IFERROR(VLOOKUP($A73,Filtro!$A$5:$AY$629,26,FALSE),0)","v":187},{"$f":"IFERROR(VLOOKUP($A73,Filtro!$A$5:$AY$629,27,FALSE),0)","v":43},{"$f":"IFERROR(VLOOKUP($A73,Filtro!$A$5:$AY$629,28,FALSE),0)","v":219},{"$f":"IFERROR(VLOOKUP($A73,Filtro!$A$5:$AY$629,29,FALSE),0)","v":50},{"$f":"IFERROR(VLOOKUP($A73,Filtro!$A$5:$AY$629,30,FALSE),0)","v":213},{"$f":"IFERROR(VLOOKUP($A73,Filtro!$A$5:$AY$629,31,FALSE),0)","v":77},{"$f":"IFERROR(VLOOKUP($A73,Filtro!$A$5:$AY$629,32,FALSE),0)","v":244},{"$f":"IFERROR(VLOOKUP($A73,Filtro!$A$5:$AY$629,33,FALSE),0)","v":52},{"$f":"IFERROR(VLOOKUP($A73,Filtro!$A$5:$AY$629,34,FALSE),0)","v":181},{"$f":"IFERROR(VLOOKUP($A73,Filtro!$A$5:$AY$629,35,FALSE),0)","v":62},{"$f":"IFERROR(VLOOKUP($A73,Filtro!$A$5:$AY$629,36,FALSE),0)","v":125},{"$f":"IFERROR(VLOOKUP($A73,Filtro!$A$5:$AY$629,37,FALSE),0)","v":50},{"$f":"IFERROR(VLOOKUP($A73,Filtro!$A$5:$AY$629,38,FALSE),0)","v":164}]
["P3171200",null,"Mejora en relación a  año anterior",{"$f":"IFERROR(VLOOKUP($A74,[1]FILTRO!$A68:$AY693,2,FALSE),0)","v":2039},{"$f":"IFERROR(VLOOKUP($A74,[1]FILTRO!$A68:$AY693,3,FALSE),0)","v":659},{"$f":"IFERROR(VLOOKUP($A74,[1]FILTRO!$A68:$AY693,4,FALSE),0)","v":1380},{"$f":"IFERROR(VLOOKUP($A74,Filtro!$A$5:$AY$629,5,FALSE),0)","v":15},{"$f":"IFERROR(VLOOKUP($A74,Filtro!$A$5:$AY$629,6,FALSE),0)","v":17},{"$f":"IFERROR(VLOOKUP($A74,Filtro!$A$5:$AY$629,7,FALSE),0)","v":146},{"$f":"IFERROR(VLOOKUP($A74,Filtro!$A$5:$AY$629,8,FALSE),0)","v":118},{"$f":"IFERROR(VLOOKUP($A74,Filtro!$A$5:$AY$629,9,FALSE),0)","v":101},{"$f":"IFERROR(VLOOKUP($A74,Filtro!$A$5:$AY$629,10,FALSE),0)","v":116},{"$f":"IFERROR(VLOOKUP($A74,Filtro!$A$5:$AY$629,11,FALSE),0)","v":61},{"$f":"IFERROR(VLOOKUP($A74,Filtro!$A$5:$AY$629,12,FALSE),0)","v":47},{"$f":"IFERROR(VLOOKUP($A74,Filtro!$A$5:$AY$629,13,FALSE),0)","v":34},{"$f":"IFERROR(VLOOKUP($A74,Filtro!$A$5:$AY$629,14,FALSE),0)","v":70},{"$f":"IFERROR(VLOOKUP($A74,Filtro!$A$5:$AY$629,15,FALSE),0)","v":34},{"$f":"IFERROR(VLOOKUP($A74,Filtro!$A$5:$AY$629,16,FALSE),0)","v":48},{"$f":"IFERROR(VLOOKUP($A74,Filtro!$A$5:$AY$629,17,FALSE),0)","v":19},{"$f":"IFERROR(VLOOKUP($A74,Filtro!$A$5:$AY$629,18,FALSE),0)","v":56},{"$f":"IFERROR(VLOOKUP($A74,Filtro!$A$5:$AY$629,19,FALSE),0)","v":11},{"$f":"IFERROR(VLOOKUP($A74,Filtro!$A$5:$AY$629,20,FALSE),0)","v":60},{"$f":"IFERROR(VLOOKUP($A74,Filtro!$A$5:$AY$629,21,FALSE),0)","v":8},{"$f":"IFERROR(VLOOKUP($A74,Filtro!$A$5:$AY$629,22,FALSE),0)","v":53},{"$f":"IFERROR(VLOOKUP($A74,Filtro!$A$5:$AY$629,23,FALSE),0)","v":14},{"$f":"IFERROR(VLOOKUP($A74,Filtro!$A$5:$AY$629,24,FALSE),0)","v":92},{"$f":"IFERROR(VLOOKUP($A74,Filtro!$A$5:$AY$629,25,FALSE),0)","v":20},{"$f":"IFERROR(VLOOKUP($A74,Filtro!$A$5:$AY$629,26,FALSE),0)","v":96},{"$f":"IFERROR(VLOOKUP($A74,Filtro!$A$5:$AY$629,27,FALSE),0)","v":24},{"$f":"IFERROR(VLOOKUP($A74,Filtro!$A$5:$AY$629,28,FALSE),0)","v":93},{"$f":"IFERROR(VLOOKUP($A74,Filtro!$A$5:$AY$629,29,FALSE),0)","v":24},{"$f":"IFERROR(VLOOKUP($A74,Filtro!$A$5:$AY$629,30,FALSE),0)","v":129},{"$f":"IFERROR(VLOOKUP($A74,Filtro!$A$5:$AY$629,31,FALSE),0)","v":39},{"$f":"IFERROR(VLOOKUP($A74,Filtro!$A$5:$AY$629,32,FALSE),0)","v":131},{"$f":"IFERROR(VLOOKUP($A74,Filtro!$A$5:$AY$629,33,FALSE),0)","v":30},{"$f":"IFERROR(VLOOKUP($A74,Filtro!$A$5:$AY$629,34,FALSE),0)","v":97},{"$f":"IFERROR(VLOOKUP($A74,Filtro!$A$5:$AY$629,35,FALSE),0)","v":46},{"$f":"IFERROR(VLOOKUP($A74,Filtro!$A$5:$AY$629,36,FALSE),0)","v":73},{"$f":"IFERROR(VLOOKUP($A74,Filtro!$A$5:$AY$629,37,FALSE),0)","v":33},{"$f":"IFERROR(VLOOKUP($A74,Filtro!$A$5:$AY$629,38,FALSE),0)","v":84}]
["P3171300",null,"No mejora en relación a año anterior",{"$f":"IFERROR(VLOOKUP($A75,[1]FILTRO!$A69:$AY694,2,FALSE),0)","v":640},{"$f":"IFERROR(VLOOKUP($A75,[1]FILTRO!$A69:$AY694,3,FALSE),0)","v":233},{"$f":"IFERROR(VLOOKUP($A75,[1]FILTRO!$A69:$AY694,4,FALSE),0)","v":407},{"$f":"IFERROR(VLOOKUP($A75,Filtro!$A$5:$AY$629,5,FALSE),0)","v":12},{"$f":"IFERROR(VLOOKUP($A75,Filtro!$A$5:$AY$629,6,FALSE),0)","v":25},{"$f":"IFERROR(VLOOKUP($A75,Filtro!$A$5:$AY$629,7,FALSE),0)","v":61},{"$f":"IFERROR(VLOOKUP($A75,Filtro!$A$5:$AY$629,8,FALSE),0)","v":43},{"$f":"IFERROR(VLOOKUP($A75,Filtro!$A$5:$AY$629,9,FALSE),0)","v":37},{"$f":"IFERROR(VLOOKUP($A75,Filtro!$A$5:$AY$629,10,FALSE),0)","v":29},{"$f":"IFERROR(VLOOKUP($A75,Filtro!$A$5:$AY$629,11,FALSE),0)","v":15},{"$f":"IFERROR(VLOOKUP($A75,Filtro!$A$5:$AY$629,12,FALSE),0)","v":11},{"$f":"IFERROR(VLOOKUP($A75,Filtro!$A$5:$AY$629,13,FALSE),0)","v":1},{"$f":"IFERROR(VLOOKUP($A75,Filtro!$A$5:$AY$629,14,FALSE),0)","v":14},{"$f":"IFERROR(VLOOKUP($A75,Filtro!$A$5:$AY$629,15,FALSE),0)","v":11},{"$f":"IFERROR(VLOOKUP($A75,Filtro!$A$5:$AY$629,16,FALSE),0)","v":20},{"$f":"IFERROR(VLOOKUP($A75,Filtro!$A$5:$AY$629,17,FALSE),0)","v":5},{"$f":"IFERROR(VLOOKUP($A75,Filtro!$A$5:$AY$629,18,FALSE),0)","v":10},{"$f":"IFERROR(VLOOKUP($A75,Filtro!$A$5:$AY$629,19,FALSE),0)","v":4},{"$f":"IFERROR(VLOOKUP($A75,Filtro!$A$5:$AY$629,20,FALSE),0)","v":19},{"$f":"IFERROR(VLOOKUP($A75,Filtro!$A$5:$AY$629,21,FALSE),0)","v":5},{"$f":"IFERROR(VLOOKUP($A75,Filtro!$A$5:$AY$629,22,FALSE),0)","v":14},{"$f":"IFERROR(VLOOKUP($A75,Filtro!$A$5:$AY$629,23,FALSE),0)","v":4},{"$f":"IFERROR(VLOOKUP($A75,Filtro!$A$5:$AY$629,24,FALSE),0)","v":23},{"$f":"IFERROR(VLOOKUP($A75,Filtro!$A$5:$AY$629,25,FALSE),0)","v":8},{"$f":"IFERROR(VLOOKUP($A75,Filtro!$A$5:$AY$629,26,FALSE),0)","v":30},{"$f":"IFERROR(VLOOKUP($A75,Filtro!$A$5:$AY$629,27,FALSE),0)","v":3},{"$f":"IFERROR(VLOOKUP($A75,Filtro!$A$5:$AY$629,28,FALSE),0)","v":29},{"$f":"IFERROR(VLOOKUP($A75,Filtro!$A$5:$AY$629,29,FALSE),0)","v":22},{"$f":"IFERROR(VLOOKUP($A75,Filtro!$A$5:$AY$629,30,FALSE),0)","v":31},{"$f":"IFERROR(VLOOKUP($A75,Filtro!$A$5:$AY$629,31,FALSE),0)","v":15},{"$f":"IFERROR(VLOOKUP($A75,Filtro!$A$5:$AY$629,32,FALSE),0)","v":40},{"$f":"IFERROR(VLOOKUP($A75,Filtro!$A$5:$AY$629,33,FALSE),0)","v":7},{"$f":"IFERROR(VLOOKUP($A75,Filtro!$A$5:$AY$629,34,FALSE),0)","v":29},{"$f":"IFERROR(VLOOKUP($A75,Filtro!$A$5:$AY$629,35,FALSE),0)","v":13},{"$f":"IFERROR(VLOOKUP($A75,Filtro!$A$5:$AY$629,36,FALSE),0)","v":22},{"$f":"IFERROR(VLOOKUP($A75,Filtro!$A$5:$AY$629,37,FALSE),0)","v":10},{"$f":"IFERROR(VLOOKUP($A75,Filtro!$A$5:$AY$629,38,FALSE),0)","v":18}]
["P3171400","OTRAS CRÓNICAS RESPIRATORIAS","Evaluados",{"$f":"IFERROR(VLOOKUP($A76,[1]FILTRO!$A70:$AY695,2,FALSE),0)","v":396},{"$f":"IFERROR(VLOOKUP($A76,[1]FILTRO!$A70:$AY695,3,FALSE),0)","v":252},{"$f":"IFERROR(VLOOKUP($A76,[1]FILTRO!$A70:$AY695,4,FALSE),0)","v":144},{"$f":"IFERROR(VLOOKUP($A76,Filtro!$A$5:$AY$629,5,FALSE),0)","v":0},{"$f":"IFERROR(VLOOKUP($A76,Filtro!$A$5:$AY$629,6,FALSE),0)","v":1},{"$f":"IFERROR(VLOOKUP($A76,Filtro!$A$5:$AY$629,7,FALSE),0)","v":0},{"$f":"IFERROR(VLOOKUP($A76,Filtro!$A$5:$AY$629,8,FALSE),0)","v":0},{"$f":"IFERROR(VLOOKUP($A76,Filtro!$A$5:$AY$629,9,FALSE),0)","v":0},{"$f":"IFERROR(VLOOKUP($A76,Filtro!$A$5:$AY$629,10,FALSE),0)","v":1},{"$f":"IFERROR(VLOOKUP($A76,Filtro!$A$5:$AY$629,11,FALSE),0)","v":0},{"$f":"IFERROR(VLOOKUP($A76,Filtro!$A$5:$AY$629,12,FALSE),0)","v":0},{"$f":"IFERROR(VLOOKUP($A76,Filtro!$A$5:$AY$629,13,FALSE),0)","v":0},{"$f":"IFERROR(VLOOKUP($A76,Filtro!$A$5:$AY$629,14,FALSE),0)","v":0},{"$f":"IFERROR(VLOOKUP($A76,Filtro!$A$5:$AY$629,15,FALSE),0)","v":0},{"$f":"IFERROR(VLOOKUP($A76,Filtro!$A$5:$AY$629,16,FALSE),0)","v":0},{"$f":"IFERROR(VLOOKUP($A76,Filtro!$A$5:$AY$629,17,FALSE),0)","v":0},{"$f":"IFERROR(VLOOKUP($A76,Filtro!$A$5:$AY$629,18,FALSE),0)","v":1},{"$f":"IFERROR(VLOOKUP($A76,Filtro!$A$5:$AY$629,19,FALSE),0)","v":0},{"$f":"IFERROR(VLOOKUP($A76,Filtro!$A$5:$AY$629,20,FALSE),0)","v":1},{"$f":"IFERROR(VLOOKUP($A76,Filtro!$A$5:$AY$629,21,FALSE),0)","v":4},{"$f":"IFERROR(VLOOKUP($A76,Filtro!$A$5:$AY$629,22,FALSE),0)","v":3},{"$f":"IFERROR(VLOOKUP($A76,Filtro!$A$5:$AY$629,23,FALSE),0)","v":3},{"$f":"IFERROR(VLOOKUP($A76,Filtro!$A$5:$AY$629,24,FALSE),0)","v":6},{"$f":"IFERROR(VLOOKUP($A76,Filtro!$A$5:$AY$629,25,FALSE),0)","v":5},{"$f":"IFERROR(VLOOKUP($A76,Filtro!$A$5:$AY$629,26,FALSE),0)","v":5},{"$f":"IFERROR(VLOOKUP($A76,Filtro!$A$5:$AY$629,27,FALSE),0)","v":6},{"$f":"IFERROR(VLOOKUP($A76,Filtro!$A$5:$AY$629,28,FALSE),0)","v":3},{"$f":"IFERROR(VLOOKUP($A76,Filtro!$A$5:$AY$629,29,FALSE),0)","v":19},{"$f":"IFERROR(VLOOKUP($A76,Filtro!$A$5:$AY$629,30,FALSE),0)","v":19},{"$f":"IFERROR(VLOOKUP($A76,Filtro!$A$5:$AY$629,31,FALSE),0)","v":33},{"$f":"IFERROR(VLOOKUP($A76,Filtro!$A$5:$AY$629,32,FALSE),0)","v":19},{"$f":"IFERROR(VLOOKUP($A76,Filtro!$A$5:$AY$629,33,FALSE),0)","v":44},{"$f":"IFERROR(VLOOKUP($A76,Filtro!$A$5:$AY$629,34,FALSE),0)","v":19},{"$f":"IFERROR(VLOOKUP($A76,Filtro!$A$5:$AY$629,35,FALSE),0)","v":53},{"$f":"IFERROR(VLOOKUP($A76,Filtro!$A$5:$AY$629,36,FALSE),0)","v":31},{"$f":"IFERROR(VLOOKUP($A76,Filtro!$A$5:$AY$629,37,FALSE),0)","v":85},{"$f":"IFERROR(VLOOKUP($A76,Filtro!$A$5:$AY$629,38,FALSE),0)","v":35}]
["P3171500",null,"Mejora en relación a  año anterior",{"$f":"IFERROR(VLOOKUP($A77,[1]FILTRO!$A71:$AY696,2,FALSE),0)","v":192},{"$f":"IFERROR(VLOOKUP($A77,[1]FILTRO!$A71:$AY696,3,FALSE),0)","v":139},{"$f":"IFERROR(VLOOKUP($A77,[1]FILTRO!$A71:$AY696,4,FALSE),0)","v":53},{"$f":"IFERROR(VLOOKUP($A77,Filtro!$A$5:$AY$629,5,FALSE),0)","v":0},{"$f":"IFERROR(VLOOKUP($A77,Filtro!$A$5:$AY$629,6,FALSE),0)","v":1},{"$f":"IFERROR(VLOOKUP($A77,Filtro!$A$5:$AY$629,7,FALSE),0)","v":0},{"$f":"IFERROR(VLOOKUP($A77,Filtro!$A$5:$AY$629,8,FALSE),0)","v":0},{"$f":"IFERROR(VLOOKUP($A77,Filtro!$A$5:$AY$629,9,FALSE),0)","v":0},{"$f":"IFERROR(VLOOKUP($A77,Filtro!$A$5:$AY$629,10,FALSE),0)","v":0},{"$f":"IFERROR(VLOOKUP($A77,Filtro!$A$5:$AY$629,11,FALSE),0)","v":0},{"$f":"IFERROR(VLOOKUP($A77,Filtro!$A$5:$AY$629,12,FALSE),0)","v":0},{"$f":"IFERROR(VLOOKUP($A77,Filtro!$A$5:$AY$629,13,FALSE),0)","v":0},{"$f":"IFERROR(VLOOKUP($A77,Filtro!$A$5:$AY$629,14,FALSE),0)","v":0},{"$f":"IFERROR(VLOOKUP($A77,Filtro!$A$5:$AY$629,15,FALSE),0)","v":0},{"$f":"IFERROR(VLOOKUP($A77,Filtro!$A$5:$AY$629,16,FALSE),0)","v":0},{"$f":"IFERROR(VLOOKUP($A77,Filtro!$A$5:$AY$629,17,FALSE),0)","v":0},{"$f":"IFERROR(VLOOKUP($A77,Filtro!$A$5:$AY$629,18,FALSE),0)","v":1},{"$f":"IFERROR(VLOOKUP($A77,Filtro!$A$5:$AY$629,19,FALSE),0)","v":0},{"$f":"IFERROR(VLOOKUP($A77,Filtro!$A$5:$AY$629,20,FALSE),0)","v":0},{"$f":"IFERROR(VLOOKUP($A77,Filtro!$A$5:$AY$629,21,FALSE),0)","v":2},{"$f":"IFERROR(VLOOKUP($A77,Filtro!$A$5:$AY$629,22,FALSE),0)","v":1},{"$f":"IFERROR(VLOOKUP($A77,Filtro!$A$5:$AY$629,23,FALSE),0)","v":2},{"$f":"IFERROR(VLOOKUP($A77,Filtro!$A$5:$AY$629,24,FALSE),0)","v":2},{"$f":"IFERROR(VLOOKUP($A77,Filtro!$A$5:$AY$629,25,FALSE),0)","v":1},{"$f":"IFERROR(VLOOKUP($A77,Filtro!$A$5:$AY$629,26,FALSE),0)","v":1},{"$f":"IFERROR(VLOOKUP($A77,Filtro!$A$5:$AY$629,27,FALSE),0)","v":4},{"$f":"IFERROR(VLOOKUP($A77,Filtro!$A$5:$AY$629,28,FALSE),0)","v":1},{"$f":"IFERROR(VLOOKUP($A77,Filtro!$A$5:$AY$629,29,FALSE),0)","v":16},{"$f":"IFERROR(VLOOKUP($A77,Filtro!$A$5:$AY$629,30,FALSE),0)","v":6},{"$f":"IFERROR(VLOOKUP($A77,Filtro!$A$5:$AY$629,31,FALSE),0)","v":20},{"$f":"IFERROR(VLOOKUP($A77,Filtro!$A$5:$AY$629,32,FALSE),0)","v":7},{"$f":"IFERROR(VLOOKUP($A77,Filtro!$A$5:$AY$629,33,FALSE),0)","v":30},{"$f":"IFERROR(VLOOKUP($A77,Filtro!$A$5:$AY$629,34,FALSE),0)","v":4},{"$f":"IFERROR(VLOOKUP($A77,Filtro!$A$5:$AY$629,35,FALSE),0)","v":32},{"$f":"IFERROR(VLOOKUP($A77,Filtro!$A$5:$AY$629,36,FALSE),0)","v":16},{"$f":"IFERROR(VLOOKUP($A77,Filtro!$A$5:$AY$629,37,FALSE),0)","v":32},{"$f":"IFERROR(VLOOKUP($A77,Filtro!$A$5:$AY$629,38,FALSE),0)","v":13}]
["P3171600",null,"No mejora en relación a año anterior",{"$f":"IFERROR(VLOOKUP($A78,[1]FILTRO!$A72:$AY697,2,FALSE),0)","v":79},{"$f":"IFERROR(VLOOKUP($A78,[1]FILTRO!$A72:$AY697,3,FALSE),0)","v":47},{"$f":"IFERROR(VLOOKUP($A78,[1]FILTRO!$A72:$AY697,4,FALSE),0)","v":32},{"$f":"IFERROR(VLOOKUP($A78,Filtro!$A$5:$AY$629,5,FALSE),0)","v":0},{"$f":"IFERROR(VLOOKUP($A78,Filtro!$A$5:$AY$629,6,FALSE),0)","v":0},{"$f":"IFERROR(VLOOKUP($A78,Filtro!$A$5:$AY$629,7,FALSE),0)","v":0},{"$f":"IFERROR(VLOOKUP($A78,Filtro!$A$5:$AY$629,8,FALSE),0)","v":0},{"$f":"IFERROR(VLOOKUP($A78,Filtro!$A$5:$AY$629,9,FALSE),0)","v":0},{"$f":"IFERROR(VLOOKUP($A78,Filtro!$A$5:$AY$629,10,FALSE),0)","v":0},{"$f":"IFERROR(VLOOKUP($A78,Filtro!$A$5:$AY$629,11,FALSE),0)","v":0},{"$f":"IFERROR(VLOOKUP($A78,Filtro!$A$5:$AY$629,12,FALSE),0)","v":0},{"$f":"IFERROR(VLOOKUP($A78,Filtro!$A$5:$AY$629,13,FALSE),0)","v":0},{"$f":"IFERROR(VLOOKUP($A78,Filtro!$A$5:$AY$629,14,FALSE),0)","v":0},{"$f":"IFERROR(VLOOKUP($A78,Filtro!$A$5:$AY$629,15,FALSE),0)","v":0},{"$f":"IFERROR(VLOOKUP($A78,Filtro!$A$5:$AY$629,16,FALSE),0)","v":0},{"$f":"IFERROR(VLOOKUP($A78,Filtro!$A$5:$AY$629,17,FALSE),0)","v":0},{"$f":"IFERROR(VLOOKUP($A78,Filtro!$A$5:$AY$629,18,FALSE),0)","v":1},{"$f":"IFERROR(VLOOKUP($A78,Filtro!$A$5:$AY$629,19,FALSE),0)","v":0},{"$f":"IFERROR(VLOOKUP($A78,Filtro!$A$5:$AY$629,20,FALSE),0)","v":0},{"$f":"IFERROR(VLOOKUP($A78,Filtro!$A$5:$AY$629,21,FALSE),0)","v":2},{"$f":"IFERROR(VLOOKUP($A78,Filtro!$A$5:$AY$629,22,FALSE),0)","v":0},{"$f":"IFERROR(VLOOKUP($A78,Filtro!$A$5:$AY$629,23,FALSE),0)","v":0},{"$f":"IFERROR(VLOOKUP($A78,Filtro!$A$5:$AY$629,24,FALSE),0)","v":1},{"$f":"IFERROR(VLOOKUP($A78,Filtro!$A$5:$AY$629,25,FALSE),0)","v":0},{"$f":"IFERROR(VLOOKUP($A78,Filtro!$A$5:$AY$629,26,FALSE),0)","v":0},{"$f":"IFERROR(VLOOKUP($A78,Filtro!$A$5:$AY$629,27,FALSE),0)","v":2},{"$f":"IFERROR(VLOOKUP($A78,Filtro!$A$5:$AY$629,28,FALSE),0)","v":1},{"$f":"IFERROR(VLOOKUP($A78,Filtro!$A$5:$AY$629,29,FALSE),0)","v":1},{"$f":"IFERROR(VLOOKUP($A78,Filtro!$A$5:$AY$629,30,FALSE),0)","v":8},{"$f":"IFERROR(VLOOKUP($A78,Filtro!$A$5:$AY$629,31,FALSE),0)","v":4},{"$f":"IFERROR(VLOOKUP($A78,Filtro!$A$5:$AY$629,32,FALSE),0)","v":2},{"$f":"IFERROR(VLOOKUP($A78,Filtro!$A$5:$AY$629,33,FALSE),0)","v":5},{"$f":"IFERROR(VLOOKUP($A78,Filtro!$A$5:$AY$629,34,FALSE),0)","v":4},{"$f":"IFERROR(VLOOKUP($A78,Filtro!$A$5:$AY$629,35,FALSE),0)","v":6},{"$f":"IFERROR(VLOOKUP($A78,Filtro!$A$5:$AY$629,36,FALSE),0)","v":4},{"$f":"IFERROR(VLOOKUP($A78,Filtro!$A$5:$AY$629,37,FALSE),0)","v":27},{"$f":"IFERROR(VLOOKUP($A78,Filtro!$A$5:$AY$629,38,FALSE),0)","v":11}]
[]
[]
[]
["CODIGOS ELIMINADOS"]
["P3130201"]
["P3160900"]
["P3160940"]
[]
[null,{"$f":"SUM(D12:AQ36,E46:I46,D51:AN51,D59:AN65)","v":271640},"datos"]
[null,{"$f":"SUM(CJ11:CP78)","v":2},"errores"]
[]
["CODIGOS NUEVOS"]
["P3171610"]
["P3171611"]
["P3171612"]
["P3171613"]
["P3171614"]
["P3171615"]

{"sheet":"P4","index":5,"n_rows":101,"n_cols":124,"rows_kept":101,"merged":[[6,1,6,21],[8,1,10,2],[8,3,9,5],[8,6,8,33],[8,34,9,35],[8,36,9,37],[8,38,10,38],[8,56,9,57],[8,58,9,59],[8,60,10,60],[8,62,9,62],[8,63,9,63],[9,6,9,7],[9,8,9,9],[9,10,9,11],[9,12,9,13],[9,14,9,15],[9,16,9,17],[9,18,9,19],[9,20,9,21],[9,22,9,23],[9,24,9,25],[9,26,9,27],[9,28,9,29],[9,30,9,31],[9,32,9,33],[11,1,11,2],[12,1,14,1],[15,1,20,1],[21,1,28,1],[29,1,29,2],[30,1,32,2],[30,3,31,5],[30,6,30,33],[30,34,31,35],[30,36,31,37],[31,6,31,7],[31,8,31,9],[31,10,31,11],[31,12,31,13],[31,14,31,15],[31,16,31,17],[31,18,31,19],[31,20,31,21],[31,22,31,23],[31,24,31,25],[31,26,31,27],[31,28,31,29],[31,30,31,31],[31,32,31,33],[33,1,34,1],[35,1,37,1],[39,1,41,1],[43,1,45,2],[43,3,44,5],[43,6,43,33],[43,34,44,35],[43,36,44,37],[43,56,44,57],[43,58,44,59],[43,62,44,62],[43,63,44,63],[43,92,44,93],[43,94,44,95],[43,100,44,100],[43,101,44,101],[44,6,44,7],[44,8,44,9],[44,10,44,11],[44,12,44,13],[44,14,44,15],[44,16,44,17],[44,18,44,19],[44,20,44,21],[44,22,44,23],[44,24,44,25],[44,26,44,27],[44,28,44,29],[44,30,44,31],[44,32,44,33],[46,3,46,37],[47,1,47,2],[48,1,48,2],[49,1,49,2],[50,1,50,2],[51,1,51,2],[52,1,52,2],[53,1,53,2],[54,1,54,2],[55,1,55,2],[57,1,57,2],[59,1,59,2],[60,1,63,1],[64,1,66,1],[67,1,67,2],[68,1,68,2],[69,1,69,2],[70,1,70,2],[74,3,74,37],[75,1,75,2],[76,1,76,2],[77,1,77,2],[78,1,78,2],[79,1,79,2],[80,1,80,2],[80,3,80,37],[81,1,81,2],[82,1,82,2],[83,1,83,2],[84,1,84,2],[85,1,85,2]]}
[null,"DATOS DEL ESTABLECIMIENTO"]
[null,{"$f":"CONCATENATE(\"COMUNA: \",NOMBRE!$B$2,\" - \",\"( \",NOMBRE!$C$2,NOMBRE!$D$2,NOMBRE!$E$2,NOMBRE!$F$2,NOMBRE!$G$2,\" )\")","v":"COMUNA:  - (  )"}]
[null,{"$f":"CONCATENATE(\"ESTABLECIMIENTO/ESTRATEGIA: \",NOMBRE!$B$3,\" - \",\"( \",NOMBRE!$C$3,NOMBRE!$D$3,NOMBRE!$E$3,NOMBRE!$F$3,NOMBRE!$G$3,NOMBRE!$H$3,\" )\")","v":"ESTABLECIMIENTO/ESTRATEGIA:  - (  )"}]
[null,{"$f":"CONCATENATE(\"MES: \",NOMBRE!$B$6,\" - \",\"( \",NOMBRE!$C$6,NOMBRE!$D$6,\" )\")","v":"MES:  - (  )"}]
[null,{"$f":"CONCATENATE(\"AÑO: \",NOMBRE!$B$7)","v":"AÑO: 2023"}]
[]
[null,"REM-P4. POBLACIÓN EN CONTROL PROGRAMA DE SALUD CARDIOVASCULAR (PSCV)"]
[null,"SECCIÓN A: PROGRAMA SALUD CARDIOVASCULAR (PSCV)"]
[null,"CONCEPTO",null,"TOTAL ",null,null,"GRUPOS DE EDAD (en años) Y SEXO",{"$nulls":27},"Pueblos Originarios",null," Migrantes",null,"Pacientes Diabéticos",{"$nulls":17},"Pueblos Originarios",null,"Población Migrantes",null,"Pacientes Diabéticos",null,"Pueblos Originarios","Población Migrantes"]
[{"$nulls":6},"15 a 19 años",null,"20 a 24 años",null,"25 a 29 años",null,"30 a 34 años",null,"35 a 39 años",null,"40 a 44 años",null,"45 a 49 años",null,"50 a 54 años",null,"55 a 59 años",null,"60 a 64 años",null,"65 a 69 años",null,"70 a 74 años",null,"75 a 79 años",null,"80 y más años"]
[{"$nulls":3},"Ambos sexos","Hombres","Mujeres","Hombres","Mujeres","Hombres","Mujeres","Hombres","Mujeres","Hombres","Mujeres","Hombres","Mujeres","Hombres","Mujeres","Hombres","Mujeres","Hombres","Mujeres","Hombres","Mujeres","Hombres","Mujeres","Hombres ","Mujeres","Hombres ","Mujeres","Hombres ","Mujeres","Hombres ","Mujeres","Hombres","Mujeres","Hombres","Mujeres",{"$nulls":18},"Hombres","Mujeres","Hombres","Mujeres",null,null,"No Olvide","No Olvide"]
["P4150100","NUMERO DE PERSONAS EN PSCV",null,{"$f":"SUM(E12:F12)","v":105696},{"$f":"+G12+I12+K12+M12+O12+Q12+S12+U12+W12+Y12+AA12+AC12+AE12+AG12","v":38177},{"$f":"+H12+J12+L12+N12+P12+R12+T12+V12+X12+Z12+AB12+AD12+AF12+AH12","v":67519},{"$f":"SUM(G13:G15)","v":65},{"$f":"SUM(H13:H15)","v":53},96,179,178,418,360,794,590,1383,1035,2411,1689,3694,2603,5905,3865,8309,5175,9226,5917,9545,5729,8677,4799,7274,6076,9651,{"$f":"SUM(AI13:AI15)","v":361},{"$f":"SUM(AJ13:AJ15)","v":679},222,{"$f":"SUM(AL13:AL15)","v":432},0]
["P4190100","CLASIFICACIÓN DEL\nRIESGO\nCARDIOVASCULAR","BAJO",{"$f":"SUM(E13:F13)","v":21455},{"$f":"+G13+I13+K13+M13+O13+Q13+S13+U13+W13+Y13+AA13+AC13+AE13+AG13","v":6171},{"$f":"+H13+J13+L13+N13+P13+R13+T13+V13+X13+Z13+AB13+AD13+AF13+AH13","v":15284},{"$f":"IFERROR(VLOOKUP($A13,Filtro!$A$5:$AY$629,5,FALSE),0)","v":29},{"$f":"IFERROR(VLOOKUP($A13,Filtro!$A$5:$AY$629,6,FALSE),0)","v":31},{"$f":"IFERROR(VLOOKUP($A13,Filtro!$A$5:$AY$629,7,FALSE),0)","v":32},{"$f":"IFERROR(VLOOKUP($A13,Filtro!$A$5:$AY$629,8,FALSE),0)","v":75},{"$f":"IFERROR(VLOOKUP($A13,Filtro!$A$5:$AY$629,9,FALSE),0)","v":58},{"$f":"IFERROR(VLOOKUP($A13,Filtro!$A$5:$AY$629,10,FALSE),0)","v":163},{"$f":"IFERROR(VLOOKUP($A13,Filtro!$A$5:$AY$629,11,FALSE),0)","v":103},{"$f":"IFERROR(VLOOKUP($A13,Filtro!$A$5:$AY$629,12,FALSE),0)","v":262},{"$f":"IFERROR(VLOOKUP($A13,Filtro!$A$5:$AY$629,13,FALSE),0)","v":161},{"$f":"IFERROR(VLOOKUP($A13,Filtro!$A$5:$AY$629,14,FALSE),0)","v":429},{"$f":"IFERROR(VLOOKUP($A13,Filtro!$A$5:$AY$629,15,FALSE),0)","v":260},{"$f":"IFERROR(VLOOKUP($A13,Filtro!$A$5:$AY$629,16,FALSE),0)","v":738},{"$f":"IFERROR(VLOOKUP($A13,Filtro!$A$5:$AY$629,17,FALSE),0)","v":410},{"$f":"IFERROR(VLOOKUP($A13,Filtro!$A$5:$AY$629,18,FALSE),0)","v":1066},{"$f":"IFERROR(VLOOKUP($A13,Filtro!$A$5:$AY$629,19,FALSE),0)","v":551},{"$f":"IFERROR(VLOOKUP($A13,Filtro!$A$5:$AY$629,20,FALSE),0)","v":1640},{"$f":"IFERROR(VLOOKUP($A13,Filtro!$A$5:$AY$629,21,FALSE),0)","v":725},{"$f":"IFERROR(VLOOKUP($A13,Filtro!$A$5:$AY$629,22,FALSE),0)","v":2088},{"$f":"IFERROR(VLOOKUP($A13,Filtro!$A$5:$AY$629,23,FALSE),0)","v":895},{"$f":"IFERROR(VLOOKUP($A13,Filtro!$A$5:$AY$629,24,FALSE),0)","v":2051},{"$f":"IFERROR(VLOOKUP($A13,Filtro!$A$5:$AY$629,25,FALSE),0)","v":905},{"$f":"IFERROR(VLOOKUP($A13,Filtro!$A$5:$AY$629,26,FALSE),0)","v":2074},{"$f":"IFERROR(VLOOKUP($A13,Filtro!$A$5:$AY$629,27,FALSE),0)","v":786},{"$f":"IFERROR(VLOOKUP($A13,Filtro!$A$5:$AY$629,28,FALSE),0)","v":1838},{"$f":"IFERROR(VLOOKUP($A13,Filtro!$A$5:$AY$629,29,FALSE),0)","v":656},{"$f":"IFERROR(VLOOKUP($A13,Filtro!$A$5:$AY$629,30,FALSE),0)","v":1525},{"$f":"IFERROR(VLOOKUP($A13,Filtro!$A$5:$AY$629,31,FALSE),0)","v":600},{"$f":"IFERROR(VLOOKUP($A13,Filtro!$A$5:$AY$629,32,FALSE),0)","v":1304},{"$f":"IFERROR(VLOOKUP($A13,Filtro!$A$5:$AY$629,33,FALSE),0)","v":134},{"$f":"IFERROR(VLOOKUP($A13,Filtro!$A$5:$AY$629,34,FALSE),0)","v":277},{"$f":"IFERROR(VLOOKUP($A13,Filtro!$A$5:$AY$629,35,FALSE),0)","v":75},{"$f":"IFERROR(VLOOKUP($A13,Filtro!$A$5:$AY$629,36,FALSE),0)","v":150},0,{"$f":" BE13 & BF13 & BG13 & BH13 & BI13 & BK13 & BL13","v":"* El numero de Personas en PSCV de ambos sexo debe ser igua al total de detección y prevención de la progresión de la enfermedad renal crónica de ambos sexo. "},{"$nulls":16},{"$f":"IF($E13>=$AI13,\"\",\"* Pueblos Originarios-Hombres no debe ser mayor al Total de personas en PSCV. \")","v":""},{"$f":"IF($F13>=$AJ13,\"\",\"* Pueblos Originarios-Mujeres no debe ser mayor al Total de personas en PSCV. \")","v":""},{"$f":"IF($E13>=$AK13,\"\",\"* Población Migrantes-Hombres no debe ser mayor al Total de personas en PSCV. \")","v":""},{"$f":"IF($F13>=$AL13,\"\",\"* Población Migrantes-Mujeres no debe ser mayor al Total de personas en PSCV. \")","v":""},{"$f":"IF(D12<>D29, \"* El numero de Personas en PSCV de ambos sexo debe ser igua al total de detección y prevención de la progresión de la enfermedad renal crónica de ambos sexo. \",\"\")","v":"* El numero de Personas en PSCV de ambos sexo debe ser igua al total de detección y prevención de la progresión de la enfermedad renal crónica de ambos sexo. "},null,{"$f":"IF(AND(E13<>0,AI13=\"\"),\"* No olvide escribir en la celda de 'Pueblos Originarios' (Digite CERO si no tiene). \",IF(AND(F13<>0,AJ13=\"\"),\"* No olvide escribir en la celda de 'Pueblos Originarios' (Digite CERO si no tiene). \",\"\"))","v":""},{"$f":"IF(AND(E13<>0,AK13=\"\"),\"* No olvide escribir en la celda de 'Población Migrantes' (Digite CERO si no tiene). \",IF(AND(F13<>0,AL13=\"\"),\"* No olvide escribir en la celda de 'Población Migrantes' (Digite CERO si no tiene). \",\"\"))","v":""},{"$nulls":28},{"$f":"IF($E13>=$AI13,0,1)","v":0},{"$f":"IF($F13>=$AJ13,0,1)","v":0},{"$f":"IF($E13>=$AK13,0,1)","v":0},{"$f":"IF($F13>=$AL13,0,1)","v":0},{"$f":"IF(D12<>D29, 1,0)","v":1},{"$nulls":3},{"$f":"IF(AND(E15<>0,AI15=\"\"),1,IF(AND(F15<>0,AJ15=\"\"),1,0))","v":0},{"$f":"IF(AND(E15<>0,AK15=\"\"),1,IF(AND(F15<>0,AL15=\"\"),1,0))","v":0}]
["P4150703",null,"MODERADO",27848,{"$f":"+G14+I14+K14+M14+O14+Q14+S14+U14+W14+Y14+AA14+AC14+AE14+AG14","v":9323},18525,{"$f":"IFERROR(VLOOKUP($A14,Filtro!$A$5:$AY$629,5,FALSE),0)","v":11},{"$f":"IFERROR(VLOOKUP($A14,Filtro!$A$5:$AY$629,6,FALSE),0)","v":8},{"$f":"IFERROR(VLOOKUP($A14,Filtro!$A$5:$AY$629,7,FALSE),0)","v":28},{"$f":"IFERROR(VLOOKUP($A14,Filtro!$A$5:$AY$629,8,FALSE),0)","v":46},{"$f":"IFERROR(VLOOKUP($A14,Filtro!$A$5:$AY$629,9,FALSE),0)","v":52},{"$f":"IFERROR(VLOOKUP($A14,Filtro!$A$5:$AY$629,10,FALSE),0)","v":97},{"$f":"IFERROR(VLOOKUP($A14,Filtro!$A$5:$AY$629,11,FALSE),0)","v":114},{"$f":"IFERROR(VLOOKUP($A14,Filtro!$A$5:$AY$629,12,FALSE),0)","v":197},{"$f":"IFERROR(VLOOKUP($A14,Filtro!$A$5:$AY$629,13,FALSE),0)","v":142},{"$f":"IFERROR(VLOOKUP($A14,Filtro!$A$5:$AY$629,14,FALSE),0)","v":363},{"$f":"IFERROR(VLOOKUP($A14,Filtro!$A$5:$AY$629,15,FALSE),0)","v":260},{"$f":"IFERROR(VLOOKUP($A14,Filtro!$A$5:$AY$629,16,FALSE),0)","v":673},{"$f":"IFERROR(VLOOKUP($A14,Filtro!$A$5:$AY$629,17,FALSE),0)","v":385},{"$f":"IFERROR(VLOOKUP($A14,Filtro!$A$5:$AY$629,18,FALSE),0)","v":1062},{"$f":"IFERROR(VLOOKUP($A14,Filtro!$A$5:$AY$629,19,FALSE),0)","v":651},{"$f":"IFERROR(VLOOKUP($A14,Filtro!$A$5:$AY$629,20,FALSE),0)","v":1746},{"$f":"IFERROR(VLOOKUP($A14,Filtro!$A$5:$AY$629,21,FALSE),0)","v":1039},{"$f":"IFERROR(VLOOKUP($A14,Filtro!$A$5:$AY$629,22,FALSE),0)","v":2342},{"$f":"IFERROR(VLOOKUP($A14,Filtro!$A$5:$AY$629,23,FALSE),0)","v":1278},{"$f":"IFERROR(VLOOKUP($A14,Filtro!$A$5:$AY$629,24,FALSE),0)","v":2700},{"$f":"IFERROR(VLOOKUP($A14,Filtro!$A$5:$AY$629,25,FALSE),0)","v":1375},{"$f":"IFERROR(VLOOKUP($A14,Filtro!$A$5:$AY$629,26,FALSE),0)","v":2709},{"$f":"IFERROR(VLOOKUP($A14,Filtro!$A$5:$AY$629,27,FALSE),0)","v":1450},{"$f":"IFERROR(VLOOKUP($A14,Filtro!$A$5:$AY$629,28,FALSE),0)","v":2431},{"$f":"IFERROR(VLOOKUP($A14,Filtro!$A$5:$AY$629,29,FALSE),0)","v":1276},{"$f":"IFERROR(VLOOKUP($A14,Filtro!$A$5:$AY$629,30,FALSE),0)","v":1993},{"$f":"IFERROR(VLOOKUP($A14,Filtro!$A$5:$AY$629,31,FALSE),0)","v":1262},{"$f":"IFERROR(VLOOKUP($A14,Filtro!$A$5:$AY$629,32,FALSE),0)","v":2158},{"$f":"IFERROR(VLOOKUP($A14,Filtro!$A$5:$AY$629,33,FALSE),0)","v":88},{"$f":"IFERROR(VLOOKUP($A14,Filtro!$A$5:$AY$629,34,FALSE),0)","v":185},{"$f":"IFERROR(VLOOKUP($A14,Filtro!$A$5:$AY$629,35,FALSE),0)","v":45},{"$f":"IFERROR(VLOOKUP($A14,Filtro!$A$5:$AY$629,36,FALSE),0)","v":113},0,{"$f":" BE14 & BF14 & BG14 & BH14 & BK14 & BL14","v":""},{"$nulls":16},"","","","",null,null,"","",{"$nulls":28},{"$f":"IF($E14>=$AI14,0,1)","v":0},{"$f":"IF($F14>=$AJ14,0,1)","v":0},{"$f":"IF($E14>=$AK14,0,1)","v":0},{"$f":"IF($F14>=$AL14,0,1)","v":0},{"$nulls":4},{"$f":"IF(AND(E16<>0,AI16=\"\"),1,IF(AND(F16<>0,AJ16=\"\"),1,0))","v":0},{"$f":"IF(AND(E16<>0,AK16=\"\"),1,IF(AND(F16<>0,AL16=\"\"),1,0))","v":0}]
["P4150801",null,"ALTO",56393,22683,33710,{"$f":"IFERROR(VLOOKUP($A15,Filtro!$A$5:$AY$629,5,FALSE),0)","v":25},{"$f":"IFERROR(VLOOKUP($A15,Filtro!$A$5:$AY$629,6,FALSE),0)","v":14},{"$f":"IFERROR(VLOOKUP($A15,Filtro!$A$5:$AY$629,7,FALSE),0)","v":36},{"$f":"IFERROR(VLOOKUP($A15,Filtro!$A$5:$AY$629,8,FALSE),0)","v":58},{"$f":"IFERROR(VLOOKUP($A15,Filtro!$A$5:$AY$629,9,FALSE),0)","v":68},{"$f":"IFERROR(VLOOKUP($A15,Filtro!$A$5:$AY$629,10,FALSE),0)","v":158},{"$f":"IFERROR(VLOOKUP($A15,Filtro!$A$5:$AY$629,11,FALSE),0)","v":143},{"$f":"IFERROR(VLOOKUP($A15,Filtro!$A$5:$AY$629,12,FALSE),0)","v":335},{"$f":"IFERROR(VLOOKUP($A15,Filtro!$A$5:$AY$629,13,FALSE),0)","v":287},{"$f":"IFERROR(VLOOKUP($A15,Filtro!$A$5:$AY$629,14,FALSE),0)","v":591},{"$f":"IFERROR(VLOOKUP($A15,Filtro!$A$5:$AY$629,15,FALSE),0)","v":515},{"$f":"IFERROR(VLOOKUP($A15,Filtro!$A$5:$AY$629,16,FALSE),0)","v":1000},{"$f":"IFERROR(VLOOKUP($A15,Filtro!$A$5:$AY$629,17,FALSE),0)","v":894},{"$f":"IFERROR(VLOOKUP($A15,Filtro!$A$5:$AY$629,18,FALSE),0)","v":1566},{"$f":"IFERROR(VLOOKUP($A15,Filtro!$A$5:$AY$629,19,FALSE),0)","v":1401},{"$f":"IFERROR(VLOOKUP($A15,Filtro!$A$5:$AY$629,20,FALSE),0)","v":2519},{"$f":"IFERROR(VLOOKUP($A15,Filtro!$A$5:$AY$629,21,FALSE),0)","v":2101},{"$f":"IFERROR(VLOOKUP($A15,Filtro!$A$5:$AY$629,22,FALSE),0)","v":3879},{"$f":"IFERROR(VLOOKUP($A15,Filtro!$A$5:$AY$629,23,FALSE),0)","v":3002},{"$f":"IFERROR(VLOOKUP($A15,Filtro!$A$5:$AY$629,24,FALSE),0)","v":4475},{"$f":"IFERROR(VLOOKUP($A15,Filtro!$A$5:$AY$629,25,FALSE),0)","v":3637},{"$f":"IFERROR(VLOOKUP($A15,Filtro!$A$5:$AY$629,26,FALSE),0)","v":4762},{"$f":"IFERROR(VLOOKUP($A15,Filtro!$A$5:$AY$629,27,FALSE),0)","v":3493},{"$f":"IFERROR(VLOOKUP($A15,Filtro!$A$5:$AY$629,28,FALSE),0)","v":4408},{"$f":"IFERROR(VLOOKUP($A15,Filtro!$A$5:$AY$629,29,FALSE),0)","v":2867},{"$f":"IFERROR(VLOOKUP($A15,Filtro!$A$5:$AY$629,30,FALSE),0)","v":3756},{"$f":"IFERROR(VLOOKUP($A15,Filtro!$A$5:$AY$629,31,FALSE),0)","v":4214},{"$f":"IFERROR(VLOOKUP($A15,Filtro!$A$5:$AY$629,32,FALSE),0)","v":6189},{"$f":"IFERROR(VLOOKUP($A15,Filtro!$A$5:$AY$629,33,FALSE),0)","v":139},{"$f":"IFERROR(VLOOKUP($A15,Filtro!$A$5:$AY$629,34,FALSE),0)","v":217},{"$f":"IFERROR(VLOOKUP($A15,Filtro!$A$5:$AY$629,35,FALSE),0)","v":102},{"$f":"IFERROR(VLOOKUP($A15,Filtro!$A$5:$AY$629,36,FALSE),0)","v":169},0,"",{"$nulls":16},"","","","",null,null,"","",{"$nulls":28},0,0,0,0,{"$nulls":4},0,0]
["P4150601","PERSONAS BAJO CONTROL SEGÚN PATOLOGÍA Y FACTORES DE RIESGO (EXISTENCIA)","HIPERTENSIÓN ARTERIAL",80650,29449,51201,{"$f":"IFERROR(VLOOKUP($A16,Filtro!$A$5:$AY$629,5,FALSE),0)","v":18},{"$f":"IFERROR(VLOOKUP($A16,Filtro!$A$5:$AY$629,6,FALSE),0)","v":12},{"$f":"IFERROR(VLOOKUP($A16,Filtro!$A$5:$AY$629,7,FALSE),0)","v":44},{"$f":"IFERROR(VLOOKUP($A16,Filtro!$A$5:$AY$629,8,FALSE),0)","v":50},{"$f":"IFERROR(VLOOKUP($A16,Filtro!$A$5:$AY$629,9,FALSE),0)","v":84},{"$f":"IFERROR(VLOOKUP($A16,Filtro!$A$5:$AY$629,10,FALSE),0)","v":172},{"$f":"IFERROR(VLOOKUP($A16,Filtro!$A$5:$AY$629,11,FALSE),0)","v":196},{"$f":"IFERROR(VLOOKUP($A16,Filtro!$A$5:$AY$629,12,FALSE),0)","v":359},{"$f":"IFERROR(VLOOKUP($A16,Filtro!$A$5:$AY$629,13,FALSE),0)","v":324},{"$f":"IFERROR(VLOOKUP($A16,Filtro!$A$5:$AY$629,14,FALSE),0)","v":710},{"$f":"IFERROR(VLOOKUP($A16,Filtro!$A$5:$AY$629,15,FALSE),0)","v":573},{"$f":"IFERROR(VLOOKUP($A16,Filtro!$A$5:$AY$629,16,FALSE),0)","v":1371},{"$f":"IFERROR(VLOOKUP($A16,Filtro!$A$5:$AY$629,17,FALSE),0)","v":996},{"$f":"IFERROR(VLOOKUP($A16,Filtro!$A$5:$AY$629,18,FALSE),0)","v":2281},{"$f":"IFERROR(VLOOKUP($A16,Filtro!$A$5:$AY$629,19,FALSE),0)","v":1646},{"$f":"IFERROR(VLOOKUP($A16,Filtro!$A$5:$AY$629,20,FALSE),0)","v":3780},{"$f":"IFERROR(VLOOKUP($A16,Filtro!$A$5:$AY$629,21,FALSE),0)","v":2673},{"$f":"IFERROR(VLOOKUP($A16,Filtro!$A$5:$AY$629,22,FALSE),0)","v":5779},{"$f":"IFERROR(VLOOKUP($A16,Filtro!$A$5:$AY$629,23,FALSE),0)","v":3877},{"$f":"IFERROR(VLOOKUP($A16,Filtro!$A$5:$AY$629,24,FALSE),0)","v":6692},{"$f":"IFERROR(VLOOKUP($A16,Filtro!$A$5:$AY$629,25,FALSE),0)","v":4689},{"$f":"IFERROR(VLOOKUP($A16,Filtro!$A$5:$AY$629,26,FALSE),0)","v":7385},{"$f":"IFERROR(VLOOKUP($A16,Filtro!$A$5:$AY$629,27,FALSE),0)","v":4745},{"$f":"IFERROR(VLOOKUP($A16,Filtro!$A$5:$AY$629,28,FALSE),0)","v":7173},{"$f":"IFERROR(VLOOKUP($A16,Filtro!$A$5:$AY$629,29,FALSE),0)","v":4139},{"$f":"IFERROR(VLOOKUP($A16,Filtro!$A$5:$AY$629,30,FALSE),0)","v":6365},{"$f":"IFERROR(VLOOKUP($A16,Filtro!$A$5:$AY$629,31,FALSE),0)","v":5445},{"$f":"IFERROR(VLOOKUP($A16,Filtro!$A$5:$AY$629,32,FALSE),0)","v":9072},{"$f":"IFERROR(VLOOKUP($A16,Filtro!$A$5:$AY$629,33,FALSE),0)","v":165},{"$f":"IFERROR(VLOOKUP($A16,Filtro!$A$5:$AY$629,34,FALSE),0)","v":316},{"$f":"IFERROR(VLOOKUP($A16,Filtro!$A$5:$AY$629,35,FALSE),0)","v":161},{"$f":"IFERROR(VLOOKUP($A16,Filtro!$A$5:$AY$629,36,FALSE),0)","v":318},0,"",{"$nulls":16},"","","","",null,null,"","",{"$nulls":28},0,0,0,0,{"$nulls":4},0,0]
["P4150602",null,"DIABETES MELLITUS TIPO 2",42192,16081,26111,{"$f":"IFERROR(VLOOKUP($A17,Filtro!$A$5:$AY$629,5,FALSE),0)","v":14},{"$f":"IFERROR(VLOOKUP($A17,Filtro!$A$5:$AY$629,6,FALSE),0)","v":9},{"$f":"IFERROR(VLOOKUP($A17,Filtro!$A$5:$AY$629,7,FALSE),0)","v":28},{"$f":"IFERROR(VLOOKUP($A17,Filtro!$A$5:$AY$629,8,FALSE),0)","v":47},{"$f":"IFERROR(VLOOKUP($A17,Filtro!$A$5:$AY$629,9,FALSE),0)","v":53},{"$f":"IFERROR(VLOOKUP($A17,Filtro!$A$5:$AY$629,10,FALSE),0)","v":152},{"$f":"IFERROR(VLOOKUP($A17,Filtro!$A$5:$AY$629,11,FALSE),0)","v":122},{"$f":"IFERROR(VLOOKUP($A17,Filtro!$A$5:$AY$629,12,FALSE),0)","v":312},{"$f":"IFERROR(VLOOKUP($A17,Filtro!$A$5:$AY$629,13,FALSE),0)","v":249},{"$f":"IFERROR(VLOOKUP($A17,Filtro!$A$5:$AY$629,14,FALSE),0)","v":541},{"$f":"IFERROR(VLOOKUP($A17,Filtro!$A$5:$AY$629,15,FALSE),0)","v":407},{"$f":"IFERROR(VLOOKUP($A17,Filtro!$A$5:$AY$629,16,FALSE),0)","v":857},{"$f":"IFERROR(VLOOKUP($A17,Filtro!$A$5:$AY$629,17,FALSE),0)","v":717},{"$f":"IFERROR(VLOOKUP($A17,Filtro!$A$5:$AY$629,18,FALSE),0)","v":1387},{"$f":"IFERROR(VLOOKUP($A17,Filtro!$A$5:$AY$629,19,FALSE),0)","v":1194},{"$f":"IFERROR(VLOOKUP($A17,Filtro!$A$5:$AY$629,20,FALSE),0)","v":2210},{"$f":"IFERROR(VLOOKUP($A17,Filtro!$A$5:$AY$629,21,FALSE),0)","v":1733},{"$f":"IFERROR(VLOOKUP($A17,Filtro!$A$5:$AY$629,22,FALSE),0)","v":3320},{"$f":"IFERROR(VLOOKUP($A17,Filtro!$A$5:$AY$629,23,FALSE),0)","v":2373},{"$f":"IFERROR(VLOOKUP($A17,Filtro!$A$5:$AY$629,24,FALSE),0)","v":3742},{"$f":"IFERROR(VLOOKUP($A17,Filtro!$A$5:$AY$629,25,FALSE),0)","v":2714},{"$f":"IFERROR(VLOOKUP($A17,Filtro!$A$5:$AY$629,26,FALSE),0)","v":3945},{"$f":"IFERROR(VLOOKUP($A17,Filtro!$A$5:$AY$629,27,FALSE),0)","v":2472},{"$f":"IFERROR(VLOOKUP($A17,Filtro!$A$5:$AY$629,28,FALSE),0)","v":3501},{"$f":"IFERROR(VLOOKUP($A17,Filtro!$A$5:$AY$629,29,FALSE),0)","v":1939},{"$f":"IFERROR(VLOOKUP($A17,Filtro!$A$5:$AY$629,30,FALSE),0)","v":2759},{"$f":"IFERROR(VLOOKUP($A17,Filtro!$A$5:$AY$629,31,FALSE),0)","v":2066},{"$f":"IFERROR(VLOOKUP($A17,Filtro!$A$5:$AY$629,32,FALSE),0)","v":3329},{"$f":"IFERROR(VLOOKUP($A17,Filtro!$A$5:$AY$629,33,FALSE),0)","v":155},{"$f":"IFERROR(VLOOKUP($A17,Filtro!$A$5:$AY$629,34,FALSE),0)","v":292},{"$f":"IFERROR(VLOOKUP($A17,Filtro!$A$5:$AY$629,35,FALSE),0)","v":78},{"$f":"IFERROR(VLOOKUP($A17,Filtro!$A$5:$AY$629,36,FALSE),0)","v":161},0,"",{"$nulls":16},"","","","",null,null,"","",{"$nulls":28},0,0,0,0,{"$nulls":4},0,0]
["P4150603",null,"DISLIPIDEMIA",60163,19933,40230,{"$f":"IFERROR(VLOOKUP($A18,Filtro!$A$5:$AY$629,5,FALSE),0)","v":24},{"$f":"IFERROR(VLOOKUP($A18,Filtro!$A$5:$AY$629,6,FALSE),0)","v":27},{"$f":"IFERROR(VLOOKUP($A18,Filtro!$A$5:$AY$629,7,FALSE),0)","v":46},{"$f":"IFERROR(VLOOKUP($A18,Filtro!$A$5:$AY$629,8,FALSE),0)","v":96},{"$f":"IFERROR(VLOOKUP($A18,Filtro!$A$5:$AY$629,9,FALSE),0)","v":78},{"$f":"IFERROR(VLOOKUP($A18,Filtro!$A$5:$AY$629,10,FALSE),0)","v":193},{"$f":"IFERROR(VLOOKUP($A18,Filtro!$A$5:$AY$629,11,FALSE),0)","v":168},{"$f":"IFERROR(VLOOKUP($A18,Filtro!$A$5:$AY$629,12,FALSE),0)","v":371},{"$f":"IFERROR(VLOOKUP($A18,Filtro!$A$5:$AY$629,13,FALSE),0)","v":287},{"$f":"IFERROR(VLOOKUP($A18,Filtro!$A$5:$AY$629,14,FALSE),0)","v":647},{"$f":"IFERROR(VLOOKUP($A18,Filtro!$A$5:$AY$629,15,FALSE),0)","v":507},{"$f":"IFERROR(VLOOKUP($A18,Filtro!$A$5:$AY$629,16,FALSE),0)","v":1182},{"$f":"IFERROR(VLOOKUP($A18,Filtro!$A$5:$AY$629,17,FALSE),0)","v":893},{"$f":"IFERROR(VLOOKUP($A18,Filtro!$A$5:$AY$629,18,FALSE),0)","v":1910},{"$f":"IFERROR(VLOOKUP($A18,Filtro!$A$5:$AY$629,19,FALSE),0)","v":1448},{"$f":"IFERROR(VLOOKUP($A18,Filtro!$A$5:$AY$629,20,FALSE),0)","v":3166},{"$f":"IFERROR(VLOOKUP($A18,Filtro!$A$5:$AY$629,21,FALSE),0)","v":2045},{"$f":"IFERROR(VLOOKUP($A18,Filtro!$A$5:$AY$629,22,FALSE),0)","v":5190},{"$f":"IFERROR(VLOOKUP($A18,Filtro!$A$5:$AY$629,23,FALSE),0)","v":2839},{"$f":"IFERROR(VLOOKUP($A18,Filtro!$A$5:$AY$629,24,FALSE),0)","v":6030},{"$f":"IFERROR(VLOOKUP($A18,Filtro!$A$5:$AY$629,25,FALSE),0)","v":3234},{"$f":"IFERROR(VLOOKUP($A18,Filtro!$A$5:$AY$629,26,FALSE),0)","v":6283},{"$f":"IFERROR(VLOOKUP($A18,Filtro!$A$5:$AY$629,27,FALSE),0)","v":3155},{"$f":"IFERROR(VLOOKUP($A18,Filtro!$A$5:$AY$629,28,FALSE),0)","v":5557},{"$f":"IFERROR(VLOOKUP($A18,Filtro!$A$5:$AY$629,29,FALSE),0)","v":2500},{"$f":"IFERROR(VLOOKUP($A18,Filtro!$A$5:$AY$629,30,FALSE),0)","v":4302},{"$f":"IFERROR(VLOOKUP($A18,Filtro!$A$5:$AY$629,31,FALSE),0)","v":2709},{"$f":"IFERROR(VLOOKUP($A18,Filtro!$A$5:$AY$629,32,FALSE),0)","v":5276},{"$f":"IFERROR(VLOOKUP($A18,Filtro!$A$5:$AY$629,33,FALSE),0)","v":154},{"$f":"IFERROR(VLOOKUP($A18,Filtro!$A$5:$AY$629,34,FALSE),0)","v":365},{"$f":"IFERROR(VLOOKUP($A18,Filtro!$A$5:$AY$629,35,FALSE),0)","v":104},{"$f":"IFERROR(VLOOKUP($A18,Filtro!$A$5:$AY$629,36,FALSE),0)","v":206},0,"",{"$nulls":16},"","","","",null,null,"","",{"$nulls":28},0,0,0,0,{"$nulls":4},0,0]
["P4150701",null,"TABAQUISMO ≥ 55 AÑOS",8004,{"$f":"+W19+Y19+AA19+AC19+AE19+AG19","v":3272},{"$f":"+X19+Z19+AB19+AD19+AF19+AH19","v":4732},0,0,0,0,0,0,0,0,0,0,0,0,0,0,0,0,{"$f":"IFERROR(VLOOKUP($A19,Filtro!$A$5:$AY$629,21,FALSE),0)","v":563},{"$f":"IFERROR(VLOOKUP($A19,Filtro!$A$5:$AY$629,22,FALSE),0)","v":1115},{"$f":"IFERROR(VLOOKUP($A19,Filtro!$A$5:$AY$629,23,FALSE),0)","v":789},{"$f":"IFERROR(VLOOKUP($A19,Filtro!$A$5:$AY$629,24,FALSE),0)","v":1292},{"$f":"IFERROR(VLOOKUP($A19,Filtro!$A$5:$AY$629,25,FALSE),0)","v":726},{"$f":"IFERROR(VLOOKUP($A19,Filtro!$A$5:$AY$629,26,FALSE),0)","v":1058},{"$f":"IFERROR(VLOOKUP($A19,Filtro!$A$5:$AY$629,27,FALSE),0)","v":543},{"$f":"IFERROR(VLOOKUP($A19,Filtro!$A$5:$AY$629,28,FALSE),0)","v":672},{"$f":"IFERROR(VLOOKUP($A19,Filtro!$A$5:$AY$629,29,FALSE),0)","v":368},{"$f":"IFERROR(VLOOKUP($A19,Filtro!$A$5:$AY$629,30,FALSE),0)","v":358},{"$f":"IFERROR(VLOOKUP($A19,Filtro!$A$5:$AY$629,31,FALSE),0)","v":283},{"$f":"IFERROR(VLOOKUP($A19,Filtro!$A$5:$AY$629,32,FALSE),0)","v":237},{"$f":"IFERROR(VLOOKUP($A19,Filtro!$A$5:$AY$629,33,FALSE),0)","v":21},{"$f":"IFERROR(VLOOKUP($A19,Filtro!$A$5:$AY$629,34,FALSE),0)","v":29},{"$f":"IFERROR(VLOOKUP($A19,Filtro!$A$5:$AY$629,35,FALSE),0)","v":19},{"$f":"IFERROR(VLOOKUP($A19,Filtro!$A$5:$AY$629,36,FALSE),0)","v":19},0,"",{"$nulls":16},"","","","",null,null,"","",{"$nulls":28},0,0,0,0,{"$nulls":4},0,0]
["P4190900",null,"ANTECEDENTES DE INFARTO AGUDO AL MIOCARDIO (IAM)",3451,{"$f":"+G20+I20+K20+M20+O20+Q20+S20+U20+W20+Y20+AA20+AC20+AE20+AG20","v":1854},1597,{"$f":"IFERROR(VLOOKUP($A20,Filtro!$A$5:$AY$629,5,FALSE),0)","v":0},{"$f":"IFERROR(VLOOKUP($A20,Filtro!$A$5:$AY$629,6,FALSE),0)","v":0},{"$f":"IFERROR(VLOOKUP($A20,Filtro!$A$5:$AY$629,7,FALSE),0)","v":1},{"$f":"IFERROR(VLOOKUP($A20,Filtro!$A$5:$AY$629,8,FALSE),0)","v":0},{"$f":"IFERROR(VLOOKUP($A20,Filtro!$A$5:$AY$629,9,FALSE),0)","v":1},{"$f":"IFERROR(VLOOKUP($A20,Filtro!$A$5:$AY$629,10,FALSE),0)","v":1},{"$f":"IFERROR(VLOOKUP($A20,Filtro!$A$5:$AY$629,11,FALSE),0)","v":2},{"$f":"IFERROR(VLOOKUP($A20,Filtro!$A$5:$AY$629,12,FALSE),0)","v":1},{"$f":"IFERROR(VLOOKUP($A20,Filtro!$A$5:$AY$629,13,FALSE),0)","v":8},{"$f":"IFERROR(VLOOKUP($A20,Filtro!$A$5:$AY$629,14,FALSE),0)","v":8},{"$f":"IFERROR(VLOOKUP($A20,Filtro!$A$5:$AY$629,15,FALSE),0)","v":19},{"$f":"IFERROR(VLOOKUP($A20,Filtro!$A$5:$AY$629,16,FALSE),0)","v":20},{"$f":"IFERROR(VLOOKUP($A20,Filtro!$A$5:$AY$629,17,FALSE),0)","v":37},{"$f":"IFERROR(VLOOKUP($A20,Filtro!$A$5:$AY$629,18,FALSE),0)","v":25},{"$f":"IFERROR(VLOOKUP($A20,Filtro!$A$5:$AY$629,19,FALSE),0)","v":73},{"$f":"IFERROR(VLOOKUP($A20,Filtro!$A$5:$AY$629,20,FALSE),0)","v":90},{"$f":"IFERROR(VLOOKUP($A20,Filtro!$A$5:$AY$629,21,FALSE),0)","v":136},{"$f":"IFERROR(VLOOKUP($A20,Filtro!$A$5:$AY$629,22,FALSE),0)","v":127},{"$f":"IFERROR(VLOOKUP($A20,Filtro!$A$5:$AY$629,23,FALSE),0)","v":215},{"$f":"IFERROR(VLOOKUP($A20,Filtro!$A$5:$AY$629,24,FALSE),0)","v":194},{"$f":"IFERROR(VLOOKUP($A20,Filtro!$A$5:$AY$629,25,FALSE),0)","v":295},{"$f":"IFERROR(VLOOKUP($A20,Filtro!$A$5:$AY$629,26,FALSE),0)","v":225},{"$f":"IFERROR(VLOOKUP($A20,Filtro!$A$5:$AY$629,27,FALSE),0)","v":363},{"$f":"IFERROR(VLOOKUP($A20,Filtro!$A$5:$AY$629,28,FALSE),0)","v":250},{"$f":"IFERROR(VLOOKUP($A20,Filtro!$A$5:$AY$629,29,FALSE),0)","v":312},{"$f":"IFERROR(VLOOKUP($A20,Filtro!$A$5:$AY$629,30,FALSE),0)","v":279},{"$f":"IFERROR(VLOOKUP($A20,Filtro!$A$5:$AY$629,31,FALSE),0)","v":392},{"$f":"IFERROR(VLOOKUP($A20,Filtro!$A$5:$AY$629,32,FALSE),0)","v":377},{"$f":"IFERROR(VLOOKUP($A20,Filtro!$A$5:$AY$629,33,FALSE),0)","v":6},{"$f":"IFERROR(VLOOKUP($A20,Filtro!$A$5:$AY$629,34,FALSE),0)","v":7},{"$f":"IFERROR(VLOOKUP($A20,Filtro!$A$5:$AY$629,35,FALSE),0)","v":11},{"$f":"IFERROR(VLOOKUP($A20,Filtro!$A$5:$AY$629,36,FALSE),0)","v":8},0,"",{"$nulls":16},"","","","",null,null,"","",{"$nulls":28},0,0,0,0,{"$nulls":4},0,0]
["P4190910",null,"ANTECEDENTES DE ENFERMEDAD CEREBRO VASCULAR ",3641,{"$f":"+G21+I21+K21+M21+O21+Q21+S21+U21+W21+Y21+AA21+AC21+AE21+AG21","v":1830},1811,{"$f":"IFERROR(VLOOKUP($A21,Filtro!$A$5:$AY$629,5,FALSE),0)","v":0},{"$f":"IFERROR(VLOOKUP($A21,Filtro!$A$5:$AY$629,6,FALSE),0)","v":0},{"$f":"IFERROR(VLOOKUP($A21,Filtro!$A$5:$AY$629,7,FALSE),0)","v":0},{"$f":"IFERROR(VLOOKUP($A21,Filtro!$A$5:$AY$629,8,FALSE),0)","v":0},{"$f":"IFERROR(VLOOKUP($A21,Filtro!$A$5:$AY$629,9,FALSE),0)","v":4},{"$f":"IFERROR(VLOOKUP($A21,Filtro!$A$5:$AY$629,10,FALSE),0)","v":0},{"$f":"IFERROR(VLOOKUP($A21,Filtro!$A$5:$AY$629,11,FALSE),0)","v":3},{"$f":"IFERROR(VLOOKUP($A21,Filtro!$A$5:$AY$629,12,FALSE),0)","v":5},{"$f":"IFERROR(VLOOKUP($A21,Filtro!$A$5:$AY$629,13,FALSE),0)","v":8},{"$f":"IFERROR(VLOOKUP($A21,Filtro!$A$5:$AY$629,14,FALSE),0)","v":10},{"$f":"IFERROR(VLOOKUP($A21,Filtro!$A$5:$AY$629,15,FALSE),0)","v":15},{"$f":"IFERROR(VLOOKUP($A21,Filtro!$A$5:$AY$629,16,FALSE),0)","v":24},{"$f":"IFERROR(VLOOKUP($A21,Filtro!$A$5:$AY$629,17,FALSE),0)","v":34},{"$f":"IFERROR(VLOOKUP($A21,Filtro!$A$5:$AY$629,18,FALSE),0)","v":36},{"$f":"IFERROR(VLOOKUP($A21,Filtro!$A$5:$AY$629,19,FALSE),0)","v":74},{"$f":"IFERROR(VLOOKUP($A21,Filtro!$A$5:$AY$629,20,FALSE),0)","v":82},{"$f":"IFERROR(VLOOKUP($A21,Filtro!$A$5:$AY$629,21,FALSE),0)","v":109},{"$f":"IFERROR(VLOOKUP($A21,Filtro!$A$5:$AY$629,22,FALSE),0)","v":133},{"$f":"IFERROR(VLOOKUP($A21,Filtro!$A$5:$AY$629,23,FALSE),0)","v":243},{"$f":"IFERROR(VLOOKUP($A21,Filtro!$A$5:$AY$629,24,FALSE),0)","v":221},{"$f":"IFERROR(VLOOKUP($A21,Filtro!$A$5:$AY$629,25,FALSE),0)","v":308},{"$f":"IFERROR(VLOOKUP($A21,Filtro!$A$5:$AY$629,26,FALSE),0)","v":246},{"$f":"IFERROR(VLOOKUP($A21,Filtro!$A$5:$AY$629,27,FALSE),0)","v":317},{"$f":"IFERROR(VLOOKUP($A21,Filtro!$A$5:$AY$629,28,FALSE),0)","v":270},{"$f":"IFERROR(VLOOKUP($A21,Filtro!$A$5:$AY$629,29,FALSE),0)","v":283},{"$f":"IFERROR(VLOOKUP($A21,Filtro!$A$5:$AY$629,30,FALSE),0)","v":291},{"$f":"IFERROR(VLOOKUP($A21,Filtro!$A$5:$AY$629,31,FALSE),0)","v":432},{"$f":"IFERROR(VLOOKUP($A21,Filtro!$A$5:$AY$629,32,FALSE),0)","v":493},{"$f":"IFERROR(VLOOKUP($A21,Filtro!$A$5:$AY$629,33,FALSE),0)","v":10},{"$f":"IFERROR(VLOOKUP($A21,Filtro!$A$5:$AY$629,34,FALSE),0)","v":14},{"$f":"IFERROR(VLOOKUP($A21,Filtro!$A$5:$AY$629,35,FALSE),0)","v":9},{"$f":"IFERROR(VLOOKUP($A21,Filtro!$A$5:$AY$629,36,FALSE),0)","v":6},0,"",{"$nulls":16},"","","","",null,null,"","",{"$nulls":28},0,0,0,0,{"$nulls":4},0,0]
["P4190800","DETECCIÓN Y PREVENCION DE LA PROGRESION DE LA ENFERMEDAD RENAL CRÓNICA (ERC)","SIN ENFERMEDAD RENAL (S/ERC)",{"$f":"SUM(E22:F22)","v":47566},{"$f":"+G22+I22+K22+M22+O22+Q22+S22+U22+W22+Y22+AA22+AC22+AE22+AG22","v":16811},30755,{"$f":"IFERROR(VLOOKUP($A22,Filtro!$A$5:$AY$629,5,FALSE),0)","v":40},{"$f":"IFERROR(VLOOKUP($A22,Filtro!$A$5:$AY$629,6,FALSE),0)","v":44},{"$f":"IFERROR(VLOOKUP($A22,Filtro!$A$5:$AY$629,7,FALSE),0)","v":57},{"$f":"IFERROR(VLOOKUP($A22,Filtro!$A$5:$AY$629,8,FALSE),0)","v":106},{"$f":"IFERROR(VLOOKUP($A22,Filtro!$A$5:$AY$629,9,FALSE),0)","v":119},{"$f":"IFERROR(VLOOKUP($A22,Filtro!$A$5:$AY$629,10,FALSE),0)","v":279},{"$f":"IFERROR(VLOOKUP($A22,Filtro!$A$5:$AY$629,11,FALSE),0)","v":214},{"$f":"IFERROR(VLOOKUP($A22,Filtro!$A$5:$AY$629,12,FALSE),0)","v":509},{"$f":"IFERROR(VLOOKUP($A22,Filtro!$A$5:$AY$629,13,FALSE),0)","v":355},{"$f":"IFERROR(VLOOKUP($A22,Filtro!$A$5:$AY$629,14,FALSE),0)","v":841},{"$f":"IFERROR(VLOOKUP($A22,Filtro!$A$5:$AY$629,15,FALSE),0)","v":582},{"$f":"IFERROR(VLOOKUP($A22,Filtro!$A$5:$AY$629,16,FALSE),0)","v":1417},{"$f":"IFERROR(VLOOKUP($A22,Filtro!$A$5:$AY$629,17,FALSE),0)","v":902},{"$f":"IFERROR(VLOOKUP($A22,Filtro!$A$5:$AY$629,18,FALSE),0)","v":2086},{"$f":"IFERROR(VLOOKUP($A22,Filtro!$A$5:$AY$629,19,FALSE),0)","v":1278},{"$f":"IFERROR(VLOOKUP($A22,Filtro!$A$5:$AY$629,20,FALSE),0)","v":3029},{"$f":"IFERROR(VLOOKUP($A22,Filtro!$A$5:$AY$629,21,FALSE),0)","v":1858},{"$f":"IFERROR(VLOOKUP($A22,Filtro!$A$5:$AY$629,22,FALSE),0)","v":4214},{"$f":"IFERROR(VLOOKUP($A22,Filtro!$A$5:$AY$629,23,FALSE),0)","v":2500},{"$f":"IFERROR(VLOOKUP($A22,Filtro!$A$5:$AY$629,24,FALSE),0)","v":4485},{"$f":"IFERROR(VLOOKUP($A22,Filtro!$A$5:$AY$629,25,FALSE),0)","v":2699},{"$f":"IFERROR(VLOOKUP($A22,Filtro!$A$5:$AY$629,26,FALSE),0)","v":4270},{"$f":"IFERROR(VLOOKUP($A22,Filtro!$A$5:$AY$629,27,FALSE),0)","v":2383},{"$f":"IFERROR(VLOOKUP($A22,Filtro!$A$5:$AY$629,28,FALSE),0)","v":3622},{"$f":"IFERROR(VLOOKUP($A22,Filtro!$A$5:$AY$629,29,FALSE),0)","v":1797},{"$f":"IFERROR(VLOOKUP($A22,Filtro!$A$5:$AY$629,30,FALSE),0)","v":2674},{"$f":"IFERROR(VLOOKUP($A22,Filtro!$A$5:$AY$629,31,FALSE),0)","v":2027},{"$f":"IFERROR(VLOOKUP($A22,Filtro!$A$5:$AY$629,32,FALSE),0)","v":3179},{"$f":"IFERROR(VLOOKUP($A22,Filtro!$A$5:$AY$629,33,FALSE),0)","v":145},{"$f":"IFERROR(VLOOKUP($A22,Filtro!$A$5:$AY$629,34,FALSE),0)","v":315},{"$f":"IFERROR(VLOOKUP($A22,Filtro!$A$5:$AY$629,35,FALSE),0)","v":123},{"$f":"IFERROR(VLOOKUP($A22,Filtro!$A$5:$AY$629,36,FALSE),0)","v":241},{"$f":"IFERROR(VLOOKUP($A22,Filtro!$A$5:$AY$629,37,FALSE),0)","v":13748},{"$f":" BE22 & BF22 & BI22 & BG22 & BH22 & BK22 & BL22","v":""},{"$nulls":16},"","","","",{"$f":"IF($AM22<=$D22,\"\",\"* Personas diabéticas 'Sin enfermedad renal' no debe ser mayor que el Total pacientes evaluados. \")","v":""},null,"","",{"$nulls":28},0,0,0,0,{"$f":"IF($AM22<=$D22,0,1)","v":0},{"$nulls":3},{"$f":"IF(AND(E25<>0,AI25=\"\"),1,IF(AND(F25<>0,AJ25=\"\"),1,0))","v":0},{"$f":"IF(AND(E25<>0,AK25=\"\"),1,IF(AND(F25<>0,AL25=\"\"),1,0))","v":0}]
["P4190801",null,"ETAPA G1 ",{"$f":"SUM(E23:F23)","v":13238},4866,8372,{"$f":"IFERROR(VLOOKUP($A23,Filtro!$A$5:$AY$629,5,FALSE),0)","v":12},{"$f":"IFERROR(VLOOKUP($A23,Filtro!$A$5:$AY$629,6,FALSE),0)","v":2},{"$f":"IFERROR(VLOOKUP($A23,Filtro!$A$5:$AY$629,7,FALSE),0)","v":10},{"$f":"IFERROR(VLOOKUP($A23,Filtro!$A$5:$AY$629,8,FALSE),0)","v":30},{"$f":"IFERROR(VLOOKUP($A23,Filtro!$A$5:$AY$629,9,FALSE),0)","v":28},{"$f":"IFERROR(VLOOKUP($A23,Filtro!$A$5:$AY$629,10,FALSE),0)","v":47},{"$f":"IFERROR(VLOOKUP($A23,Filtro!$A$5:$AY$629,11,FALSE),0)","v":53},{"$f":"IFERROR(VLOOKUP($A23,Filtro!$A$5:$AY$629,12,FALSE),0)","v":105},{"$f":"IFERROR(VLOOKUP($A23,Filtro!$A$5:$AY$629,13,FALSE),0)","v":97},{"$f":"IFERROR(VLOOKUP($A23,Filtro!$A$5:$AY$629,14,FALSE),0)","v":189},{"$f":"IFERROR(VLOOKUP($A23,Filtro!$A$5:$AY$629,15,FALSE),0)","v":135},{"$f":"IFERROR(VLOOKUP($A23,Filtro!$A$5:$AY$629,16,FALSE),0)","v":333},{"$f":"IFERROR(VLOOKUP($A23,Filtro!$A$5:$AY$629,17,FALSE),0)","v":240},{"$f":"IFERROR(VLOOKUP($A23,Filtro!$A$5:$AY$629,18,FALSE),0)","v":485},{"$f":"IFERROR(VLOOKUP($A23,Filtro!$A$5:$AY$629,19,FALSE),0)","v":423},{"$f":"IFERROR(VLOOKUP($A23,Filtro!$A$5:$AY$629,20,FALSE),0)","v":877},{"$f":"IFERROR(VLOOKUP($A23,Filtro!$A$5:$AY$629,21,FALSE),0)","v":613},{"$f":"IFERROR(VLOOKUP($A23,Filtro!$A$5:$AY$629,22,FALSE),0)","v":1135},{"$f":"IFERROR(VLOOKUP($A23,Filtro!$A$5:$AY$629,23,FALSE),0)","v":789},{"$f":"IFERROR(VLOOKUP($A23,Filtro!$A$5:$AY$629,24,FALSE),0)","v":1398},{"$f":"IFERROR(VLOOKUP($A23,Filtro!$A$5:$AY$629,25,FALSE),0)","v":858},{"$f":"IFERROR(VLOOKUP($A23,Filtro!$A$5:$AY$629,26,FALSE),0)","v":1381},{"$f":"IFERROR(VLOOKUP($A23,Filtro!$A$5:$AY$629,27,FALSE),0)","v":728},{"$f":"IFERROR(VLOOKUP($A23,Filtro!$A$5:$AY$629,28,FALSE),0)","v":1013},{"$f":"IFERROR(VLOOKUP($A23,Filtro!$A$5:$AY$629,29,FALSE),0)","v":472},{"$f":"IFERROR(VLOOKUP($A23,Filtro!$A$5:$AY$629,30,FALSE),0)","v":670},{"$f":"IFERROR(VLOOKUP($A23,Filtro!$A$5:$AY$629,31,FALSE),0)","v":408},{"$f":"IFERROR(VLOOKUP($A23,Filtro!$A$5:$AY$629,32,FALSE),0)","v":707},{"$f":"IFERROR(VLOOKUP($A23,Filtro!$A$5:$AY$629,33,FALSE),0)","v":42},{"$f":"IFERROR(VLOOKUP($A23,Filtro!$A$5:$AY$629,34,FALSE),0)","v":97},{"$f":"IFERROR(VLOOKUP($A23,Filtro!$A$5:$AY$629,35,FALSE),0)","v":17},{"$f":"IFERROR(VLOOKUP($A23,Filtro!$A$5:$AY$629,36,FALSE),0)","v":27},{"$f":"IFERROR(VLOOKUP($A23,Filtro!$A$5:$AY$629,37,FALSE),0)","v":3895},"",{"$nulls":16},"","","","",{"$f":"IF($AM23<=$D23,\"\",\"* Personas diabéticas 'Etapa 1 y 2' no debe ser mayor que el Total pacientes evaluados. \")","v":""},null,"","",{"$nulls":28},0,0,0,0,0,{"$nulls":3},{"$f":"IF(AND(E26<>0,AI26=\"\"),1,IF(AND(F26<>0,AJ26=\"\"),1,0))","v":0},{"$f":"IF(AND(E26<>0,AK26=\"\"),1,IF(AND(F26<>0,AL26=\"\"),1,0))","v":0}]
["P4301020",null,"ETAPA G2 ",16968,6236,10732,{"$f":"IFERROR(VLOOKUP($A24,Filtro!$A$5:$AY$629,5,FALSE),0)","v":1},{"$f":"IFERROR(VLOOKUP($A24,Filtro!$A$5:$AY$629,6,FALSE),0)","v":1},{"$f":"IFERROR(VLOOKUP($A24,Filtro!$A$5:$AY$629,7,FALSE),0)","v":3},{"$f":"IFERROR(VLOOKUP($A24,Filtro!$A$5:$AY$629,8,FALSE),0)","v":3},{"$f":"IFERROR(VLOOKUP($A24,Filtro!$A$5:$AY$629,9,FALSE),0)","v":3},{"$f":"IFERROR(VLOOKUP($A24,Filtro!$A$5:$AY$629,10,FALSE),0)","v":10},{"$f":"IFERROR(VLOOKUP($A24,Filtro!$A$5:$AY$629,11,FALSE),0)","v":8},{"$f":"IFERROR(VLOOKUP($A24,Filtro!$A$5:$AY$629,12,FALSE),0)","v":15},{"$f":"IFERROR(VLOOKUP($A24,Filtro!$A$5:$AY$629,13,FALSE),0)","v":25},{"$f":"IFERROR(VLOOKUP($A24,Filtro!$A$5:$AY$629,14,FALSE),0)","v":67},{"$f":"IFERROR(VLOOKUP($A24,Filtro!$A$5:$AY$629,15,FALSE),0)","v":58},{"$f":"IFERROR(VLOOKUP($A24,Filtro!$A$5:$AY$629,16,FALSE),0)","v":129},{"$f":"IFERROR(VLOOKUP($A24,Filtro!$A$5:$AY$629,17,FALSE),0)","v":135},{"$f":"IFERROR(VLOOKUP($A24,Filtro!$A$5:$AY$629,18,FALSE),0)","v":273},{"$f":"IFERROR(VLOOKUP($A24,Filtro!$A$5:$AY$629,19,FALSE),0)","v":259},{"$f":"IFERROR(VLOOKUP($A24,Filtro!$A$5:$AY$629,20,FALSE),0)","v":606},{"$f":"IFERROR(VLOOKUP($A24,Filtro!$A$5:$AY$629,21,FALSE),0)","v":412},{"$f":"IFERROR(VLOOKUP($A24,Filtro!$A$5:$AY$629,22,FALSE),0)","v":1010},{"$f":"IFERROR(VLOOKUP($A24,Filtro!$A$5:$AY$629,23,FALSE),0)","v":725},{"$f":"IFERROR(VLOOKUP($A24,Filtro!$A$5:$AY$629,24,FALSE),0)","v":1444},{"$f":"IFERROR(VLOOKUP($A24,Filtro!$A$5:$AY$629,25,FALSE),0)","v":1040},{"$f":"IFERROR(VLOOKUP($A24,Filtro!$A$5:$AY$629,26,FALSE),0)","v":1708},{"$f":"IFERROR(VLOOKUP($A24,Filtro!$A$5:$AY$629,27,FALSE),0)","v":1198},{"$f":"IFERROR(VLOOKUP($A24,Filtro!$A$5:$AY$629,28,FALSE),0)","v":1861},{"$f":"IFERROR(VLOOKUP($A24,Filtro!$A$5:$AY$629,29,FALSE),0)","v":1052},{"$f":"IFERROR(VLOOKUP($A24,Filtro!$A$5:$AY$629,30,FALSE),0)","v":1628},{"$f":"IFERROR(VLOOKUP($A24,Filtro!$A$5:$AY$629,31,FALSE),0)","v":1317},{"$f":"IFERROR(VLOOKUP($A24,Filtro!$A$5:$AY$629,32,FALSE),0)","v":1977},{"$f":"IFERROR(VLOOKUP($A24,Filtro!$A$5:$AY$629,33,FALSE),0)","v":31},{"$f":"IFERROR(VLOOKUP($A24,Filtro!$A$5:$AY$629,34,FALSE),0)","v":75},{"$f":"IFERROR(VLOOKUP($A24,Filtro!$A$5:$AY$629,35,FALSE),0)","v":13},{"$f":"IFERROR(VLOOKUP($A24,Filtro!$A$5:$AY$629,36,FALSE),0)","v":54},{"$f":"IFERROR(VLOOKUP($A24,Filtro!$A$5:$AY$629,37,FALSE),0)","v":5544}]
["P4190810",null,"ETAPA G3a",4847,1747,3100,{"$f":"IFERROR(VLOOKUP($A25,Filtro!$A$5:$AY$629,5,FALSE),0)","v":0},{"$f":"IFERROR(VLOOKUP($A25,Filtro!$A$5:$AY$629,6,FALSE),0)","v":0},{"$f":"IFERROR(VLOOKUP($A25,Filtro!$A$5:$AY$629,7,FALSE),0)","v":1},{"$f":"IFERROR(VLOOKUP($A25,Filtro!$A$5:$AY$629,8,FALSE),0)","v":0},{"$f":"IFERROR(VLOOKUP($A25,Filtro!$A$5:$AY$629,9,FALSE),0)","v":2},{"$f":"IFERROR(VLOOKUP($A25,Filtro!$A$5:$AY$629,10,FALSE),0)","v":1},{"$f":"IFERROR(VLOOKUP($A25,Filtro!$A$5:$AY$629,11,FALSE),0)","v":2},{"$f":"IFERROR(VLOOKUP($A25,Filtro!$A$5:$AY$629,12,FALSE),0)","v":3},{"$f":"IFERROR(VLOOKUP($A25,Filtro!$A$5:$AY$629,13,FALSE),0)","v":4},{"$f":"IFERROR(VLOOKUP($A25,Filtro!$A$5:$AY$629,14,FALSE),0)","v":4},{"$f":"IFERROR(VLOOKUP($A25,Filtro!$A$5:$AY$629,15,FALSE),0)","v":6},{"$f":"IFERROR(VLOOKUP($A25,Filtro!$A$5:$AY$629,16,FALSE),0)","v":15},{"$f":"IFERROR(VLOOKUP($A25,Filtro!$A$5:$AY$629,17,FALSE),0)","v":12},{"$f":"IFERROR(VLOOKUP($A25,Filtro!$A$5:$AY$629,18,FALSE),0)","v":42},{"$f":"IFERROR(VLOOKUP($A25,Filtro!$A$5:$AY$629,19,FALSE),0)","v":34},{"$f":"IFERROR(VLOOKUP($A25,Filtro!$A$5:$AY$629,20,FALSE),0)","v":51},{"$f":"IFERROR(VLOOKUP($A25,Filtro!$A$5:$AY$629,21,FALSE),0)","v":41},{"$f":"IFERROR(VLOOKUP($A25,Filtro!$A$5:$AY$629,22,FALSE),0)","v":107},{"$f":"IFERROR(VLOOKUP($A25,Filtro!$A$5:$AY$629,23,FALSE),0)","v":122},{"$f":"IFERROR(VLOOKUP($A25,Filtro!$A$5:$AY$629,24,FALSE),0)","v":204},{"$f":"IFERROR(VLOOKUP($A25,Filtro!$A$5:$AY$629,25,FALSE),0)","v":198},{"$f":"IFERROR(VLOOKUP($A25,Filtro!$A$5:$AY$629,26,FALSE),0)","v":310},{"$f":"IFERROR(VLOOKUP($A25,Filtro!$A$5:$AY$629,27,FALSE),0)","v":261},{"$f":"IFERROR(VLOOKUP($A25,Filtro!$A$5:$AY$629,28,FALSE),0)","v":465},{"$f":"IFERROR(VLOOKUP($A25,Filtro!$A$5:$AY$629,29,FALSE),0)","v":336},{"$f":"IFERROR(VLOOKUP($A25,Filtro!$A$5:$AY$629,30,FALSE),0)","v":632},{"$f":"IFERROR(VLOOKUP($A25,Filtro!$A$5:$AY$629,31,FALSE),0)","v":728},{"$f":"IFERROR(VLOOKUP($A25,Filtro!$A$5:$AY$629,32,FALSE),0)","v":1266},{"$f":"IFERROR(VLOOKUP($A25,Filtro!$A$5:$AY$629,33,FALSE),0)","v":11},{"$f":"IFERROR(VLOOKUP($A25,Filtro!$A$5:$AY$629,34,FALSE),0)","v":22},{"$f":"IFERROR(VLOOKUP($A25,Filtro!$A$5:$AY$629,35,FALSE),0)","v":10},{"$f":"IFERROR(VLOOKUP($A25,Filtro!$A$5:$AY$629,36,FALSE),0)","v":11},{"$f":"IFERROR(VLOOKUP($A25,Filtro!$A$5:$AY$629,37,FALSE),0)","v":1560},"",{"$nulls":16},"","","","",{"$f":"IF($AM25<=$D25,\"\",\"* Personas diabéticas 'Etapa 1 y 2' no debe ser mayor que el Total pacientes evaluados. \")","v":""},null,"","",{"$nulls":28},0,0,0,0,0,{"$nulls":3},0,0]
["P4190811",null,"ETAPA G3b ",1890,721,1169,{"$f":"IFERROR(VLOOKUP($A26,Filtro!$A$5:$AY$629,5,FALSE),0)","v":0},{"$f":"IFERROR(VLOOKUP($A26,Filtro!$A$5:$AY$629,6,FALSE),0)","v":0},{"$f":"IFERROR(VLOOKUP($A26,Filtro!$A$5:$AY$629,7,FALSE),0)","v":0},{"$f":"IFERROR(VLOOKUP($A26,Filtro!$A$5:$AY$629,8,FALSE),0)","v":0},{"$f":"IFERROR(VLOOKUP($A26,Filtro!$A$5:$AY$629,9,FALSE),0)","v":0},{"$f":"IFERROR(VLOOKUP($A26,Filtro!$A$5:$AY$629,10,FALSE),0)","v":1},{"$f":"IFERROR(VLOOKUP($A26,Filtro!$A$5:$AY$629,11,FALSE),0)","v":0},{"$f":"IFERROR(VLOOKUP($A26,Filtro!$A$5:$AY$629,12,FALSE),0)","v":2},{"$f":"IFERROR(VLOOKUP($A26,Filtro!$A$5:$AY$629,13,FALSE),0)","v":0},{"$f":"IFERROR(VLOOKUP($A26,Filtro!$A$5:$AY$629,14,FALSE),0)","v":6},{"$f":"IFERROR(VLOOKUP($A26,Filtro!$A$5:$AY$629,15,FALSE),0)","v":3},{"$f":"IFERROR(VLOOKUP($A26,Filtro!$A$5:$AY$629,16,FALSE),0)","v":8},{"$f":"IFERROR(VLOOKUP($A26,Filtro!$A$5:$AY$629,17,FALSE),0)","v":9},{"$f":"IFERROR(VLOOKUP($A26,Filtro!$A$5:$AY$629,18,FALSE),0)","v":16},{"$f":"IFERROR(VLOOKUP($A26,Filtro!$A$5:$AY$629,19,FALSE),0)","v":12},{"$f":"IFERROR(VLOOKUP($A26,Filtro!$A$5:$AY$629,20,FALSE),0)","v":31},{"$f":"IFERROR(VLOOKUP($A26,Filtro!$A$5:$AY$629,21,FALSE),0)","v":17},{"$f":"IFERROR(VLOOKUP($A26,Filtro!$A$5:$AY$629,22,FALSE),0)","v":35},{"$f":"IFERROR(VLOOKUP($A26,Filtro!$A$5:$AY$629,23,FALSE),0)","v":28},{"$f":"IFERROR(VLOOKUP($A26,Filtro!$A$5:$AY$629,24,FALSE),0)","v":60},{"$f":"IFERROR(VLOOKUP($A26,Filtro!$A$5:$AY$629,25,FALSE),0)","v":80},{"$f":"IFERROR(VLOOKUP($A26,Filtro!$A$5:$AY$629,26,FALSE),0)","v":125},{"$f":"IFERROR(VLOOKUP($A26,Filtro!$A$5:$AY$629,27,FALSE),0)","v":111},{"$f":"IFERROR(VLOOKUP($A26,Filtro!$A$5:$AY$629,28,FALSE),0)","v":139},{"$f":"IFERROR(VLOOKUP($A26,Filtro!$A$5:$AY$629,29,FALSE),0)","v":128},{"$f":"IFERROR(VLOOKUP($A26,Filtro!$A$5:$AY$629,30,FALSE),0)","v":182},{"$f":"IFERROR(VLOOKUP($A26,Filtro!$A$5:$AY$629,31,FALSE),0)","v":333},{"$f":"IFERROR(VLOOKUP($A26,Filtro!$A$5:$AY$629,32,FALSE),0)","v":564},{"$f":"IFERROR(VLOOKUP($A26,Filtro!$A$5:$AY$629,33,FALSE),0)","v":5},{"$f":"IFERROR(VLOOKUP($A26,Filtro!$A$5:$AY$629,34,FALSE),0)","v":4},{"$f":"IFERROR(VLOOKUP($A26,Filtro!$A$5:$AY$629,35,FALSE),0)","v":4},{"$f":"IFERROR(VLOOKUP($A26,Filtro!$A$5:$AY$629,36,FALSE),0)","v":1},{"$f":"IFERROR(VLOOKUP($A26,Filtro!$A$5:$AY$629,37,FALSE),0)","v":711},"",{"$nulls":16},"","","","",{"$f":"IF($AM26<=$D26,\"\",\"* Personas diabéticas 'Etapa 1 y 2' no debe ser mayor que el Total pacientes evaluados. \")","v":""},null,"","",{"$nulls":28},0,0,0,0,0,{"$nulls":3},0,0]
["P4190803",null,"ETAPA G4  ",588,265,323,{"$f":"IFERROR(VLOOKUP($A27,Filtro!$A$5:$AY$629,5,FALSE),0)","v":0},{"$f":"IFERROR(VLOOKUP($A27,Filtro!$A$5:$AY$629,6,FALSE),0)","v":0},{"$f":"IFERROR(VLOOKUP($A27,Filtro!$A$5:$AY$629,7,FALSE),0)","v":0},{"$f":"IFERROR(VLOOKUP($A27,Filtro!$A$5:$AY$629,8,FALSE),0)","v":0},{"$f":"IFERROR(VLOOKUP($A27,Filtro!$A$5:$AY$629,9,FALSE),0)","v":0},{"$f":"IFERROR(VLOOKUP($A27,Filtro!$A$5:$AY$629,10,FALSE),0)","v":0},{"$f":"IFERROR(VLOOKUP($A27,Filtro!$A$5:$AY$629,11,FALSE),0)","v":2},{"$f":"IFERROR(VLOOKUP($A27,Filtro!$A$5:$AY$629,12,FALSE),0)","v":2},{"$f":"IFERROR(VLOOKUP($A27,Filtro!$A$5:$AY$629,13,FALSE),0)","v":0},{"$f":"IFERROR(VLOOKUP($A27,Filtro!$A$5:$AY$629,14,FALSE),0)","v":0},{"$f":"IFERROR(VLOOKUP($A27,Filtro!$A$5:$AY$629,15,FALSE),0)","v":0},{"$f":"IFERROR(VLOOKUP($A27,Filtro!$A$5:$AY$629,16,FALSE),0)","v":4},{"$f":"IFERROR(VLOOKUP($A27,Filtro!$A$5:$AY$629,17,FALSE),0)","v":5},{"$f":"IFERROR(VLOOKUP($A27,Filtro!$A$5:$AY$629,18,FALSE),0)","v":9},{"$f":"IFERROR(VLOOKUP($A27,Filtro!$A$5:$AY$629,19,FALSE),0)","v":8},{"$f":"IFERROR(VLOOKUP($A27,Filtro!$A$5:$AY$629,20,FALSE),0)","v":17},{"$f":"IFERROR(VLOOKUP($A27,Filtro!$A$5:$AY$629,21,FALSE),0)","v":18},{"$f":"IFERROR(VLOOKUP($A27,Filtro!$A$5:$AY$629,22,FALSE),0)","v":15},{"$f":"IFERROR(VLOOKUP($A27,Filtro!$A$5:$AY$629,23,FALSE),0)","v":21},{"$f":"IFERROR(VLOOKUP($A27,Filtro!$A$5:$AY$629,24,FALSE),0)","v":18},{"$f":"IFERROR(VLOOKUP($A27,Filtro!$A$5:$AY$629,25,FALSE),0)","v":36},{"$f":"IFERROR(VLOOKUP($A27,Filtro!$A$5:$AY$629,26,FALSE),0)","v":34},{"$f":"IFERROR(VLOOKUP($A27,Filtro!$A$5:$AY$629,27,FALSE),0)","v":33},{"$f":"IFERROR(VLOOKUP($A27,Filtro!$A$5:$AY$629,28,FALSE),0)","v":37},{"$f":"IFERROR(VLOOKUP($A27,Filtro!$A$5:$AY$629,29,FALSE),0)","v":46},{"$f":"IFERROR(VLOOKUP($A27,Filtro!$A$5:$AY$629,30,FALSE),0)","v":48},{"$f":"IFERROR(VLOOKUP($A27,Filtro!$A$5:$AY$629,31,FALSE),0)","v":96},{"$f":"IFERROR(VLOOKUP($A27,Filtro!$A$5:$AY$629,32,FALSE),0)","v":139},{"$f":"IFERROR(VLOOKUP($A27,Filtro!$A$5:$AY$629,33,FALSE),0)","v":2},{"$f":"IFERROR(VLOOKUP($A27,Filtro!$A$5:$AY$629,34,FALSE),0)","v":3},{"$f":"IFERROR(VLOOKUP($A27,Filtro!$A$5:$AY$629,35,FALSE),0)","v":2},{"$f":"IFERROR(VLOOKUP($A27,Filtro!$A$5:$AY$629,36,FALSE),0)","v":1},{"$f":"IFERROR(VLOOKUP($A27,Filtro!$A$5:$AY$629,37,FALSE),0)","v":280},"",{"$nulls":16},"","","","",{"$f":"IF($AM27<=$D27,\"\",\"* Personas diabéticas 'Etapa 4' no debe ser mayor que el Total pacientes evaluados. \")","v":""},null,"","",{"$nulls":28},0,0,0,0,0,{"$nulls":3},0,0]
["P4190804",null,"ETAPA G5",437,207,230,{"$f":"IFERROR(VLOOKUP($A28,Filtro!$A$5:$AY$629,5,FALSE),0)","v":0},{"$f":"IFERROR(VLOOKUP($A28,Filtro!$A$5:$AY$629,6,FALSE),0)","v":0},{"$f":"IFERROR(VLOOKUP($A28,Filtro!$A$5:$AY$629,7,FALSE),0)","v":1},{"$f":"IFERROR(VLOOKUP($A28,Filtro!$A$5:$AY$629,8,FALSE),0)","v":0},{"$f":"IFERROR(VLOOKUP($A28,Filtro!$A$5:$AY$629,9,FALSE),0)","v":1},{"$f":"IFERROR(VLOOKUP($A28,Filtro!$A$5:$AY$629,10,FALSE),0)","v":3},{"$f":"IFERROR(VLOOKUP($A28,Filtro!$A$5:$AY$629,11,FALSE),0)","v":1},{"$f":"IFERROR(VLOOKUP($A28,Filtro!$A$5:$AY$629,12,FALSE),0)","v":2},{"$f":"IFERROR(VLOOKUP($A28,Filtro!$A$5:$AY$629,13,FALSE),0)","v":4},{"$f":"IFERROR(VLOOKUP($A28,Filtro!$A$5:$AY$629,14,FALSE),0)","v":4},{"$f":"IFERROR(VLOOKUP($A28,Filtro!$A$5:$AY$629,15,FALSE),0)","v":2},{"$f":"IFERROR(VLOOKUP($A28,Filtro!$A$5:$AY$629,16,FALSE),0)","v":9},{"$f":"IFERROR(VLOOKUP($A28,Filtro!$A$5:$AY$629,17,FALSE),0)","v":13},{"$f":"IFERROR(VLOOKUP($A28,Filtro!$A$5:$AY$629,18,FALSE),0)","v":9},{"$f":"IFERROR(VLOOKUP($A28,Filtro!$A$5:$AY$629,19,FALSE),0)","v":13},{"$f":"IFERROR(VLOOKUP($A28,Filtro!$A$5:$AY$629,20,FALSE),0)","v":24},{"$f":"IFERROR(VLOOKUP($A28,Filtro!$A$5:$AY$629,21,FALSE),0)","v":23},{"$f":"IFERROR(VLOOKUP($A28,Filtro!$A$5:$AY$629,22,FALSE),0)","v":24},{"$f":"IFERROR(VLOOKUP($A28,Filtro!$A$5:$AY$629,23,FALSE),0)","v":29},{"$f":"IFERROR(VLOOKUP($A28,Filtro!$A$5:$AY$629,24,FALSE),0)","v":30},{"$f":"IFERROR(VLOOKUP($A28,Filtro!$A$5:$AY$629,25,FALSE),0)","v":37},{"$f":"IFERROR(VLOOKUP($A28,Filtro!$A$5:$AY$629,26,FALSE),0)","v":25},{"$f":"IFERROR(VLOOKUP($A28,Filtro!$A$5:$AY$629,27,FALSE),0)","v":30},{"$f":"IFERROR(VLOOKUP($A28,Filtro!$A$5:$AY$629,28,FALSE),0)","v":35},{"$f":"IFERROR(VLOOKUP($A28,Filtro!$A$5:$AY$629,29,FALSE),0)","v":24},{"$f":"IFERROR(VLOOKUP($A28,Filtro!$A$5:$AY$629,30,FALSE),0)","v":34},{"$f":"IFERROR(VLOOKUP($A28,Filtro!$A$5:$AY$629,31,FALSE),0)","v":29},{"$f":"IFERROR(VLOOKUP($A28,Filtro!$A$5:$AY$629,32,FALSE),0)","v":31},{"$f":"IFERROR(VLOOKUP($A28,Filtro!$A$5:$AY$629,33,FALSE),0)","v":1},{"$f":"IFERROR(VLOOKUP($A28,Filtro!$A$5:$AY$629,34,FALSE),0)","v":1},{"$f":"IFERROR(VLOOKUP($A28,Filtro!$A$5:$AY$629,35,FALSE),0)","v":0},{"$f":"IFERROR(VLOOKUP($A28,Filtro!$A$5:$AY$629,36,FALSE),0)","v":1},{"$f":"IFERROR(VLOOKUP($A28,Filtro!$A$5:$AY$629,37,FALSE),0)","v":157},"",{"$nulls":16},"","","","",{"$f":"IF($AM28<=$D28,\"\",\"* Personas diabéticas 'Etapa 5' no debe ser mayor que el Total pacientes evaluados. \")","v":""},null,"","",{"$nulls":28},0,0,0,0,0,{"$nulls":3},0,0]
[null,null,"TOTAL",{"$f":"SUM(E29:F29)","v":85534},{"$f":"+G29+I29+K29+M29+O29+Q29+S29+U29+W29+Y29+AA29+AC29+AE29+AG29","v":30853},{"$f":"+H29+J29+L29+N29+P29+R29+T29+V29+X29+Z29+AB29+AD29+AF29+AH29","v":54681},{"$f":"SUM(G22:G28)","v":53},{"$f":"SUM(H22:H28)","v":47},72,139,153,341,280,638,485,1111,786,1915,1316,2920,2027,4635,2982,6540,4214,7639,4948,7853,4744,7172,3855,5868,4938,7863,237,517,169,336,{"$f":"SUM(AM22:AM28)","v":25895}]
[null,"SECCIÓN B: METAS DE COMPENSACIÓN"]
[null,"CONCEPTO",null,"TOTAL ",null,null,"GRUPOS DE EDAD (en años) Y SEXO",{"$nulls":27},"Pueblos Originarios",null," Migrantes"]
[{"$nulls":6},"15 a 19 años",null,"20 a 24 años",null,"25 a 29 años",null,"30 a 34 años",null,"35 a 39 años",null,"40 a 44 años",null,"45 a 49 años",null,"50 a 54 años",null,"55 a 59 años",null,"60 a 64 años",null,"65 a 69 años",null,"70 a 74 años",null,"75 a 79 años",null,"80 y más años"]
[{"$nulls":3},"Ambos sexos","Hombres","Mujeres","Hombres","Mujeres","Hombres","Mujeres","Hombres","Mujeres","Hombres","Mujeres","Hombres","Mujeres","Hombres","Mujeres","Hombres","Mujeres","Hombres","Mujeres","Hombres","Mujeres","Hombres","Mujeres","Hombres ","Mujeres","Hombres ","Mujeres","Hombres ","Mujeres","Hombres ","Mujeres","Hombres","Mujeres","Hombres","Mujeres"]
["P4180200","PERSONAS BAJO CONTROL POR HIPERTENSION","PA < 140/90 mmHg ",{"$f":"SUM(E34:F34)","v":40523},{"$f":"+G34+I34+K34+M34+O34+Q34+S34+U34+W34+Y34+AA34+AC34+AE34","v":14280},{"$f":"+H34+J34+L34+N34+P34+R34+T34+V34+X34+Z34+AB34+AD34+AF34","v":26243},{"$f":"IFERROR(VLOOKUP($A34,Filtro!$A$5:$AY$629,5,FALSE),0)","v":8},{"$f":"IFERROR(VLOOKUP($A34,Filtro!$A$5:$AY$629,6,FALSE),0)","v":7},{"$f":"IFERROR(VLOOKUP($A34,Filtro!$A$5:$AY$629,7,FALSE),0)","v":28},{"$f":"IFERROR(VLOOKUP($A34,Filtro!$A$5:$AY$629,8,FALSE),0)","v":28},{"$f":"IFERROR(VLOOKUP($A34,Filtro!$A$5:$AY$629,9,FALSE),0)","v":40},{"$f":"IFERROR(VLOOKUP($A34,Filtro!$A$5:$AY$629,10,FALSE),0)","v":99},{"$f":"IFERROR(VLOOKUP($A34,Filtro!$A$5:$AY$629,11,FALSE),0)","v":110},{"$f":"IFERROR(VLOOKUP($A34,Filtro!$A$5:$AY$629,12,FALSE),0)","v":213},{"$f":"IFERROR(VLOOKUP($A34,Filtro!$A$5:$AY$629,13,FALSE),0)","v":191},{"$f":"IFERROR(VLOOKUP($A34,Filtro!$A$5:$AY$629,14,FALSE),0)","v":457},{"$f":"IFERROR(VLOOKUP($A34,Filtro!$A$5:$AY$629,15,FALSE),0)","v":333},{"$f":"IFERROR(VLOOKUP($A34,Filtro!$A$5:$AY$629,16,FALSE),0)","v":855},{"$f":"IFERROR(VLOOKUP($A34,Filtro!$A$5:$AY$629,17,FALSE),0)","v":554},{"$f":"IFERROR(VLOOKUP($A34,Filtro!$A$5:$AY$629,18,FALSE),0)","v":1472},{"$f":"IFERROR(VLOOKUP($A34,Filtro!$A$5:$AY$629,19,FALSE),0)","v":972},{"$f":"IFERROR(VLOOKUP($A34,Filtro!$A$5:$AY$629,20,FALSE),0)","v":2401},{"$f":"IFERROR(VLOOKUP($A34,Filtro!$A$5:$AY$629,21,FALSE),0)","v":1523},{"$f":"IFERROR(VLOOKUP($A34,Filtro!$A$5:$AY$629,22,FALSE),0)","v":3672},{"$f":"IFERROR(VLOOKUP($A34,Filtro!$A$5:$AY$629,23,FALSE),0)","v":2205},{"$f":"IFERROR(VLOOKUP($A34,Filtro!$A$5:$AY$629,24,FALSE),0)","v":4198},{"$f":"IFERROR(VLOOKUP($A34,Filtro!$A$5:$AY$629,25,FALSE),0)","v":2754},{"$f":"IFERROR(VLOOKUP($A34,Filtro!$A$5:$AY$629,26,FALSE),0)","v":4664},{"$f":"IFERROR(VLOOKUP($A34,Filtro!$A$5:$AY$629,27,FALSE),0)","v":2951},{"$f":"IFERROR(VLOOKUP($A34,Filtro!$A$5:$AY$629,28,FALSE),0)","v":4374},{"$f":"IFERROR(VLOOKUP($A34,Filtro!$A$5:$AY$629,29,FALSE),0)","v":2611},{"$f":"IFERROR(VLOOKUP($A34,Filtro!$A$5:$AY$629,30,FALSE),0)","v":3803},0,0,{"$f":"IFERROR(VLOOKUP($A34,Filtro!$A$5:$AY$629,33,FALSE),0)","v":71},{"$f":"IFERROR(VLOOKUP($A34,Filtro!$A$5:$AY$629,34,FALSE),0)","v":135},{"$f":"IFERROR(VLOOKUP($A34,Filtro!$A$5:$AY$629,35,FALSE),0)","v":62},{"$f":"IFERROR(VLOOKUP($A34,Filtro!$A$5:$AY$629,36,FALSE),0)","v":146},{"$f":" BE34 & BF34 & BI34 & BJ34 & BK34 & BL34 & BM34 & BN34 & BO34 & BP34 & BQ34 & BR34 & BS34 & BT34 & BU34 & BV34 & BW34 & BX34 & BY34 & BZ34 & CA34 & CB34 & CC34 & CD34 & CE34 & CF34 & CG34 & CI34 & CJ34 & CH34 & BG34 & BH34 & BC34 & BD34","v":""},{"$nulls":15},{"$f":"IF(AND(E34<>0,AI34=\"\"),\"* No olvide escribir en la celda de 'Pueblos Originarios' (Digite CERO si no tiene). \",IF(AND(F34<>0,AJ34=\"\"),\"* No olvide escribir en la celda de 'Pueblos Originarios' (Digite CERO si no tiene). \",\"\"))","v":""},{"$f":"IF(AND(E34<>0,AK34=\"\"),\"* No olvide escribir en la celda de 'Población Migrantes' (Digite CERO si no tiene). \",IF(AND(F34<>0,AL34=\"\"),\"* No olvide escribir en la celda de 'Población Migrantes' (Digite CERO si no tiene). \",\"\"))","v":""},{"$f":"IF($E$34>=$AI$34,\"\",\"* Pueblos Originarios-Hombres no debe ser mayor al Total de personas Hombres. \")","v":""},{"$f":"IF($F$34>=$AJ$34,\"\",\"* Pueblos Originarios-Mujeres no debe ser mayor al Total de personas Mujeres. \")","v":""},{"$f":"IF($E34>=$AK34,\"\",\"* Población Migrantes-Hombres no debe ser mayor al Total de personas Hombres. \")","v":""},{"$f":"IF($F34>=$AL34,\"\",\"* Pueblos Originarios-Mujeres no debe ser mayor al Total de personas Mujeres. \")","v":""},{"$f":"IF($G$34<=$G$16,\"\",\"* Pacientes 15 a 19 años (Hombres) con PA<140/90 mmHg debe ser menor o igual a Hipertensos en Sección A. \")","v":""},{"$f":"IF($H$34<=$H$16,\"\",\"* Pacientes 15 a 19 años (Mujeres) con PA<140/90 mmHg debe ser menor o igual a Hipertensos en Sección A. \")","v":""},{"$f":"IF($I$34<=$I$16,\"\",\"* Pacientes 20 a 24 años (Hombres) con PA<140/90 mmHg debe ser menor o igual a Hipertensos en Sección A. \")","v":""},{"$f":"IF($J$34<=$J$16,\"\",\"* Pacientes 20 a 24 años (Mujeres) con PA<140/90 mmHg debe ser menor o igual a Hipertensos en Sección A. \")","v":""},{"$f":"IF($K$34<=$K$16,\"\",\"* Pacientes 25 a 29 años (Hombres) con PA<140/90 mmHg debe ser menor o igual a Hipertensos en Sección A. \")","v":""},{"$f":"IF($L$34<=$L$16,\"\",\"* Pacientes 25 a 29 años (Mujeres) con PA<140/90 mmHg debe ser menor o igual a Hipertensos en Sección A. \")","v":""},{"$f":"IF($M$34<=$M$16,\"\",\"* Pacientes 30 a 34 años (Hombres) con PA<140/90 mmHg debe ser menor o igual a Hipertensos en Sección A. \")","v":""},{"$f":"IF($N$34<=$N$16,\"\",\"* Pacientes 30 a 34 años (Mujeres) con PA<140/90 mmHg debe ser menor o igual a Hipertensos en Sección A. \")","v":""},{"$f":"IF($O$34<=$O$16,\"\",\"* Pacientes 35 a 39 años (Hombres) con PA<140/90 mmHg debe ser menor o igual a Hipertensos en Sección A. \")","v":""},{"$f":"IF($P$34<=$P$16,\"\",\"* Pacientes 35 a 39 años (Mujeres) con PA<140/90 mmHg debe ser menor o igual a Hipertensos en Sección A. \")","v":""},{"$f":"IF($Q$34<=$Q$16,\"\",\"* Pacientes 40 a 44 años (Hombres) con PA<140/90 mmHg debe ser menor o igual a Hipertensos en Sección A. \")","v":""},{"$f":"IF($R$34<=$R$16,\"\",\"* Pacientes 40 a 44 años (Mujeres) con PA<140/90 mmHg debe ser menor o igual a Hipertensos en Sección A. \")","v":""},{"$f":"IF($S$34<=$S$16,\"\",\"* Pacientes 45 a 49 años (Hombres) con PA<140/90 mmHg debe ser menor o igual a Hipertensos en Sección A. \")","v":""},{"$f":"IF($T$34<=$T$16,\"\",\"* Pacientes 45 a 49 años (Mujeres) con PA<140/90 mmHg debe ser menor o igual a Hipertensos en Sección A. \")","v":""},{"$f":"IF($U$34<=$U$16,\"\",\"* Pacientes 50 a 54 años (Hombres) con PA<140/90 mmHg debe ser menor o igual a Hipertensos en Sección A. \")","v":""},{"$f":"IF($V$34<=$V$16,\"\",\"* Pacientes 50 a 54 años (Mujeres) con PA<140/90 mmHg debe ser menor o igual a Hipertensos en Sección A. \")","v":""},{"$f":"IF($W$34<=$W$16,\"\",\"* Pacientes 55 a 59 años (Hombres) con PA<140/90 mmHg debe ser menor o igual a Hipertensos en Sección A. \")","v":""},{"$f":"IF($X$34<=$X$16,\"\",\"* Pacientes 55 a 59 años (Mujeres) con PA<140/90 mmHg debe ser menor o igual a Hipertensos en Sección A. \")","v":""},{"$f":"IF($Y$34<=$Y$16,\"\",\"* Pacientes 60 a 64 años (Hombres) con PA<140/90 mmHg debe ser menor o igual a Hipertensos en Sección A. \")","v":""},{"$f":"IF($Z$34<=$Z$16,\"\",\"* Pacientes 60 a 64 años (Mujeres) con PA<140/90 mmHg debe ser menor o igual a Hipertensos en Sección A. \")","v":""},{"$f":"IF($AA$34<=$AA$16,\"\",\"* Pacientes 65 a 69 años (Hombres) con PA<140/90 mmHg debe ser menor o igual a Hipertensos en Sección A. \")","v":""},{"$f":"IF($AB$34<=$AB$16,\"\",\"* Pacientes 65 a 69 años (Mujeres) con PA<140/90 mmHg debe ser menor o igual a Hipertensos en Sección A. \")","v":""},{"$f":"IF($AC$34<=$AC$16,\"\",\"* Pacientes 70 a 74 años (Hombres) con PA<140/90 mmHg debe ser menor o igual a Hipertensos en Sección A. \")","v":""},{"$f":"IF($AD$34<=$AD$16,\"\",\"* Pacientes 70 a 74 años (Mujeres) con PA<140/90 mmHg debe ser menor o igual a Hipertensos en Sección A. \")","v":""},{"$f":"IF($AE$34<=$AE$16,\"\",\"* Pacientes 75 a 79 años (Hombres) con PA<140/90 mmHg debe ser menor o igual a Hipertensos en Sección A. \")","v":""},{"$f":"IF($AF$34<=$AF$16,\"\",\"* Pacientes 75 a 79 años (Mujeres) con PA<140/90 mmHg debe ser menor o igual a Hipertensos en Sección A. \")","v":""},{"$f":"IF($AG$34<=$AG$16,\"\",\"* Pacientes 80 y más años (Hombres) con PA<140/90 mmHg debe ser menor o igual a Hipertensos en Sección A. \")","v":""},{"$f":"IF($AH$34<=$AH$16,\"\",\"* Pacientes 80 y más años (Mujeres) con PA<140/90 mmHg debe ser menor o igual a Hipertensos en Sección A. \")","v":""},null,null,{"$f":"IF(AND(E34<>0,AI34=\"\"),1,IF(AND(F34<>0,AJ34=\"\"),1,0))","v":0},{"$f":"IF(AND(E34<>0,AK34=\"\"),1,IF(AND(F34<>0,AL34=\"\"),1,0))","v":0},{"$f":"IF($E$34>=$AI$34,0,1)","v":0},{"$f":"IF($F$34>=$AJ$34,0,1)","v":0},{"$f":"IF($E34>=$AK34,0,1)","v":0},{"$f":"IF($F34>=$AL34,0,1)","v":0},{"$f":"IF(G$34<=G$16,0,1)","v":0},0,0,0,0,0,0,0,0,0,0,0,0,0,0,0,0,0,0,0,0,0,0,0,0,0,0,0]
["P4200100",null,"PA < 150/90 mmHg ",{"$f":"SUM(E35:F35)","v":9671},{"$f":"+AG35","v":3847},{"$f":"+AH35","v":5824},0,0,0,0,0,0,0,0,0,0,0,0,0,0,0,0,0,0,0,0,0,0,0,0,0,0,{"$f":"IFERROR(VLOOKUP($A35,Filtro!$A$5:$AY$629,31,FALSE),0)","v":3847},{"$f":"IFERROR(VLOOKUP($A35,Filtro!$A$5:$AY$629,32,FALSE),0)","v":5824},{"$f":"IFERROR(VLOOKUP($A35,Filtro!$A$5:$AY$629,33,FALSE),0)","v":15},{"$f":"IFERROR(VLOOKUP($A35,Filtro!$A$5:$AY$629,34,FALSE),0)","v":18},{"$f":"IFERROR(VLOOKUP($A35,Filtro!$A$5:$AY$629,35,FALSE),0)","v":6},{"$f":"IFERROR(VLOOKUP($A35,Filtro!$A$5:$AY$629,36,FALSE),0)","v":10},{"$f":" BE35 & BF35 & BG35 & BH35 & BC35 & BD35","v":""},{"$nulls":15},"","",{"$f":"IF($E$35>=$AI$35,\"\",\"* Pueblos Originarios-Hombres no debe ser mayor al Total de personas Hombres. \")","v":""},{"$f":"IF($F$35>=$AJ$35,\"\",\"* Pueblos Originarios-Mujeres no debe ser mayor al Total de personas Mujeres. \")","v":""},"","",{"$nulls":30},{"$f":"IF(AND(E35<>0,AI35=\"\"),1,IF(AND(F35<>0,AJ35=\"\"),1,0))","v":0},{"$f":"IF(AND(E35<>0,AK35=\"\"),1,IF(AND(F35<>0,AL35=\"\"),1,0))","v":0},{"$f":"IF($E$35>=$AI$35,0,1)","v":0},{"$f":"IF($F$35>=$AJ$35,0,1)","v":0},0,{"$f":"IF($F35>=$AL35,0,1)","v":0}]
["P4180300","PERSONAS BAJO CONTROL POR DIABETES MELLITUS","HbA1C<7% ",16185,{"$f":"+G36+I36+K36+M36+O36+Q36+S36+U36+W36+Y36+AA36+AC36+AE36","v":5848},{"$f":"+H36+J36+L36+N36+P36+R36+T36+V36+X36+Z36+AB36+AD36+AF36","v":10337},{"$f":"IFERROR(VLOOKUP($A36,Filtro!$A$5:$AY$629,5,FALSE),0)","v":8},{"$f":"IFERROR(VLOOKUP($A36,Filtro!$A$5:$AY$629,6,FALSE),0)","v":5},{"$f":"IFERROR(VLOOKUP($A36,Filtro!$A$5:$AY$629,7,FALSE),0)","v":9},{"$f":"IFERROR(VLOOKUP($A36,Filtro!$A$5:$AY$629,8,FALSE),0)","v":22},{"$f":"IFERROR(VLOOKUP($A36,Filtro!$A$5:$AY$629,9,FALSE),0)","v":21},{"$f":"IFERROR(VLOOKUP($A36,Filtro!$A$5:$AY$629,10,FALSE),0)","v":68},{"$f":"IFERROR(VLOOKUP($A36,Filtro!$A$5:$AY$629,11,FALSE),0)","v":42},{"$f":"IFERROR(VLOOKUP($A36,Filtro!$A$5:$AY$629,12,FALSE),0)","v":113},{"$f":"IFERROR(VLOOKUP($A36,Filtro!$A$5:$AY$629,13,FALSE),0)","v":75},{"$f":"IFERROR(VLOOKUP($A36,Filtro!$A$5:$AY$629,14,FALSE),0)","v":245},{"$f":"IFERROR(VLOOKUP($A36,Filtro!$A$5:$AY$629,15,FALSE),0)","v":138},{"$f":"IFERROR(VLOOKUP($A36,Filtro!$A$5:$AY$629,16,FALSE),0)","v":363},{"$f":"IFERROR(VLOOKUP($A36,Filtro!$A$5:$AY$629,17,FALSE),0)","v":277},{"$f":"IFERROR(VLOOKUP($A36,Filtro!$A$5:$AY$629,18,FALSE),0)","v":592},{"$f":"IFERROR(VLOOKUP($A36,Filtro!$A$5:$AY$629,19,FALSE),0)","v":423},{"$f":"IFERROR(VLOOKUP($A36,Filtro!$A$5:$AY$629,20,FALSE),0)","v":902},{"$f":"IFERROR(VLOOKUP($A36,Filtro!$A$5:$AY$629,21,FALSE),0)","v":639},{"$f":"IFERROR(VLOOKUP($A36,Filtro!$A$5:$AY$629,22,FALSE),0)","v":1435},{"$f":"IFERROR(VLOOKUP($A36,Filtro!$A$5:$AY$629,23,FALSE),0)","v":886},{"$f":"IFERROR(VLOOKUP($A36,Filtro!$A$5:$AY$629,24,FALSE),0)","v":1669},{"$f":"IFERROR(VLOOKUP($A36,Filtro!$A$5:$AY$629,25,FALSE),0)","v":1212},{"$f":"IFERROR(VLOOKUP($A36,Filtro!$A$5:$AY$629,26,FALSE),0)","v":1816},{"$f":"IFERROR(VLOOKUP($A36,Filtro!$A$5:$AY$629,27,FALSE),0)","v":1130},{"$f":"IFERROR(VLOOKUP($A36,Filtro!$A$5:$AY$629,28,FALSE),0)","v":1699},{"$f":"IFERROR(VLOOKUP($A36,Filtro!$A$5:$AY$629,29,FALSE),0)","v":988},{"$f":"IFERROR(VLOOKUP($A36,Filtro!$A$5:$AY$629,30,FALSE),0)","v":1408},0,0,{"$f":"IFERROR(VLOOKUP($A36,Filtro!$A$5:$AY$629,33,FALSE),0)","v":34},{"$f":"IFERROR(VLOOKUP($A36,Filtro!$A$5:$AY$629,34,FALSE),0)","v":64},{"$f":"IFERROR(VLOOKUP($A36,Filtro!$A$5:$AY$629,35,FALSE),0)","v":18},{"$f":"IFERROR(VLOOKUP($A36,Filtro!$A$5:$AY$629,36,FALSE),0)","v":45},{"$f":" BE36 & BF36 & BI36 & BJ36 & BK36 & BL36 & BM36 & BN36 & BO36 & BP36 & BQ36 & BR36 & BS36 & BT36 & BU36 & BV36 & BW36 & BX36 & BY36 & BZ36 & CA36 & CB36 & CC36 & CD36 & CE36 & CF36 & CG36 & CI36 & CJ36 & CH36 & BG36 & BH36 & BC36 & BD36","v":""},{"$nulls":15},"","",{"$f":"IF($E$36>=$AI$36,\"\",\"* Pueblos Originarios-Hombres no debe ser mayor al Total de personas Hombres. \")","v":""},{"$f":"IF($F$36>=$AJ$36,\"\",\"* Pueblos Originarios-Mujeres no debe ser mayor al Total de personas Mujeres. \")","v":""},"","",{"$f":"IF($G$36<=$G$17,\"\",\"* Pacientes 15 a 19 años (Hombres) con HbA1C<7% debe ser menor o igual a Diabéticos en Sección A. \")","v":""},{"$f":"IF($H$36<=$H$17,\"\",\"* Pacientes 15 a 19 años (Mujeres) con HbA1C<7% debe ser menor o igual a Diabéticos en Sección A. \")","v":""},{"$f":"IF($I$36<=$I$17,\"\",\"* Pacientes 20 a 24 años (Hombres) con HbA1C<7% debe ser menor o igual a Diabéticos en Sección A. \")","v":""},{"$f":"IF($J$36<=$J$17,\"\",\"* Pacientes 20 a 24 años (Mujeres) con HbA1C<7% debe ser menor o igual a Diabéticos en Sección A. \")","v":""},{"$f":"IF($K$36<=$K$17,\"\",\"* Pacientes 25 a 29 años (Hombres) con HbA1C<7% debe ser menor o igual a Diabéticos en Sección A. \")","v":""},{"$f":"IF($L$36<=$L$17,\"\",\"* Pacientes 25 a 29 años (Mujeres) con HbA1C<7% debe ser menor o igual a Diabéticos en Sección A. \")","v":""},{"$f":"IF($M$36<=$M$17,\"\",\"* Pacientes 30 a 34 años (Hombres) con HbA1C<7% debe ser menor o igual a Diabéticos en Sección A. \")","v":""},{"$f":"IF($N$36<=$N$17,\"\",\"* Pacientes 30 a 34 años (Mujeres) con HbA1C<7% debe ser menor o igual a Diabéticos en Sección A. \")","v":""},{"$f":"IF($O$36<=$O$17,\"\",\"* Pacientes 35 a 39 años (Hombres) con HbA1C<7% debe ser menor o igual a Diabéticos en Sección A. \")","v":""},{"$f":"IF($P$36<=$P$17,\"\",\"* Pacientes 35 a 39 años (Mujeres) con HbA1C<7% debe ser menor o igual a Diabéticos en Sección A. \")","v":""},{"$f":"IF($Q$36<=$Q$17,\"\",\"* Pacientes 40 a 44 años (Hombres) con HbA1C<7% debe ser menor o igual a Diabéticos en Sección A. \")","v":""},{"$f":"IF($R$36<=$R$17,\"\",\"* Pacientes 40 a 44 años (Mujeres) con HbA1C<7% debe ser menor o igual a Diabéticos en Sección A. \")","v":""},{"$f":"IF($S$36<=$S$17,\"\",\"* Pacientes 45 a 49 años (Hombres) con HbA1C<7% debe ser menor o igual a Diabéticos en Sección A. \")","v":""},{"$f":"IF($T$36<=$T$17,\"\",\"* Pacientes 45 a 49 años (Mujeres) con HbA1C<7% debe ser menor o igual a Diabéticos en Sección A. \")","v":""},{"$f":"IF($U$36<=$U$17,\"\",\"* Pacientes 50 a 54 años (Hombres) con HbA1C<7% debe ser menor o igual a Diabéticos en Sección A. \")","v":""},{"$f":"IF($V$36<=$V$17,\"\",\"* Pacientes 50 a 54 años (Mujeres) con HbA1C<7% debe ser menor o igual a Diabéticos en Sección A. \")","v":""},{"$f":"IF($W$36<=$W$17,\"\",\"* Pacientes 55 a 59 años (Hombres) con HbA1C<7% debe ser menor o igual a Diabéticos en Sección A. \")","v":""},{"$f":"IF($X$36<=$X$17,\"\",\"* Pacientes 55 a 59 años (Mujeres) con HbA1C<7% debe ser menor o igual a Diabéticos en Sección A. \")","v":""},{"$f":"IF($Y$36<=$Y$17,\"\",\"* Pacientes 60 a 64 años (Hombres) con HbA1C<7% debe ser menor o igual a Diabéticos en Sección A. \")","v":""},{"$f":"IF($Z$36<=$Z$17,\"\",\"* Pacientes 60 a 64 años (Mujeres) con HbA1C<7% debe ser menor o igual a Diabéticos en Sección A. \")","v":""},{"$f":"IF($AA$36<=$AA$17,\"\",\"* Pacientes 65 a 69 años (Hombres) con HbA1C<7% debe ser menor o igual a Diabéticos en Sección A. \")","v":""},{"$f":"IF($AB$36<=$AB$17,\"\",\"* Pacientes 65 a 69 años (Mujeres) con HbA1C<7% debe ser menor o igual a Diabéticos en Sección A. \")","v":""},{"$f":"IF($AC$36<=$AC$17,\"\",\"* Pacientes 70 a 74 años (Hombres) con HbA1C<7% debe ser menor o igual a Diabéticos en Sección A. \")","v":""},{"$f":"IF($AD$36<=$AD$17,\"\",\"* Pacientes 70 a 74 años (Mujeres) con HbA1C<7% debe ser menor o igual a Diabéticos en Sección A. \")","v":""},{"$f":"IF($AE$36<=$AE$17,\"\",\"* Pacientes 75 a 79 años (Hombres) con HbA1C<7% debe ser menor o igual a Diabéticos en Sección A. \")","v":""},{"$f":"IF($AF$36<=$AF$17,\"\",\"* Pacientes 75 a 79 años (Mujeres) con HbA1C<7% debe ser menor o igual a Diabéticos en Sección A. \")","v":""},{"$f":"IF($AG$36<=$AG$17,\"\",\"* Pacientes 80 y más años (Hombres) con HbA1C<7% debe ser menor o igual a Diabéticos en Sección A. \")","v":""},{"$f":"IF($AH$37<=$AH$17,\"\",\"* Pacientes 80 y más años (Mujeres) con HbA1C<8% debe ser menor o igual a Diabéticos en Sección A. \")","v":""},null,null,0,0,{"$f":"IF($E$36>=$AI$36,0,1)","v":0},{"$f":"IF($F$36>=$AJ$36,0,1)","v":0},0,{"$f":"IF($F36>=$AL36,0,1)","v":0},{"$f":"IF(G$36<=G$17,0,1)","v":0},0,0,0,0,0,0,0,0,0,0,0,0,0,0,0,0,0,0,0,0,0,0,0,0,0,0,0]
["P4200200",null,"HbA1C<8%",3284,{"$f":"+AG37","v":1270},{"$f":"+AH37","v":2014},0,0,0,0,0,0,0,0,0,0,0,0,0,0,0,0,0,0,0,0,0,0,0,0,0,0,{"$f":"IFERROR(VLOOKUP($A37,Filtro!$A$5:$AY$629,31,FALSE),0)","v":1270},{"$f":"IFERROR(VLOOKUP($A37,Filtro!$A$5:$AY$629,32,FALSE),0)","v":2014},{"$f":"IFERROR(VLOOKUP($A37,Filtro!$A$5:$AY$629,33,FALSE),0)","v":12},{"$f":"IFERROR(VLOOKUP($A37,Filtro!$A$5:$AY$629,34,FALSE),0)","v":27},{"$f":"IFERROR(VLOOKUP($A37,Filtro!$A$5:$AY$629,35,FALSE),0)","v":3},{"$f":"IFERROR(VLOOKUP($A37,Filtro!$A$5:$AY$629,36,FALSE),0)","v":8},{"$f":" BE37 & BF37 & BG37 & BH37 & BC37 & BD37","v":""},{"$nulls":15},"","",{"$f":"IF($E$37>=$AI$37,\"\",\"* Pueblos Originarios-Hombres no debe ser mayor al Total de personas Hombres. \")","v":""},{"$f":"IF($F$37>=$AJ$37,\"\",\"* Pueblos Originarios-Mujeres no debe ser mayor al Total de personas Mujeres. \")","v":""},"","",{"$nulls":30},0,0,{"$f":"IF($E$37>=$AI$37,0,1)","v":0},{"$f":"IF($F$37>=$AJ$37,0,1)","v":0},{"$f":"IF($E37>=$AK37,0,1)","v":0},{"$f":"IF($F37>=$AL37,0,1)","v":0}]
["P4190920",null,"HbA1C<7% - PA < 140/90mmHg y Colesterol LDL < 100 mg/dl",7915,{"$f":"+G38+I38+K38+M38+O38+Q38+S38+U38+W38+Y38+AA38+AC38+AE38+AG38","v":3038},{"$f":"+H38+J38+L38+N38+P38+R38+T38+V38+X38+Z38+AB38+AD38+AF38+AH38","v":4877},{"$f":"IFERROR(VLOOKUP($A38,Filtro!$A$5:$AY$629,5,FALSE),0)","v":1},{"$f":"IFERROR(VLOOKUP($A38,Filtro!$A$5:$AY$629,6,FALSE),0)","v":0},{"$f":"IFERROR(VLOOKUP($A38,Filtro!$A$5:$AY$629,7,FALSE),0)","v":6},{"$f":"IFERROR(VLOOKUP($A38,Filtro!$A$5:$AY$629,8,FALSE),0)","v":7},{"$f":"IFERROR(VLOOKUP($A38,Filtro!$A$5:$AY$629,9,FALSE),0)","v":8},{"$f":"IFERROR(VLOOKUP($A38,Filtro!$A$5:$AY$629,10,FALSE),0)","v":32},{"$f":"IFERROR(VLOOKUP($A38,Filtro!$A$5:$AY$629,11,FALSE),0)","v":20},{"$f":"IFERROR(VLOOKUP($A38,Filtro!$A$5:$AY$629,12,FALSE),0)","v":50},{"$f":"IFERROR(VLOOKUP($A38,Filtro!$A$5:$AY$629,13,FALSE),0)","v":38},{"$f":"IFERROR(VLOOKUP($A38,Filtro!$A$5:$AY$629,14,FALSE),0)","v":87},{"$f":"IFERROR(VLOOKUP($A38,Filtro!$A$5:$AY$629,15,FALSE),0)","v":60},{"$f":"IFERROR(VLOOKUP($A38,Filtro!$A$5:$AY$629,16,FALSE),0)","v":144},{"$f":"IFERROR(VLOOKUP($A38,Filtro!$A$5:$AY$629,17,FALSE),0)","v":115},{"$f":"IFERROR(VLOOKUP($A38,Filtro!$A$5:$AY$629,18,FALSE),0)","v":252},{"$f":"IFERROR(VLOOKUP($A38,Filtro!$A$5:$AY$629,19,FALSE),0)","v":176},{"$f":"IFERROR(VLOOKUP($A38,Filtro!$A$5:$AY$629,20,FALSE),0)","v":377},{"$f":"IFERROR(VLOOKUP($A38,Filtro!$A$5:$AY$629,21,FALSE),0)","v":273},{"$f":"IFERROR(VLOOKUP($A38,Filtro!$A$5:$AY$629,22,FALSE),0)","v":516},{"$f":"IFERROR(VLOOKUP($A38,Filtro!$A$5:$AY$629,23,FALSE),0)","v":372},{"$f":"IFERROR(VLOOKUP($A38,Filtro!$A$5:$AY$629,24,FALSE),0)","v":662},{"$f":"IFERROR(VLOOKUP($A38,Filtro!$A$5:$AY$629,25,FALSE),0)","v":508},{"$f":"IFERROR(VLOOKUP($A38,Filtro!$A$5:$AY$629,26,FALSE),0)","v":772},{"$f":"IFERROR(VLOOKUP($A38,Filtro!$A$5:$AY$629,27,FALSE),0)","v":476},{"$f":"IFERROR(VLOOKUP($A38,Filtro!$A$5:$AY$629,28,FALSE),0)","v":651},{"$f":"IFERROR(VLOOKUP($A38,Filtro!$A$5:$AY$629,29,FALSE),0)","v":464},{"$f":"IFERROR(VLOOKUP($A38,Filtro!$A$5:$AY$629,30,FALSE),0)","v":594},{"$f":"IFERROR(VLOOKUP($A38,Filtro!$A$5:$AY$629,31,FALSE),0)","v":521},{"$f":"IFERROR(VLOOKUP($A38,Filtro!$A$5:$AY$629,32,FALSE),0)","v":733},{"$f":"IFERROR(VLOOKUP($A38,Filtro!$A$5:$AY$629,33,FALSE),0)","v":24},{"$f":"IFERROR(VLOOKUP($A38,Filtro!$A$5:$AY$629,34,FALSE),0)","v":38},{"$f":"IFERROR(VLOOKUP($A38,Filtro!$A$5:$AY$629,35,FALSE),0)","v":7},{"$f":"IFERROR(VLOOKUP($A38,Filtro!$A$5:$AY$629,36,FALSE),0)","v":16},{"$f":" BE38 & BF38 & BI38 & BJ38 & BK38 & BL38 & BM38 & BN38 & BO38 & BP38 & BQ38 & BR38 & BS38 & BT38 & BU38 & BV38 & BW38 & BX38 & BY38 & BZ38 & CA38 & CB38 & CC38 & CD38 & CE38 & CF38 & CG38 & CI38 & CJ38 & CH38 & BG38 & BH38 & BC38 & BD38","v":""},{"$nulls":15},"","",{"$f":"IF($E$38>=$AI$38,\"\",\"* Pueblos Originarios-Hombres no debe ser mayor al Total de personas Hombres. \")","v":""},{"$f":"IF($F$38>=$AJ$38,\"\",\"* Pueblos Originarios-Mujeres no debe ser mayor al Total de personas Mujeres. \")","v":""},"","",{"$f":"IF($G$38<=$G$36,\"\",\"* Pacientes 15 a 19 años (Hombres) con HbA1C<7% - PA<140/90mmHg debe ser menor o igual a los con HbA1C<7%. \")","v":""},{"$f":"IF($H$38<=$H$36,\"\",\"* Pacientes 15 a 19 años (Mujeres) con HbA1C<7% - PA<140/90mmHg debe ser menor o igual a los con HbA1C<7%. \")","v":""},{"$f":"IF($I$38<=$I$36,\"\",\"* Pacientes 20 a 24 años (Hombres) con HbA1C<7% - PA<140/90mmHg debe ser menor o igual a los con HbA1C<7%. \")","v":""},{"$f":"IF($J$38<=$J$36,\"\",\"* Pacientes 20 a 24 años (Mujeres) con HbA1C<7% - PA<140/90mmHg debe ser menor o igual a los con HbA1C<7%. \")","v":""},{"$f":"IF($K$38<=$K$36,\"\",\"* Pacientes 25 a 29 años (Hombres) con HbA1C<7% - PA<140/90mmHg debe ser menor o igual a los con HbA1C<7%. \")","v":""},{"$f":"IF($L$38<=$L$36,\"\",\"* Pacientes 25 a 29 años (Mujeres) con HbA1C<7% - PA<140/90mmHg debe ser menor o igual a los con HbA1C<7%. \")","v":""},{"$f":"IF($M$38<=$M$36,\"\",\"* Pacientes 30 a 34 años (Hombres) con HbA1C<7% - PA<140/90mmHg debe ser menor o igual a los con HbA1C<7%. \")","v":""},{"$f":"IF($N$38<=$N$36,\"\",\"* Pacientes 30 a 34 años (Mujeres) con HbA1C<7% - PA<140/90mmHg debe ser menor o igual a los con HbA1C<7%. \")","v":""},{"$f":"IF($O$38<=$O$36,\"\",\"* Pacientes 35 a 39 años (Hombres) con HbA1C<7% - PA<140/90mmHg debe ser menor o igual a los con HbA1C<7%. \")","v":""},{"$f":"IF($P$38<=$P$36,\"\",\"* Pacientes 35 a 39 años (Mujeres) con HbA1C<7% - PA<140/90mmHg debe ser menor o igual a los con HbA1C<7%. \")","v":""},{"$f":"IF($Q$38<=$Q$36,\"\",\"* Pacientes 40 a 44 años (Hombres) con HbA1C<7% - PA<140/90mmHg debe ser menor o igual a los con HbA1C<7%. \")","v":""},{"$f":"IF($R$38<=$R$36,\"\",\"* Pacientes 40 a 44 años (Mujeres) con HbA1C<7% - PA<140/90mmHg debe ser menor o igual a los con HbA1C<7%. \")","v":""},{"$f":"IF($S$38<=$S$36,\"\",\"* Pacientes 45 a 49 años (Hombres) con HbA1C<7% - PA<140/90mmHg debe ser menor o igual a los con HbA1C<7%. \")","v":""},{"$f":"IF($T$38<=$T$36,\"\",\"* Pacientes 45 a 49 años (Mujeres) con HbA1C<7% - PA<140/90mmHg debe ser menor o igual a los con HbA1C<7%. \")","v":""},{"$f":"IF($U$38<=$U$36,\"\",\"* Pacientes 50 a 54 años (Hombres) con HbA1C<7% - PA<140/90mmHg debe ser menor o igual a los con HbA1C<7%. \")","v":""},{"$f":"IF($V$38<=$V$36,\"\",\"* Pacientes 50 a 54 años (Mujeres) con HbA1C<7% - PA<140/90mmHg debe ser menor o igual a los con HbA1C<7%. \")","v":""},{"$f":"IF($W$38<=$W$36,\"\",\"* Pacientes 55 a 59 años (Hombres) con HbA1C<7% - PA<140/90mmHg debe ser menor o igual a los con HbA1C<7%. \")","v":""},{"$f":"IF($X$38<=$X$36,\"\",\"* Pacientes 55 a 59 años (Mujeres) con HbA1C<7% - PA<140/90mmHg debe ser menor o igual a los con HbA1C<7%. \")","v":""},{"$f":"IF($Y$38<=$Y$36,\"\",\"* Pacientes 60 a 64 años (Hombres) con HbA1C<7% - PA<140/90mmHg debe ser menor o igual a los con HbA1C<7%. \")","v":""},{"$f":"IF($Z$38<=$Z$36,\"\",\"* Pacientes 60 a 64 años (Mujeres) con HbA1C<7% - PA<140/90mmHg debe ser menor o igual a los con HbA1C<7%. \")","v":""},{"$f":"IF($AA$38<=$AA$36,\"\",\"* Pacientes 65 a 69 años (Hombres) con HbA1C<7% - PA<140/90mmHg debe ser menor o igual a los con HbA1C<7%. \")","v":""},{"$f":"IF($AB$38<=$AB$36,\"\",\"* Pacientes 65 a 69 años (Mujeres) con HbA1C<7% - PA<140/90mmHg debe ser menor o igual a los con HbA1C<7%. \")","v":""},{"$f":"IF($AC$38<=$AC$36,\"\",\"* Pacientes 70 a 74 años (Hombres) con HbA1C<7% - PA<140/90mmHg debe ser menor o igual a los con HbA1C<7%. \")","v":""},{"$f":"IF($AD$38<=$AD$36,\"\",\"* Pacientes 70 a 74 años (Mujeres) con HbA1C<7% - PA<140/90mmHg debe ser menor o igual a los con HbA1C<7%. \")","v":""},{"$f":"IF($AE$38<=$AE$36,\"\",\"* Pacientes 75 a 79 años (Hombres) con HbA1C<7% - PA<140/90mmHg debe ser menor o igual a los con HbA1C<7%. \")","v":""},{"$f":"IF($AF$38<=$AF$36,\"\",\"* Pacientes 75 a 79 años (Mujeres) con HbA1C<7% - PA<140/70mmHg debe ser menor o igual a los con HbA1C<7%. \")","v":""},{"$nulls":4},0,0,{"$f":"IF($E$38>=$AI$38,0,1)","v":0},{"$f":"IF($F$38>=$AJ$38,0,1)","v":0},0,{"$f":"IF($F38>=$AL38,0,1)","v":0},{"$f":"IF(G$38<=G$36,0,1)","v":0},0,0,0,0,0,0,0,0,0,0,0,0,0,0,0,0,0,0,0,0,0,0,0,0,0]
["P4180500","PERSONAS CON RCV ALTO","COLESTEROL LDL < 100 mg/dL",22442,{"$f":"+G39+I39+K39+M39+O39+Q39+S39+U39+W39+Y39+AA39+AC39+AE39+AG39","v":9131},13311,{"$f":"IFERROR(VLOOKUP($A39,Filtro!$A$5:$AY$629,5,FALSE),0)","v":5},{"$f":"IFERROR(VLOOKUP($A39,Filtro!$A$5:$AY$629,6,FALSE),0)","v":5},{"$f":"IFERROR(VLOOKUP($A39,Filtro!$A$5:$AY$629,7,FALSE),0)","v":11},{"$f":"IFERROR(VLOOKUP($A39,Filtro!$A$5:$AY$629,8,FALSE),0)","v":19},{"$f":"IFERROR(VLOOKUP($A39,Filtro!$A$5:$AY$629,9,FALSE),0)","v":19},{"$f":"IFERROR(VLOOKUP($A39,Filtro!$A$5:$AY$629,10,FALSE),0)","v":57},{"$f":"IFERROR(VLOOKUP($A39,Filtro!$A$5:$AY$629,11,FALSE),0)","v":53},{"$f":"IFERROR(VLOOKUP($A39,Filtro!$A$5:$AY$629,12,FALSE),0)","v":115},{"$f":"IFERROR(VLOOKUP($A39,Filtro!$A$5:$AY$629,13,FALSE),0)","v":93},{"$f":"IFERROR(VLOOKUP($A39,Filtro!$A$5:$AY$629,14,FALSE),0)","v":225},{"$f":"IFERROR(VLOOKUP($A39,Filtro!$A$5:$AY$629,15,FALSE),0)","v":155},{"$f":"IFERROR(VLOOKUP($A39,Filtro!$A$5:$AY$629,16,FALSE),0)","v":363},{"$f":"IFERROR(VLOOKUP($A39,Filtro!$A$5:$AY$629,17,FALSE),0)","v":303},{"$f":"IFERROR(VLOOKUP($A39,Filtro!$A$5:$AY$629,18,FALSE),0)","v":614},{"$f":"IFERROR(VLOOKUP($A39,Filtro!$A$5:$AY$629,19,FALSE),0)","v":534},{"$f":"IFERROR(VLOOKUP($A39,Filtro!$A$5:$AY$629,20,FALSE),0)","v":916},{"$f":"IFERROR(VLOOKUP($A39,Filtro!$A$5:$AY$629,21,FALSE),0)","v":817},{"$f":"IFERROR(VLOOKUP($A39,Filtro!$A$5:$AY$629,22,FALSE),0)","v":1467},{"$f":"IFERROR(VLOOKUP($A39,Filtro!$A$5:$AY$629,23,FALSE),0)","v":1106},{"$f":"IFERROR(VLOOKUP($A39,Filtro!$A$5:$AY$629,24,FALSE),0)","v":1759},{"$f":"IFERROR(VLOOKUP($A39,Filtro!$A$5:$AY$629,25,FALSE),0)","v":1463},{"$f":"IFERROR(VLOOKUP($A39,Filtro!$A$5:$AY$629,26,FALSE),0)","v":1912},{"$f":"IFERROR(VLOOKUP($A39,Filtro!$A$5:$AY$629,27,FALSE),0)","v":1459},{"$f":"IFERROR(VLOOKUP($A39,Filtro!$A$5:$AY$629,28,FALSE),0)","v":1783},{"$f":"IFERROR(VLOOKUP($A39,Filtro!$A$5:$AY$629,29,FALSE),0)","v":1269},{"$f":"IFERROR(VLOOKUP($A39,Filtro!$A$5:$AY$629,30,FALSE),0)","v":1598},{"$f":"IFERROR(VLOOKUP($A39,Filtro!$A$5:$AY$629,31,FALSE),0)","v":1844},{"$f":"IFERROR(VLOOKUP($A39,Filtro!$A$5:$AY$629,32,FALSE),0)","v":2478},{"$f":"IFERROR(VLOOKUP($A39,Filtro!$A$5:$AY$629,33,FALSE),0)","v":41},{"$f":"IFERROR(VLOOKUP($A39,Filtro!$A$5:$AY$629,34,FALSE),0)","v":68},{"$f":"IFERROR(VLOOKUP($A39,Filtro!$A$5:$AY$629,35,FALSE),0)","v":27},{"$f":"IFERROR(VLOOKUP($A39,Filtro!$A$5:$AY$629,36,FALSE),0)","v":60},{"$f":" BE39 & BF39 & BI39 & BJ39 & BK39 & BL39 & BM39 & BN39 & BO39 & BP39 & BQ39 & BR39 & BS39 & BT39 & BU39 & BV39 & BW39 & BX39 & BY39 & BZ39 & CA39 & CB39 & CC39 & CD39 & CE39 & CF39 & CG39 & CI39 & CJ39 & CH39 & BG39 & BH39 & BC39 & BD39","v":""},{"$nulls":15},"","",{"$f":"IF($E$39>=$AI$39,\"\",\"* Pueblos Originarios-Hombres no debe ser mayor al Total de personas Hombres. \")","v":""},{"$f":"IF($F$39>=$AJ$39,\"\",\"* Pueblos Originarios-Mujeres no debe ser mayor al Total de personas Mujeres. \")","v":""},"","",{"$f":"IF($G$39<=$G$15,\"\",\"* Pacientes 15 a 19 años (Hombres) con RCV Alto con Colesterol LDL <100 mg/dl no debe ser mayor al Total RCV Alto de Sección A. \")","v":""},{"$f":"IF($H$39<=$H$15,\"\",\"* Pacientes 15 a 19 años (Mujeres) con RCV Alto con Colesterol LDL <100 mg/dl no debe ser mayor al Total RCV Alto de Sección A. \")","v":""},{"$f":"IF($I$39<=+$I$15,\"\",\"* Pacientes 20 a 24 años (Hombres) con RCV Alto con Colesterol LDL <100 mg/dl no debe ser mayor al Total RCV Alto de Sección A. \")","v":""},{"$f":"IF($J$39<=+$J$15,\"\",\"* Pacientes 20 a 24 años (Mujeres) con RCV Alto con Colesterol LDL <100 mg/dl no debe ser mayor al Total RCV Alto de Sección A. \")","v":""},{"$f":"IF($K$39<=+$K$15,\"\",\"* Pacientes 25 a 29 años (Hombres) con RCV Alto con Colesterol LDL <100 mg/dl no debe ser mayor al Total RCV Alto de Sección A. \")","v":""},{"$f":"IF($L$39<=+$L$15,\"\",\"* Pacientes 25 a 29 años (Mujeres) con RCV Alto con Colesterol LDL <100 mg/dl no debe ser mayor al Total RCV Alto de Sección A. \")","v":""},{"$f":"IF($M$39<=+$M$15,\"\",\"* Pacientes 30 a 34 años (Hombres) con RCV Alto con Colesterol LDL <100 mg/dl no debe ser mayor al Total RCV Alto de Sección A. \")","v":""},{"$f":"IF($N$39<=+$N$15,\"\",\"* Pacientes 30 a 34 años (Mujeres) con RCV Alto con Colesterol LDL <100 mg/dl no debe ser mayor al Total RCV Alto de Sección A. \")","v":""},{"$f":"IF($O$39<=+$O$15,\"\",\"* Pacientes 35 a 39 años (Hombres) con RCV Alto con Colesterol LDL <100 mg/dl no debe ser mayor al Total RCV Alto de Sección A. \")","v":""},{"$f":"IF($P$39<=+$P$15,\"\",\"* Pacientes 35 a 39 años (Mujeres) con RCV Alto con Colesterol LDL <100 mg/dl no debe ser mayor al Total RCV Alto de Sección A. \")","v":""},{"$f":"IF($Q$39<=+$Q$15,\"\",\"* Pacientes 40 a 44 años (Hombres) con RCV Alto con Colesterol LDL <100 mg/dl no debe ser mayor al Total RCV Alto de Sección A. \")","v":""},{"$f":"IF($R$39<=+$R$15,\"\",\"* Pacientes 40 a 44 años (Mujeres) con RCV Alto con Colesterol LDL <100 mg/dl no debe ser mayor al Total RCV Alto de Sección A. \")","v":""},{"$f":"IF($S$39<=+$S$15,\"\",\"* Pacientes 45 a 49 años (Hombres) con RCV Alto con Colesterol LDL <100 mg/dl no debe ser mayor al Total RCV Alto de Sección A. \")","v":""},{"$f":"IF($T$39<=+$T$15,\"\",\"* Pacientes 45 a 49 años (Mujeres) con RCV Alto con Colesterol LDL <100 mg/dl no debe ser mayor al Total RCV Alto de Sección A. \")","v":""},{"$f":"IF($U$39<=+$U$15,\"\",\"* Pacientes 50 a 54 años (Hombres) con RCV Alto con Colesterol LDL <100 mg/dl no debe ser mayor al Total RCV Alto de Sección A. \")","v":""},{"$f":"IF($V$39<=+$V$15,\"\",\"* Pacientes 50 a 54 años (Mujeres) con RCV Alto con Colesterol LDL <100 mg/dl no debe ser mayor al Total RCV Alto de Sección A. \")","v":""},{"$f":"IF($W$39<=+$W$15,\"\",\"* Pacientes 55 a 59 años (Hombres) con RCV Alto con Colesterol LDL <100 mg/dl no debe ser mayor al Total RCV Alto de Sección A. \")","v":""},{"$f":"IF($X$39<=+$X$15,\"\",\"* Pacientes 55 a 59 años (Mujeres) con RCV Alto con Colesterol LDL <100 mg/dl no debe ser mayor al Total RCV Alto de Sección A. \")","v":""},{"$f":"IF($Y$39<=+$Y$15,\"\",\"* Pacientes 60 a 64 años (Hombres) con RCV Alto con Colesterol LDL <100 mg/dl no debe ser mayor al Total RCV Alto de Sección A. \")","v":""},{"$f":"IF($Z$39<=+$Z$15,\"\",\"* Pacientes 60 a 64 años (Mujeres) con RCV Alto con Colesterol LDL <100 mg/dl no debe ser mayor al Total RCV Alto de Sección A. \")","v":""},{"$f":"IF($AA$39<=+$AA$15,\"\",\"* Pacientes 65 a 69 años (Hombres) con RCV Alto con Colesterol LDL <100 mg/dl no debe ser mayor al Total RCV Alto de Sección A. \")","v":""},{"$f":"IF($AB$39<=+$AB$15,\"\",\"* Pacientes 65 a 69 años (Mujeres) con RCV Alto con Colesterol LDL <100 mg/dl no debe ser mayor al Total RCV Alto de Sección A. \")","v":""},{"$f":"IF($AC$39<=+$AC$15,\"\",\"* Pacientes 70 a 74 años (Hombres) con RCV Alto con Colesterol LDL <100 mg/dl no debe ser mayor al Total RCV Alto de Sección A. \")","v":""},{"$f":"IF($AD$39<=+$AD$15,\"\",\"* Pacientes 70 a 74 años (Mujeres) con RCV Alto con Colesterol LDL <100 mg/dl no debe ser mayor al Total RCV Alto de Sección A. \")","v":""},{"$f":"IF($AE$39<=+$AE$15,\"\",\"* Pacientes 75 a 79 años (Hombres) con RCV Alto con Colesterol LDL <100 mg/dl no debe ser mayor al Total RCV Alto de Sección A. \")","v":""},{"$f":"IF($AF$39<=+$AF$15,\"\",\"* Pacientes 75 a 79 años (Mujeres) con RCV Alto con Colesterol LDL <100 mg/dl no debe ser mayor al Total RCV Alto de Sección A. \")","v":""},{"$f":"IF($AG$39<=+$AG$15,\"\",\"* Pacientes 80 y más años (Hombres) con RCV Alto con Colesterol LDL <100 mg/dl no debe ser mayor al Total RCV Alto de Sección A. \")","v":""},{"$f":"IF($AH$39<=+$AH$15,\"\",\"* Pacientes 80 y más años (Mujeres) con RCV Alto con Colesterol LDL <100 mg/dl no debe ser mayor al Total RCV Alto de Sección A. \")","v":""},null,null,0,0,{"$f":"IF($E$39>=$AI$39,0,1)","v":0},{"$f":"IF($F$39>=$AJ$39,0,1)","v":0},0,{"$f":"IF($F39>=$AK39,0,1)","v":0},{"$f":"IF(G$39<=+G$15,0,1)","v":0},0,0,0,0,0,0,0,0,0,0,0,0,0,0,0,0,0,0,0,0,0,0,0,0,0,0,0]
["P4190930","PERSONAS BAJO CONTROL con antecedentes Enfermedad Cardiovascular (ECV)","En tratamiento con Antiagregantes plaquetarios",3511,1907,1604,{"$f":"IFERROR(VLOOKUP($A40,Filtro!$A$5:$AY$629,5,FALSE),0)","v":0},{"$f":"IFERROR(VLOOKUP($A40,Filtro!$A$5:$AY$629,6,FALSE),0)","v":0},{"$f":"IFERROR(VLOOKUP($A40,Filtro!$A$5:$AY$629,7,FALSE),0)","v":0},{"$f":"IFERROR(VLOOKUP($A40,Filtro!$A$5:$AY$629,8,FALSE),0)","v":0},{"$f":"IFERROR(VLOOKUP($A40,Filtro!$A$5:$AY$629,9,FALSE),0)","v":4},{"$f":"IFERROR(VLOOKUP($A40,Filtro!$A$5:$AY$629,10,FALSE),0)","v":0},{"$f":"IFERROR(VLOOKUP($A40,Filtro!$A$5:$AY$629,11,FALSE),0)","v":3},{"$f":"IFERROR(VLOOKUP($A40,Filtro!$A$5:$AY$629,12,FALSE),0)","v":3},{"$f":"IFERROR(VLOOKUP($A40,Filtro!$A$5:$AY$629,13,FALSE),0)","v":2},{"$f":"IFERROR(VLOOKUP($A40,Filtro!$A$5:$AY$629,14,FALSE),0)","v":6},{"$f":"IFERROR(VLOOKUP($A40,Filtro!$A$5:$AY$629,15,FALSE),0)","v":16},{"$f":"IFERROR(VLOOKUP($A40,Filtro!$A$5:$AY$629,16,FALSE),0)","v":23},{"$f":"IFERROR(VLOOKUP($A40,Filtro!$A$5:$AY$629,17,FALSE),0)","v":40},{"$f":"IFERROR(VLOOKUP($A40,Filtro!$A$5:$AY$629,18,FALSE),0)","v":31},{"$f":"IFERROR(VLOOKUP($A40,Filtro!$A$5:$AY$629,19,FALSE),0)","v":90},{"$f":"IFERROR(VLOOKUP($A40,Filtro!$A$5:$AY$629,20,FALSE),0)","v":94},{"$f":"IFERROR(VLOOKUP($A40,Filtro!$A$5:$AY$629,21,FALSE),0)","v":136},{"$f":"IFERROR(VLOOKUP($A40,Filtro!$A$5:$AY$629,22,FALSE),0)","v":135},{"$f":"IFERROR(VLOOKUP($A40,Filtro!$A$5:$AY$629,23,FALSE),0)","v":270},{"$f":"IFERROR(VLOOKUP($A40,Filtro!$A$5:$AY$629,24,FALSE),0)","v":225},{"$f":"IFERROR(VLOOKUP($A40,Filtro!$A$5:$AY$629,25,FALSE),0)","v":324},{"$f":"IFERROR(VLOOKUP($A40,Filtro!$A$5:$AY$629,26,FALSE),0)","v":231},{"$f":"IFERROR(VLOOKUP($A40,Filtro!$A$5:$AY$629,27,FALSE),0)","v":350},{"$f":"IFERROR(VLOOKUP($A40,Filtro!$A$5:$AY$629,28,FALSE),0)","v":239},{"$f":"IFERROR(VLOOKUP($A40,Filtro!$A$5:$AY$629,29,FALSE),0)","v":285},{"$f":"IFERROR(VLOOKUP($A40,Filtro!$A$5:$AY$629,30,FALSE),0)","v":249},{"$f":"IFERROR(VLOOKUP($A40,Filtro!$A$5:$AY$629,31,FALSE),0)","v":387},{"$f":"IFERROR(VLOOKUP($A40,Filtro!$A$5:$AY$629,32,FALSE),0)","v":368},{"$f":"IFERROR(VLOOKUP($A40,Filtro!$A$5:$AY$629,33,FALSE),0)","v":7},{"$f":"IFERROR(VLOOKUP($A40,Filtro!$A$5:$AY$629,34,FALSE),0)","v":8},{"$f":"IFERROR(VLOOKUP($A40,Filtro!$A$5:$AY$629,35,FALSE),0)","v":7},{"$f":"IFERROR(VLOOKUP($A40,Filtro!$A$5:$AY$629,36,FALSE),0)","v":2},{"$f":" BE40 & BF40 & BI40 & BJ40 & BK40 & BL40 & BM40 & BN40 & BO40 & BP40 & BQ40 & BR40 & BS40 & BT40 & BU40 & BV40 & BW40 & BX40 & BY40 & BZ40 & CA40 & CB40 & CC40 & CD40 & CE40 & CF40 & CG40 & CI40 & CJ40 & CH40 & BG40 & BH40 & BC40 & BD40","v":""},{"$nulls":15},"","",{"$f":"IF($E$40>=$AI$40,\"\",\"* Pueblos Originarios-Hombres no debe ser mayor al Total de personas Hombres. \")","v":""},{"$f":"IF($F$40>=$AJ$40,\"\",\"* Pueblos Originarios-Mujeres no debe ser mayor al Total de personas Mujeres. \")","v":""},"","",{"$f":"IF($G$40<=$G$20+$G$21,\"\",\"* Pacientes 15 a 19 años (Hombres) con con antecedentes ECV con tto. Antiagregante plaquetario no debe ser mayor al Total Población con Antecedentes de IAM y ECV de Sección A. \")","v":""},{"$f":"IF($H$40<=$H$20+$H$21,\"\",\"* Pacientes 15 a 19 años (Mujeres) con con antecedentes ECV con tto. Antiagregante plaquetario no debe ser mayor al Total Población con Antecedentes de IAM y ECV de Sección A. \")","v":""},{"$f":"IF($I$40<=$I$20+$I$21,\"\",\"* Pacientes 20 a 24 años (Hombres) con con antecedentes ECV con tto. Antiagregante plaquetario no debe ser mayor al Total Población con Antecedentes de IAM y ECV de Sección A. \")","v":""},{"$f":"IF($J$40<=$J$20+$J$21,\"\",\"* Pacientes 20 a 24 años (Mujeres) con con antecedentes ECV con tto. Antiagregante plaquetario no debe ser mayor al Total Población con Antecedentes de IAM y ECV de Sección A. \")","v":""},{"$f":"IF($K$40<=$K$20+$K$21,\"\",\"* Pacientes 25 a 29 años (Hombres) con con antecedentes ECV con tto. Antiagregante plaquetario no debe ser mayor al Total Población con Antecedentes de IAM y ECV de Sección A. \")","v":""},{"$f":"IF($L$40<=$L$20+$L$21,\"\",\"* Pacientes 25 a 29 años (Mujeres) con con antecedentes ECV con tto. Antiagregante plaquetario no debe ser mayor al Total Población con Antecedentes de IAM y ECV de Sección A. \")","v":""},{"$f":"IF($M$40<=$M$20+$M$21,\"\",\"* Pacientes 30 a 34 años (Hombres) con con antecedentes ECV con tto. Antiagregante plaquetario no debe ser mayor al Total Población con Antecedentes de IAM y ECV de Sección A. \")","v":""},{"$f":"IF($N$40<=$N$20+$N$21,\"\",\"* Pacientes 30 a 34 años (Mujeres) con con antecedentes ECV con tto. Antiagregante plaquetario no debe ser mayor al Total Población con Antecedentes de IAM y ECV de Sección A. \")","v":""},{"$f":"IF($O$40<=$O$20+$O$21,\"\",\"* Pacientes 35 a 39 años (Hombres) con con antecedentes ECV con tto. Antiagregante plaquetario no debe ser mayor al Total Población con Antecedentes de IAM y ECV de Sección A. \")","v":""},{"$f":"IF($P$40<=$P$20+$P$21,\"\",\"* Pacientes 35 a 39 años (Mujeres) con con antecedentes ECV con tto. Antiagregante plaquetario no debe ser mayor al Total Población con Antecedentes de IAM y ECV de Sección A. \")","v":""},{"$f":"IF($Q$40<=$Q$20+$Q$21,\"\",\"* Pacientes 40 a 44 años (Hombres) con con antecedentes ECV con tto.Antiagregante plaquetario no debe ser mayor al Total Población con Antecedentes de IAM y ECV de Sección A. \")","v":""},{"$f":"IF($R$40<=$R$20+$R$21,\"\",\"* Pacientes 40 a 44 años (Mujeres) con con antecedentes ECV con tto. Antiagregante plaquetario no debe ser mayor al Total Población con Antecedentes de IAM y ECV de Sección A. \")","v":""},{"$f":"IF($S$40<=$S$20+$S$21,\"\",\"* Pacientes 45 a 49 años (Hombres) con con antecedentes ECV con tto.Antiagregante plaquetario no debe ser mayor al Total Población con Antecedentes de IAM y ECV de Sección A. \")","v":""},{"$f":"IF($T$40<=$T$20+$T$21,\"\",\"* Pacientes 45 a 49 años (Mujeres) con con antecedentes ECV con tto. Antiagregante plaquetario no debe ser mayor al Total Población con Antecedentes de IAM y ECV de Sección A. \")","v":""},{"$f":"IF($U$40<=$U$20+$U$21,\"\",\"* Pacientes 50 a 54 años (Hombres) con con antecedentes ECV con tto. Antiagregante plaquetario no debe ser mayor al Total Población con Antecedentes de IAM y ECV de Sección A. \")","v":""},{"$f":"IF($V$40<=$V$20+$V$21,\"\",\"* Pacientes 50 a 54 años (Mujeres) con con antecedentes ECV con tto. Antiagregante plaquetario no debe ser mayor al Total Población con Antecedentes de IAM y ECV de Sección A. \")","v":""},{"$f":"IF($W$40<=$W$20+$W$21,\"\",\"* Pacientes 55 a 59 años (Hombres) con con antecedentes ECV con tto. Antiagregante plaquetario no debe ser mayor al Total Población con Antecedentes de IAM y ECV de Sección A. \")","v":""},{"$f":"IF($X$40<=$X$20+$X$21,\"\",\"* Pacientes 55 a 59 años (Mujeres) con con antecedentes ECV con tto. Antiagregante plaquetario no debe ser mayor al Total Población con Antecedentes de IAM y ECV de Sección A. \")","v":""},{"$f":"IF($Y$40<=$Y$20+$Y$21,\"\",\"* Pacientes 60 a 64 años (Hombres) con con antecedentes ECV con tto. Antiagregante plaquetario no debe ser mayor al Total Población con Antecedentes de IAM y ECV de Sección A. \")","v":""},{"$f":"IF($Z$40<=$Z$20+$Z$21,\"\",\"* Pacientes 60 a 64 años (Mujeres) con con antecedentes ECV con tto. Antiagregante plaquetario no debe ser mayor al Total Población con Antecedentes de IAM y ECV de Sección A. \")","v":""},{"$f":"IF($AA$40<=$AA$20+$AA$21,\"\",\"* Pacientes 65 a 69 años (Hombres) con con antecedentes ECV con tto. Antiagregante plaquetario no debe ser mayor al Total Población con Antecedentes de IAM y ECV de Sección A. \")","v":""},{"$f":"IF($AB$40<=$AB$20+$AB$21,\"\",\"* Pacientes 65 a 69 años (Mujeres) con con antecedentes ECV con tto. Antiagregante plaquetario no debe ser mayor al Total Población con Antecedentes de IAM y ECV de Sección A. \")","v":""},{"$f":"IF($AC$40<=$AC$20+$AC$21,\"\",\"* Pacientes 70 a 74 años (Hombres) con con antecedentes ECV con tto. Antiagregante plaquetario no debe ser mayor al Total Población con Antecedentes de IAM y ECV de Sección A. \")","v":""},{"$f":"IF($AD$40<=$AD$20+$AD$21,\"\",\"* Pacientes 70 a 74 años (Mujeres) con con antecedentes ECV con tto. Antiagregante plaquetario no debe ser mayor al Total Población con Antecedentes de IAM y ECV de Sección A. \")","v":""},{"$f":"IF($AE$40<=$AE$20+$AE$21,\"\",\"* Pacientes 75 a 79 años (Hombres) con con antecedentes ECV con tto. Antiagregante plaquetario no debe ser mayor al Total Población con Antecedentes de IAM y ECV de Sección A. \")","v":""},{"$f":"IF($AF$40<=$AF$20+$AF$21,\"\",\"* Pacientes 75 a 79 años (Mujeres) con con antecedentes ECV con tto. Antiagregante plaquetario no debe ser mayor al Total Población con Antecedentes de IAM y ECV de Sección A. \")","v":""},{"$f":"IF($AG$40<=$AG$20+$AG$21,\"\",\"* Pacientes 80 y más años (Hombres) con con antecedentes ECV con tto. Antiagregante plaquetario no debe ser mayor al Total Población con Antecedentes de IAM y ECV de Sección A. \")","v":""},{"$f":"IF($AH$40<=$AH$20+$AH$21,\"\",\"* Pacientes 80 y más años (Mujeres) con con antecedentes ECV con tto. Antiagregante plaquetario no debe ser mayor al Total Población con Antecedentes de IAM y ECV de Sección A. \")","v":""},null,null,0,0,{"$f":"IF($E$40>=$AI$40,0,1)","v":0},{"$f":"IF($F$40>=$AJ$40,0,1)","v":0},0,{"$f":"IF($F40>=$AK40,0,1)","v":0},{"$f":"IF(G$40<=G$20+G$21,0,1)","v":0},0,0,0,0,0,0,0,0,0,0,0,0,0,0,0,0,0,0,0,0,0,0,0,0,0,0,0]
["P4190940",null,"En tratamiento con Estatina",{"$f":"SUM(E41:F41)","v":3736},2000,1736,{"$f":"IFERROR(VLOOKUP($A41,Filtro!$A$5:$AY$629,5,FALSE),0)","v":0},{"$f":"IFERROR(VLOOKUP($A41,Filtro!$A$5:$AY$629,6,FALSE),0)","v":0},{"$f":"IFERROR(VLOOKUP($A41,Filtro!$A$5:$AY$629,7,FALSE),0)","v":0},{"$f":"IFERROR(VLOOKUP($A41,Filtro!$A$5:$AY$629,8,FALSE),0)","v":0},{"$f":"IFERROR(VLOOKUP($A41,Filtro!$A$5:$AY$629,9,FALSE),0)","v":3},{"$f":"IFERROR(VLOOKUP($A41,Filtro!$A$5:$AY$629,10,FALSE),0)","v":0},{"$f":"IFERROR(VLOOKUP($A41,Filtro!$A$5:$AY$629,11,FALSE),0)","v":3},{"$f":"IFERROR(VLOOKUP($A41,Filtro!$A$5:$AY$629,12,FALSE),0)","v":3},{"$f":"IFERROR(VLOOKUP($A41,Filtro!$A$5:$AY$629,13,FALSE),0)","v":6},{"$f":"IFERROR(VLOOKUP($A41,Filtro!$A$5:$AY$629,14,FALSE),0)","v":8},{"$f":"IFERROR(VLOOKUP($A41,Filtro!$A$5:$AY$629,15,FALSE),0)","v":20},{"$f":"IFERROR(VLOOKUP($A41,Filtro!$A$5:$AY$629,16,FALSE),0)","v":24},{"$f":"IFERROR(VLOOKUP($A41,Filtro!$A$5:$AY$629,17,FALSE),0)","v":44},{"$f":"IFERROR(VLOOKUP($A41,Filtro!$A$5:$AY$629,18,FALSE),0)","v":33},{"$f":"IFERROR(VLOOKUP($A41,Filtro!$A$5:$AY$629,19,FALSE),0)","v":81},{"$f":"IFERROR(VLOOKUP($A41,Filtro!$A$5:$AY$629,20,FALSE),0)","v":96},{"$f":"IFERROR(VLOOKUP($A41,Filtro!$A$5:$AY$629,21,FALSE),0)","v":133},{"$f":"IFERROR(VLOOKUP($A41,Filtro!$A$5:$AY$629,22,FALSE),0)","v":137},{"$f":"IFERROR(VLOOKUP($A41,Filtro!$A$5:$AY$629,23,FALSE),0)","v":263},{"$f":"IFERROR(VLOOKUP($A41,Filtro!$A$5:$AY$629,24,FALSE),0)","v":221},{"$f":"IFERROR(VLOOKUP($A41,Filtro!$A$5:$AY$629,25,FALSE),0)","v":329},{"$f":"IFERROR(VLOOKUP($A41,Filtro!$A$5:$AY$629,26,FALSE),0)","v":240},{"$f":"IFERROR(VLOOKUP($A41,Filtro!$A$5:$AY$629,27,FALSE),0)","v":359},{"$f":"IFERROR(VLOOKUP($A41,Filtro!$A$5:$AY$629,28,FALSE),0)","v":250},{"$f":"IFERROR(VLOOKUP($A41,Filtro!$A$5:$AY$629,29,FALSE),0)","v":331},{"$f":"IFERROR(VLOOKUP($A41,Filtro!$A$5:$AY$629,30,FALSE),0)","v":322},{"$f":"IFERROR(VLOOKUP($A41,Filtro!$A$5:$AY$629,31,FALSE),0)","v":428},{"$f":"IFERROR(VLOOKUP($A41,Filtro!$A$5:$AY$629,32,FALSE),0)","v":402},{"$f":"IFERROR(VLOOKUP($A41,Filtro!$A$5:$AY$629,33,FALSE),0)","v":13},{"$f":"IFERROR(VLOOKUP($A41,Filtro!$A$5:$AY$629,34,FALSE),0)","v":19},{"$f":"IFERROR(VLOOKUP($A41,Filtro!$A$5:$AY$629,35,FALSE),0)","v":8},{"$f":"IFERROR(VLOOKUP($A41,Filtro!$A$5:$AY$629,36,FALSE),0)","v":2}]
["P4301030",null,"Fumador actual",{"$f":"SUM(E42:F42)","v":1424},{"$f":"+G42+I42+K42+M42+O42+Q42+S42+U42+W42+Y42+AA42+AC42+AE42+AG42","v":694},{"$f":"+H42+J42+L42+N42+P42+R42+T42+V42+X42+Z42+AB42+AD42+AF42+AH42","v":730},{"$f":"IFERROR(VLOOKUP($A42,Filtro!$A$5:$AY$629,5,FALSE),0)","v":0},{"$f":"IFERROR(VLOOKUP($A42,Filtro!$A$5:$AY$629,6,FALSE),0)","v":0},{"$f":"IFERROR(VLOOKUP($A42,Filtro!$A$5:$AY$629,7,FALSE),0)","v":0},{"$f":"IFERROR(VLOOKUP($A42,Filtro!$A$5:$AY$629,8,FALSE),0)","v":1},{"$f":"IFERROR(VLOOKUP($A42,Filtro!$A$5:$AY$629,9,FALSE),0)","v":3},{"$f":"IFERROR(VLOOKUP($A42,Filtro!$A$5:$AY$629,10,FALSE),0)","v":5},{"$f":"IFERROR(VLOOKUP($A42,Filtro!$A$5:$AY$629,11,FALSE),0)","v":8},{"$f":"IFERROR(VLOOKUP($A42,Filtro!$A$5:$AY$629,12,FALSE),0)","v":12},{"$f":"IFERROR(VLOOKUP($A42,Filtro!$A$5:$AY$629,13,FALSE),0)","v":10},{"$f":"IFERROR(VLOOKUP($A42,Filtro!$A$5:$AY$629,14,FALSE),0)","v":14},{"$f":"IFERROR(VLOOKUP($A42,Filtro!$A$5:$AY$629,15,FALSE),0)","v":24},{"$f":"IFERROR(VLOOKUP($A42,Filtro!$A$5:$AY$629,16,FALSE),0)","v":41},{"$f":"IFERROR(VLOOKUP($A42,Filtro!$A$5:$AY$629,17,FALSE),0)","v":36},{"$f":"IFERROR(VLOOKUP($A42,Filtro!$A$5:$AY$629,18,FALSE),0)","v":39},{"$f":"IFERROR(VLOOKUP($A42,Filtro!$A$5:$AY$629,19,FALSE),0)","v":61},{"$f":"IFERROR(VLOOKUP($A42,Filtro!$A$5:$AY$629,20,FALSE),0)","v":71},{"$f":"IFERROR(VLOOKUP($A42,Filtro!$A$5:$AY$629,21,FALSE),0)","v":88},{"$f":"IFERROR(VLOOKUP($A42,Filtro!$A$5:$AY$629,22,FALSE),0)","v":125},{"$f":"IFERROR(VLOOKUP($A42,Filtro!$A$5:$AY$629,23,FALSE),0)","v":138},{"$f":"IFERROR(VLOOKUP($A42,Filtro!$A$5:$AY$629,24,FALSE),0)","v":152},{"$f":"IFERROR(VLOOKUP($A42,Filtro!$A$5:$AY$629,25,FALSE),0)","v":110},{"$f":"IFERROR(VLOOKUP($A42,Filtro!$A$5:$AY$629,26,FALSE),0)","v":108},{"$f":"IFERROR(VLOOKUP($A42,Filtro!$A$5:$AY$629,27,FALSE),0)","v":99},{"$f":"IFERROR(VLOOKUP($A42,Filtro!$A$5:$AY$629,28,FALSE),0)","v":86},{"$f":"IFERROR(VLOOKUP($A42,Filtro!$A$5:$AY$629,29,FALSE),0)","v":62},{"$f":"IFERROR(VLOOKUP($A42,Filtro!$A$5:$AY$629,30,FALSE),0)","v":52},{"$f":"IFERROR(VLOOKUP($A42,Filtro!$A$5:$AY$629,31,FALSE),0)","v":55},{"$f":"IFERROR(VLOOKUP($A42,Filtro!$A$5:$AY$629,32,FALSE),0)","v":24},{"$f":"IFERROR(VLOOKUP($A42,Filtro!$A$5:$AY$629,33,FALSE),0)","v":8},{"$f":"IFERROR(VLOOKUP($A42,Filtro!$A$5:$AY$629,34,FALSE),0)","v":3},{"$f":"IFERROR(VLOOKUP($A42,Filtro!$A$5:$AY$629,35,FALSE),0)","v":2},{"$f":"IFERROR(VLOOKUP($A42,Filtro!$A$5:$AY$629,36,FALSE),0)","v":0},{"$f":" BE42 & BF42 & BI42 & BJ42 & BK42 & BL42 & BM42 & BN42 & BO42 & BP42 & BQ42 & BR42 & BS42 & BT42 & BU42 & BV42 & BW42 & BX42 & BY42 & BZ42 & CA42 & CB42 & CC42 & CD42 & CE42 & CF42 & CG42 & CI42 & CJ42 & CH42 & BH42 & BG42 & BC42 & BD42","v":"* Pacientes 20 a 24 años (Mujeres) con con antecedentes ECV con Estatina no debe ser mayor al Total Población con Antecedentes de IAM y ECV de Sección A. * Pacientes 25 a 29 años (Mujeres) con con antecedentes ECV con Estatina no debe ser mayor al Total Población con Antecedentes de IAM y ECV de Sección A. * Pacientes 30 a 34 años (Hombres) con con antecedentes ECV con Estatina no debe ser mayor al Total Población con Antecedentes de IAM y ECV de Sección A. * Pacientes 30 a 34 años (Mujeres) con con antecedentes ECV con Estatina no debe ser mayor al Total Población con Antecedentes de IAM y ECV de Sección A. "},{"$nulls":15},"","",{"$f":"IF($E$42>=$AI$42,\"\",\"* Pueblos Originarios-Hombres no debe ser mayor al Total de personas Hombres. \")","v":""},{"$f":"IF($F$42>=$AJ$42,\"\",\"* Pueblos Originarios-Mujeres no debe ser mayor al Total de personas Mujeres. \")","v":""},"","",{"$f":"IF($G$42<=$G$20+$G$21,\"\",\"* Pacientes 15 a 19 años (Hombres) con con antecedentes ECV con Estatina no debe ser mayor al Total Población con Antecedentes de IAM y ECV de Sección A. \")","v":""},{"$f":"IF($H$42<=$H$20+$H$21,\"\",\"* Pacientes 15 a 19 años (Mujeres) con con antecedentes ECV con Estatina no debe ser mayor al Total Población con Antecedentes de IAM y ECV de Sección A. \")","v":""},{"$f":"IF($I$42<=$I$20+$I$21,\"\",\"* Pacientes 20 a 24 años (Hombres) con con antecedentes ECV con Estatina no debe ser mayor al Total Población con Antecedentes de IAM y ECV de Sección A. \")","v":""},{"$f":"IF($J$42<=$J$20+$J$21,\"\",\"* Pacientes 20 a 24 años (Mujeres) con con antecedentes ECV con Estatina no debe ser mayor al Total Población con Antecedentes de IAM y ECV de Sección A. \")","v":"* Pacientes 20 a 24 años (Mujeres) con con antecedentes ECV con Estatina no debe ser mayor al Total Población con Antecedentes de IAM y ECV de Sección A. "},{"$f":"IF($K$42<=$K$20+$K$21,\"\",\"* Pacientes 25 a 29 años (Hombres) con con antecedentes ECV con Estatina no debe ser mayor al Total Población con Antecedentes de IAM y ECV de Sección A. \")","v":""},{"$f":"IF($L$42<=$L$20+$L$21,\"\",\"* Pacientes 25 a 29 años (Mujeres) con con antecedentes ECV con Estatina no debe ser mayor al Total Población con Antecedentes de IAM y ECV de Sección A. \")","v":"* Pacientes 25 a 29 años (Mujeres) con con antecedentes ECV con Estatina no debe ser mayor al Total Población con Antecedentes de IAM y ECV de Sección A. "},{"$f":"IF($M$42<=$M$20+$M$21,\"\",\"* Pacientes 30 a 34 años (Hombres) con con antecedentes ECV con Estatina no debe ser mayor al Total Población con Antecedentes de IAM y ECV de Sección A. \")","v":"* Pacientes 30 a 34 años (Hombres) con con antecedentes ECV con Estatina no debe ser mayor al Total Población con Antecedentes de IAM y ECV de Sección A. "},{"$f":"IF($N$42<=$N$20+$N$21,\"\",\"* Pacientes 30 a 34 años (Mujeres) con con antecedentes ECV con Estatina no debe ser mayor al Total Población con Antecedentes de IAM y ECV de Sección A. \")","v":"* Pacientes 30 a 34 años (Mujeres) con con antecedentes ECV con Estatina no debe ser mayor al Total Población con Antecedentes de IAM y ECV de Sección A. "},{"$f":"IF($O$42<=$O$20+$O$21,\"\",\"* Pacientes 35 a 39 años (Hombres) con con antecedentes ECV con Estatina no debe ser mayor al Total Población con Antecedentes de IAM y ECV de Sección A. \")","v":""},{"$f":"IF($P$42<=$P$20+$P$21,\"\",\"* Pacientes 35 a 39 años (Mujeres) con con antecedentes ECV con Estatina no debe ser mayor al Total Población con Antecedentes de IAM y ECV de Sección A. \")","v":""},{"$f":"IF($Q$42<=$Q$20+$Q$21,\"\",\"* Pacientes 40 a 44 años (Hombres) con con antecedentes ECV con Estatina no debe ser mayor al Total Población con Antecedentes de IAM y ECV de Sección A. \")","v":""},{"$f":"IF($R$42<=$R$20+$R$21,\"\",\"* Pacientes 40 a 44 años (Mujeres) con con antecedentes ECV con Estatina no debe ser mayor al Total Población con Antecedentes de IAM y ECV de Sección A. \")","v":""},{"$f":"IF($S$42<=$S$20+$S$21,\"\",\"* Pacientes 45 a 49 años (Hombres) con con antecedentes ECV con Estatina no debe ser mayor al Total Población con Antecedentes de IAM y ECV de Sección A. \")","v":""},{"$f":"IF($T$42<=$T$20+$T$21,\"\",\"* Pacientes 45 a 49 años (Mujeres) con con antecedentes ECV con Estatina no debe ser mayor al Total Población con Antecedentes de IAM y ECV de Sección A. \")","v":""},{"$f":"IF($U$42<=$U$20+$U$21,\"\",\"* Pacientes 50 a 54 años (Hombres) con con antecedentes ECV con Estatina no debe ser mayor al Total Población con Antecedentes de IAM y ECV de Sección A. \")","v":""},{"$f":"IF($V$42<=$V$20+$V$21,\"\",\"* Pacientes 50 a 54 años (Mujeres) con con antecedentes ECV con Estatina no debe ser mayor al Total Población con Antecedentes de IAM y ECV de Sección A. \")","v":""},{"$f":"IF($W$42<=$W$20+$W$21,\"\",\"* Pacientes 55 a 59 años (Hombres) con con antecedentes ECV con Estatina no debe ser mayor al Total Población con Antecedentes de IAM y ECV de Sección A. \")","v":""},{"$f":"IF($X$42<=$X$20+$X$21,\"\",\"* Pacientes 55 a 59 años (Mujeres) con con antecedentes ECV con Estatina no debe ser mayor al Total Población con Antecedentes de IAM y ECV de Sección A. \")","v":""},{"$f":"IF($Y$42<=$Y$20+$Y$21,\"\",\"* Pacientes 60 a 64 años (Hombres) con con antecedentes ECV con Estatina no debe ser mayor al Total Población con Antecedentes de IAM y ECV de Sección A. \")","v":""},{"$f":"IF($Z$42<=$Z$20+$Z$21,\"\",\"* Pacientes 60 a 64 años (Mujeres) con con antecedentes ECV con Estatina no debe ser mayor al Total Población con Antecedentes de IAM y ECV de Sección A. \")","v":""},{"$f":"IF($AA$42<=$AA$20+$AA$21,\"\",\"* Pacientes 65 a 69 años (Hombres) con con antecedentes ECV con Estatina no debe ser mayor al Total Población con Antecedentes de IAM y ECV de Sección A. \")","v":""},{"$f":"IF($AB$42<=$AB$20+$AB$21,\"\",\"* Pacientes 65 a 69 años (Mujeres) con con antecedentes ECV con Estatina no debe ser mayor al Total Población con Antecedentes de IAM y ECV de Sección A. \")","v":""},{"$f":"IF($AC$42<=$AC$20+$AC$21,\"\",\"* Pacientes 70 a 74 años (Hombres) con con antecedentes ECV con Estatina no debe ser mayor al Total Población con Antecedentes de IAM y ECV de Sección A. \")","v":""},{"$f":"IF($AD$42<=$AD$20+$AD$21,\"\",\"* Pacientes 70 a 74 años (Mujeres) con con antecedentes ECV con Estatina no debe ser mayor al Total Población con Antecedentes de IAM y ECV de Sección A. \")","v":""},{"$f":"IF($AE$42<=$AE$20+$AE$21,\"\",\"* Pacientes 75 a 79 años (Hombres) con con antecedentes ECV con Estatina no debe ser mayor al Total Población con Antecedentes de IAM y ECV de Sección A. \")","v":""},{"$f":"IF($AF$42<=$AF$20+$AF$21,\"\",\"* Pacientes 75 a 79 años (Mujeres) con con antecedentes ECV con Estatina no debe ser mayor al Total Población con Antecedentes de IAM y ECV de Sección A. \")","v":""},{"$f":"IF($AG$42<=$AG$20+$AG$21,\"\",\"* Pacientes 80 y más años (Hombres) con con antecedentes ECV con Estatina no debe ser mayor al Total Población con Antecedentes de IAM y ECV de Sección A. \")","v":""},{"$f":"IF($AH$42<=$AH$20+$AH$21,\"\",\"* Pacientes 80 y más años (Mujeres) con con antecedentes ECV con Estatina no debe ser mayor al Total Población con Antecedentes de IAM y ECV de Sección A. \")","v":""},null,null,0,0,{"$f":"IF($E$42>=$AI$42,0,1)","v":0},{"$f":"IF($F$42>=$AJ$42,0,1)","v":0},0,{"$f":"IF($F42>=$AK42,0,1)","v":0},{"$f":"IF(G$42<=G$20+G$21,0,1)","v":0},0,0,1,0,1,1,1,0,0,0,0,0,0,0,0,0,0,0,0,0,0,0,0,0,0,0,0]
[null,"SECCIÓN C: VARIABLES DE SEGUIMIENTO DEL PSCV AL CORTE"]
[null,"VARIABLES",null,"TOTAL ",null,null,"GRUPOS DE EDAD (en años) Y SEXO",{"$nulls":27},"Pueblos Originarios",null,"Población Migrantes",{"$nulls":19},"Pueblos Originarios",null,"Población Migrantes",{"$nulls":3},"Pueblos Originarios","Población Migrantes",{"$nulls":28},"Pueblos Originarios",null,"Población Migrantes",{"$nulls":5},"Pueblos Originarios","Población Migrantes"]
[{"$nulls":6},"15 a 19 años",null,"20 a 24 años",null,"25 a 29 años",null,"30 a 34 años",null,"35 a 39 años",null,"40 a 44 años",null,"45 a 49 años",null,"50 a 54 años",null,"55 a 59 años",null,"60 a 64 años",null,"65 a 69 años",null,"70 a 74 años",null,"75 a 79 años",null,"80 y más años"]
[{"$nulls":3},"Ambos\nsexos","Hombres","Mujeres","Hombres","Mujeres","Hombres","Mujeres","Hombres","Mujeres","Hombres","Mujeres","Hombres","Mujeres","Hombres","Mujeres","Hombres","Mujeres","Hombres","Mujeres","Hombres","Mujeres","Hombres","Mujeres","Hombres ","Mujeres","Hombres ","Mujeres","Hombres ","Mujeres","Hombres ","Mujeres","Hombres","Mujeres","Hombres","Mujeres",{"$nulls":18},"Hombres","Mujeres","Hombres","Mujeres",null,null,"No Olvide","No Olvide",{"$nulls":28},"Hombres","Mujeres","Hombres","Mujeres",{"$nulls":4},"No Olvide","No Olvide"]
[null,"PERSONAS CON DIABETES  EN PSCV"]
["P4190805","CON RAZON ALBÚMINA CREATININA (RAC),VIGENTE",null,{"$f":"SUM(E48:F48)","v":23464},{"$f":"+G48+I48+K48+M48+O48+Q48+S48+U48+W48+Y48+AA48+AC48+AE48+AG48","v":8664},{"$f":"+H48+J48+L48+N48+P48+R48+T48+V48+X48+Z48+AB48+AD48+AF48+AH48","v":14800},{"$f":"IFERROR(VLOOKUP($A48,Filtro!$A$5:$AY$629,5,FALSE),0)","v":5},{"$f":"IFERROR(VLOOKUP($A48,Filtro!$A$5:$AY$629,6,FALSE),0)","v":4},{"$f":"IFERROR(VLOOKUP($A48,Filtro!$A$5:$AY$629,7,FALSE),0)","v":17},{"$f":"IFERROR(VLOOKUP($A48,Filtro!$A$5:$AY$629,8,FALSE),0)","v":22},{"$f":"IFERROR(VLOOKUP($A48,Filtro!$A$5:$AY$629,9,FALSE),0)","v":26},{"$f":"IFERROR(VLOOKUP($A48,Filtro!$A$5:$AY$629,10,FALSE),0)","v":65},{"$f":"IFERROR(VLOOKUP($A48,Filtro!$A$5:$AY$629,11,FALSE),0)","v":56},{"$f":"IFERROR(VLOOKUP($A48,Filtro!$A$5:$AY$629,12,FALSE),0)","v":150},{"$f":"IFERROR(VLOOKUP($A48,Filtro!$A$5:$AY$629,13,FALSE),0)","v":126},{"$f":"IFERROR(VLOOKUP($A48,Filtro!$A$5:$AY$629,14,FALSE),0)","v":270},{"$f":"IFERROR(VLOOKUP($A48,Filtro!$A$5:$AY$629,15,FALSE),0)","v":205},{"$f":"IFERROR(VLOOKUP($A48,Filtro!$A$5:$AY$629,16,FALSE),0)","v":455},{"$f":"IFERROR(VLOOKUP($A48,Filtro!$A$5:$AY$629,17,FALSE),0)","v":344},{"$f":"IFERROR(VLOOKUP($A48,Filtro!$A$5:$AY$629,18,FALSE),0)","v":751},{"$f":"IFERROR(VLOOKUP($A48,Filtro!$A$5:$AY$629,19,FALSE),0)","v":583},{"$f":"IFERROR(VLOOKUP($A48,Filtro!$A$5:$AY$629,20,FALSE),0)","v":1171},{"$f":"IFERROR(VLOOKUP($A48,Filtro!$A$5:$AY$629,21,FALSE),0)","v":932},{"$f":"IFERROR(VLOOKUP($A48,Filtro!$A$5:$AY$629,22,FALSE),0)","v":1880},{"$f":"IFERROR(VLOOKUP($A48,Filtro!$A$5:$AY$629,23,FALSE),0)","v":1248},{"$f":"IFERROR(VLOOKUP($A48,Filtro!$A$5:$AY$629,24,FALSE),0)","v":2219},{"$f":"IFERROR(VLOOKUP($A48,Filtro!$A$5:$AY$629,25,FALSE),0)","v":1455},{"$f":"IFERROR(VLOOKUP($A48,Filtro!$A$5:$AY$629,26,FALSE),0)","v":2295},{"$f":"IFERROR(VLOOKUP($A48,Filtro!$A$5:$AY$629,27,FALSE),0)","v":1393},{"$f":"IFERROR(VLOOKUP($A48,Filtro!$A$5:$AY$629,28,FALSE),0)","v":2033},{"$f":"IFERROR(VLOOKUP($A48,Filtro!$A$5:$AY$629,29,FALSE),0)","v":1086},{"$f":"IFERROR(VLOOKUP($A48,Filtro!$A$5:$AY$629,30,FALSE),0)","v":1615},{"$f":"IFERROR(VLOOKUP($A48,Filtro!$A$5:$AY$629,31,FALSE),0)","v":1188},{"$f":"IFERROR(VLOOKUP($A48,Filtro!$A$5:$AY$629,32,FALSE),0)","v":1870},{"$f":"IFERROR(VLOOKUP($A48,Filtro!$A$5:$AY$629,33,FALSE),0)","v":46},{"$f":"IFERROR(VLOOKUP($A48,Filtro!$A$5:$AY$629,34,FALSE),0)","v":89},{"$f":"IFERROR(VLOOKUP($A48,Filtro!$A$5:$AY$629,35,FALSE),0)","v":45},{"$f":"IFERROR(VLOOKUP($A48,Filtro!$A$5:$AY$629,36,FALSE),0)","v":87},{"$f":"BE48&BF48&BG48&BH48&BK48&BL48","v":""},{"$nulls":17},{"$f":"IF($E48>=$AI48,\"\",CONCATENATE(\"* Pueblos Originarios-Hombres no debe ser mayor al Total de personas \",B48,\".\"))","v":""},{"$f":"IF($F48>=$AJ48,\"\",CONCATENATE(\"* Pueblos Originarios-Mujeres no debe ser mayor al Total de personas \",B48,\".\"))","v":""},{"$f":"IF($E48>=$AK48,\"\",CONCATENATE(\"* Población Migrante-Hombres no debe ser mayor al Total de personas \",B48,\".\"))","v":""},{"$f":"IF($F48>=$AL48,\"\",CONCATENATE(\"* Población Migrante - Mujeres no debe ser mayor al Total de personas \",B48,\".\"))","v":""},null,null,{"$f":"IF(AND(E48<>0,AI48=\"\"),\"* No olvide escribir en la celda de 'Pueblos Originarios' (Digite CERO si no tiene). \",IF(AND(F48<>0,AJ48=\"\"),\"* No olvide escribir en la celda de 'Pueblos Originarios' (Digite CERO si no tiene). \",\"\"))","v":""},{"$f":"IF(AND(E48<>0,AK48=\"\"),\"* No olvide escribir en la celda de 'Población Migrantes' (Digite CERO si no tiene). \",IF(AND(F48<>0,AL48=\"\"),\"* No olvide escribir en la celda de 'Población Migrantes' (Digite CERO si no tiene). \",\"\"))","v":""},{"$nulls":28},{"$f":"IF($E48>=$AI48,0,1)","v":0},{"$f":"IF($F48>=$AJ48,0,1)","v":0},{"$f":"IF($E48>=$AK48,0,1)","v":0},{"$f":"IF($F48>=$AL48,0,1)","v":0},{"$nulls":4},{"$f":"IF(AND(E51<>0,AI51=\"\"),1,IF(AND(F51<>0,AJ51=\"\"),1,0))","v":0},{"$f":"IF(AND(E51<>0,AK51=\"\"),1,IF(AND(F51<>0,AL51=\"\"),1,0))","v":0}]
["P4190806","CON VELOCIDAD DE FILTRACIÓN GLOMERULAR ESTIMADA (VFG), VIGENTE",null,{"$f":"SUM(E49:F49)","v":26990},{"$f":"+G49+I49+K49+M49+O49+Q49+S49+U49+W49+Y49+AA49+AC49+AE49+AG49","v":9991},16999,{"$f":"IFERROR(VLOOKUP($A49,Filtro!$A$5:$AY$629,5,FALSE),0)","v":12},{"$f":"IFERROR(VLOOKUP($A49,Filtro!$A$5:$AY$629,6,FALSE),0)","v":11},{"$f":"IFERROR(VLOOKUP($A49,Filtro!$A$5:$AY$629,7,FALSE),0)","v":20},{"$f":"IFERROR(VLOOKUP($A49,Filtro!$A$5:$AY$629,8,FALSE),0)","v":40},{"$f":"IFERROR(VLOOKUP($A49,Filtro!$A$5:$AY$629,9,FALSE),0)","v":28},{"$f":"IFERROR(VLOOKUP($A49,Filtro!$A$5:$AY$629,10,FALSE),0)","v":94},{"$f":"IFERROR(VLOOKUP($A49,Filtro!$A$5:$AY$629,11,FALSE),0)","v":74},{"$f":"IFERROR(VLOOKUP($A49,Filtro!$A$5:$AY$629,12,FALSE),0)","v":192},{"$f":"IFERROR(VLOOKUP($A49,Filtro!$A$5:$AY$629,13,FALSE),0)","v":143},{"$f":"IFERROR(VLOOKUP($A49,Filtro!$A$5:$AY$629,14,FALSE),0)","v":331},{"$f":"IFERROR(VLOOKUP($A49,Filtro!$A$5:$AY$629,15,FALSE),0)","v":250},{"$f":"IFERROR(VLOOKUP($A49,Filtro!$A$5:$AY$629,16,FALSE),0)","v":557},{"$f":"IFERROR(VLOOKUP($A49,Filtro!$A$5:$AY$629,17,FALSE),0)","v":411},{"$f":"IFERROR(VLOOKUP($A49,Filtro!$A$5:$AY$629,18,FALSE),0)","v":885},{"$f":"IFERROR(VLOOKUP($A49,Filtro!$A$5:$AY$629,19,FALSE),0)","v":709},{"$f":"IFERROR(VLOOKUP($A49,Filtro!$A$5:$AY$629,20,FALSE),0)","v":1394},{"$f":"IFERROR(VLOOKUP($A49,Filtro!$A$5:$AY$629,21,FALSE),0)","v":1092},{"$f":"IFERROR(VLOOKUP($A49,Filtro!$A$5:$AY$629,22,FALSE),0)","v":2191},{"$f":"IFERROR(VLOOKUP($A49,Filtro!$A$5:$AY$629,23,FALSE),0)","v":1407},{"$f":"IFERROR(VLOOKUP($A49,Filtro!$A$5:$AY$629,24,FALSE),0)","v":2526},{"$f":"IFERROR(VLOOKUP($A49,Filtro!$A$5:$AY$629,25,FALSE),0)","v":1701},{"$f":"IFERROR(VLOOKUP($A49,Filtro!$A$5:$AY$629,26,FALSE),0)","v":2592},{"$f":"IFERROR(VLOOKUP($A49,Filtro!$A$5:$AY$629,27,FALSE),0)","v":1570},{"$f":"IFERROR(VLOOKUP($A49,Filtro!$A$5:$AY$629,28,FALSE),0)","v":2238},{"$f":"IFERROR(VLOOKUP($A49,Filtro!$A$5:$AY$629,29,FALSE),0)","v":1260},{"$f":"IFERROR(VLOOKUP($A49,Filtro!$A$5:$AY$629,30,FALSE),0)","v":1825},{"$f":"IFERROR(VLOOKUP($A49,Filtro!$A$5:$AY$629,31,FALSE),0)","v":1314},{"$f":"IFERROR(VLOOKUP($A49,Filtro!$A$5:$AY$629,32,FALSE),0)","v":2123},{"$f":"IFERROR(VLOOKUP($A49,Filtro!$A$5:$AY$629,33,FALSE),0)","v":53},{"$f":"IFERROR(VLOOKUP($A49,Filtro!$A$5:$AY$629,34,FALSE),0)","v":101},{"$f":"IFERROR(VLOOKUP($A49,Filtro!$A$5:$AY$629,35,FALSE),0)","v":53},{"$f":"IFERROR(VLOOKUP($A49,Filtro!$A$5:$AY$629,36,FALSE),0)","v":98},{"$f":"BE49&BF49&BG49&BH49&BK49&BL49","v":""},{"$nulls":17},{"$f":"IF($E49>=$AI49,\"\",CONCATENATE(\"* Pueblos Originarios-Hombres no debe ser mayor al Total de personas \",B49,\".\"))","v":""},{"$f":"IF($F49>=$AJ49,\"\",CONCATENATE(\"* Pueblos Originarios-Mujeres no debe ser mayor al Total de personas \",B49,\".\"))","v":""},{"$f":"IF($E49>=$AK49,\"\",CONCATENATE(\"* Población Migrante-Hombres no debe ser mayor al Total de personas \",B49,\".\"))","v":""},{"$f":"IF($F49>=$AL49,\"\",CONCATENATE(\"* Población Migrante - Mujeres no debe ser mayor al Total de personas \",B49,\".\"))","v":""},null,null,{"$f":"IF(AND(E49<>0,AI49=\"\"),\"* No olvide escribir en la celda de 'Pueblos Originarios' (Digite CERO si no tiene). \",IF(AND(F49<>0,AJ49=\"\"),\"* No olvide escribir en la celda de 'Pueblos Originarios' (Digite CERO si no tiene). \",\"\"))","v":""},{"$f":"IF(AND(E49<>0,AK49=\"\"),\"* No olvide escribir en la celda de 'Población Migrantes' (Digite CERO si no tiene). \",IF(AND(F49<>0,AL49=\"\"),\"* No olvide escribir en la celda de 'Población Migrantes' (Digite CERO si no tiene). \",\"\"))","v":""},{"$nulls":28},{"$f":"IF($E49>=$AI49,0,1)","v":0},{"$f":"IF($F49>=$AJ49,0,1)","v":0},{"$f":"IF($E49>=$AK49,0,1)","v":0},{"$f":"IF($F49>=$AL49,0,1)","v":0},{"$nulls":4},{"$f":"IF(AND(E52<>0,AI52=\"\"),1,IF(AND(F52<>0,AJ52=\"\"),1,0))","v":0},{"$f":"IF(AND(E52<>0,AK52=\"\"),1,IF(AND(F52<>0,AL52=\"\"),1,0))","v":0}]
["P4301040","CON VELOCIDAD DE FILTRACIÓN GLOMERULAR ESTIMADA (VFGe) Y CON RAZON ALBÚMINA CREATININA (RAC) VIGENTE",null,{"$f":"SUM(E50:F50)","v":20777},{"$f":"+G50+I50+K50+M50+O50+Q50+S50+U50+W50+Y50+AA50+AC50+AE50+AG50","v":7704},{"$f":"+H50+J50+L50+N50+P50+R50+T50+V50+X50+Z50+AB50+AD50+AF50+AH50","v":13073},{"$f":"IFERROR(VLOOKUP($A50,Filtro!$A$5:$AY$629,5,FALSE),0)","v":5},{"$f":"IFERROR(VLOOKUP($A50,Filtro!$A$5:$AY$629,6,FALSE),0)","v":4},{"$f":"IFERROR(VLOOKUP($A50,Filtro!$A$5:$AY$629,7,FALSE),0)","v":14},{"$f":"IFERROR(VLOOKUP($A50,Filtro!$A$5:$AY$629,8,FALSE),0)","v":23},{"$f":"IFERROR(VLOOKUP($A50,Filtro!$A$5:$AY$629,9,FALSE),0)","v":19},{"$f":"IFERROR(VLOOKUP($A50,Filtro!$A$5:$AY$629,10,FALSE),0)","v":60},{"$f":"IFERROR(VLOOKUP($A50,Filtro!$A$5:$AY$629,11,FALSE),0)","v":50},{"$f":"IFERROR(VLOOKUP($A50,Filtro!$A$5:$AY$629,12,FALSE),0)","v":141},{"$f":"IFERROR(VLOOKUP($A50,Filtro!$A$5:$AY$629,13,FALSE),0)","v":113},{"$f":"IFERROR(VLOOKUP($A50,Filtro!$A$5:$AY$629,14,FALSE),0)","v":258},{"$f":"IFERROR(VLOOKUP($A50,Filtro!$A$5:$AY$629,15,FALSE),0)","v":187},{"$f":"IFERROR(VLOOKUP($A50,Filtro!$A$5:$AY$629,16,FALSE),0)","v":420},{"$f":"IFERROR(VLOOKUP($A50,Filtro!$A$5:$AY$629,17,FALSE),0)","v":310},{"$f":"IFERROR(VLOOKUP($A50,Filtro!$A$5:$AY$629,18,FALSE),0)","v":673},{"$f":"IFERROR(VLOOKUP($A50,Filtro!$A$5:$AY$629,19,FALSE),0)","v":562},{"$f":"IFERROR(VLOOKUP($A50,Filtro!$A$5:$AY$629,20,FALSE),0)","v":1082},{"$f":"IFERROR(VLOOKUP($A50,Filtro!$A$5:$AY$629,21,FALSE),0)","v":838},{"$f":"IFERROR(VLOOKUP($A50,Filtro!$A$5:$AY$629,22,FALSE),0)","v":1722},{"$f":"IFERROR(VLOOKUP($A50,Filtro!$A$5:$AY$629,23,FALSE),0)","v":1101},{"$f":"IFERROR(VLOOKUP($A50,Filtro!$A$5:$AY$629,24,FALSE),0)","v":1950},{"$f":"IFERROR(VLOOKUP($A50,Filtro!$A$5:$AY$629,25,FALSE),0)","v":1304},{"$f":"IFERROR(VLOOKUP($A50,Filtro!$A$5:$AY$629,26,FALSE),0)","v":2001},{"$f":"IFERROR(VLOOKUP($A50,Filtro!$A$5:$AY$629,27,FALSE),0)","v":1223},{"$f":"IFERROR(VLOOKUP($A50,Filtro!$A$5:$AY$629,28,FALSE),0)","v":1761},{"$f":"IFERROR(VLOOKUP($A50,Filtro!$A$5:$AY$629,29,FALSE),0)","v":945},{"$f":"IFERROR(VLOOKUP($A50,Filtro!$A$5:$AY$629,30,FALSE),0)","v":1399},{"$f":"IFERROR(VLOOKUP($A50,Filtro!$A$5:$AY$629,31,FALSE),0)","v":1033},{"$f":"IFERROR(VLOOKUP($A50,Filtro!$A$5:$AY$629,32,FALSE),0)","v":1579},{"$f":"IFERROR(VLOOKUP($A50,Filtro!$A$5:$AY$629,33,FALSE),0)","v":32},{"$f":"IFERROR(VLOOKUP($A50,Filtro!$A$5:$AY$629,34,FALSE),0)","v":72},{"$f":"IFERROR(VLOOKUP($A50,Filtro!$A$5:$AY$629,35,FALSE),0)","v":39},{"$f":"IFERROR(VLOOKUP($A50,Filtro!$A$5:$AY$629,36,FALSE),0)","v":72}]
["P4190950","CON FONDO DE OJO, VIGENTE",null,18041,6581,11460,{"$f":"IFERROR(VLOOKUP($A51,Filtro!$A$5:$AY$629,5,FALSE),0)","v":11},{"$f":"IFERROR(VLOOKUP($A51,Filtro!$A$5:$AY$629,6,FALSE),0)","v":12},{"$f":"IFERROR(VLOOKUP($A51,Filtro!$A$5:$AY$629,7,FALSE),0)","v":13},{"$f":"IFERROR(VLOOKUP($A51,Filtro!$A$5:$AY$629,8,FALSE),0)","v":22},{"$f":"IFERROR(VLOOKUP($A51,Filtro!$A$5:$AY$629,9,FALSE),0)","v":25},{"$f":"IFERROR(VLOOKUP($A51,Filtro!$A$5:$AY$629,10,FALSE),0)","v":58},{"$f":"IFERROR(VLOOKUP($A51,Filtro!$A$5:$AY$629,11,FALSE),0)","v":49},{"$f":"IFERROR(VLOOKUP($A51,Filtro!$A$5:$AY$629,12,FALSE),0)","v":142},{"$f":"IFERROR(VLOOKUP($A51,Filtro!$A$5:$AY$629,13,FALSE),0)","v":107},{"$f":"IFERROR(VLOOKUP($A51,Filtro!$A$5:$AY$629,14,FALSE),0)","v":249},{"$f":"IFERROR(VLOOKUP($A51,Filtro!$A$5:$AY$629,15,FALSE),0)","v":157},{"$f":"IFERROR(VLOOKUP($A51,Filtro!$A$5:$AY$629,16,FALSE),0)","v":377},{"$f":"IFERROR(VLOOKUP($A51,Filtro!$A$5:$AY$629,17,FALSE),0)","v":277},{"$f":"IFERROR(VLOOKUP($A51,Filtro!$A$5:$AY$629,18,FALSE),0)","v":623},{"$f":"IFERROR(VLOOKUP($A51,Filtro!$A$5:$AY$629,19,FALSE),0)","v":462},{"$f":"IFERROR(VLOOKUP($A51,Filtro!$A$5:$AY$629,20,FALSE),0)","v":1007},{"$f":"IFERROR(VLOOKUP($A51,Filtro!$A$5:$AY$629,21,FALSE),0)","v":748},{"$f":"IFERROR(VLOOKUP($A51,Filtro!$A$5:$AY$629,22,FALSE),0)","v":1560},{"$f":"IFERROR(VLOOKUP($A51,Filtro!$A$5:$AY$629,23,FALSE),0)","v":1019},{"$f":"IFERROR(VLOOKUP($A51,Filtro!$A$5:$AY$629,24,FALSE),0)","v":1851},{"$f":"IFERROR(VLOOKUP($A51,Filtro!$A$5:$AY$629,25,FALSE),0)","v":1160},{"$f":"IFERROR(VLOOKUP($A51,Filtro!$A$5:$AY$629,26,FALSE),0)","v":1888},{"$f":"IFERROR(VLOOKUP($A51,Filtro!$A$5:$AY$629,27,FALSE),0)","v":1051},{"$f":"IFERROR(VLOOKUP($A51,Filtro!$A$5:$AY$629,28,FALSE),0)","v":1490},{"$f":"IFERROR(VLOOKUP($A51,Filtro!$A$5:$AY$629,29,FALSE),0)","v":793},{"$f":"IFERROR(VLOOKUP($A51,Filtro!$A$5:$AY$629,30,FALSE),0)","v":1133},{"$f":"IFERROR(VLOOKUP($A51,Filtro!$A$5:$AY$629,31,FALSE),0)","v":709},{"$f":"IFERROR(VLOOKUP($A51,Filtro!$A$5:$AY$629,32,FALSE),0)","v":1048},{"$f":"IFERROR(VLOOKUP($A51,Filtro!$A$5:$AY$629,33,FALSE),0)","v":20},{"$f":"IFERROR(VLOOKUP($A51,Filtro!$A$5:$AY$629,34,FALSE),0)","v":31},{"$f":"IFERROR(VLOOKUP($A51,Filtro!$A$5:$AY$629,35,FALSE),0)","v":10},{"$f":"IFERROR(VLOOKUP($A51,Filtro!$A$5:$AY$629,36,FALSE),0)","v":25},"",{"$nulls":17},"","","","",null,null,"","",{"$nulls":28},0,0,0,0,{"$nulls":4},{"$f":"IF(AND(E53<>0,AI53=\"\"),1,IF(AND(F53<>0,AJ53=\"\"),1,0))","v":0},{"$f":"IF(AND(E53<>0,AK53=\"\"),1,IF(AND(F53<>0,AL53=\"\"),1,0))","v":0}]
["P4200600","CON ATENCIÓN PODOLÓGICA VIGENTE",null,18221,6542,11679,{"$f":"IFERROR(VLOOKUP($A52,Filtro!$A$5:$AY$629,5,FALSE),0)","v":7},{"$f":"IFERROR(VLOOKUP($A52,Filtro!$A$5:$AY$629,6,FALSE),0)","v":11},{"$f":"IFERROR(VLOOKUP($A52,Filtro!$A$5:$AY$629,7,FALSE),0)","v":11},{"$f":"IFERROR(VLOOKUP($A52,Filtro!$A$5:$AY$629,8,FALSE),0)","v":16},{"$f":"IFERROR(VLOOKUP($A52,Filtro!$A$5:$AY$629,9,FALSE),0)","v":27},{"$f":"IFERROR(VLOOKUP($A52,Filtro!$A$5:$AY$629,10,FALSE),0)","v":67},{"$f":"IFERROR(VLOOKUP($A52,Filtro!$A$5:$AY$629,11,FALSE),0)","v":44},{"$f":"IFERROR(VLOOKUP($A52,Filtro!$A$5:$AY$629,12,FALSE),0)","v":103},{"$f":"IFERROR(VLOOKUP($A52,Filtro!$A$5:$AY$629,13,FALSE),0)","v":80},{"$f":"IFERROR(VLOOKUP($A52,Filtro!$A$5:$AY$629,14,FALSE),0)","v":208},{"$f":"IFERROR(VLOOKUP($A52,Filtro!$A$5:$AY$629,15,FALSE),0)","v":114},{"$f":"IFERROR(VLOOKUP($A52,Filtro!$A$5:$AY$629,16,FALSE),0)","v":327},{"$f":"IFERROR(VLOOKUP($A52,Filtro!$A$5:$AY$629,17,FALSE),0)","v":227},{"$f":"IFERROR(VLOOKUP($A52,Filtro!$A$5:$AY$629,18,FALSE),0)","v":538},{"$f":"IFERROR(VLOOKUP($A52,Filtro!$A$5:$AY$629,19,FALSE),0)","v":404},{"$f":"IFERROR(VLOOKUP($A52,Filtro!$A$5:$AY$629,20,FALSE),0)","v":884},{"$f":"IFERROR(VLOOKUP($A52,Filtro!$A$5:$AY$629,21,FALSE),0)","v":596},{"$f":"IFERROR(VLOOKUP($A52,Filtro!$A$5:$AY$629,22,FALSE),0)","v":1438},{"$f":"IFERROR(VLOOKUP($A52,Filtro!$A$5:$AY$629,23,FALSE),0)","v":862},{"$f":"IFERROR(VLOOKUP($A52,Filtro!$A$5:$AY$629,24,FALSE),0)","v":1638},{"$f":"IFERROR(VLOOKUP($A52,Filtro!$A$5:$AY$629,25,FALSE),0)","v":1125},{"$f":"IFERROR(VLOOKUP($A52,Filtro!$A$5:$AY$629,26,FALSE),0)","v":1845},{"$f":"IFERROR(VLOOKUP($A52,Filtro!$A$5:$AY$629,27,FALSE),0)","v":1099},{"$f":"IFERROR(VLOOKUP($A52,Filtro!$A$5:$AY$629,28,FALSE),0)","v":1630},{"$f":"IFERROR(VLOOKUP($A52,Filtro!$A$5:$AY$629,29,FALSE),0)","v":914},{"$f":"IFERROR(VLOOKUP($A52,Filtro!$A$5:$AY$629,30,FALSE),0)","v":1293},{"$f":"IFERROR(VLOOKUP($A52,Filtro!$A$5:$AY$629,31,FALSE),0)","v":1032},{"$f":"IFERROR(VLOOKUP($A52,Filtro!$A$5:$AY$629,32,FALSE),0)","v":1681},{"$f":"IFERROR(VLOOKUP($A52,Filtro!$A$5:$AY$629,33,FALSE),0)","v":25},{"$f":"IFERROR(VLOOKUP($A52,Filtro!$A$5:$AY$629,34,FALSE),0)","v":42},{"$f":"IFERROR(VLOOKUP($A52,Filtro!$A$5:$AY$629,35,FALSE),0)","v":17},{"$f":"IFERROR(VLOOKUP($A52,Filtro!$A$5:$AY$629,36,FALSE),0)","v":38},"",{"$nulls":17},"","","","",null,null,"","",{"$nulls":28},0,0,0,0,{"$nulls":4},0,0]
["P4200300","CON ECG VIGENTE",null,22939,8622,14317,{"$f":"IFERROR(VLOOKUP($A53,Filtro!$A$5:$AY$629,5,FALSE),0)","v":41},{"$f":"IFERROR(VLOOKUP($A53,Filtro!$A$5:$AY$629,6,FALSE),0)","v":43},{"$f":"IFERROR(VLOOKUP($A53,Filtro!$A$5:$AY$629,7,FALSE),0)","v":30},{"$f":"IFERROR(VLOOKUP($A53,Filtro!$A$5:$AY$629,8,FALSE),0)","v":42},{"$f":"IFERROR(VLOOKUP($A53,Filtro!$A$5:$AY$629,9,FALSE),0)","v":28},{"$f":"IFERROR(VLOOKUP($A53,Filtro!$A$5:$AY$629,10,FALSE),0)","v":95},{"$f":"IFERROR(VLOOKUP($A53,Filtro!$A$5:$AY$629,11,FALSE),0)","v":79},{"$f":"IFERROR(VLOOKUP($A53,Filtro!$A$5:$AY$629,12,FALSE),0)","v":169},{"$f":"IFERROR(VLOOKUP($A53,Filtro!$A$5:$AY$629,13,FALSE),0)","v":181},{"$f":"IFERROR(VLOOKUP($A53,Filtro!$A$5:$AY$629,14,FALSE),0)","v":342},{"$f":"IFERROR(VLOOKUP($A53,Filtro!$A$5:$AY$629,15,FALSE),0)","v":213},{"$f":"IFERROR(VLOOKUP($A53,Filtro!$A$5:$AY$629,16,FALSE),0)","v":443},{"$f":"IFERROR(VLOOKUP($A53,Filtro!$A$5:$AY$629,17,FALSE),0)","v":391},{"$f":"IFERROR(VLOOKUP($A53,Filtro!$A$5:$AY$629,18,FALSE),0)","v":684},{"$f":"IFERROR(VLOOKUP($A53,Filtro!$A$5:$AY$629,19,FALSE),0)","v":555},{"$f":"IFERROR(VLOOKUP($A53,Filtro!$A$5:$AY$629,20,FALSE),0)","v":1127},{"$f":"IFERROR(VLOOKUP($A53,Filtro!$A$5:$AY$629,21,FALSE),0)","v":818},{"$f":"IFERROR(VLOOKUP($A53,Filtro!$A$5:$AY$629,22,FALSE),0)","v":1740},{"$f":"IFERROR(VLOOKUP($A53,Filtro!$A$5:$AY$629,23,FALSE),0)","v":1149},{"$f":"IFERROR(VLOOKUP($A53,Filtro!$A$5:$AY$629,24,FALSE),0)","v":2079},{"$f":"IFERROR(VLOOKUP($A53,Filtro!$A$5:$AY$629,25,FALSE),0)","v":1437},{"$f":"IFERROR(VLOOKUP($A53,Filtro!$A$5:$AY$629,26,FALSE),0)","v":2282},{"$f":"IFERROR(VLOOKUP($A53,Filtro!$A$5:$AY$629,27,FALSE),0)","v":1442},{"$f":"IFERROR(VLOOKUP($A53,Filtro!$A$5:$AY$629,28,FALSE),0)","v":1925},{"$f":"IFERROR(VLOOKUP($A53,Filtro!$A$5:$AY$629,29,FALSE),0)","v":1090},{"$f":"IFERROR(VLOOKUP($A53,Filtro!$A$5:$AY$629,30,FALSE),0)","v":1563},{"$f":"IFERROR(VLOOKUP($A53,Filtro!$A$5:$AY$629,31,FALSE),0)","v":1168},{"$f":"IFERROR(VLOOKUP($A53,Filtro!$A$5:$AY$629,32,FALSE),0)","v":1783},{"$f":"IFERROR(VLOOKUP($A53,Filtro!$A$5:$AY$629,33,FALSE),0)","v":28},{"$f":"IFERROR(VLOOKUP($A53,Filtro!$A$5:$AY$629,34,FALSE),0)","v":65},{"$f":"IFERROR(VLOOKUP($A53,Filtro!$A$5:$AY$629,35,FALSE),0)","v":31},{"$f":"IFERROR(VLOOKUP($A53,Filtro!$A$5:$AY$629,36,FALSE),0)","v":66},"",{"$nulls":17},"","","","",null,null,"","",{"$nulls":28},0,0,0,0,{"$nulls":4},0,0]
["P4180800","EN TRATAMIENTO CON INSULINA",null,11019,4303,6716,{"$f":"IFERROR(VLOOKUP($A54,Filtro!$A$5:$AY$629,5,FALSE),0)","v":13},{"$f":"IFERROR(VLOOKUP($A54,Filtro!$A$5:$AY$629,6,FALSE),0)","v":9},{"$f":"IFERROR(VLOOKUP($A54,Filtro!$A$5:$AY$629,7,FALSE),0)","v":13},{"$f":"IFERROR(VLOOKUP($A54,Filtro!$A$5:$AY$629,8,FALSE),0)","v":24},{"$f":"IFERROR(VLOOKUP($A54,Filtro!$A$5:$AY$629,9,FALSE),0)","v":30},{"$f":"IFERROR(VLOOKUP($A54,Filtro!$A$5:$AY$629,10,FALSE),0)","v":40},{"$f":"IFERROR(VLOOKUP($A54,Filtro!$A$5:$AY$629,11,FALSE),0)","v":33},{"$f":"IFERROR(VLOOKUP($A54,Filtro!$A$5:$AY$629,12,FALSE),0)","v":86},{"$f":"IFERROR(VLOOKUP($A54,Filtro!$A$5:$AY$629,13,FALSE),0)","v":89},{"$f":"IFERROR(VLOOKUP($A54,Filtro!$A$5:$AY$629,14,FALSE),0)","v":128},{"$f":"IFERROR(VLOOKUP($A54,Filtro!$A$5:$AY$629,15,FALSE),0)","v":128},{"$f":"IFERROR(VLOOKUP($A54,Filtro!$A$5:$AY$629,16,FALSE),0)","v":213},{"$f":"IFERROR(VLOOKUP($A54,Filtro!$A$5:$AY$629,17,FALSE),0)","v":220},{"$f":"IFERROR(VLOOKUP($A54,Filtro!$A$5:$AY$629,18,FALSE),0)","v":365},{"$f":"IFERROR(VLOOKUP($A54,Filtro!$A$5:$AY$629,19,FALSE),0)","v":346},{"$f":"IFERROR(VLOOKUP($A54,Filtro!$A$5:$AY$629,20,FALSE),0)","v":571},{"$f":"IFERROR(VLOOKUP($A54,Filtro!$A$5:$AY$629,21,FALSE),0)","v":525},{"$f":"IFERROR(VLOOKUP($A54,Filtro!$A$5:$AY$629,22,FALSE),0)","v":917},{"$f":"IFERROR(VLOOKUP($A54,Filtro!$A$5:$AY$629,23,FALSE),0)","v":657},{"$f":"IFERROR(VLOOKUP($A54,Filtro!$A$5:$AY$629,24,FALSE),0)","v":1083},{"$f":"IFERROR(VLOOKUP($A54,Filtro!$A$5:$AY$629,25,FALSE),0)","v":719},{"$f":"IFERROR(VLOOKUP($A54,Filtro!$A$5:$AY$629,26,FALSE),0)","v":1057},{"$f":"IFERROR(VLOOKUP($A54,Filtro!$A$5:$AY$629,27,FALSE),0)","v":626},{"$f":"IFERROR(VLOOKUP($A54,Filtro!$A$5:$AY$629,28,FALSE),0)","v":910},{"$f":"IFERROR(VLOOKUP($A54,Filtro!$A$5:$AY$629,29,FALSE),0)","v":439},{"$f":"IFERROR(VLOOKUP($A54,Filtro!$A$5:$AY$629,30,FALSE),0)","v":633},{"$f":"IFERROR(VLOOKUP($A54,Filtro!$A$5:$AY$629,31,FALSE),0)","v":465},{"$f":"IFERROR(VLOOKUP($A54,Filtro!$A$5:$AY$629,32,FALSE),0)","v":680},{"$f":"IFERROR(VLOOKUP($A54,Filtro!$A$5:$AY$629,33,FALSE),0)","v":28},{"$f":"IFERROR(VLOOKUP($A54,Filtro!$A$5:$AY$629,34,FALSE),0)","v":38},{"$f":"IFERROR(VLOOKUP($A54,Filtro!$A$5:$AY$629,35,FALSE),0)","v":17},{"$f":"IFERROR(VLOOKUP($A54,Filtro!$A$5:$AY$629,36,FALSE),0)","v":29},"",{"$nulls":17},"","","","",null,null,"","",{"$nulls":28},0,0,0,0,{"$nulls":4},{"$f":"IF(AND(E56<>0,AI56=\"\"),1,IF(AND(F56<>0,AJ56=\"\"),1,0))","v":0},{"$f":"IF(AND(E56<>0,AK56=\"\"),1,IF(AND(F56<>0,AL56=\"\"),1,0))","v":0}]
["P4200700","EN  TRATAMIENTO CON INSULINA QUE LOGRA META CON  HbA1C SEGÚN EDAD",null,3376,1407,1969,{"$f":"IFERROR(VLOOKUP($A55,Filtro!$A$5:$AY$629,5,FALSE),0)","v":7},{"$f":"IFERROR(VLOOKUP($A55,Filtro!$A$5:$AY$629,6,FALSE),0)","v":3},{"$f":"IFERROR(VLOOKUP($A55,Filtro!$A$5:$AY$629,7,FALSE),0)","v":4},{"$f":"IFERROR(VLOOKUP($A55,Filtro!$A$5:$AY$629,8,FALSE),0)","v":9},{"$f":"IFERROR(VLOOKUP($A55,Filtro!$A$5:$AY$629,9,FALSE),0)","v":10},{"$f":"IFERROR(VLOOKUP($A55,Filtro!$A$5:$AY$629,10,FALSE),0)","v":14},{"$f":"IFERROR(VLOOKUP($A55,Filtro!$A$5:$AY$629,11,FALSE),0)","v":15},{"$f":"IFERROR(VLOOKUP($A55,Filtro!$A$5:$AY$629,12,FALSE),0)","v":19},{"$f":"IFERROR(VLOOKUP($A55,Filtro!$A$5:$AY$629,13,FALSE),0)","v":31},{"$f":"IFERROR(VLOOKUP($A55,Filtro!$A$5:$AY$629,14,FALSE),0)","v":31},{"$f":"IFERROR(VLOOKUP($A55,Filtro!$A$5:$AY$629,15,FALSE),0)","v":36},{"$f":"IFERROR(VLOOKUP($A55,Filtro!$A$5:$AY$629,16,FALSE),0)","v":67},{"$f":"IFERROR(VLOOKUP($A55,Filtro!$A$5:$AY$629,17,FALSE),0)","v":56},{"$f":"IFERROR(VLOOKUP($A55,Filtro!$A$5:$AY$629,18,FALSE),0)","v":80},{"$f":"IFERROR(VLOOKUP($A55,Filtro!$A$5:$AY$629,19,FALSE),0)","v":95},{"$f":"IFERROR(VLOOKUP($A55,Filtro!$A$5:$AY$629,20,FALSE),0)","v":146},{"$f":"IFERROR(VLOOKUP($A55,Filtro!$A$5:$AY$629,21,FALSE),0)","v":122},{"$f":"IFERROR(VLOOKUP($A55,Filtro!$A$5:$AY$629,22,FALSE),0)","v":206},{"$f":"IFERROR(VLOOKUP($A55,Filtro!$A$5:$AY$629,23,FALSE),0)","v":195},{"$f":"IFERROR(VLOOKUP($A55,Filtro!$A$5:$AY$629,24,FALSE),0)","v":260},{"$f":"IFERROR(VLOOKUP($A55,Filtro!$A$5:$AY$629,25,FALSE),0)","v":212},{"$f":"IFERROR(VLOOKUP($A55,Filtro!$A$5:$AY$629,26,FALSE),0)","v":307},{"$f":"IFERROR(VLOOKUP($A55,Filtro!$A$5:$AY$629,27,FALSE),0)","v":222},{"$f":"IFERROR(VLOOKUP($A55,Filtro!$A$5:$AY$629,28,FALSE),0)","v":292},{"$f":"IFERROR(VLOOKUP($A55,Filtro!$A$5:$AY$629,29,FALSE),0)","v":175},{"$f":"IFERROR(VLOOKUP($A55,Filtro!$A$5:$AY$629,30,FALSE),0)","v":227},{"$f":"IFERROR(VLOOKUP($A55,Filtro!$A$5:$AY$629,31,FALSE),0)","v":227},{"$f":"IFERROR(VLOOKUP($A55,Filtro!$A$5:$AY$629,32,FALSE),0)","v":308},{"$f":"IFERROR(VLOOKUP($A55,Filtro!$A$5:$AY$629,33,FALSE),0)","v":16},{"$f":"IFERROR(VLOOKUP($A55,Filtro!$A$5:$AY$629,34,FALSE),0)","v":23},{"$f":"IFERROR(VLOOKUP($A55,Filtro!$A$5:$AY$629,35,FALSE),0)","v":13},{"$f":"IFERROR(VLOOKUP($A55,Filtro!$A$5:$AY$629,36,FALSE),0)","v":7},"",{"$nulls":17},"","","","",null,null,"","",{"$nulls":28},0,0,0,0,{"$nulls":4},{"$f":"IF(AND(E58<>0,AI58=\"\"),1,IF(AND(F58<>0,AJ58=\"\"),1,0))","v":0},{"$f":"IF(AND(E58<>0,AK58=\"\"),1,IF(AND(F58<>0,AL58=\"\"),1,0))","v":0}]
["P4190960","CON HbA1C>= 9 %",null,7167,2749,4418,{"$f":"IFERROR(VLOOKUP($A56,Filtro!$A$5:$AY$629,5,FALSE),0)","v":8},{"$f":"IFERROR(VLOOKUP($A56,Filtro!$A$5:$AY$629,6,FALSE),0)","v":6},{"$f":"IFERROR(VLOOKUP($A56,Filtro!$A$5:$AY$629,7,FALSE),0)","v":11},{"$f":"IFERROR(VLOOKUP($A56,Filtro!$A$5:$AY$629,8,FALSE),0)","v":22},{"$f":"IFERROR(VLOOKUP($A56,Filtro!$A$5:$AY$629,9,FALSE),0)","v":13},{"$f":"IFERROR(VLOOKUP($A56,Filtro!$A$5:$AY$629,10,FALSE),0)","v":41},{"$f":"IFERROR(VLOOKUP($A56,Filtro!$A$5:$AY$629,11,FALSE),0)","v":38},{"$f":"IFERROR(VLOOKUP($A56,Filtro!$A$5:$AY$629,12,FALSE),0)","v":72},{"$f":"IFERROR(VLOOKUP($A56,Filtro!$A$5:$AY$629,13,FALSE),0)","v":71},{"$f":"IFERROR(VLOOKUP($A56,Filtro!$A$5:$AY$629,14,FALSE),0)","v":115},{"$f":"IFERROR(VLOOKUP($A56,Filtro!$A$5:$AY$629,15,FALSE),0)","v":110},{"$f":"IFERROR(VLOOKUP($A56,Filtro!$A$5:$AY$629,16,FALSE),0)","v":196},{"$f":"IFERROR(VLOOKUP($A56,Filtro!$A$5:$AY$629,17,FALSE),0)","v":175},{"$f":"IFERROR(VLOOKUP($A56,Filtro!$A$5:$AY$629,18,FALSE),0)","v":321},{"$f":"IFERROR(VLOOKUP($A56,Filtro!$A$5:$AY$629,19,FALSE),0)","v":243},{"$f":"IFERROR(VLOOKUP($A56,Filtro!$A$5:$AY$629,20,FALSE),0)","v":475},{"$f":"IFERROR(VLOOKUP($A56,Filtro!$A$5:$AY$629,21,FALSE),0)","v":359},{"$f":"IFERROR(VLOOKUP($A56,Filtro!$A$5:$AY$629,22,FALSE),0)","v":725},{"$f":"IFERROR(VLOOKUP($A56,Filtro!$A$5:$AY$629,23,FALSE),0)","v":475},{"$f":"IFERROR(VLOOKUP($A56,Filtro!$A$5:$AY$629,24,FALSE),0)","v":751},{"$f":"IFERROR(VLOOKUP($A56,Filtro!$A$5:$AY$629,25,FALSE),0)","v":453},{"$f":"IFERROR(VLOOKUP($A56,Filtro!$A$5:$AY$629,26,FALSE),0)","v":620},{"$f":"IFERROR(VLOOKUP($A56,Filtro!$A$5:$AY$629,27,FALSE),0)","v":340},{"$f":"IFERROR(VLOOKUP($A56,Filtro!$A$5:$AY$629,28,FALSE),0)","v":480},{"$f":"IFERROR(VLOOKUP($A56,Filtro!$A$5:$AY$629,29,FALSE),0)","v":237},{"$f":"IFERROR(VLOOKUP($A56,Filtro!$A$5:$AY$629,30,FALSE),0)","v":306},{"$f":"IFERROR(VLOOKUP($A56,Filtro!$A$5:$AY$629,31,FALSE),0)","v":216},{"$f":"IFERROR(VLOOKUP($A56,Filtro!$A$5:$AY$629,32,FALSE),0)","v":288},{"$f":"IFERROR(VLOOKUP($A56,Filtro!$A$5:$AY$629,33,FALSE),0)","v":18},{"$f":"IFERROR(VLOOKUP($A56,Filtro!$A$5:$AY$629,34,FALSE),0)","v":28},{"$f":"IFERROR(VLOOKUP($A56,Filtro!$A$5:$AY$629,35,FALSE),0)","v":19},{"$f":"IFERROR(VLOOKUP($A56,Filtro!$A$5:$AY$629,36,FALSE),0)","v":35},"",{"$nulls":17},{"$f":"IF($E56>=$AI56,\"\",CONCATENATE(\"* Pueblos Originarios-Hombres no debe ser mayor al Total de personas \",B56,\".\"))","v":""},{"$f":"IF($F56>=$AJ56,\"\",CONCATENATE(\"* Pueblos Originarios-Mujeres no debe ser mayor al Total de personas \",B56,\".\"))","v":""},{"$f":"IF($E56>=$AK56,\"\",CONCATENATE(\"* Población Migrante-Hombres no debe ser mayor al Total de personas \",B56,\".\"))","v":""},{"$f":"IF($F56>=$AL56,\"\",CONCATENATE(\"* Población Migrante - Mujeres no debe ser mayor al Total de personas \",B56,\".\"))","v":""},null,null,"","",{"$nulls":28},0,0,0,0,{"$nulls":4},{"$f":"IF(AND(E59<>0,AI59=\"\"),1,IF(AND(F59<>0,AJ59=\"\"),1,0))","v":0},{"$f":"IF(AND(E59<>0,AK59=\"\"),1,IF(AND(F59<>0,AL59=\"\"),1,0))","v":0}]
["P4301050","FUMADOR ACTUAL",null,{"$f":"SUM(E57:F57)","v":4776},1984,2792,{"$f":"IFERROR(VLOOKUP($A57,Filtro!$A$5:$AY$629,5,FALSE),0)","v":2},{"$f":"IFERROR(VLOOKUP($A57,Filtro!$A$5:$AY$629,6,FALSE),0)","v":5},{"$f":"IFERROR(VLOOKUP($A57,Filtro!$A$5:$AY$629,7,FALSE),0)","v":3},{"$f":"IFERROR(VLOOKUP($A57,Filtro!$A$5:$AY$629,8,FALSE),0)","v":4},{"$f":"IFERROR(VLOOKUP($A57,Filtro!$A$5:$AY$629,9,FALSE),0)","v":12},{"$f":"IFERROR(VLOOKUP($A57,Filtro!$A$5:$AY$629,10,FALSE),0)","v":29},{"$f":"IFERROR(VLOOKUP($A57,Filtro!$A$5:$AY$629,11,FALSE),0)","v":17},{"$f":"IFERROR(VLOOKUP($A57,Filtro!$A$5:$AY$629,12,FALSE),0)","v":48},{"$f":"IFERROR(VLOOKUP($A57,Filtro!$A$5:$AY$629,13,FALSE),0)","v":64},{"$f":"IFERROR(VLOOKUP($A57,Filtro!$A$5:$AY$629,14,FALSE),0)","v":79},{"$f":"IFERROR(VLOOKUP($A57,Filtro!$A$5:$AY$629,15,FALSE),0)","v":98},{"$f":"IFERROR(VLOOKUP($A57,Filtro!$A$5:$AY$629,16,FALSE),0)","v":167},{"$f":"IFERROR(VLOOKUP($A57,Filtro!$A$5:$AY$629,17,FALSE),0)","v":128},{"$f":"IFERROR(VLOOKUP($A57,Filtro!$A$5:$AY$629,18,FALSE),0)","v":212},{"$f":"IFERROR(VLOOKUP($A57,Filtro!$A$5:$AY$629,19,FALSE),0)","v":218},{"$f":"IFERROR(VLOOKUP($A57,Filtro!$A$5:$AY$629,20,FALSE),0)","v":311},{"$f":"IFERROR(VLOOKUP($A57,Filtro!$A$5:$AY$629,21,FALSE),0)","v":285},{"$f":"IFERROR(VLOOKUP($A57,Filtro!$A$5:$AY$629,22,FALSE),0)","v":483},{"$f":"IFERROR(VLOOKUP($A57,Filtro!$A$5:$AY$629,23,FALSE),0)","v":384},{"$f":"IFERROR(VLOOKUP($A57,Filtro!$A$5:$AY$629,24,FALSE),0)","v":556},{"$f":"IFERROR(VLOOKUP($A57,Filtro!$A$5:$AY$629,25,FALSE),0)","v":331},{"$f":"IFERROR(VLOOKUP($A57,Filtro!$A$5:$AY$629,26,FALSE),0)","v":437},{"$f":"IFERROR(VLOOKUP($A57,Filtro!$A$5:$AY$629,27,FALSE),0)","v":215},{"$f":"IFERROR(VLOOKUP($A57,Filtro!$A$5:$AY$629,28,FALSE),0)","v":259},{"$f":"IFERROR(VLOOKUP($A57,Filtro!$A$5:$AY$629,29,FALSE),0)","v":141},{"$f":"IFERROR(VLOOKUP($A57,Filtro!$A$5:$AY$629,30,FALSE),0)","v":128},{"$f":"IFERROR(VLOOKUP($A57,Filtro!$A$5:$AY$629,31,FALSE),0)","v":86},{"$f":"IFERROR(VLOOKUP($A57,Filtro!$A$5:$AY$629,32,FALSE),0)","v":74},{"$f":"IFERROR(VLOOKUP($A57,Filtro!$A$5:$AY$629,33,FALSE),0)","v":13},{"$f":"IFERROR(VLOOKUP($A57,Filtro!$A$5:$AY$629,34,FALSE),0)","v":19},{"$f":"IFERROR(VLOOKUP($A57,Filtro!$A$5:$AY$629,35,FALSE),0)","v":11},{"$f":"IFERROR(VLOOKUP($A57,Filtro!$A$5:$AY$629,36,FALSE),0)","v":13}]
["P4190807","CON ERC ETAPA 3B O SUPERIOR Y EN TRATAMIENTO CON IECA O ARA II",null,3875,{"$f":"+G58+I58+K58+M58+O58+Q58+S58+U58+W58+Y58+AA58+AC58+AE58+AG58","v":1503},{"$f":"+H58+J58+L58+N58+P58+R58+T58+V58+X58+Z58+AB58+AD58+AF58+AH58","v":2372},{"$f":"IFERROR(VLOOKUP($A58,Filtro!$A$5:$AY$629,5,FALSE),0)","v":0},{"$f":"IFERROR(VLOOKUP($A58,Filtro!$A$5:$AY$629,6,FALSE),0)","v":0},{"$f":"IFERROR(VLOOKUP($A58,Filtro!$A$5:$AY$629,7,FALSE),0)","v":0},{"$f":"IFERROR(VLOOKUP($A58,Filtro!$A$5:$AY$629,8,FALSE),0)","v":1},{"$f":"IFERROR(VLOOKUP($A58,Filtro!$A$5:$AY$629,9,FALSE),0)","v":1},{"$f":"IFERROR(VLOOKUP($A58,Filtro!$A$5:$AY$629,10,FALSE),0)","v":6},{"$f":"IFERROR(VLOOKUP($A58,Filtro!$A$5:$AY$629,11,FALSE),0)","v":9},{"$f":"IFERROR(VLOOKUP($A58,Filtro!$A$5:$AY$629,12,FALSE),0)","v":7},{"$f":"IFERROR(VLOOKUP($A58,Filtro!$A$5:$AY$629,13,FALSE),0)","v":5},{"$f":"IFERROR(VLOOKUP($A58,Filtro!$A$5:$AY$629,14,FALSE),0)","v":14},{"$f":"IFERROR(VLOOKUP($A58,Filtro!$A$5:$AY$629,15,FALSE),0)","v":15},{"$f":"IFERROR(VLOOKUP($A58,Filtro!$A$5:$AY$629,16,FALSE),0)","v":39},{"$f":"IFERROR(VLOOKUP($A58,Filtro!$A$5:$AY$629,17,FALSE),0)","v":46},{"$f":"IFERROR(VLOOKUP($A58,Filtro!$A$5:$AY$629,18,FALSE),0)","v":46},{"$f":"IFERROR(VLOOKUP($A58,Filtro!$A$5:$AY$629,19,FALSE),0)","v":61},{"$f":"IFERROR(VLOOKUP($A58,Filtro!$A$5:$AY$629,20,FALSE),0)","v":135},{"$f":"IFERROR(VLOOKUP($A58,Filtro!$A$5:$AY$629,21,FALSE),0)","v":109},{"$f":"IFERROR(VLOOKUP($A58,Filtro!$A$5:$AY$629,22,FALSE),0)","v":186},{"$f":"IFERROR(VLOOKUP($A58,Filtro!$A$5:$AY$629,23,FALSE),0)","v":203},{"$f":"IFERROR(VLOOKUP($A58,Filtro!$A$5:$AY$629,24,FALSE),0)","v":296},{"$f":"IFERROR(VLOOKUP($A58,Filtro!$A$5:$AY$629,25,FALSE),0)","v":269},{"$f":"IFERROR(VLOOKUP($A58,Filtro!$A$5:$AY$629,26,FALSE),0)","v":376},{"$f":"IFERROR(VLOOKUP($A58,Filtro!$A$5:$AY$629,27,FALSE),0)","v":255},{"$f":"IFERROR(VLOOKUP($A58,Filtro!$A$5:$AY$629,28,FALSE),0)","v":377},{"$f":"IFERROR(VLOOKUP($A58,Filtro!$A$5:$AY$629,29,FALSE),0)","v":241},{"$f":"IFERROR(VLOOKUP($A58,Filtro!$A$5:$AY$629,30,FALSE),0)","v":360},{"$f":"IFERROR(VLOOKUP($A58,Filtro!$A$5:$AY$629,31,FALSE),0)","v":289},{"$f":"IFERROR(VLOOKUP($A58,Filtro!$A$5:$AY$629,32,FALSE),0)","v":529},{"$f":"IFERROR(VLOOKUP($A58,Filtro!$A$5:$AY$629,33,FALSE),0)","v":3},{"$f":"IFERROR(VLOOKUP($A58,Filtro!$A$5:$AY$629,34,FALSE),0)","v":2},{"$f":"IFERROR(VLOOKUP($A58,Filtro!$A$5:$AY$629,35,FALSE),0)","v":3},{"$f":"IFERROR(VLOOKUP($A58,Filtro!$A$5:$AY$629,36,FALSE),0)","v":5},"",{"$nulls":17},{"$f":"IF($E58>=$AI58,\"\",CONCATENATE(\"* Pueblos Originarios-Hombres no debe ser mayor al Total de personas \",B58,\".\"))","v":""},{"$f":"IF($F58>=$AJ58,\"\",CONCATENATE(\"* Pueblos Originarios-Mujeres no debe ser mayor al Total de personas \",B58,\".\"))","v":""},{"$f":"IF($E58>=$AK58,\"\",CONCATENATE(\"* Población Migrante-Hombres no debe ser mayor al Total de personas \",B58,\".\"))","v":""},{"$f":"IF($F58>=$AL58,\"\",CONCATENATE(\"* Población Migrante - Mujeres no debe ser mayor al Total de personas \",B58,\".\"))","v":""},null,null,"","",{"$nulls":28},0,0,0,0,{"$nulls":4},{"$f":"IF(AND(E61<>0,AI61=\"\"),1,IF(AND(F61<>0,AJ61=\"\"),1,0))","v":0},{"$f":"IF(AND(E61<>0,AK61=\"\"),1,IF(AND(F61<>0,AL61=\"\"),1,0))","v":0}]
["P4190808","CON UN EXÁMEN DE COLESTEROL LDL VIGENTE",null,28320,10614,17706,{"$f":"IFERROR(VLOOKUP($A59,Filtro!$A$5:$AY$629,5,FALSE),0)","v":14},{"$f":"IFERROR(VLOOKUP($A59,Filtro!$A$5:$AY$629,6,FALSE),0)","v":6},{"$f":"IFERROR(VLOOKUP($A59,Filtro!$A$5:$AY$629,7,FALSE),0)","v":20},{"$f":"IFERROR(VLOOKUP($A59,Filtro!$A$5:$AY$629,8,FALSE),0)","v":44},{"$f":"IFERROR(VLOOKUP($A59,Filtro!$A$5:$AY$629,9,FALSE),0)","v":30},{"$f":"IFERROR(VLOOKUP($A59,Filtro!$A$5:$AY$629,10,FALSE),0)","v":90},{"$f":"IFERROR(VLOOKUP($A59,Filtro!$A$5:$AY$629,11,FALSE),0)","v":71},{"$f":"IFERROR(VLOOKUP($A59,Filtro!$A$5:$AY$629,12,FALSE),0)","v":195},{"$f":"IFERROR(VLOOKUP($A59,Filtro!$A$5:$AY$629,13,FALSE),0)","v":151},{"$f":"IFERROR(VLOOKUP($A59,Filtro!$A$5:$AY$629,14,FALSE),0)","v":367},{"$f":"IFERROR(VLOOKUP($A59,Filtro!$A$5:$AY$629,15,FALSE),0)","v":254},{"$f":"IFERROR(VLOOKUP($A59,Filtro!$A$5:$AY$629,16,FALSE),0)","v":547},{"$f":"IFERROR(VLOOKUP($A59,Filtro!$A$5:$AY$629,17,FALSE),0)","v":431},{"$f":"IFERROR(VLOOKUP($A59,Filtro!$A$5:$AY$629,18,FALSE),0)","v":938},{"$f":"IFERROR(VLOOKUP($A59,Filtro!$A$5:$AY$629,19,FALSE),0)","v":724},{"$f":"IFERROR(VLOOKUP($A59,Filtro!$A$5:$AY$629,20,FALSE),0)","v":1529},{"$f":"IFERROR(VLOOKUP($A59,Filtro!$A$5:$AY$629,21,FALSE),0)","v":1108},{"$f":"IFERROR(VLOOKUP($A59,Filtro!$A$5:$AY$629,22,FALSE),0)","v":2359},{"$f":"IFERROR(VLOOKUP($A59,Filtro!$A$5:$AY$629,23,FALSE),0)","v":1519},{"$f":"IFERROR(VLOOKUP($A59,Filtro!$A$5:$AY$629,24,FALSE),0)","v":2488},{"$f":"IFERROR(VLOOKUP($A59,Filtro!$A$5:$AY$629,25,FALSE),0)","v":1825},{"$f":"IFERROR(VLOOKUP($A59,Filtro!$A$5:$AY$629,26,FALSE),0)","v":2737},{"$f":"IFERROR(VLOOKUP($A59,Filtro!$A$5:$AY$629,27,FALSE),0)","v":1712},{"$f":"IFERROR(VLOOKUP($A59,Filtro!$A$5:$AY$629,28,FALSE),0)","v":2353},{"$f":"IFERROR(VLOOKUP($A59,Filtro!$A$5:$AY$629,29,FALSE),0)","v":1344},{"$f":"IFERROR(VLOOKUP($A59,Filtro!$A$5:$AY$629,30,FALSE),0)","v":1911},{"$f":"IFERROR(VLOOKUP($A59,Filtro!$A$5:$AY$629,31,FALSE),0)","v":1411},{"$f":"IFERROR(VLOOKUP($A59,Filtro!$A$5:$AY$629,32,FALSE),0)","v":2142},{"$f":"IFERROR(VLOOKUP($A59,Filtro!$A$5:$AY$629,33,FALSE),0)","v":46},{"$f":"IFERROR(VLOOKUP($A59,Filtro!$A$5:$AY$629,34,FALSE),0)","v":108},{"$f":"IFERROR(VLOOKUP($A59,Filtro!$A$5:$AY$629,35,FALSE),0)","v":40},{"$f":"IFERROR(VLOOKUP($A59,Filtro!$A$5:$AY$629,36,FALSE),0)","v":101},"",{"$nulls":17},{"$f":"IF($E59>=$AI59,\"\",CONCATENATE(\"* Pueblos Originarios-Hombres no debe ser mayor al Total de personas \",B59,\".\"))","v":""},{"$f":"IF($F59>=$AJ59,\"\",CONCATENATE(\"* Pueblos Originarios-Mujeres no debe ser mayor al Total de personas \",B59,\".\"))","v":""},{"$f":"IF($E59>=$AK59,\"\",CONCATENATE(\"* Población Migrante-Hombres no debe ser mayor al Total de personas \",B59,\".\"))","v":""},{"$f":"IF($F59>=$AL59,\"\",CONCATENATE(\"* Población Migrante - Mujeres no debe ser mayor al Total de personas \",B59,\".\"))","v":""},null,null,"","",{"$nulls":28},0,0,0,0,{"$nulls":4},{"$f":"IF(AND(E62<>0,AI62=\"\"),1,IF(AND(F62<>0,AJ62=\"\"),1,0))","v":0},{"$f":"IF(AND(E62<>0,AK62=\"\"),1,IF(AND(F62<>0,AL62=\"\"),1,0))","v":0}]
["P4302100","CON HIPOGLICEMIAS RECURRENTES",null,{"$f":"SUM(E60:F60)","v":227},95,132,{"$f":"IFERROR(VLOOKUP($A60,Filtro!$A$5:$AY$629,5,FALSE),0)","v":3},{"$f":"IFERROR(VLOOKUP($A60,Filtro!$A$5:$AY$629,6,FALSE),0)","v":4},{"$f":"IFERROR(VLOOKUP($A60,Filtro!$A$5:$AY$629,7,FALSE),0)","v":5},{"$f":"IFERROR(VLOOKUP($A60,Filtro!$A$5:$AY$629,8,FALSE),0)","v":5},{"$f":"IFERROR(VLOOKUP($A60,Filtro!$A$5:$AY$629,9,FALSE),0)","v":3},{"$f":"IFERROR(VLOOKUP($A60,Filtro!$A$5:$AY$629,10,FALSE),0)","v":2},{"$f":"IFERROR(VLOOKUP($A60,Filtro!$A$5:$AY$629,11,FALSE),0)","v":4},{"$f":"IFERROR(VLOOKUP($A60,Filtro!$A$5:$AY$629,12,FALSE),0)","v":3},{"$f":"IFERROR(VLOOKUP($A60,Filtro!$A$5:$AY$629,13,FALSE),0)","v":5},{"$f":"IFERROR(VLOOKUP($A60,Filtro!$A$5:$AY$629,14,FALSE),0)","v":6},{"$f":"IFERROR(VLOOKUP($A60,Filtro!$A$5:$AY$629,15,FALSE),0)","v":5},{"$f":"IFERROR(VLOOKUP($A60,Filtro!$A$5:$AY$629,16,FALSE),0)","v":7},{"$f":"IFERROR(VLOOKUP($A60,Filtro!$A$5:$AY$629,17,FALSE),0)","v":6},{"$f":"IFERROR(VLOOKUP($A60,Filtro!$A$5:$AY$629,18,FALSE),0)","v":6},{"$f":"IFERROR(VLOOKUP($A60,Filtro!$A$5:$AY$629,19,FALSE),0)","v":6},{"$f":"IFERROR(VLOOKUP($A60,Filtro!$A$5:$AY$629,20,FALSE),0)","v":10},{"$f":"IFERROR(VLOOKUP($A60,Filtro!$A$5:$AY$629,21,FALSE),0)","v":9},{"$f":"IFERROR(VLOOKUP($A60,Filtro!$A$5:$AY$629,22,FALSE),0)","v":10},{"$f":"IFERROR(VLOOKUP($A60,Filtro!$A$5:$AY$629,23,FALSE),0)","v":15},{"$f":"IFERROR(VLOOKUP($A60,Filtro!$A$5:$AY$629,24,FALSE),0)","v":18},{"$f":"IFERROR(VLOOKUP($A60,Filtro!$A$5:$AY$629,25,FALSE),0)","v":6},{"$f":"IFERROR(VLOOKUP($A60,Filtro!$A$5:$AY$629,26,FALSE),0)","v":15},{"$f":"IFERROR(VLOOKUP($A60,Filtro!$A$5:$AY$629,27,FALSE),0)","v":10},{"$f":"IFERROR(VLOOKUP($A60,Filtro!$A$5:$AY$629,28,FALSE),0)","v":18},{"$f":"IFERROR(VLOOKUP($A60,Filtro!$A$5:$AY$629,29,FALSE),0)","v":10},{"$f":"IFERROR(VLOOKUP($A60,Filtro!$A$5:$AY$629,30,FALSE),0)","v":14},{"$f":"IFERROR(VLOOKUP($A60,Filtro!$A$5:$AY$629,31,FALSE),0)","v":8},{"$f":"IFERROR(VLOOKUP($A60,Filtro!$A$5:$AY$629,32,FALSE),0)","v":14},{"$f":"IFERROR(VLOOKUP($A60,Filtro!$A$5:$AY$629,33,FALSE),0)","v":0},{"$f":"IFERROR(VLOOKUP($A60,Filtro!$A$5:$AY$629,34,FALSE),0)","v":0},{"$f":"IFERROR(VLOOKUP($A60,Filtro!$A$5:$AY$629,35,FALSE),0)","v":0},{"$f":"IFERROR(VLOOKUP($A60,Filtro!$A$5:$AY$629,36,FALSE),0)","v":0}]
["P4190809","CON *EVALUACIÓN VIGENTE DEL PIE SEGÚN PAUTA DE ESTIMACION DEL RIESGO DE ULCERACION EN PERSONAS CON DIABETES","Riesgo bajo",20048,{"$f":"+G61+I61+K61+M61+O61+Q61+S61+U61+W61+Y61+AA61+AC61+AE61+AG61","v":7120},{"$f":"+H61+J61+L61+N61+P61+R61+T61+V61+X61+Z61+AB61+AD61+AF61+AH61","v":12928},{"$f":"IFERROR(VLOOKUP($A61,Filtro!$A$5:$AY$629,5,FALSE),0)","v":11},{"$f":"IFERROR(VLOOKUP($A61,Filtro!$A$5:$AY$629,6,FALSE),0)","v":7},{"$f":"IFERROR(VLOOKUP($A61,Filtro!$A$5:$AY$629,7,FALSE),0)","v":19},{"$f":"IFERROR(VLOOKUP($A61,Filtro!$A$5:$AY$629,8,FALSE),0)","v":27},{"$f":"IFERROR(VLOOKUP($A61,Filtro!$A$5:$AY$629,9,FALSE),0)","v":30},{"$f":"IFERROR(VLOOKUP($A61,Filtro!$A$5:$AY$629,10,FALSE),0)","v":74},{"$f":"IFERROR(VLOOKUP($A61,Filtro!$A$5:$AY$629,11,FALSE),0)","v":67},{"$f":"IFERROR(VLOOKUP($A61,Filtro!$A$5:$AY$629,12,FALSE),0)","v":167},{"$f":"IFERROR(VLOOKUP($A61,Filtro!$A$5:$AY$629,13,FALSE),0)","v":120},{"$f":"IFERROR(VLOOKUP($A61,Filtro!$A$5:$AY$629,14,FALSE),0)","v":280},{"$f":"IFERROR(VLOOKUP($A61,Filtro!$A$5:$AY$629,15,FALSE),0)","v":179},{"$f":"IFERROR(VLOOKUP($A61,Filtro!$A$5:$AY$629,16,FALSE),0)","v":490},{"$f":"IFERROR(VLOOKUP($A61,Filtro!$A$5:$AY$629,17,FALSE),0)","v":351},{"$f":"IFERROR(VLOOKUP($A61,Filtro!$A$5:$AY$629,18,FALSE),0)","v":749},{"$f":"IFERROR(VLOOKUP($A61,Filtro!$A$5:$AY$629,19,FALSE),0)","v":558},{"$f":"IFERROR(VLOOKUP($A61,Filtro!$A$5:$AY$629,20,FALSE),0)","v":1180},{"$f":"IFERROR(VLOOKUP($A61,Filtro!$A$5:$AY$629,21,FALSE),0)","v":776},{"$f":"IFERROR(VLOOKUP($A61,Filtro!$A$5:$AY$629,22,FALSE),0)","v":1806},{"$f":"IFERROR(VLOOKUP($A61,Filtro!$A$5:$AY$629,23,FALSE),0)","v":993},{"$f":"IFERROR(VLOOKUP($A61,Filtro!$A$5:$AY$629,24,FALSE),0)","v":2007},{"$f":"IFERROR(VLOOKUP($A61,Filtro!$A$5:$AY$629,25,FALSE),0)","v":1213},{"$f":"IFERROR(VLOOKUP($A61,Filtro!$A$5:$AY$629,26,FALSE),0)","v":2099},{"$f":"IFERROR(VLOOKUP($A61,Filtro!$A$5:$AY$629,27,FALSE),0)","v":1272},{"$f":"IFERROR(VLOOKUP($A61,Filtro!$A$5:$AY$629,28,FALSE),0)","v":1677},{"$f":"IFERROR(VLOOKUP($A61,Filtro!$A$5:$AY$629,29,FALSE),0)","v":848},{"$f":"IFERROR(VLOOKUP($A61,Filtro!$A$5:$AY$629,30,FALSE),0)","v":1301},{"$f":"IFERROR(VLOOKUP($A61,Filtro!$A$5:$AY$629,31,FALSE),0)","v":683},{"$f":"IFERROR(VLOOKUP($A61,Filtro!$A$5:$AY$629,32,FALSE),0)","v":1064},{"$f":"IFERROR(VLOOKUP($A61,Filtro!$A$5:$AY$629,33,FALSE),0)","v":39},{"$f":"IFERROR(VLOOKUP($A61,Filtro!$A$5:$AY$629,34,FALSE),0)","v":80},{"$f":"IFERROR(VLOOKUP($A61,Filtro!$A$5:$AY$629,35,FALSE),0)","v":35},{"$f":"IFERROR(VLOOKUP($A61,Filtro!$A$5:$AY$629,36,FALSE),0)","v":61},"",{"$nulls":17},{"$f":"IF($E61>=$AI61,\"\",CONCATENATE(\"* Pueblos Originarios-Hombres no debe ser mayor al Total de personas \",CONCATENATE($B$61,\"-\",C61),\".\"))","v":""},{"$f":"IF($F61>=$AJ61,\"\",CONCATENATE(\"* Pueblos Originarios-Mujeres no debe ser mayor al Total de personas \",CONCATENATE($B$61,\"-\",C61),\".\"))","v":""},{"$f":"IF($E61>=$AK61,\"\",CONCATENATE(\"* Población Migrante-Hombres no debe ser mayor al Total de personas \",CONCATENATE($B$61,\"-\",C61),\".\"))","v":""},{"$f":"IF($F61>=$AL61,\"\",CONCATENATE(\"* Población Migrante - Mujeres no debe ser mayor al Total de personas \",CONCATENATE($B$61,\"-\",C61),\".\"))","v":""},null,null,"","",{"$nulls":28},0,0,0,0,{"$nulls":4},0,0]
["P4170300",null,"Riesgo moderado ",2133,785,1348,{"$f":"IFERROR(VLOOKUP($A62,Filtro!$A$5:$AY$629,5,FALSE),0)","v":0},{"$f":"IFERROR(VLOOKUP($A62,Filtro!$A$5:$AY$629,6,FALSE),0)","v":1},{"$f":"IFERROR(VLOOKUP($A62,Filtro!$A$5:$AY$629,7,FALSE),0)","v":1},{"$f":"IFERROR(VLOOKUP($A62,Filtro!$A$5:$AY$629,8,FALSE),0)","v":2},{"$f":"IFERROR(VLOOKUP($A62,Filtro!$A$5:$AY$629,9,FALSE),0)","v":0},{"$f":"IFERROR(VLOOKUP($A62,Filtro!$A$5:$AY$629,10,FALSE),0)","v":3},{"$f":"IFERROR(VLOOKUP($A62,Filtro!$A$5:$AY$629,11,FALSE),0)","v":6},{"$f":"IFERROR(VLOOKUP($A62,Filtro!$A$5:$AY$629,12,FALSE),0)","v":9},{"$f":"IFERROR(VLOOKUP($A62,Filtro!$A$5:$AY$629,13,FALSE),0)","v":12},{"$f":"IFERROR(VLOOKUP($A62,Filtro!$A$5:$AY$629,14,FALSE),0)","v":12},{"$f":"IFERROR(VLOOKUP($A62,Filtro!$A$5:$AY$629,15,FALSE),0)","v":14},{"$f":"IFERROR(VLOOKUP($A62,Filtro!$A$5:$AY$629,16,FALSE),0)","v":22},{"$f":"IFERROR(VLOOKUP($A62,Filtro!$A$5:$AY$629,17,FALSE),0)","v":24},{"$f":"IFERROR(VLOOKUP($A62,Filtro!$A$5:$AY$629,18,FALSE),0)","v":50},{"$f":"IFERROR(VLOOKUP($A62,Filtro!$A$5:$AY$629,19,FALSE),0)","v":48},{"$f":"IFERROR(VLOOKUP($A62,Filtro!$A$5:$AY$629,20,FALSE),0)","v":86},{"$f":"IFERROR(VLOOKUP($A62,Filtro!$A$5:$AY$629,21,FALSE),0)","v":66},{"$f":"IFERROR(VLOOKUP($A62,Filtro!$A$5:$AY$629,22,FALSE),0)","v":146},{"$f":"IFERROR(VLOOKUP($A62,Filtro!$A$5:$AY$629,23,FALSE),0)","v":110},{"$f":"IFERROR(VLOOKUP($A62,Filtro!$A$5:$AY$629,24,FALSE),0)","v":195},{"$f":"IFERROR(VLOOKUP($A62,Filtro!$A$5:$AY$629,25,FALSE),0)","v":129},{"$f":"IFERROR(VLOOKUP($A62,Filtro!$A$5:$AY$629,26,FALSE),0)","v":190},{"$f":"IFERROR(VLOOKUP($A62,Filtro!$A$5:$AY$629,27,FALSE),0)","v":114},{"$f":"IFERROR(VLOOKUP($A62,Filtro!$A$5:$AY$629,28,FALSE),0)","v":195},{"$f":"IFERROR(VLOOKUP($A62,Filtro!$A$5:$AY$629,29,FALSE),0)","v":134},{"$f":"IFERROR(VLOOKUP($A62,Filtro!$A$5:$AY$629,30,FALSE),0)","v":212},{"$f":"IFERROR(VLOOKUP($A62,Filtro!$A$5:$AY$629,31,FALSE),0)","v":127},{"$f":"IFERROR(VLOOKUP($A62,Filtro!$A$5:$AY$629,32,FALSE),0)","v":225},{"$f":"IFERROR(VLOOKUP($A62,Filtro!$A$5:$AY$629,33,FALSE),0)","v":1},{"$f":"IFERROR(VLOOKUP($A62,Filtro!$A$5:$AY$629,34,FALSE),0)","v":8},{"$f":"IFERROR(VLOOKUP($A62,Filtro!$A$5:$AY$629,35,FALSE),0)","v":5},{"$f":"IFERROR(VLOOKUP($A62,Filtro!$A$5:$AY$629,36,FALSE),0)","v":9},"",{"$nulls":17},{"$f":"IF($E62>=$AI62,\"\",CONCATENATE(\"* Pueblos Originarios-Hombres no debe ser mayor al Total de personas \",CONCATENATE($B$61,\"-\",C62),\".\"))","v":""},{"$f":"IF($F62>=$AJ62,\"\",CONCATENATE(\"* Pueblos Originarios-Mujeres no debe ser mayor al Total de personas \",CONCATENATE($B$61,\"-\",C62),\".\"))","v":""},{"$f":"IF($E62>=$AK62,\"\",CONCATENATE(\"* Población Migrante-Hombres no debe ser mayor al Total de personas \",CONCATENATE($B$61,\"-\",C62),\".\"))","v":""},{"$f":"IF($F62>=$AL62,\"\",CONCATENATE(\"* Población Migrante - Mujeres no debe ser mayor al Total de personas \",CONCATENATE($B$61,\"-\",C62),\".\"))","v":""},null,null,"","",{"$nulls":28},0,0,0,0,{"$nulls":4},0,0]
["P4190500",null,"Riesgo alto",4455,1707,2748,{"$f":"IFERROR(VLOOKUP($A63,Filtro!$A$5:$AY$629,5,FALSE),0)","v":1},{"$f":"IFERROR(VLOOKUP($A63,Filtro!$A$5:$AY$629,6,FALSE),0)","v":0},{"$f":"IFERROR(VLOOKUP($A63,Filtro!$A$5:$AY$629,7,FALSE),0)","v":1},{"$f":"IFERROR(VLOOKUP($A63,Filtro!$A$5:$AY$629,8,FALSE),0)","v":2},{"$f":"IFERROR(VLOOKUP($A63,Filtro!$A$5:$AY$629,9,FALSE),0)","v":2},{"$f":"IFERROR(VLOOKUP($A63,Filtro!$A$5:$AY$629,10,FALSE),0)","v":6},{"$f":"IFERROR(VLOOKUP($A63,Filtro!$A$5:$AY$629,11,FALSE),0)","v":5},{"$f":"IFERROR(VLOOKUP($A63,Filtro!$A$5:$AY$629,12,FALSE),0)","v":15},{"$f":"IFERROR(VLOOKUP($A63,Filtro!$A$5:$AY$629,13,FALSE),0)","v":12},{"$f":"IFERROR(VLOOKUP($A63,Filtro!$A$5:$AY$629,14,FALSE),0)","v":22},{"$f":"IFERROR(VLOOKUP($A63,Filtro!$A$5:$AY$629,15,FALSE),0)","v":32},{"$f":"IFERROR(VLOOKUP($A63,Filtro!$A$5:$AY$629,16,FALSE),0)","v":41},{"$f":"IFERROR(VLOOKUP($A63,Filtro!$A$5:$AY$629,17,FALSE),0)","v":36},{"$f":"IFERROR(VLOOKUP($A63,Filtro!$A$5:$AY$629,18,FALSE),0)","v":69},{"$f":"IFERROR(VLOOKUP($A63,Filtro!$A$5:$AY$629,19,FALSE),0)","v":65},{"$f":"IFERROR(VLOOKUP($A63,Filtro!$A$5:$AY$629,20,FALSE),0)","v":155},{"$f":"IFERROR(VLOOKUP($A63,Filtro!$A$5:$AY$629,21,FALSE),0)","v":121},{"$f":"IFERROR(VLOOKUP($A63,Filtro!$A$5:$AY$629,22,FALSE),0)","v":240},{"$f":"IFERROR(VLOOKUP($A63,Filtro!$A$5:$AY$629,23,FALSE),0)","v":170},{"$f":"IFERROR(VLOOKUP($A63,Filtro!$A$5:$AY$629,24,FALSE),0)","v":307},{"$f":"IFERROR(VLOOKUP($A63,Filtro!$A$5:$AY$629,25,FALSE),0)","v":271},{"$f":"IFERROR(VLOOKUP($A63,Filtro!$A$5:$AY$629,26,FALSE),0)","v":403},{"$f":"IFERROR(VLOOKUP($A63,Filtro!$A$5:$AY$629,27,FALSE),0)","v":281},{"$f":"IFERROR(VLOOKUP($A63,Filtro!$A$5:$AY$629,28,FALSE),0)","v":421},{"$f":"IFERROR(VLOOKUP($A63,Filtro!$A$5:$AY$629,29,FALSE),0)","v":300},{"$f":"IFERROR(VLOOKUP($A63,Filtro!$A$5:$AY$629,30,FALSE),0)","v":398},{"$f":"IFERROR(VLOOKUP($A63,Filtro!$A$5:$AY$629,31,FALSE),0)","v":410},{"$f":"IFERROR(VLOOKUP($A63,Filtro!$A$5:$AY$629,32,FALSE),0)","v":669},{"$f":"IFERROR(VLOOKUP($A63,Filtro!$A$5:$AY$629,33,FALSE),0)","v":6},{"$f":"IFERROR(VLOOKUP($A63,Filtro!$A$5:$AY$629,34,FALSE),0)","v":7},{"$f":"IFERROR(VLOOKUP($A63,Filtro!$A$5:$AY$629,35,FALSE),0)","v":5},{"$f":"IFERROR(VLOOKUP($A63,Filtro!$A$5:$AY$629,36,FALSE),0)","v":6},"",{"$nulls":17},{"$f":"IF($E63>=$AI63,\"\",CONCATENATE(\"* Pueblos Originarios-Hombres no debe ser mayor al Total de personas \",CONCATENATE($B$61,\"-\",C63),\".\"))","v":""},{"$f":"IF($F63>=$AJ63,\"\",CONCATENATE(\"* Pueblos Originarios-Mujeres no debe ser mayor al Total de personas \",CONCATENATE($B$61,\"-\",C63),\".\"))","v":""},{"$f":"IF($E63>=$AK63,\"\",CONCATENATE(\"* Población Migrante-Hombres no debe ser mayor al Total de personas \",CONCATENATE($B$61,\"-\",C63),\".\"))","v":""},{"$f":"IF($F63>=$AL63,\"\",CONCATENATE(\"* Población Migrante - Mujeres no debe ser mayor al Total de personas \",CONCATENATE($B$61,\"-\",C63),\".\"))","v":""},null,null,"","",{"$nulls":28},0,0,0,0,{"$nulls":4},0,0]
["P4190600",null,"Riesgo máximo ",1569,882,687,{"$f":"IFERROR(VLOOKUP($A64,Filtro!$A$5:$AY$629,5,FALSE),0)","v":0},{"$f":"IFERROR(VLOOKUP($A64,Filtro!$A$5:$AY$629,6,FALSE),0)","v":2},{"$f":"IFERROR(VLOOKUP($A64,Filtro!$A$5:$AY$629,7,FALSE),0)","v":0},{"$f":"IFERROR(VLOOKUP($A64,Filtro!$A$5:$AY$629,8,FALSE),0)","v":0},{"$f":"IFERROR(VLOOKUP($A64,Filtro!$A$5:$AY$629,9,FALSE),0)","v":0},{"$f":"IFERROR(VLOOKUP($A64,Filtro!$A$5:$AY$629,10,FALSE),0)","v":1},{"$f":"IFERROR(VLOOKUP($A64,Filtro!$A$5:$AY$629,11,FALSE),0)","v":3},{"$f":"IFERROR(VLOOKUP($A64,Filtro!$A$5:$AY$629,12,FALSE),0)","v":7},{"$f":"IFERROR(VLOOKUP($A64,Filtro!$A$5:$AY$629,13,FALSE),0)","v":5},{"$f":"IFERROR(VLOOKUP($A64,Filtro!$A$5:$AY$629,14,FALSE),0)","v":9},{"$f":"IFERROR(VLOOKUP($A64,Filtro!$A$5:$AY$629,15,FALSE),0)","v":13},{"$f":"IFERROR(VLOOKUP($A64,Filtro!$A$5:$AY$629,16,FALSE),0)","v":21},{"$f":"IFERROR(VLOOKUP($A64,Filtro!$A$5:$AY$629,17,FALSE),0)","v":41},{"$f":"IFERROR(VLOOKUP($A64,Filtro!$A$5:$AY$629,18,FALSE),0)","v":24},{"$f":"IFERROR(VLOOKUP($A64,Filtro!$A$5:$AY$629,19,FALSE),0)","v":46},{"$f":"IFERROR(VLOOKUP($A64,Filtro!$A$5:$AY$629,20,FALSE),0)","v":40},{"$f":"IFERROR(VLOOKUP($A64,Filtro!$A$5:$AY$629,21,FALSE),0)","v":102},{"$f":"IFERROR(VLOOKUP($A64,Filtro!$A$5:$AY$629,22,FALSE),0)","v":76},{"$f":"IFERROR(VLOOKUP($A64,Filtro!$A$5:$AY$629,23,FALSE),0)","v":133},{"$f":"IFERROR(VLOOKUP($A64,Filtro!$A$5:$AY$629,24,FALSE),0)","v":100},{"$f":"IFERROR(VLOOKUP($A64,Filtro!$A$5:$AY$629,25,FALSE),0)","v":174},{"$f":"IFERROR(VLOOKUP($A64,Filtro!$A$5:$AY$629,26,FALSE),0)","v":111},{"$f":"IFERROR(VLOOKUP($A64,Filtro!$A$5:$AY$629,27,FALSE),0)","v":145},{"$f":"IFERROR(VLOOKUP($A64,Filtro!$A$5:$AY$629,28,FALSE),0)","v":100},{"$f":"IFERROR(VLOOKUP($A64,Filtro!$A$5:$AY$629,29,FALSE),0)","v":113},{"$f":"IFERROR(VLOOKUP($A64,Filtro!$A$5:$AY$629,30,FALSE),0)","v":86},{"$f":"IFERROR(VLOOKUP($A64,Filtro!$A$5:$AY$629,31,FALSE),0)","v":107},{"$f":"IFERROR(VLOOKUP($A64,Filtro!$A$5:$AY$629,32,FALSE),0)","v":110},{"$f":"IFERROR(VLOOKUP($A64,Filtro!$A$5:$AY$629,33,FALSE),0)","v":5},{"$f":"IFERROR(VLOOKUP($A64,Filtro!$A$5:$AY$629,34,FALSE),0)","v":1},{"$f":"IFERROR(VLOOKUP($A64,Filtro!$A$5:$AY$629,35,FALSE),0)","v":2},{"$f":"IFERROR(VLOOKUP($A64,Filtro!$A$5:$AY$629,36,FALSE),0)","v":1},"",{"$nulls":17},{"$f":"IF($E64>=$AI64,\"\",CONCATENATE(\"* Pueblos Originarios-Hombres no debe ser mayor al Total de personas \",CONCATENATE($B$61,\"-\",C64),\".\"))","v":""},{"$f":"IF($F64>=$AJ64,\"\",CONCATENATE(\"* Pueblos Originarios-Mujeres no debe ser mayor al Total de personas \",CONCATENATE($B$61,\"-\",C64),\".\"))","v":""},{"$f":"IF($E64>=$AK64,\"\",CONCATENATE(\"* Población Migrante-Hombres no debe ser mayor al Total de personas \",CONCATENATE($B$61,\"-\",C64),\".\"))","v":""},{"$f":"IF($F64>=$AL64,\"\",CONCATENATE(\"* Población Migrante - Mujeres no debe ser mayor al Total de personas \",CONCATENATE($B$61,\"-\",C64),\".\"))","v":""},null,null,"","",{"$nulls":28},0,0,0,0,{"$nulls":4},{"$f":"IF(AND(E67<>0,AI67=\"\"),1,IF(AND(F67<>0,AJ67=\"\"),1,0))","v":0},{"$f":"IF(AND(E67<>0,AK67=\"\"),1,IF(AND(F67<>0,AL67=\"\"),1,0))","v":0}]
["P4190970","CON ÚLCERAS ACTIVAS DE PIE TRATADAS CON CURACIÓN ","Curación Convencional",127,{"$f":"+G65+I65+K65+M65+O65+Q65+S65+U65+W65+Y65+AA65+AC65+AE65+AG65","v":64},{"$f":"+H65+J65+L65+N65+P65+R65+T65+V65+X65+Z65+AB65+AD65+AF65+AH65","v":63},{"$f":"IFERROR(VLOOKUP($A65,Filtro!$A$5:$AY$629,5,FALSE),0)","v":0},{"$f":"IFERROR(VLOOKUP($A65,Filtro!$A$5:$AY$629,6,FALSE),0)","v":0},{"$f":"IFERROR(VLOOKUP($A65,Filtro!$A$5:$AY$629,7,FALSE),0)","v":0},{"$f":"IFERROR(VLOOKUP($A65,Filtro!$A$5:$AY$629,8,FALSE),0)","v":0},{"$f":"IFERROR(VLOOKUP($A65,Filtro!$A$5:$AY$629,9,FALSE),0)","v":0},{"$f":"IFERROR(VLOOKUP($A65,Filtro!$A$5:$AY$629,10,FALSE),0)","v":0},{"$f":"IFERROR(VLOOKUP($A65,Filtro!$A$5:$AY$629,11,FALSE),0)","v":0},{"$f":"IFERROR(VLOOKUP($A65,Filtro!$A$5:$AY$629,12,FALSE),0)","v":1},{"$f":"IFERROR(VLOOKUP($A65,Filtro!$A$5:$AY$629,13,FALSE),0)","v":1},{"$f":"IFERROR(VLOOKUP($A65,Filtro!$A$5:$AY$629,14,FALSE),0)","v":4},{"$f":"IFERROR(VLOOKUP($A65,Filtro!$A$5:$AY$629,15,FALSE),0)","v":2},{"$f":"IFERROR(VLOOKUP($A65,Filtro!$A$5:$AY$629,16,FALSE),0)","v":3},{"$f":"IFERROR(VLOOKUP($A65,Filtro!$A$5:$AY$629,17,FALSE),0)","v":4},{"$f":"IFERROR(VLOOKUP($A65,Filtro!$A$5:$AY$629,18,FALSE),0)","v":8},{"$f":"IFERROR(VLOOKUP($A65,Filtro!$A$5:$AY$629,19,FALSE),0)","v":1},{"$f":"IFERROR(VLOOKUP($A65,Filtro!$A$5:$AY$629,20,FALSE),0)","v":8},{"$f":"IFERROR(VLOOKUP($A65,Filtro!$A$5:$AY$629,21,FALSE),0)","v":13},{"$f":"IFERROR(VLOOKUP($A65,Filtro!$A$5:$AY$629,22,FALSE),0)","v":9},{"$f":"IFERROR(VLOOKUP($A65,Filtro!$A$5:$AY$629,23,FALSE),0)","v":13},{"$f":"IFERROR(VLOOKUP($A65,Filtro!$A$5:$AY$629,24,FALSE),0)","v":18},{"$f":"IFERROR(VLOOKUP($A65,Filtro!$A$5:$AY$629,25,FALSE),0)","v":6},{"$f":"IFERROR(VLOOKUP($A65,Filtro!$A$5:$AY$629,26,FALSE),0)","v":4},{"$f":"IFERROR(VLOOKUP($A65,Filtro!$A$5:$AY$629,27,FALSE),0)","v":9},{"$f":"IFERROR(VLOOKUP($A65,Filtro!$A$5:$AY$629,28,FALSE),0)","v":3},{"$f":"IFERROR(VLOOKUP($A65,Filtro!$A$5:$AY$629,29,FALSE),0)","v":4},{"$f":"IFERROR(VLOOKUP($A65,Filtro!$A$5:$AY$629,30,FALSE),0)","v":1},{"$f":"IFERROR(VLOOKUP($A65,Filtro!$A$5:$AY$629,31,FALSE),0)","v":11},{"$f":"IFERROR(VLOOKUP($A65,Filtro!$A$5:$AY$629,32,FALSE),0)","v":4},{"$f":"IFERROR(VLOOKUP($A65,Filtro!$A$5:$AY$629,33,FALSE),0)","v":0},{"$f":"IFERROR(VLOOKUP($A65,Filtro!$A$5:$AY$629,34,FALSE),0)","v":0},{"$f":"IFERROR(VLOOKUP($A65,Filtro!$A$5:$AY$629,35,FALSE),0)","v":0},{"$f":"IFERROR(VLOOKUP($A65,Filtro!$A$5:$AY$629,36,FALSE),0)","v":0},"",{"$nulls":17},{"$f":"IF($E65>=$AI65,\"\",CONCATENATE(\"* Pueblos Originarios-Hombres no debe ser mayor al Total de personas \",CONCATENATE($B$65,\"-\",C65),\".\"))","v":""},{"$f":"IF($F65>=$AJ65,\"\",CONCATENATE(\"* Pueblos Originarios-Mujeres no debe ser mayor al Total de personas \",CONCATENATE($B$65,\"-\",C65),\".\"))","v":""},{"$f":"IF($E65>=$AK65,\"\",CONCATENATE(\"* Población Migrante-Hombres no debe ser mayor al Total de personas \",CONCATENATE($B$65,\"-\",C65),\".\"))","v":""},{"$f":"IF($F65>=$AL65,\"\",CONCATENATE(\"* Población Migrante - Mujeres no debe ser mayor al Total de personas \",CONCATENATE($B$65,\"-\",C65),\".\"))","v":""},null,null,"","",{"$nulls":28},0,0,0,0,{"$nulls":4},{"$f":"IF(AND(E69<>0,AI69=\"\"),1,IF(AND(F69<>0,AJ69=\"\"),1,0))","v":0},{"$f":"IF(AND(E69<>0,AK69=\"\"),1,IF(AND(F69<>0,AL69=\"\"),1,0))","v":0}]
["P4170500",null,"Curación Avanzada",{"$f":"SUM(E66:F66)","v":1627},{"$f":"+G66+I66+K66+M66+O66+Q66+S66+U66+W66+Y66+AA66+AC66+AE66+AG66","v":1128},499,{"$f":"IFERROR(VLOOKUP($A66,Filtro!$A$5:$AY$629,5,FALSE),0)","v":0},{"$f":"IFERROR(VLOOKUP($A66,Filtro!$A$5:$AY$629,6,FALSE),0)","v":1},{"$f":"IFERROR(VLOOKUP($A66,Filtro!$A$5:$AY$629,7,FALSE),0)","v":0},{"$f":"IFERROR(VLOOKUP($A66,Filtro!$A$5:$AY$629,8,FALSE),0)","v":1},{"$f":"IFERROR(VLOOKUP($A66,Filtro!$A$5:$AY$629,9,FALSE),0)","v":0},{"$f":"IFERROR(VLOOKUP($A66,Filtro!$A$5:$AY$629,10,FALSE),0)","v":2},{"$f":"IFERROR(VLOOKUP($A66,Filtro!$A$5:$AY$629,11,FALSE),0)","v":4},{"$f":"IFERROR(VLOOKUP($A66,Filtro!$A$5:$AY$629,12,FALSE),0)","v":4},{"$f":"IFERROR(VLOOKUP($A66,Filtro!$A$5:$AY$629,13,FALSE),0)","v":30},{"$f":"IFERROR(VLOOKUP($A66,Filtro!$A$5:$AY$629,14,FALSE),0)","v":20},{"$f":"IFERROR(VLOOKUP($A66,Filtro!$A$5:$AY$629,15,FALSE),0)","v":18},{"$f":"IFERROR(VLOOKUP($A66,Filtro!$A$5:$AY$629,16,FALSE),0)","v":37},{"$f":"IFERROR(VLOOKUP($A66,Filtro!$A$5:$AY$629,17,FALSE),0)","v":104},{"$f":"IFERROR(VLOOKUP($A66,Filtro!$A$5:$AY$629,18,FALSE),0)","v":26},{"$f":"IFERROR(VLOOKUP($A66,Filtro!$A$5:$AY$629,19,FALSE),0)","v":115},{"$f":"IFERROR(VLOOKUP($A66,Filtro!$A$5:$AY$629,20,FALSE),0)","v":37},{"$f":"IFERROR(VLOOKUP($A66,Filtro!$A$5:$AY$629,21,FALSE),0)","v":147},{"$f":"IFERROR(VLOOKUP($A66,Filtro!$A$5:$AY$629,22,FALSE),0)","v":74},{"$f":"IFERROR(VLOOKUP($A66,Filtro!$A$5:$AY$629,23,FALSE),0)","v":194},{"$f":"IFERROR(VLOOKUP($A66,Filtro!$A$5:$AY$629,24,FALSE),0)","v":100},{"$f":"IFERROR(VLOOKUP($A66,Filtro!$A$5:$AY$629,25,FALSE),0)","v":155},{"$f":"IFERROR(VLOOKUP($A66,Filtro!$A$5:$AY$629,26,FALSE),0)","v":42},{"$f":"IFERROR(VLOOKUP($A66,Filtro!$A$5:$AY$629,27,FALSE),0)","v":208},{"$f":"IFERROR(VLOOKUP($A66,Filtro!$A$5:$AY$629,28,FALSE),0)","v":73},{"$f":"IFERROR(VLOOKUP($A66,Filtro!$A$5:$AY$629,29,FALSE),0)","v":82},{"$f":"IFERROR(VLOOKUP($A66,Filtro!$A$5:$AY$629,30,FALSE),0)","v":28},{"$f":"IFERROR(VLOOKUP($A66,Filtro!$A$5:$AY$629,31,FALSE),0)","v":71},{"$f":"IFERROR(VLOOKUP($A66,Filtro!$A$5:$AY$629,32,FALSE),0)","v":54},{"$f":"IFERROR(VLOOKUP($A66,Filtro!$A$5:$AY$629,33,FALSE),0)","v":1},{"$f":"IFERROR(VLOOKUP($A66,Filtro!$A$5:$AY$629,34,FALSE),0)","v":0},{"$f":"IFERROR(VLOOKUP($A66,Filtro!$A$5:$AY$629,35,FALSE),0)","v":3},{"$f":"IFERROR(VLOOKUP($A66,Filtro!$A$5:$AY$629,36,FALSE),0)","v":2}]
["P4301060",null,"Con ayuda técnica de descarga",{"$f":"SUM(E67:F67)","v":167},132,35,{"$f":"IFERROR(VLOOKUP($A67,Filtro!$A$5:$AY$629,5,FALSE),0)","v":0},{"$f":"IFERROR(VLOOKUP($A67,Filtro!$A$5:$AY$629,6,FALSE),0)","v":0},{"$f":"IFERROR(VLOOKUP($A67,Filtro!$A$5:$AY$629,7,FALSE),0)","v":0},{"$f":"IFERROR(VLOOKUP($A67,Filtro!$A$5:$AY$629,8,FALSE),0)","v":0},{"$f":"IFERROR(VLOOKUP($A67,Filtro!$A$5:$AY$629,9,FALSE),0)","v":0},{"$f":"IFERROR(VLOOKUP($A67,Filtro!$A$5:$AY$629,10,FALSE),0)","v":0},{"$f":"IFERROR(VLOOKUP($A67,Filtro!$A$5:$AY$629,11,FALSE),0)","v":2},{"$f":"IFERROR(VLOOKUP($A67,Filtro!$A$5:$AY$629,12,FALSE),0)","v":1},{"$f":"IFERROR(VLOOKUP($A67,Filtro!$A$5:$AY$629,13,FALSE),0)","v":26},{"$f":"IFERROR(VLOOKUP($A67,Filtro!$A$5:$AY$629,14,FALSE),0)","v":1},{"$f":"IFERROR(VLOOKUP($A67,Filtro!$A$5:$AY$629,15,FALSE),0)","v":2},{"$f":"IFERROR(VLOOKUP($A67,Filtro!$A$5:$AY$629,16,FALSE),0)","v":1},{"$f":"IFERROR(VLOOKUP($A67,Filtro!$A$5:$AY$629,17,FALSE),0)","v":6},{"$f":"IFERROR(VLOOKUP($A67,Filtro!$A$5:$AY$629,18,FALSE),0)","v":4},{"$f":"IFERROR(VLOOKUP($A67,Filtro!$A$5:$AY$629,19,FALSE),0)","v":3},{"$f":"IFERROR(VLOOKUP($A67,Filtro!$A$5:$AY$629,20,FALSE),0)","v":2},{"$f":"IFERROR(VLOOKUP($A67,Filtro!$A$5:$AY$629,21,FALSE),0)","v":13},{"$f":"IFERROR(VLOOKUP($A67,Filtro!$A$5:$AY$629,22,FALSE),0)","v":5},{"$f":"IFERROR(VLOOKUP($A67,Filtro!$A$5:$AY$629,23,FALSE),0)","v":6},{"$f":"IFERROR(VLOOKUP($A67,Filtro!$A$5:$AY$629,24,FALSE),0)","v":5},{"$f":"IFERROR(VLOOKUP($A67,Filtro!$A$5:$AY$629,25,FALSE),0)","v":11},{"$f":"IFERROR(VLOOKUP($A67,Filtro!$A$5:$AY$629,26,FALSE),0)","v":2},{"$f":"IFERROR(VLOOKUP($A67,Filtro!$A$5:$AY$629,27,FALSE),0)","v":49},{"$f":"IFERROR(VLOOKUP($A67,Filtro!$A$5:$AY$629,28,FALSE),0)","v":6},{"$f":"IFERROR(VLOOKUP($A67,Filtro!$A$5:$AY$629,29,FALSE),0)","v":5},{"$f":"IFERROR(VLOOKUP($A67,Filtro!$A$5:$AY$629,30,FALSE),0)","v":4},{"$f":"IFERROR(VLOOKUP($A67,Filtro!$A$5:$AY$629,31,FALSE),0)","v":9},{"$f":"IFERROR(VLOOKUP($A67,Filtro!$A$5:$AY$629,32,FALSE),0)","v":4},{"$f":"IFERROR(VLOOKUP($A67,Filtro!$A$5:$AY$629,33,FALSE),0)","v":0},{"$f":"IFERROR(VLOOKUP($A67,Filtro!$A$5:$AY$629,34,FALSE),0)","v":0},{"$f":"IFERROR(VLOOKUP($A67,Filtro!$A$5:$AY$629,35,FALSE),0)","v":0},{"$f":"IFERROR(VLOOKUP($A67,Filtro!$A$5:$AY$629,36,FALSE),0)","v":0},"",{"$nulls":17},{"$f":"IF($E67>=$AI67,\"\",CONCATENATE(\"* Pueblos Originarios-Hombres no debe ser mayor al Total de personas \",CONCATENATE($B$65,\"-\",C66),\".\"))","v":""},{"$f":"IF($F67>=$AJ67,\"\",CONCATENATE(\"* Pueblos Originarios-Mujeres no debe ser mayor al Total de personas \",CONCATENATE($B$65,\"-\",C66),\".\"))","v":""},{"$f":"IF($E67>=$AK67,\"\",CONCATENATE(\"* Población Migrante-Hombres no debe ser mayor al Total de personas \",CONCATENATE($B$65,\"-\",C66),\".\"))","v":""},{"$f":"IF($F67>=$AL67,\"\",CONCATENATE(\"* Población Migrante - Mujeres no debe ser mayor al Total de personas \",CONCATENATE($B$65,\"-\",C66),\".\"))","v":""},null,null,"","",{"$nulls":28},0,0,0,0,{"$nulls":4},{"$f":"IF(AND(E70<>0,AI70=\"\"),1,IF(AND(F70<>0,AJ70=\"\"),1,0))","v":0},{"$f":"IF(AND(E70<>0,AK70=\"\"),1,IF(AND(F70<>0,AL70=\"\"),1,0))","v":0}]
["P4302101","CURACIÓN AVANZADA EN ULCERA VENOSA",null,1188,607,581,{"$f":"IFERROR(VLOOKUP($A68,Filtro!$A$5:$AY$629,5,FALSE),0)","v":0},{"$f":"IFERROR(VLOOKUP($A68,Filtro!$A$5:$AY$629,6,FALSE),0)","v":0},{"$f":"IFERROR(VLOOKUP($A68,Filtro!$A$5:$AY$629,7,FALSE),0)","v":0},{"$f":"IFERROR(VLOOKUP($A68,Filtro!$A$5:$AY$629,8,FALSE),0)","v":0},{"$f":"IFERROR(VLOOKUP($A68,Filtro!$A$5:$AY$629,9,FALSE),0)","v":4},{"$f":"IFERROR(VLOOKUP($A68,Filtro!$A$5:$AY$629,10,FALSE),0)","v":0},{"$f":"IFERROR(VLOOKUP($A68,Filtro!$A$5:$AY$629,11,FALSE),0)","v":5},{"$f":"IFERROR(VLOOKUP($A68,Filtro!$A$5:$AY$629,12,FALSE),0)","v":2},{"$f":"IFERROR(VLOOKUP($A68,Filtro!$A$5:$AY$629,13,FALSE),0)","v":1},{"$f":"IFERROR(VLOOKUP($A68,Filtro!$A$5:$AY$629,14,FALSE),0)","v":3},{"$f":"IFERROR(VLOOKUP($A68,Filtro!$A$5:$AY$629,15,FALSE),0)","v":7},{"$f":"IFERROR(VLOOKUP($A68,Filtro!$A$5:$AY$629,16,FALSE),0)","v":9},{"$f":"IFERROR(VLOOKUP($A68,Filtro!$A$5:$AY$629,17,FALSE),0)","v":9},{"$f":"IFERROR(VLOOKUP($A68,Filtro!$A$5:$AY$629,18,FALSE),0)","v":6},{"$f":"IFERROR(VLOOKUP($A68,Filtro!$A$5:$AY$629,19,FALSE),0)","v":17},{"$f":"IFERROR(VLOOKUP($A68,Filtro!$A$5:$AY$629,20,FALSE),0)","v":25},{"$f":"IFERROR(VLOOKUP($A68,Filtro!$A$5:$AY$629,21,FALSE),0)","v":11},{"$f":"IFERROR(VLOOKUP($A68,Filtro!$A$5:$AY$629,22,FALSE),0)","v":85},{"$f":"IFERROR(VLOOKUP($A68,Filtro!$A$5:$AY$629,23,FALSE),0)","v":115},{"$f":"IFERROR(VLOOKUP($A68,Filtro!$A$5:$AY$629,24,FALSE),0)","v":53},{"$f":"IFERROR(VLOOKUP($A68,Filtro!$A$5:$AY$629,25,FALSE),0)","v":95},{"$f":"IFERROR(VLOOKUP($A68,Filtro!$A$5:$AY$629,26,FALSE),0)","v":118},{"$f":"IFERROR(VLOOKUP($A68,Filtro!$A$5:$AY$629,27,FALSE),0)","v":112},{"$f":"IFERROR(VLOOKUP($A68,Filtro!$A$5:$AY$629,28,FALSE),0)","v":124},{"$f":"IFERROR(VLOOKUP($A68,Filtro!$A$5:$AY$629,29,FALSE),0)","v":85},{"$f":"IFERROR(VLOOKUP($A68,Filtro!$A$5:$AY$629,30,FALSE),0)","v":67},{"$f":"IFERROR(VLOOKUP($A68,Filtro!$A$5:$AY$629,31,FALSE),0)","v":146},{"$f":"IFERROR(VLOOKUP($A68,Filtro!$A$5:$AY$629,32,FALSE),0)","v":89},{"$f":"IFERROR(VLOOKUP($A68,Filtro!$A$5:$AY$629,33,FALSE),0)","v":0},{"$f":"IFERROR(VLOOKUP($A68,Filtro!$A$5:$AY$629,34,FALSE),0)","v":0},{"$f":"IFERROR(VLOOKUP($A68,Filtro!$A$5:$AY$629,35,FALSE),0)","v":0},{"$f":"IFERROR(VLOOKUP($A68,Filtro!$A$5:$AY$629,36,FALSE),0)","v":0}]
["P4200800","CON AMPUTACIÓN POR PIE DIABÉTICO",null,604,362,242,{"$f":"IFERROR(VLOOKUP($A69,Filtro!$A$5:$AY$629,5,FALSE),0)","v":0},{"$f":"IFERROR(VLOOKUP($A69,Filtro!$A$5:$AY$629,6,FALSE),0)","v":0},{"$f":"IFERROR(VLOOKUP($A69,Filtro!$A$5:$AY$629,7,FALSE),0)","v":0},{"$f":"IFERROR(VLOOKUP($A69,Filtro!$A$5:$AY$629,8,FALSE),0)","v":0},{"$f":"IFERROR(VLOOKUP($A69,Filtro!$A$5:$AY$629,9,FALSE),0)","v":0},{"$f":"IFERROR(VLOOKUP($A69,Filtro!$A$5:$AY$629,10,FALSE),0)","v":2},{"$f":"IFERROR(VLOOKUP($A69,Filtro!$A$5:$AY$629,11,FALSE),0)","v":3},{"$f":"IFERROR(VLOOKUP($A69,Filtro!$A$5:$AY$629,12,FALSE),0)","v":5},{"$f":"IFERROR(VLOOKUP($A69,Filtro!$A$5:$AY$629,13,FALSE),0)","v":5},{"$f":"IFERROR(VLOOKUP($A69,Filtro!$A$5:$AY$629,14,FALSE),0)","v":5},{"$f":"IFERROR(VLOOKUP($A69,Filtro!$A$5:$AY$629,15,FALSE),0)","v":8},{"$f":"IFERROR(VLOOKUP($A69,Filtro!$A$5:$AY$629,16,FALSE),0)","v":11},{"$f":"IFERROR(VLOOKUP($A69,Filtro!$A$5:$AY$629,17,FALSE),0)","v":20},{"$f":"IFERROR(VLOOKUP($A69,Filtro!$A$5:$AY$629,18,FALSE),0)","v":15},{"$f":"IFERROR(VLOOKUP($A69,Filtro!$A$5:$AY$629,19,FALSE),0)","v":35},{"$f":"IFERROR(VLOOKUP($A69,Filtro!$A$5:$AY$629,20,FALSE),0)","v":25},{"$f":"IFERROR(VLOOKUP($A69,Filtro!$A$5:$AY$629,21,FALSE),0)","v":52},{"$f":"IFERROR(VLOOKUP($A69,Filtro!$A$5:$AY$629,22,FALSE),0)","v":34},{"$f":"IFERROR(VLOOKUP($A69,Filtro!$A$5:$AY$629,23,FALSE),0)","v":56},{"$f":"IFERROR(VLOOKUP($A69,Filtro!$A$5:$AY$629,24,FALSE),0)","v":47},{"$f":"IFERROR(VLOOKUP($A69,Filtro!$A$5:$AY$629,25,FALSE),0)","v":67},{"$f":"IFERROR(VLOOKUP($A69,Filtro!$A$5:$AY$629,26,FALSE),0)","v":33},{"$f":"IFERROR(VLOOKUP($A69,Filtro!$A$5:$AY$629,27,FALSE),0)","v":58},{"$f":"IFERROR(VLOOKUP($A69,Filtro!$A$5:$AY$629,28,FALSE),0)","v":21},{"$f":"IFERROR(VLOOKUP($A69,Filtro!$A$5:$AY$629,29,FALSE),0)","v":30},{"$f":"IFERROR(VLOOKUP($A69,Filtro!$A$5:$AY$629,30,FALSE),0)","v":20},{"$f":"IFERROR(VLOOKUP($A69,Filtro!$A$5:$AY$629,31,FALSE),0)","v":28},{"$f":"IFERROR(VLOOKUP($A69,Filtro!$A$5:$AY$629,32,FALSE),0)","v":24},{"$f":"IFERROR(VLOOKUP($A69,Filtro!$A$5:$AY$629,33,FALSE),0)","v":2},{"$f":"IFERROR(VLOOKUP($A69,Filtro!$A$5:$AY$629,34,FALSE),0)","v":0},{"$f":"IFERROR(VLOOKUP($A69,Filtro!$A$5:$AY$629,35,FALSE),0)","v":0},{"$f":"IFERROR(VLOOKUP($A69,Filtro!$A$5:$AY$629,36,FALSE),0)","v":0},"",{"$nulls":17},{"$f":"IF($E69>=$AI69,\"\",CONCATENATE(\"* Pueblos Originarios-Hombres no debe ser mayor al Total de personas \",B69,\".\"))","v":""},{"$f":"IF($F69>=$AJ69,\"\",CONCATENATE(\"* Pueblos Originarios-Mujeres no debe ser mayor al Total de personas \",B69,\".\"))","v":""},{"$f":"IF($E69>=$AK69,\"\",CONCATENATE(\"* Población Migrante-Hombres no debe ser mayor al Total de personas \",B69,\".\"))","v":""},{"$f":"IF($F69>=$AL69,\"\",CONCATENATE(\"* Población Migrante - Mujeres no debe ser mayor al Total de personas \",B69,\".\"))","v":""},null,null,"","",{"$nulls":28},0,0,0,0,{"$nulls":4},{"$f":"IF(AND(E72<>0,AI72=\"\"),1,IF(AND(F72<>0,AJ72=\"\"),1,0))","v":0},{"$f":"IF(AND(E72<>0,AK72=\"\"),1,IF(AND(F72<>0,AL72=\"\"),1,0))","v":0}]
["P4200900","CON DIAGNÓSTICO ASOCIADO DE HIPERTENSIÓN ARTERIAL",null,29949,11159,18790,{"$f":"IFERROR(VLOOKUP($A70,Filtro!$A$5:$AY$629,5,FALSE),0)","v":0},{"$f":"IFERROR(VLOOKUP($A70,Filtro!$A$5:$AY$629,6,FALSE),0)","v":0},{"$f":"IFERROR(VLOOKUP($A70,Filtro!$A$5:$AY$629,7,FALSE),0)","v":9},{"$f":"IFERROR(VLOOKUP($A70,Filtro!$A$5:$AY$629,8,FALSE),0)","v":6},{"$f":"IFERROR(VLOOKUP($A70,Filtro!$A$5:$AY$629,9,FALSE),0)","v":8},{"$f":"IFERROR(VLOOKUP($A70,Filtro!$A$5:$AY$629,10,FALSE),0)","v":30},{"$f":"IFERROR(VLOOKUP($A70,Filtro!$A$5:$AY$629,11,FALSE),0)","v":40},{"$f":"IFERROR(VLOOKUP($A70,Filtro!$A$5:$AY$629,12,FALSE),0)","v":70},{"$f":"IFERROR(VLOOKUP($A70,Filtro!$A$5:$AY$629,13,FALSE),0)","v":86},{"$f":"IFERROR(VLOOKUP($A70,Filtro!$A$5:$AY$629,14,FALSE),0)","v":157},{"$f":"IFERROR(VLOOKUP($A70,Filtro!$A$5:$AY$629,15,FALSE),0)","v":146},{"$f":"IFERROR(VLOOKUP($A70,Filtro!$A$5:$AY$629,16,FALSE),0)","v":340},{"$f":"IFERROR(VLOOKUP($A70,Filtro!$A$5:$AY$629,17,FALSE),0)","v":344},{"$f":"IFERROR(VLOOKUP($A70,Filtro!$A$5:$AY$629,18,FALSE),0)","v":628},{"$f":"IFERROR(VLOOKUP($A70,Filtro!$A$5:$AY$629,19,FALSE),0)","v":591},{"$f":"IFERROR(VLOOKUP($A70,Filtro!$A$5:$AY$629,20,FALSE),0)","v":1230},{"$f":"IFERROR(VLOOKUP($A70,Filtro!$A$5:$AY$629,21,FALSE),0)","v":1200},{"$f":"IFERROR(VLOOKUP($A70,Filtro!$A$5:$AY$629,22,FALSE),0)","v":2308},{"$f":"IFERROR(VLOOKUP($A70,Filtro!$A$5:$AY$629,23,FALSE),0)","v":1546},{"$f":"IFERROR(VLOOKUP($A70,Filtro!$A$5:$AY$629,24,FALSE),0)","v":2691},{"$f":"IFERROR(VLOOKUP($A70,Filtro!$A$5:$AY$629,25,FALSE),0)","v":1972},{"$f":"IFERROR(VLOOKUP($A70,Filtro!$A$5:$AY$629,26,FALSE),0)","v":3007},{"$f":"IFERROR(VLOOKUP($A70,Filtro!$A$5:$AY$629,27,FALSE),0)","v":1914},{"$f":"IFERROR(VLOOKUP($A70,Filtro!$A$5:$AY$629,28,FALSE),0)","v":2892},{"$f":"IFERROR(VLOOKUP($A70,Filtro!$A$5:$AY$629,29,FALSE),0)","v":1566},{"$f":"IFERROR(VLOOKUP($A70,Filtro!$A$5:$AY$629,30,FALSE),0)","v":2354},{"$f":"IFERROR(VLOOKUP($A70,Filtro!$A$5:$AY$629,31,FALSE),0)","v":1737},{"$f":"IFERROR(VLOOKUP($A70,Filtro!$A$5:$AY$629,32,FALSE),0)","v":3077},{"$f":"IFERROR(VLOOKUP($A70,Filtro!$A$5:$AY$629,33,FALSE),0)","v":57},{"$f":"IFERROR(VLOOKUP($A70,Filtro!$A$5:$AY$629,34,FALSE),0)","v":103},{"$f":"IFERROR(VLOOKUP($A70,Filtro!$A$5:$AY$629,35,FALSE),0)","v":31},{"$f":"IFERROR(VLOOKUP($A70,Filtro!$A$5:$AY$629,36,FALSE),0)","v":67},"",{"$nulls":17},{"$f":"IF($E70>=$AI70,\"\",CONCATENATE(\"* Pueblos Originarios-Hombres no debe ser mayor al Total de personas \",B70,\".\"))","v":""},{"$f":"IF($F70>=$AJ70,\"\",CONCATENATE(\"* Pueblos Originarios-Mujeres no debe ser mayor al Total de personas \",B70,\".\"))","v":""},{"$f":"IF($E70>=$AK70,\"\",CONCATENATE(\"* Población Migrante-Hombres no debe ser mayor al Total de personas \",B70,\".\"))","v":""},{"$f":"IF($F70>=$AL70,\"\",CONCATENATE(\"* Población Migrante - Mujeres no debe ser mayor al Total de personas \",B70,\".\"))","v":""},null,null,"","",{"$nulls":28},0,0,0,0,{"$nulls":4},{"$f":"IF(AND(E73<>0,AI73=\"\"),1,IF(AND(F73<>0,AJ73=\"\"),1,0))","v":0},{"$f":"IF(AND(E73<>0,AK73=\"\"),1,IF(AND(F73<>0,AL73=\"\"),1,0))","v":0}]
["P4301070","CON DIAGNÓSTICO DE ENFERMEDAD RENAL CRÓNICA",null,{"$f":"SUM(E71:F71)","v":9844},{"$f":"+G71+I71+K71+M71+O71+Q71+S71+U71+W71+Y71+AA71+AC71+AE71+AG71","v":3658},{"$f":"+H71+J71+L71+N71+P71+R71+T71+V71+X71+Z71+AB71+AD71+AF71+AH71","v":6186},{"$f":"IFERROR(VLOOKUP($A71,Filtro!$A$5:$AY$629,5,FALSE),0)","v":1},{"$f":"IFERROR(VLOOKUP($A71,Filtro!$A$5:$AY$629,6,FALSE),0)","v":0},{"$f":"IFERROR(VLOOKUP($A71,Filtro!$A$5:$AY$629,7,FALSE),0)","v":2},{"$f":"IFERROR(VLOOKUP($A71,Filtro!$A$5:$AY$629,8,FALSE),0)","v":4},{"$f":"IFERROR(VLOOKUP($A71,Filtro!$A$5:$AY$629,9,FALSE),0)","v":4},{"$f":"IFERROR(VLOOKUP($A71,Filtro!$A$5:$AY$629,10,FALSE),0)","v":17},{"$f":"IFERROR(VLOOKUP($A71,Filtro!$A$5:$AY$629,11,FALSE),0)","v":11},{"$f":"IFERROR(VLOOKUP($A71,Filtro!$A$5:$AY$629,12,FALSE),0)","v":27},{"$f":"IFERROR(VLOOKUP($A71,Filtro!$A$5:$AY$629,13,FALSE),0)","v":32},{"$f":"IFERROR(VLOOKUP($A71,Filtro!$A$5:$AY$629,14,FALSE),0)","v":60},{"$f":"IFERROR(VLOOKUP($A71,Filtro!$A$5:$AY$629,15,FALSE),0)","v":46},{"$f":"IFERROR(VLOOKUP($A71,Filtro!$A$5:$AY$629,16,FALSE),0)","v":88},{"$f":"IFERROR(VLOOKUP($A71,Filtro!$A$5:$AY$629,17,FALSE),0)","v":99},{"$f":"IFERROR(VLOOKUP($A71,Filtro!$A$5:$AY$629,18,FALSE),0)","v":209},{"$f":"IFERROR(VLOOKUP($A71,Filtro!$A$5:$AY$629,19,FALSE),0)","v":211},{"$f":"IFERROR(VLOOKUP($A71,Filtro!$A$5:$AY$629,20,FALSE),0)","v":372},{"$f":"IFERROR(VLOOKUP($A71,Filtro!$A$5:$AY$629,21,FALSE),0)","v":291},{"$f":"IFERROR(VLOOKUP($A71,Filtro!$A$5:$AY$629,22,FALSE),0)","v":618},{"$f":"IFERROR(VLOOKUP($A71,Filtro!$A$5:$AY$629,23,FALSE),0)","v":452},{"$f":"IFERROR(VLOOKUP($A71,Filtro!$A$5:$AY$629,24,FALSE),0)","v":807},{"$f":"IFERROR(VLOOKUP($A71,Filtro!$A$5:$AY$629,25,FALSE),0)","v":640},{"$f":"IFERROR(VLOOKUP($A71,Filtro!$A$5:$AY$629,26,FALSE),0)","v":966},{"$f":"IFERROR(VLOOKUP($A71,Filtro!$A$5:$AY$629,27,FALSE),0)","v":656},{"$f":"IFERROR(VLOOKUP($A71,Filtro!$A$5:$AY$629,28,FALSE),0)","v":939},{"$f":"IFERROR(VLOOKUP($A71,Filtro!$A$5:$AY$629,29,FALSE),0)","v":531},{"$f":"IFERROR(VLOOKUP($A71,Filtro!$A$5:$AY$629,30,FALSE),0)","v":867},{"$f":"IFERROR(VLOOKUP($A71,Filtro!$A$5:$AY$629,31,FALSE),0)","v":682},{"$f":"IFERROR(VLOOKUP($A71,Filtro!$A$5:$AY$629,32,FALSE),0)","v":1212},{"$f":"IFERROR(VLOOKUP($A71,Filtro!$A$5:$AY$629,33,FALSE),0)","v":10},{"$f":"IFERROR(VLOOKUP($A71,Filtro!$A$5:$AY$629,34,FALSE),0)","v":19},{"$f":"IFERROR(VLOOKUP($A71,Filtro!$A$5:$AY$629,35,FALSE),0)","v":11},{"$f":"IFERROR(VLOOKUP($A71,Filtro!$A$5:$AY$629,36,FALSE),0)","v":30}]
["P4201100","ANTECEDENTE DE ATAQUE CEREBRO VASCULAR",null,{"$f":"SUM(E72:F72)","v":1601},771,830,{"$f":"IFERROR(VLOOKUP($A72,Filtro!$A$5:$AY$629,5,FALSE),0)","v":0},{"$f":"IFERROR(VLOOKUP($A72,Filtro!$A$5:$AY$629,6,FALSE),0)","v":0},{"$f":"IFERROR(VLOOKUP($A72,Filtro!$A$5:$AY$629,7,FALSE),0)","v":0},{"$f":"IFERROR(VLOOKUP($A72,Filtro!$A$5:$AY$629,8,FALSE),0)","v":0},{"$f":"IFERROR(VLOOKUP($A72,Filtro!$A$5:$AY$629,9,FALSE),0)","v":1},{"$f":"IFERROR(VLOOKUP($A72,Filtro!$A$5:$AY$629,10,FALSE),0)","v":0},{"$f":"IFERROR(VLOOKUP($A72,Filtro!$A$5:$AY$629,11,FALSE),0)","v":0},{"$f":"IFERROR(VLOOKUP($A72,Filtro!$A$5:$AY$629,12,FALSE),0)","v":0},{"$f":"IFERROR(VLOOKUP($A72,Filtro!$A$5:$AY$629,13,FALSE),0)","v":3},{"$f":"IFERROR(VLOOKUP($A72,Filtro!$A$5:$AY$629,14,FALSE),0)","v":0},{"$f":"IFERROR(VLOOKUP($A72,Filtro!$A$5:$AY$629,15,FALSE),0)","v":2},{"$f":"IFERROR(VLOOKUP($A72,Filtro!$A$5:$AY$629,16,FALSE),0)","v":8},{"$f":"IFERROR(VLOOKUP($A72,Filtro!$A$5:$AY$629,17,FALSE),0)","v":17},{"$f":"IFERROR(VLOOKUP($A72,Filtro!$A$5:$AY$629,18,FALSE),0)","v":21},{"$f":"IFERROR(VLOOKUP($A72,Filtro!$A$5:$AY$629,19,FALSE),0)","v":32},{"$f":"IFERROR(VLOOKUP($A72,Filtro!$A$5:$AY$629,20,FALSE),0)","v":33},{"$f":"IFERROR(VLOOKUP($A72,Filtro!$A$5:$AY$629,21,FALSE),0)","v":52},{"$f":"IFERROR(VLOOKUP($A72,Filtro!$A$5:$AY$629,22,FALSE),0)","v":51},{"$f":"IFERROR(VLOOKUP($A72,Filtro!$A$5:$AY$629,23,FALSE),0)","v":101},{"$f":"IFERROR(VLOOKUP($A72,Filtro!$A$5:$AY$629,24,FALSE),0)","v":109},{"$f":"IFERROR(VLOOKUP($A72,Filtro!$A$5:$AY$629,25,FALSE),0)","v":145},{"$f":"IFERROR(VLOOKUP($A72,Filtro!$A$5:$AY$629,26,FALSE),0)","v":117},{"$f":"IFERROR(VLOOKUP($A72,Filtro!$A$5:$AY$629,27,FALSE),0)","v":145},{"$f":"IFERROR(VLOOKUP($A72,Filtro!$A$5:$AY$629,28,FALSE),0)","v":158},{"$f":"IFERROR(VLOOKUP($A72,Filtro!$A$5:$AY$629,29,FALSE),0)","v":131},{"$f":"IFERROR(VLOOKUP($A72,Filtro!$A$5:$AY$629,30,FALSE),0)","v":130},{"$f":"IFERROR(VLOOKUP($A72,Filtro!$A$5:$AY$629,31,FALSE),0)","v":142},{"$f":"IFERROR(VLOOKUP($A72,Filtro!$A$5:$AY$629,32,FALSE),0)","v":203},{"$f":"IFERROR(VLOOKUP($A72,Filtro!$A$5:$AY$629,33,FALSE),0)","v":6},{"$f":"IFERROR(VLOOKUP($A72,Filtro!$A$5:$AY$629,34,FALSE),0)","v":10},{"$f":"IFERROR(VLOOKUP($A72,Filtro!$A$5:$AY$629,35,FALSE),0)","v":5},{"$f":"IFERROR(VLOOKUP($A72,Filtro!$A$5:$AY$629,36,FALSE),0)","v":5},"",{"$nulls":17},{"$f":"IF($E72>=$AI72,\"\",CONCATENATE(\"* Pueblos Originarios-Hombres no debe ser mayor al Total de personas \",B72,\".\"))","v":""},{"$f":"IF($F72>=$AJ72,\"\",CONCATENATE(\"* Pueblos Originarios-Mujeres no debe ser mayor al Total de personas \",B72,\".\"))","v":""},{"$f":"IF($E72>=$AK72,\"\",CONCATENATE(\"* Población Migrante-Hombres no debe ser mayor al Total de personas \",B72,\".\"))","v":""},{"$f":"IF($F72>=$AL72,\"\",CONCATENATE(\"* Población Migrante - Mujeres no debe ser mayor al Total de personas \",B72,\".\"))","v":""},null,null,"","",{"$nulls":28},0,0,0,0,{"$nulls":4},{"$f":"IF(AND(E75<>0,AI75=\"\"),1,IF(AND(F75<>0,AJ75=\"\"),1,0))","v":0},{"$f":"IF(AND(E75<>0,AK75=\"\"),1,IF(AND(F75<>0,AL75=\"\"),1,0))","v":0}]
["P4201200","ANTECEDENTES DE INFARTO AGUDO AL MIOCARDIO",null,1723,913,810,{"$f":"IFERROR(VLOOKUP($A73,Filtro!$A$5:$AY$629,5,FALSE),0)","v":0},{"$f":"IFERROR(VLOOKUP($A73,Filtro!$A$5:$AY$629,6,FALSE),0)","v":0},{"$f":"IFERROR(VLOOKUP($A73,Filtro!$A$5:$AY$629,7,FALSE),0)","v":0},{"$f":"IFERROR(VLOOKUP($A73,Filtro!$A$5:$AY$629,8,FALSE),0)","v":0},{"$f":"IFERROR(VLOOKUP($A73,Filtro!$A$5:$AY$629,9,FALSE),0)","v":0},{"$f":"IFERROR(VLOOKUP($A73,Filtro!$A$5:$AY$629,10,FALSE),0)","v":0},{"$f":"IFERROR(VLOOKUP($A73,Filtro!$A$5:$AY$629,11,FALSE),0)","v":2},{"$f":"IFERROR(VLOOKUP($A73,Filtro!$A$5:$AY$629,12,FALSE),0)","v":1},{"$f":"IFERROR(VLOOKUP($A73,Filtro!$A$5:$AY$629,13,FALSE),0)","v":3},{"$f":"IFERROR(VLOOKUP($A73,Filtro!$A$5:$AY$629,14,FALSE),0)","v":4},{"$f":"IFERROR(VLOOKUP($A73,Filtro!$A$5:$AY$629,15,FALSE),0)","v":3},{"$f":"IFERROR(VLOOKUP($A73,Filtro!$A$5:$AY$629,16,FALSE),0)","v":5},{"$f":"IFERROR(VLOOKUP($A73,Filtro!$A$5:$AY$629,17,FALSE),0)","v":16},{"$f":"IFERROR(VLOOKUP($A73,Filtro!$A$5:$AY$629,18,FALSE),0)","v":14},{"$f":"IFERROR(VLOOKUP($A73,Filtro!$A$5:$AY$629,19,FALSE),0)","v":38},{"$f":"IFERROR(VLOOKUP($A73,Filtro!$A$5:$AY$629,20,FALSE),0)","v":46},{"$f":"IFERROR(VLOOKUP($A73,Filtro!$A$5:$AY$629,21,FALSE),0)","v":60},{"$f":"IFERROR(VLOOKUP($A73,Filtro!$A$5:$AY$629,22,FALSE),0)","v":75},{"$f":"IFERROR(VLOOKUP($A73,Filtro!$A$5:$AY$629,23,FALSE),0)","v":115},{"$f":"IFERROR(VLOOKUP($A73,Filtro!$A$5:$AY$629,24,FALSE),0)","v":109},{"$f":"IFERROR(VLOOKUP($A73,Filtro!$A$5:$AY$629,25,FALSE),0)","v":177},{"$f":"IFERROR(VLOOKUP($A73,Filtro!$A$5:$AY$629,26,FALSE),0)","v":113},{"$f":"IFERROR(VLOOKUP($A73,Filtro!$A$5:$AY$629,27,FALSE),0)","v":180},{"$f":"IFERROR(VLOOKUP($A73,Filtro!$A$5:$AY$629,28,FALSE),0)","v":129},{"$f":"IFERROR(VLOOKUP($A73,Filtro!$A$5:$AY$629,29,FALSE),0)","v":177},{"$f":"IFERROR(VLOOKUP($A73,Filtro!$A$5:$AY$629,30,FALSE),0)","v":139},{"$f":"IFERROR(VLOOKUP($A73,Filtro!$A$5:$AY$629,31,FALSE),0)","v":142},{"$f":"IFERROR(VLOOKUP($A73,Filtro!$A$5:$AY$629,32,FALSE),0)","v":175},{"$f":"IFERROR(VLOOKUP($A73,Filtro!$A$5:$AY$629,33,FALSE),0)","v":4},{"$f":"IFERROR(VLOOKUP($A73,Filtro!$A$5:$AY$629,34,FALSE),0)","v":10},{"$f":"IFERROR(VLOOKUP($A73,Filtro!$A$5:$AY$629,35,FALSE),0)","v":5},{"$f":"IFERROR(VLOOKUP($A73,Filtro!$A$5:$AY$629,36,FALSE),0)","v":4},"",{"$nulls":17},{"$f":"IF($E73>=$AI73,\"\",CONCATENATE(\"* Pueblos Originarios-Hombres no debe ser mayor al Total de personas \",B73,\".\"))","v":""},{"$f":"IF($F73>=$AJ73,\"\",CONCATENATE(\"* Pueblos Originarios-Mujeres no debe ser mayor al Total de personas \",B73,\".\"))","v":""},{"$f":"IF($E73>=$AK73,\"\",CONCATENATE(\"* Población Migrante-Hombres no debe ser mayor al Total de personas \",B73,\".\"))","v":""},{"$f":"IF($F73>=$AL73,\"\",CONCATENATE(\"* Población Migrante - Mujeres no debe ser mayor al Total de personas \",B73,\".\"))","v":""},null,null,{"$f":"IF(AND(E73<>0,AI73=\"\"),\"* No olvide escribir en la celda de 'Pueblos Originarios' (Digite CERO si no tiene). \",IF(AND(F73<>0,AJ73=\"\"),\"* No olvide escribir en la celda de 'Pueblos Originarios' (Digite CERO si no tiene). \",\"\"))","v":""},{"$f":"IF(AND(E73<>0,AK73=\"\"),\"* No olvide escribir en la celda de 'Población Migrantes' (Digite CERO si no tiene). \",IF(AND(F73<>0,AL73=\"\"),\"* No olvide escribir en la celda de 'Población Migrantes' (Digite CERO si no tiene). \",\"\"))","v":""},{"$nulls":28},0,0,0,0,{"$nulls":4},{"$f":"IF(AND(E76<>0,AI76=\"\"),1,IF(AND(F76<>0,AJ76=\"\"),1,0))","v":0},{"$f":"IF(AND(E76<>0,AK76=\"\"),1,IF(AND(F76<>0,AL76=\"\"),1,0))","v":0}]
["P4302102","RETINOPATÍA DIABETICA",null,{"$f":"SUM(E74:F74)","v":1545},{"$f":"+G74+I74+K74+M74+O74+Q74+S74+U74+W74+Y74+AA74+AC74+AE74+AG74","v":674},871,{"$f":"IFERROR(VLOOKUP($A74,Filtro!$A$5:$AY$629,5,FALSE),0)","v":0},{"$f":"IFERROR(VLOOKUP($A74,Filtro!$A$5:$AY$629,6,FALSE),0)","v":0},{"$f":"IFERROR(VLOOKUP($A74,Filtro!$A$5:$AY$629,7,FALSE),0)","v":1},{"$f":"IFERROR(VLOOKUP($A74,Filtro!$A$5:$AY$629,8,FALSE),0)","v":2},{"$f":"IFERROR(VLOOKUP($A74,Filtro!$A$5:$AY$629,9,FALSE),0)","v":1},{"$f":"IFERROR(VLOOKUP($A74,Filtro!$A$5:$AY$629,10,FALSE),0)","v":6},{"$f":"IFERROR(VLOOKUP($A74,Filtro!$A$5:$AY$629,11,FALSE),0)","v":4},{"$f":"IFERROR(VLOOKUP($A74,Filtro!$A$5:$AY$629,12,FALSE),0)","v":9},{"$f":"IFERROR(VLOOKUP($A74,Filtro!$A$5:$AY$629,13,FALSE),0)","v":9},{"$f":"IFERROR(VLOOKUP($A74,Filtro!$A$5:$AY$629,14,FALSE),0)","v":11},{"$f":"IFERROR(VLOOKUP($A74,Filtro!$A$5:$AY$629,15,FALSE),0)","v":13},{"$f":"IFERROR(VLOOKUP($A74,Filtro!$A$5:$AY$629,16,FALSE),0)","v":30},{"$f":"IFERROR(VLOOKUP($A74,Filtro!$A$5:$AY$629,17,FALSE),0)","v":30},{"$f":"IFERROR(VLOOKUP($A74,Filtro!$A$5:$AY$629,18,FALSE),0)","v":49},{"$f":"IFERROR(VLOOKUP($A74,Filtro!$A$5:$AY$629,19,FALSE),0)","v":43},{"$f":"IFERROR(VLOOKUP($A74,Filtro!$A$5:$AY$629,20,FALSE),0)","v":65},{"$f":"IFERROR(VLOOKUP($A74,Filtro!$A$5:$AY$629,21,FALSE),0)","v":100},{"$f":"IFERROR(VLOOKUP($A74,Filtro!$A$5:$AY$629,22,FALSE),0)","v":126},{"$f":"IFERROR(VLOOKUP($A74,Filtro!$A$5:$AY$629,23,FALSE),0)","v":115},{"$f":"IFERROR(VLOOKUP($A74,Filtro!$A$5:$AY$629,24,FALSE),0)","v":121},{"$f":"IFERROR(VLOOKUP($A74,Filtro!$A$5:$AY$629,25,FALSE),0)","v":125},{"$f":"IFERROR(VLOOKUP($A74,Filtro!$A$5:$AY$629,26,FALSE),0)","v":138},{"$f":"IFERROR(VLOOKUP($A74,Filtro!$A$5:$AY$629,27,FALSE),0)","v":87},{"$f":"IFERROR(VLOOKUP($A74,Filtro!$A$5:$AY$629,28,FALSE),0)","v":137},{"$f":"IFERROR(VLOOKUP($A74,Filtro!$A$5:$AY$629,29,FALSE),0)","v":81},{"$f":"IFERROR(VLOOKUP($A74,Filtro!$A$5:$AY$629,30,FALSE),0)","v":101},{"$f":"IFERROR(VLOOKUP($A74,Filtro!$A$5:$AY$629,31,FALSE),0)","v":65},{"$f":"IFERROR(VLOOKUP($A74,Filtro!$A$5:$AY$629,32,FALSE),0)","v":76},{"$f":"IFERROR(VLOOKUP($A74,Filtro!$A$5:$AY$629,33,FALSE),0)","v":0},{"$f":"IFERROR(VLOOKUP($A74,Filtro!$A$5:$AY$629,34,FALSE),0)","v":3},{"$f":"IFERROR(VLOOKUP($A74,Filtro!$A$5:$AY$629,35,FALSE),0)","v":2},{"$f":"IFERROR(VLOOKUP($A74,Filtro!$A$5:$AY$629,36,FALSE),0)","v":4}]
[null,"PERSONAS CON HIPERTENSION EN PSCV"]
["P4190812","CON RAZON ALBÚMINA CREATININA (RAC),VIGENTE",null,{"$f":"SUM(E76:F76)","v":37658},{"$f":"+G76+I76+K76+M76+O76+Q76+S76+U76+W76+Y76+AA76+AC76+AE76+AG76","v":13594},{"$f":"+H76+J76+L76+N76+P76+R76+T76+V76+X76+Z76+AB76+AD76+AF76+AH76","v":24064},{"$f":"IFERROR(VLOOKUP($A76,Filtro!$A$5:$AY$629,5,FALSE),0)","v":6},{"$f":"IFERROR(VLOOKUP($A76,Filtro!$A$5:$AY$629,6,FALSE),0)","v":5},{"$f":"IFERROR(VLOOKUP($A76,Filtro!$A$5:$AY$629,7,FALSE),0)","v":15},{"$f":"IFERROR(VLOOKUP($A76,Filtro!$A$5:$AY$629,8,FALSE),0)","v":24},{"$f":"IFERROR(VLOOKUP($A76,Filtro!$A$5:$AY$629,9,FALSE),0)","v":41},{"$f":"IFERROR(VLOOKUP($A76,Filtro!$A$5:$AY$629,10,FALSE),0)","v":70},{"$f":"IFERROR(VLOOKUP($A76,Filtro!$A$5:$AY$629,11,FALSE),0)","v":77},{"$f":"IFERROR(VLOOKUP($A76,Filtro!$A$5:$AY$629,12,FALSE),0)","v":145},{"$f":"IFERROR(VLOOKUP($A76,Filtro!$A$5:$AY$629,13,FALSE),0)","v":132},{"$f":"IFERROR(VLOOKUP($A76,Filtro!$A$5:$AY$629,14,FALSE),0)","v":288},{"$f":"IFERROR(VLOOKUP($A76,Filtro!$A$5:$AY$629,15,FALSE),0)","v":259},{"$f":"IFERROR(VLOOKUP($A76,Filtro!$A$5:$AY$629,16,FALSE),0)","v":589},{"$f":"IFERROR(VLOOKUP($A76,Filtro!$A$5:$AY$629,17,FALSE),0)","v":412},{"$f":"IFERROR(VLOOKUP($A76,Filtro!$A$5:$AY$629,18,FALSE),0)","v":1058},{"$f":"IFERROR(VLOOKUP($A76,Filtro!$A$5:$AY$629,19,FALSE),0)","v":769},{"$f":"IFERROR(VLOOKUP($A76,Filtro!$A$5:$AY$629,20,FALSE),0)","v":1764},{"$f":"IFERROR(VLOOKUP($A76,Filtro!$A$5:$AY$629,21,FALSE),0)","v":1227},{"$f":"IFERROR(VLOOKUP($A76,Filtro!$A$5:$AY$629,22,FALSE),0)","v":2700},{"$f":"IFERROR(VLOOKUP($A76,Filtro!$A$5:$AY$629,23,FALSE),0)","v":1731},{"$f":"IFERROR(VLOOKUP($A76,Filtro!$A$5:$AY$629,24,FALSE),0)","v":3233},{"$f":"IFERROR(VLOOKUP($A76,Filtro!$A$5:$AY$629,25,FALSE),0)","v":2100},{"$f":"IFERROR(VLOOKUP($A76,Filtro!$A$5:$AY$629,26,FALSE),0)","v":3532},{"$f":"IFERROR(VLOOKUP($A76,Filtro!$A$5:$AY$629,27,FALSE),0)","v":2282},{"$f":"IFERROR(VLOOKUP($A76,Filtro!$A$5:$AY$629,28,FALSE),0)","v":3501},{"$f":"IFERROR(VLOOKUP($A76,Filtro!$A$5:$AY$629,29,FALSE),0)","v":2002},{"$f":"IFERROR(VLOOKUP($A76,Filtro!$A$5:$AY$629,30,FALSE),0)","v":2969},{"$f":"IFERROR(VLOOKUP($A76,Filtro!$A$5:$AY$629,31,FALSE),0)","v":2541},{"$f":"IFERROR(VLOOKUP($A76,Filtro!$A$5:$AY$629,32,FALSE),0)","v":4186},{"$f":"IFERROR(VLOOKUP($A76,Filtro!$A$5:$AY$629,33,FALSE),0)","v":53},{"$f":"IFERROR(VLOOKUP($A76,Filtro!$A$5:$AY$629,34,FALSE),0)","v":108},{"$f":"IFERROR(VLOOKUP($A76,Filtro!$A$5:$AY$629,35,FALSE),0)","v":58},{"$f":"IFERROR(VLOOKUP($A76,Filtro!$A$5:$AY$629,36,FALSE),0)","v":147},"",{"$nulls":17},{"$f":"IF($E76>=$AI76,\"\",CONCATENATE(\"* Pueblos Originarios-Hombres no debe ser mayor al Total de personas \",B76,\".\"))","v":""},{"$f":"IF($F76>=$AJ76,\"\",CONCATENATE(\"* Pueblos Originarios-Mujeres no debe ser mayor al Total de personas \",B76,\".\"))","v":""},{"$f":"IF($E76>=$AK76,\"\",CONCATENATE(\"* Población Migrante-Hombres no debe ser mayor al Total de personas \",B76,\".\"))","v":""},{"$f":"IF($F76>=$AL76,\"\",CONCATENATE(\"* Población Migrante - Mujeres no debe ser mayor al Total de personas \",B76,\".\"))","v":""},null,null,{"$f":"IF(AND(E76<>0,AI76=\"\"),\"* No olvide escribir en la celda de 'Pueblos Originarios' (Digite CERO si no tiene). \",IF(AND(F76<>0,AJ76=\"\"),\"* No olvide escribir en la celda de 'Pueblos Originarios' (Digite CERO si no tiene). \",\"\"))","v":""},{"$f":"IF(AND(E76<>0,AK76=\"\"),\"* No olvide escribir en la celda de 'Población Migrantes' (Digite CERO si no tiene). \",IF(AND(F76<>0,AL76=\"\"),\"* No olvide escribir en la celda de 'Población Migrantes' (Digite CERO si no tiene). \",\"\"))","v":""},{"$nulls":28},0,0,0,0,{"$nulls":4},{"$f":"IF(AND(E79<>0,AI79=\"\"),1,IF(AND(F79<>0,AJ79=\"\"),1,0))","v":0},{"$f":"IF(AND(E79<>0,AK79=\"\"),1,IF(AND(F79<>0,AL79=\"\"),1,0))","v":0}]
["P4301080","CON VELOCIDAD DE FILTRACIÓN GLOMERULAR ESTIMADA (VFGe) Y CON RAZON ALBÚMINA CREATININA  (RAC) VIGENTE",null,{"$f":"SUM(E77:F77)","v":36647},{"$f":"+G77+I77+K77+M77+O77+Q77+S77+U77+W77+Y77+AA77+AC77+AE77+AG77","v":13299},23348,{"$f":"IFERROR(VLOOKUP($A77,Filtro!$A$5:$AY$629,5,FALSE),0)","v":4},{"$f":"IFERROR(VLOOKUP($A77,Filtro!$A$5:$AY$629,6,FALSE),0)","v":5},{"$f":"IFERROR(VLOOKUP($A77,Filtro!$A$5:$AY$629,7,FALSE),0)","v":15},{"$f":"IFERROR(VLOOKUP($A77,Filtro!$A$5:$AY$629,8,FALSE),0)","v":21},{"$f":"IFERROR(VLOOKUP($A77,Filtro!$A$5:$AY$629,9,FALSE),0)","v":37},{"$f":"IFERROR(VLOOKUP($A77,Filtro!$A$5:$AY$629,10,FALSE),0)","v":65},{"$f":"IFERROR(VLOOKUP($A77,Filtro!$A$5:$AY$629,11,FALSE),0)","v":73},{"$f":"IFERROR(VLOOKUP($A77,Filtro!$A$5:$AY$629,12,FALSE),0)","v":135},{"$f":"IFERROR(VLOOKUP($A77,Filtro!$A$5:$AY$629,13,FALSE),0)","v":130},{"$f":"IFERROR(VLOOKUP($A77,Filtro!$A$5:$AY$629,14,FALSE),0)","v":279},{"$f":"IFERROR(VLOOKUP($A77,Filtro!$A$5:$AY$629,15,FALSE),0)","v":260},{"$f":"IFERROR(VLOOKUP($A77,Filtro!$A$5:$AY$629,16,FALSE),0)","v":581},{"$f":"IFERROR(VLOOKUP($A77,Filtro!$A$5:$AY$629,17,FALSE),0)","v":402},{"$f":"IFERROR(VLOOKUP($A77,Filtro!$A$5:$AY$629,18,FALSE),0)","v":1034},{"$f":"IFERROR(VLOOKUP($A77,Filtro!$A$5:$AY$629,19,FALSE),0)","v":766},{"$f":"IFERROR(VLOOKUP($A77,Filtro!$A$5:$AY$629,20,FALSE),0)","v":1736},{"$f":"IFERROR(VLOOKUP($A77,Filtro!$A$5:$AY$629,21,FALSE),0)","v":1200},{"$f":"IFERROR(VLOOKUP($A77,Filtro!$A$5:$AY$629,22,FALSE),0)","v":2674},{"$f":"IFERROR(VLOOKUP($A77,Filtro!$A$5:$AY$629,23,FALSE),0)","v":1728},{"$f":"IFERROR(VLOOKUP($A77,Filtro!$A$5:$AY$629,24,FALSE),0)","v":3117},{"$f":"IFERROR(VLOOKUP($A77,Filtro!$A$5:$AY$629,25,FALSE),0)","v":2040},{"$f":"IFERROR(VLOOKUP($A77,Filtro!$A$5:$AY$629,26,FALSE),0)","v":3376},{"$f":"IFERROR(VLOOKUP($A77,Filtro!$A$5:$AY$629,27,FALSE),0)","v":2208},{"$f":"IFERROR(VLOOKUP($A77,Filtro!$A$5:$AY$629,28,FALSE),0)","v":3470},{"$f":"IFERROR(VLOOKUP($A77,Filtro!$A$5:$AY$629,29,FALSE),0)","v":1954},{"$f":"IFERROR(VLOOKUP($A77,Filtro!$A$5:$AY$629,30,FALSE),0)","v":2894},{"$f":"IFERROR(VLOOKUP($A77,Filtro!$A$5:$AY$629,31,FALSE),0)","v":2482},{"$f":"IFERROR(VLOOKUP($A77,Filtro!$A$5:$AY$629,32,FALSE),0)","v":3961},{"$f":"IFERROR(VLOOKUP($A77,Filtro!$A$5:$AY$629,33,FALSE),0)","v":53},{"$f":"IFERROR(VLOOKUP($A77,Filtro!$A$5:$AY$629,34,FALSE),0)","v":113},{"$f":"IFERROR(VLOOKUP($A77,Filtro!$A$5:$AY$629,35,FALSE),0)","v":61},{"$f":"IFERROR(VLOOKUP($A77,Filtro!$A$5:$AY$629,36,FALSE),0)","v":139}]
["P4200400","CON PRESIÓN ARTERIAL igual o Mayor 160/100 mmHg",null,8756,3298,5458,{"$f":"IFERROR(VLOOKUP($A78,Filtro!$A$5:$AY$629,5,FALSE),0)","v":1},{"$f":"IFERROR(VLOOKUP($A78,Filtro!$A$5:$AY$629,6,FALSE),0)","v":1},{"$f":"IFERROR(VLOOKUP($A78,Filtro!$A$5:$AY$629,7,FALSE),0)","v":2},{"$f":"IFERROR(VLOOKUP($A78,Filtro!$A$5:$AY$629,8,FALSE),0)","v":5},{"$f":"IFERROR(VLOOKUP($A78,Filtro!$A$5:$AY$629,9,FALSE),0)","v":8},{"$f":"IFERROR(VLOOKUP($A78,Filtro!$A$5:$AY$629,10,FALSE),0)","v":19},{"$f":"IFERROR(VLOOKUP($A78,Filtro!$A$5:$AY$629,11,FALSE),0)","v":23},{"$f":"IFERROR(VLOOKUP($A78,Filtro!$A$5:$AY$629,12,FALSE),0)","v":36},{"$f":"IFERROR(VLOOKUP($A78,Filtro!$A$5:$AY$629,13,FALSE),0)","v":33},{"$f":"IFERROR(VLOOKUP($A78,Filtro!$A$5:$AY$629,14,FALSE),0)","v":79},{"$f":"IFERROR(VLOOKUP($A78,Filtro!$A$5:$AY$629,15,FALSE),0)","v":61},{"$f":"IFERROR(VLOOKUP($A78,Filtro!$A$5:$AY$629,16,FALSE),0)","v":150},{"$f":"IFERROR(VLOOKUP($A78,Filtro!$A$5:$AY$629,17,FALSE),0)","v":133},{"$f":"IFERROR(VLOOKUP($A78,Filtro!$A$5:$AY$629,18,FALSE),0)","v":236},{"$f":"IFERROR(VLOOKUP($A78,Filtro!$A$5:$AY$629,19,FALSE),0)","v":210},{"$f":"IFERROR(VLOOKUP($A78,Filtro!$A$5:$AY$629,20,FALSE),0)","v":413},{"$f":"IFERROR(VLOOKUP($A78,Filtro!$A$5:$AY$629,21,FALSE),0)","v":351},{"$f":"IFERROR(VLOOKUP($A78,Filtro!$A$5:$AY$629,22,FALSE),0)","v":585},{"$f":"IFERROR(VLOOKUP($A78,Filtro!$A$5:$AY$629,23,FALSE),0)","v":494},{"$f":"IFERROR(VLOOKUP($A78,Filtro!$A$5:$AY$629,24,FALSE),0)","v":722},{"$f":"IFERROR(VLOOKUP($A78,Filtro!$A$5:$AY$629,25,FALSE),0)","v":549},{"$f":"IFERROR(VLOOKUP($A78,Filtro!$A$5:$AY$629,26,FALSE),0)","v":770},{"$f":"IFERROR(VLOOKUP($A78,Filtro!$A$5:$AY$629,27,FALSE),0)","v":537},{"$f":"IFERROR(VLOOKUP($A78,Filtro!$A$5:$AY$629,28,FALSE),0)","v":796},{"$f":"IFERROR(VLOOKUP($A78,Filtro!$A$5:$AY$629,29,FALSE),0)","v":416},{"$f":"IFERROR(VLOOKUP($A78,Filtro!$A$5:$AY$629,30,FALSE),0)","v":632},{"$f":"IFERROR(VLOOKUP($A78,Filtro!$A$5:$AY$629,31,FALSE),0)","v":480},{"$f":"IFERROR(VLOOKUP($A78,Filtro!$A$5:$AY$629,32,FALSE),0)","v":1014},{"$f":"IFERROR(VLOOKUP($A78,Filtro!$A$5:$AY$629,33,FALSE),0)","v":19},{"$f":"IFERROR(VLOOKUP($A78,Filtro!$A$5:$AY$629,34,FALSE),0)","v":40},{"$f":"IFERROR(VLOOKUP($A78,Filtro!$A$5:$AY$629,35,FALSE),0)","v":31},{"$f":"IFERROR(VLOOKUP($A78,Filtro!$A$5:$AY$629,36,FALSE),0)","v":72},"",{"$nulls":17},{"$f":"IF($E78>=$AI78,\"\",CONCATENATE(\"* Pueblos Originarios-Hombres no debe ser mayor al Total de personas \",B78,\".\"))","v":""},{"$f":"IF($F78>=$AJ78,\"\",CONCATENATE(\"* Pueblos Originarios-Mujeres no debe ser mayor al Total de personas \",B78,\".\"))","v":""},{"$f":"IF($E78>=$AK78,\"\",CONCATENATE(\"* Población Migrante-Hombres no debe ser mayor al Total de personas \",B78,\".\"))","v":""},{"$f":"IF($F78>=$AL78,\"\",CONCATENATE(\"* Población Migrante - Mujeres no debe ser mayor al Total de personas \",B78,\".\"))","v":""},null,null,"","",{"$nulls":28},0,0,0,0,{"$nulls":4},{"$f":"IF(AND(E81<>0,AI81=\"\"),1,IF(AND(F81<>0,AJ81=\"\"),1,0))","v":0},{"$f":"IF(AND(E81<>0,AK81=\"\"),1,IF(AND(F81<>0,AL81=\"\"),1,0))","v":0}]
["P4301010","CON VELOCIDAD DE FILTRACION GLOMERULAR  ESTIMADA  (VFGe) VIGENTE",null,46087,16841,29246,{"$f":"IFERROR(VLOOKUP($A79,Filtro!$A$5:$AY$629,5,FALSE),0)","v":6},{"$f":"IFERROR(VLOOKUP($A79,Filtro!$A$5:$AY$629,6,FALSE),0)","v":9},{"$f":"IFERROR(VLOOKUP($A79,Filtro!$A$5:$AY$629,7,FALSE),0)","v":21},{"$f":"IFERROR(VLOOKUP($A79,Filtro!$A$5:$AY$629,8,FALSE),0)","v":29},{"$f":"IFERROR(VLOOKUP($A79,Filtro!$A$5:$AY$629,9,FALSE),0)","v":53},{"$f":"IFERROR(VLOOKUP($A79,Filtro!$A$5:$AY$629,10,FALSE),0)","v":88},{"$f":"IFERROR(VLOOKUP($A79,Filtro!$A$5:$AY$629,11,FALSE),0)","v":94},{"$f":"IFERROR(VLOOKUP($A79,Filtro!$A$5:$AY$629,12,FALSE),0)","v":198},{"$f":"IFERROR(VLOOKUP($A79,Filtro!$A$5:$AY$629,13,FALSE),0)","v":169},{"$f":"IFERROR(VLOOKUP($A79,Filtro!$A$5:$AY$629,14,FALSE),0)","v":390},{"$f":"IFERROR(VLOOKUP($A79,Filtro!$A$5:$AY$629,15,FALSE),0)","v":334},{"$f":"IFERROR(VLOOKUP($A79,Filtro!$A$5:$AY$629,16,FALSE),0)","v":777},{"$f":"IFERROR(VLOOKUP($A79,Filtro!$A$5:$AY$629,17,FALSE),0)","v":532},{"$f":"IFERROR(VLOOKUP($A79,Filtro!$A$5:$AY$629,18,FALSE),0)","v":1362},{"$f":"IFERROR(VLOOKUP($A79,Filtro!$A$5:$AY$629,19,FALSE),0)","v":968},{"$f":"IFERROR(VLOOKUP($A79,Filtro!$A$5:$AY$629,20,FALSE),0)","v":2199},{"$f":"IFERROR(VLOOKUP($A79,Filtro!$A$5:$AY$629,21,FALSE),0)","v":1545},{"$f":"IFERROR(VLOOKUP($A79,Filtro!$A$5:$AY$629,22,FALSE),0)","v":3411},{"$f":"IFERROR(VLOOKUP($A79,Filtro!$A$5:$AY$629,23,FALSE),0)","v":2219},{"$f":"IFERROR(VLOOKUP($A79,Filtro!$A$5:$AY$629,24,FALSE),0)","v":3997},{"$f":"IFERROR(VLOOKUP($A79,Filtro!$A$5:$AY$629,25,FALSE),0)","v":2685},{"$f":"IFERROR(VLOOKUP($A79,Filtro!$A$5:$AY$629,26,FALSE),0)","v":4166},{"$f":"IFERROR(VLOOKUP($A79,Filtro!$A$5:$AY$629,27,FALSE),0)","v":2739},{"$f":"IFERROR(VLOOKUP($A79,Filtro!$A$5:$AY$629,28,FALSE),0)","v":4167},{"$f":"IFERROR(VLOOKUP($A79,Filtro!$A$5:$AY$629,29,FALSE),0)","v":2465},{"$f":"IFERROR(VLOOKUP($A79,Filtro!$A$5:$AY$629,30,FALSE),0)","v":3618},{"$f":"IFERROR(VLOOKUP($A79,Filtro!$A$5:$AY$629,31,FALSE),0)","v":3011},{"$f":"IFERROR(VLOOKUP($A79,Filtro!$A$5:$AY$629,32,FALSE),0)","v":4835},{"$f":"IFERROR(VLOOKUP($A79,Filtro!$A$5:$AY$629,33,FALSE),0)","v":69},{"$f":"IFERROR(VLOOKUP($A79,Filtro!$A$5:$AY$629,34,FALSE),0)","v":133},{"$f":"IFERROR(VLOOKUP($A79,Filtro!$A$5:$AY$629,35,FALSE),0)","v":84},{"$f":"IFERROR(VLOOKUP($A79,Filtro!$A$5:$AY$629,36,FALSE),0)","v":188},"",{"$nulls":17},{"$f":"IF($E79>=$AI79,\"\",CONCATENATE(\"* Pueblos Originarios-Hombres no debe ser mayor al Total de personas \",B79,\".\"))","v":""},{"$f":"IF($F79>=$AJ79,\"\",CONCATENATE(\"* Pueblos Originarios-Mujeres no debe ser mayor al Total de personas \",B79,\".\"))","v":""},{"$f":"IF($E79>=$AK79,\"\",CONCATENATE(\"* Población Migrante-Hombres no debe ser mayor al Total de personas \",B79,\".\"))","v":""},{"$f":"IF($F79>=$AL79,\"\",CONCATENATE(\"* Población Migrante - Mujeres no debe ser mayor al Total de personas \",B79,\".\"))","v":""},null,null,"","",{"$nulls":28},0,0,0,0,{"$nulls":4},0,0]
["P4302103","PROTOCOLO HEARTS",null,{"$f":"SUM(E80:F80)","v":9900},3577,6323,{"$f":"IFERROR(VLOOKUP($A80,Filtro!$A$5:$AY$629,5,FALSE),0)","v":2},{"$f":"IFERROR(VLOOKUP($A80,Filtro!$A$5:$AY$629,6,FALSE),0)","v":1},{"$f":"IFERROR(VLOOKUP($A80,Filtro!$A$5:$AY$629,7,FALSE),0)","v":8},{"$f":"IFERROR(VLOOKUP($A80,Filtro!$A$5:$AY$629,8,FALSE),0)","v":9},{"$f":"IFERROR(VLOOKUP($A80,Filtro!$A$5:$AY$629,9,FALSE),0)","v":15},{"$f":"IFERROR(VLOOKUP($A80,Filtro!$A$5:$AY$629,10,FALSE),0)","v":24},{"$f":"IFERROR(VLOOKUP($A80,Filtro!$A$5:$AY$629,11,FALSE),0)","v":32},{"$f":"IFERROR(VLOOKUP($A80,Filtro!$A$5:$AY$629,12,FALSE),0)","v":49},{"$f":"IFERROR(VLOOKUP($A80,Filtro!$A$5:$AY$629,13,FALSE),0)","v":105},{"$f":"IFERROR(VLOOKUP($A80,Filtro!$A$5:$AY$629,14,FALSE),0)","v":82},{"$f":"IFERROR(VLOOKUP($A80,Filtro!$A$5:$AY$629,15,FALSE),0)","v":74},{"$f":"IFERROR(VLOOKUP($A80,Filtro!$A$5:$AY$629,16,FALSE),0)","v":180},{"$f":"IFERROR(VLOOKUP($A80,Filtro!$A$5:$AY$629,17,FALSE),0)","v":133},{"$f":"IFERROR(VLOOKUP($A80,Filtro!$A$5:$AY$629,18,FALSE),0)","v":305},{"$f":"IFERROR(VLOOKUP($A80,Filtro!$A$5:$AY$629,19,FALSE),0)","v":210},{"$f":"IFERROR(VLOOKUP($A80,Filtro!$A$5:$AY$629,20,FALSE),0)","v":493},{"$f":"IFERROR(VLOOKUP($A80,Filtro!$A$5:$AY$629,21,FALSE),0)","v":374},{"$f":"IFERROR(VLOOKUP($A80,Filtro!$A$5:$AY$629,22,FALSE),0)","v":740},{"$f":"IFERROR(VLOOKUP($A80,Filtro!$A$5:$AY$629,23,FALSE),0)","v":536},{"$f":"IFERROR(VLOOKUP($A80,Filtro!$A$5:$AY$629,24,FALSE),0)","v":890},{"$f":"IFERROR(VLOOKUP($A80,Filtro!$A$5:$AY$629,25,FALSE),0)","v":609},{"$f":"IFERROR(VLOOKUP($A80,Filtro!$A$5:$AY$629,26,FALSE),0)","v":920},{"$f":"IFERROR(VLOOKUP($A80,Filtro!$A$5:$AY$629,27,FALSE),0)","v":570},{"$f":"IFERROR(VLOOKUP($A80,Filtro!$A$5:$AY$629,28,FALSE),0)","v":993},{"$f":"IFERROR(VLOOKUP($A80,Filtro!$A$5:$AY$629,29,FALSE),0)","v":473},{"$f":"IFERROR(VLOOKUP($A80,Filtro!$A$5:$AY$629,30,FALSE),0)","v":783},{"$f":"IFERROR(VLOOKUP($A80,Filtro!$A$5:$AY$629,31,FALSE),0)","v":436},{"$f":"IFERROR(VLOOKUP($A80,Filtro!$A$5:$AY$629,32,FALSE),0)","v":854},{"$f":"IFERROR(VLOOKUP($A80,Filtro!$A$5:$AY$629,33,FALSE),0)","v":3},{"$f":"IFERROR(VLOOKUP($A80,Filtro!$A$5:$AY$629,34,FALSE),0)","v":3},{"$f":"IFERROR(VLOOKUP($A80,Filtro!$A$5:$AY$629,35,FALSE),0)","v":2},{"$f":"IFERROR(VLOOKUP($A80,Filtro!$A$5:$AY$629,36,FALSE),0)","v":8}]
[null,"TODAS LAS PERSONAS EN PSCV"]
["P4201500","SOBREPESO: IMC entre 25 y 29.9 <65",null,{"$f":"SUM(E82:F82)","v":14533},{"$f":"+G82+I82+K82+M82+O82+Q82+S82+U82+W82+Y82","v":5339},{"$f":"+H82+J82+L82+N82+P82+R82+T82+V82+X82+Z82","v":9194},{"$f":"IFERROR(VLOOKUP($A82,Filtro!$A$5:$AY$629,5,FALSE),0)","v":17},{"$f":"IFERROR(VLOOKUP($A82,Filtro!$A$5:$AY$629,6,FALSE),0)","v":33},{"$f":"IFERROR(VLOOKUP($A82,Filtro!$A$5:$AY$629,7,FALSE),0)","v":24},{"$f":"IFERROR(VLOOKUP($A82,Filtro!$A$5:$AY$629,8,FALSE),0)","v":58},{"$f":"IFERROR(VLOOKUP($A82,Filtro!$A$5:$AY$629,9,FALSE),0)","v":42},{"$f":"IFERROR(VLOOKUP($A82,Filtro!$A$5:$AY$629,10,FALSE),0)","v":119},{"$f":"IFERROR(VLOOKUP($A82,Filtro!$A$5:$AY$629,11,FALSE),0)","v":99},{"$f":"IFERROR(VLOOKUP($A82,Filtro!$A$5:$AY$629,12,FALSE),0)","v":198},{"$f":"IFERROR(VLOOKUP($A82,Filtro!$A$5:$AY$629,13,FALSE),0)","v":183},{"$f":"IFERROR(VLOOKUP($A82,Filtro!$A$5:$AY$629,14,FALSE),0)","v":326},{"$f":"IFERROR(VLOOKUP($A82,Filtro!$A$5:$AY$629,15,FALSE),0)","v":295},{"$f":"IFERROR(VLOOKUP($A82,Filtro!$A$5:$AY$629,16,FALSE),0)","v":615},{"$f":"IFERROR(VLOOKUP($A82,Filtro!$A$5:$AY$629,17,FALSE),0)","v":513},{"$f":"IFERROR(VLOOKUP($A82,Filtro!$A$5:$AY$629,18,FALSE),0)","v":1002},{"$f":"IFERROR(VLOOKUP($A82,Filtro!$A$5:$AY$629,19,FALSE),0)","v":914},{"$f":"IFERROR(VLOOKUP($A82,Filtro!$A$5:$AY$629,20,FALSE),0)","v":1580},{"$f":"IFERROR(VLOOKUP($A82,Filtro!$A$5:$AY$629,21,FALSE),0)","v":1359},{"$f":"IFERROR(VLOOKUP($A82,Filtro!$A$5:$AY$629,22,FALSE),0)","v":2444},{"$f":"IFERROR(VLOOKUP($A82,Filtro!$A$5:$AY$629,23,FALSE),0)","v":1893},{"$f":"IFERROR(VLOOKUP($A82,Filtro!$A$5:$AY$629,24,FALSE),0)","v":2819},0,0,0,0,0,0,0,0,{"$f":"IFERROR(VLOOKUP($A82,Filtro!$A$5:$AY$629,33,FALSE),0)","v":32},{"$f":"IFERROR(VLOOKUP($A82,Filtro!$A$5:$AY$629,34,FALSE),0)","v":43},{"$f":"IFERROR(VLOOKUP($A82,Filtro!$A$5:$AY$629,35,FALSE),0)","v":39},{"$f":"IFERROR(VLOOKUP($A82,Filtro!$A$5:$AY$629,36,FALSE),0)","v":80},"",{"$nulls":17},{"$f":"IF($E82>=$AI82,\"\",CONCATENATE(\"* Pueblos Originarios-Hombres no debe ser mayor al Total de personas \",B82,\".\"))","v":""},{"$f":"IF($F82>=$AJ82,\"\",CONCATENATE(\"* Pueblos Originarios-Mujeres no debe ser mayor al Total de personas \",B82,\".\"))","v":""},{"$f":"IF($E82>=$AK82,\"\",CONCATENATE(\"* Población Migrante-Hombres no debe ser mayor al Total de personas \",B82,\".\"))","v":""},{"$f":"IF($F82>=$AL82,\"\",CONCATENATE(\"* Población Migrante - Mujeres no debe ser mayor al Total de personas \",B82,\".\"))","v":""},null,null,{"$f":"IF(AND(E82<>0,AI82=\"\"),\"* No olvide escribir en la celda de 'Pueblos Originarios' (Digite CERO si no tiene). \",IF(AND(F82<>0,AJ82=\"\"),\"* No olvide escribir en la celda de 'Pueblos Originarios' (Digite CERO si no tiene). \",\"\"))","v":""},{"$f":"IF(AND(E82<>0,AK82=\"\"),\"* No olvide escribir en la celda de 'Población Migrantes' (Digite CERO si no tiene). \",IF(AND(F82<>0,AL82=\"\"),\"* No olvide escribir en la celda de 'Población Migrantes' (Digite CERO si no tiene). \",\"\"))","v":""},{"$nulls":28},0,0,0,0,{"$nulls":4},{"$f":"IF(AND(E84<>0,AI84=\"\"),1,IF(AND(F84<>0,AJ84=\"\"),1,0))","v":0},{"$f":"IF(AND(E84<>0,AK84=\"\"),1,IF(AND(F84<>0,AL84=\"\"),1,0))","v":0}]
["P4201600","SOBREPESO: IMC entre 28 y 31.9 >65",null,16137,{"$f":"+AA83+AC83+AE83+AG83","v":6733},{"$f":"+AB83+AD83+AF83+AH83","v":9404},0,0,0,0,0,0,0,0,0,0,0,0,0,0,0,0,0,0,0,0,{"$f":"IFERROR(VLOOKUP($A83,Filtro!$A$5:$AY$629,25,FALSE),0)","v":1877},{"$f":"IFERROR(VLOOKUP($A83,Filtro!$A$5:$AY$629,26,FALSE),0)","v":2579},{"$f":"IFERROR(VLOOKUP($A83,Filtro!$A$5:$AY$629,27,FALSE),0)","v":1797},{"$f":"IFERROR(VLOOKUP($A83,Filtro!$A$5:$AY$629,28,FALSE),0)","v":2397},{"$f":"IFERROR(VLOOKUP($A83,Filtro!$A$5:$AY$629,29,FALSE),0)","v":1485},{"$f":"IFERROR(VLOOKUP($A83,Filtro!$A$5:$AY$629,30,FALSE),0)","v":2006},{"$f":"IFERROR(VLOOKUP($A83,Filtro!$A$5:$AY$629,31,FALSE),0)","v":1574},{"$f":"IFERROR(VLOOKUP($A83,Filtro!$A$5:$AY$629,32,FALSE),0)","v":2422},{"$f":"IFERROR(VLOOKUP($A83,Filtro!$A$5:$AY$629,33,FALSE),0)","v":13},{"$f":"IFERROR(VLOOKUP($A83,Filtro!$A$5:$AY$629,34,FALSE),0)","v":39},{"$f":"IFERROR(VLOOKUP($A83,Filtro!$A$5:$AY$629,35,FALSE),0)","v":14},{"$f":"IFERROR(VLOOKUP($A83,Filtro!$A$5:$AY$629,36,FALSE),0)","v":14},"",{"$nulls":17},{"$f":"IF($E83>=$AI83,\"\",CONCATENATE(\"* Pueblos Originarios-Hombres no debe ser mayor al Total de personas \",B83,\".\"))","v":""},{"$f":"IF($F83>=$AJ83,\"\",CONCATENATE(\"* Pueblos Originarios-Mujeres no debe ser mayor al Total de personas \",B83,\".\"))","v":""},{"$f":"IF($E83>=$AK83,\"\",CONCATENATE(\"* Población Migrante-Hombres no debe ser mayor al Total de personas \",B83,\".\"))","v":""},{"$f":"IF($F83>=$AL83,\"\",CONCATENATE(\"* Población Migrante - Mujeres no debe ser mayor al Total de personas \",B83,\".\"))","v":""},null,null,"","",{"$nulls":28},0,0,0,0,{"$nulls":4},0,0]
["P4200500","OBESIDAD: IMC igual o Mayor a 30KG/M2 <65",null,23340,{"$f":"+G84+I84+K84+M84+O84+Q84+S84+U84+W84+Y84","v":6448},{"$f":"+H84+J84+L84+N84+P84+R84+T84+V84+X84+Z84","v":16892},{"$f":"IFERROR(VLOOKUP($A84,Filtro!$A$5:$AY$629,5,FALSE),0)","v":27},{"$f":"IFERROR(VLOOKUP($A84,Filtro!$A$5:$AY$629,6,FALSE),0)","v":29},{"$f":"IFERROR(VLOOKUP($A84,Filtro!$A$5:$AY$629,7,FALSE),0)","v":59},{"$f":"IFERROR(VLOOKUP($A84,Filtro!$A$5:$AY$629,8,FALSE),0)","v":98},{"$f":"IFERROR(VLOOKUP($A84,Filtro!$A$5:$AY$629,9,FALSE),0)","v":89},{"$f":"IFERROR(VLOOKUP($A84,Filtro!$A$5:$AY$629,10,FALSE),0)","v":241},{"$f":"IFERROR(VLOOKUP($A84,Filtro!$A$5:$AY$629,11,FALSE),0)","v":198},{"$f":"IFERROR(VLOOKUP($A84,Filtro!$A$5:$AY$629,12,FALSE),0)","v":474},{"$f":"IFERROR(VLOOKUP($A84,Filtro!$A$5:$AY$629,13,FALSE),0)","v":285},{"$f":"IFERROR(VLOOKUP($A84,Filtro!$A$5:$AY$629,14,FALSE),0)","v":860},{"$f":"IFERROR(VLOOKUP($A84,Filtro!$A$5:$AY$629,15,FALSE),0)","v":494},{"$f":"IFERROR(VLOOKUP($A84,Filtro!$A$5:$AY$629,16,FALSE),0)","v":1392},{"$f":"IFERROR(VLOOKUP($A84,Filtro!$A$5:$AY$629,17,FALSE),0)","v":756},{"$f":"IFERROR(VLOOKUP($A84,Filtro!$A$5:$AY$629,18,FALSE),0)","v":2089},{"$f":"IFERROR(VLOOKUP($A84,Filtro!$A$5:$AY$629,19,FALSE),0)","v":1070},{"$f":"IFERROR(VLOOKUP($A84,Filtro!$A$5:$AY$629,20,FALSE),0)","v":3034},{"$f":"IFERROR(VLOOKUP($A84,Filtro!$A$5:$AY$629,21,FALSE),0)","v":1497},{"$f":"IFERROR(VLOOKUP($A84,Filtro!$A$5:$AY$629,22,FALSE),0)","v":4283},{"$f":"IFERROR(VLOOKUP($A84,Filtro!$A$5:$AY$629,23,FALSE),0)","v":1973},{"$f":"IFERROR(VLOOKUP($A84,Filtro!$A$5:$AY$629,24,FALSE),0)","v":4392},0,0,0,0,0,0,0,0,{"$f":"IFERROR(VLOOKUP($A84,Filtro!$A$5:$AY$629,33,FALSE),0)","v":41},{"$f":"IFERROR(VLOOKUP($A84,Filtro!$A$5:$AY$629,34,FALSE),0)","v":100},{"$f":"IFERROR(VLOOKUP($A84,Filtro!$A$5:$AY$629,35,FALSE),0)","v":44},{"$f":"IFERROR(VLOOKUP($A84,Filtro!$A$5:$AY$629,36,FALSE),0)","v":118},"",{"$nulls":17},{"$f":"IF($E84>=$AI84,\"\",CONCATENATE(\"* Pueblos Originarios-Hombres no debe ser mayor al Total de personas \",B84,\".\"))","v":""},{"$f":"IF($F84>=$AJ84,\"\",CONCATENATE(\"* Pueblos Originarios-Mujeres no debe ser mayor al Total de personas \",B84,\".\"))","v":""},{"$f":"IF($E84>=$AK84,\"\",CONCATENATE(\"* Población Migrante-Hombres no debe ser mayor al Total de personas \",B84,\".\"))","v":""},{"$f":"IF($F84>=$AL84,\"\",CONCATENATE(\"* Población Migrante - Mujeres no debe ser mayor al Total de personas \",B84,\".\"))","v":""},null,null,"","",{"$nulls":28},0,0,0,0,{"$nulls":4},{"$f":"IF(AND(E86<>0,AI86=\"\"),1,IF(AND(F86<>0,AJ86=\"\"),1,0))","v":0},{"$f":"IF(AND(E86<>0,AK86=\"\"),1,IF(AND(F86<>0,AL86=\"\"),1,0))","v":0}]
["P4201700","OBESIDAD: IMC igual o Mayor a 32KG/M2 >65",null,13755,{"$f":"+AA85+AC85+AE85+AG85","v":4098},{"$f":"+AB85+AD85+AF85+AH85","v":9657},0,0,0,0,0,0,0,0,0,0,0,0,0,0,0,0,0,0,0,0,{"$f":"IFERROR(VLOOKUP($A85,Filtro!$A$5:$AY$629,25,FALSE),0)","v":1330},{"$f":"IFERROR(VLOOKUP($A85,Filtro!$A$5:$AY$629,26,FALSE),0)","v":3387},{"$f":"IFERROR(VLOOKUP($A85,Filtro!$A$5:$AY$629,27,FALSE),0)","v":1221},{"$f":"IFERROR(VLOOKUP($A85,Filtro!$A$5:$AY$629,28,FALSE),0)","v":2589},{"$f":"IFERROR(VLOOKUP($A85,Filtro!$A$5:$AY$629,29,FALSE),0)","v":816},{"$f":"IFERROR(VLOOKUP($A85,Filtro!$A$5:$AY$629,30,FALSE),0)","v":1866},{"$f":"IFERROR(VLOOKUP($A85,Filtro!$A$5:$AY$629,31,FALSE),0)","v":731},{"$f":"IFERROR(VLOOKUP($A85,Filtro!$A$5:$AY$629,32,FALSE),0)","v":1815},{"$f":"IFERROR(VLOOKUP($A85,Filtro!$A$5:$AY$629,33,FALSE),0)","v":25},{"$f":"IFERROR(VLOOKUP($A85,Filtro!$A$5:$AY$629,34,FALSE),0)","v":36},{"$f":"IFERROR(VLOOKUP($A85,Filtro!$A$5:$AY$629,35,FALSE),0)","v":11},{"$f":"IFERROR(VLOOKUP($A85,Filtro!$A$5:$AY$629,36,FALSE),0)","v":21},"",{"$nulls":17},{"$f":"IF($E85>=$AI85,\"\",CONCATENATE(\"* Pueblos Originarios-Hombres no debe ser mayor al Total de personas \",B85,\".\"))","v":""},{"$f":"IF($F85>=$AJ85,\"\",CONCATENATE(\"* Pueblos Originarios-Mujeres no debe ser mayor al Total de personas \",B85,\".\"))","v":""},{"$f":"IF($E85>=$AK85,\"\",CONCATENATE(\"* Población Migrante-Hombres no debe ser mayor al Total de personas \",B85,\".\"))","v":""},{"$f":"IF($F85>=$AL85,\"\",CONCATENATE(\"* Población Migrante - Mujeres no debe ser mayor al Total de personas \",B85,\".\"))","v":""},null,null,"","",{"$nulls":28},0,0,0,0,{"$nulls":4},{"$f":"IF(AND(E87<>0,AI87=\"\"),1,IF(AND(F87<>0,AJ87=\"\"),1,0))","v":0},{"$f":"IF(AND(E87<>0,AK87=\"\"),1,IF(AND(F87<>0,AL87=\"\"),1,0))","v":0}]
["P4302104","PERSONAS EN ACTIVIDAD FÍSICA SALUD CARDIOVASCULAR",null,4936,{"$f":"+G86+I86+K86+M86+O86+Q86+S86+U86+W86+Y86+AA86+AC86+AE86+AG86","v":1860},{"$f":"+H86+J86+L86+N86+P86+R86+T86+V86+X86+Z86+AB86+AD86+AF86+AH86","v":3076},{"$f":"IFERROR(VLOOKUP($A86,Filtro!$A$5:$AY$629,5,FALSE),0)","v":7},{"$f":"IFERROR(VLOOKUP($A86,Filtro!$A$5:$AY$629,6,FALSE),0)","v":6},{"$f":"IFERROR(VLOOKUP($A86,Filtro!$A$5:$AY$629,7,FALSE),0)","v":10},{"$f":"IFERROR(VLOOKUP($A86,Filtro!$A$5:$AY$629,8,FALSE),0)","v":11},{"$f":"IFERROR(VLOOKUP($A86,Filtro!$A$5:$AY$629,9,FALSE),0)","v":9},{"$f":"IFERROR(VLOOKUP($A86,Filtro!$A$5:$AY$629,10,FALSE),0)","v":33},{"$f":"IFERROR(VLOOKUP($A86,Filtro!$A$5:$AY$629,11,FALSE),0)","v":15},{"$f":"IFERROR(VLOOKUP($A86,Filtro!$A$5:$AY$629,12,FALSE),0)","v":58},{"$f":"IFERROR(VLOOKUP($A86,Filtro!$A$5:$AY$629,13,FALSE),0)","v":33},{"$f":"IFERROR(VLOOKUP($A86,Filtro!$A$5:$AY$629,14,FALSE),0)","v":60},{"$f":"IFERROR(VLOOKUP($A86,Filtro!$A$5:$AY$629,15,FALSE),0)","v":46},{"$f":"IFERROR(VLOOKUP($A86,Filtro!$A$5:$AY$629,16,FALSE),0)","v":165},{"$f":"IFERROR(VLOOKUP($A86,Filtro!$A$5:$AY$629,17,FALSE),0)","v":79},{"$f":"IFERROR(VLOOKUP($A86,Filtro!$A$5:$AY$629,18,FALSE),0)","v":255},{"$f":"IFERROR(VLOOKUP($A86,Filtro!$A$5:$AY$629,19,FALSE),0)","v":121},{"$f":"IFERROR(VLOOKUP($A86,Filtro!$A$5:$AY$629,20,FALSE),0)","v":282},{"$f":"IFERROR(VLOOKUP($A86,Filtro!$A$5:$AY$629,21,FALSE),0)","v":177},{"$f":"IFERROR(VLOOKUP($A86,Filtro!$A$5:$AY$629,22,FALSE),0)","v":361},{"$f":"IFERROR(VLOOKUP($A86,Filtro!$A$5:$AY$629,23,FALSE),0)","v":219},{"$f":"IFERROR(VLOOKUP($A86,Filtro!$A$5:$AY$629,24,FALSE),0)","v":474},{"$f":"IFERROR(VLOOKUP($A86,Filtro!$A$5:$AY$629,25,FALSE),0)","v":328},{"$f":"IFERROR(VLOOKUP($A86,Filtro!$A$5:$AY$629,26,FALSE),0)","v":485},{"$f":"IFERROR(VLOOKUP($A86,Filtro!$A$5:$AY$629,27,FALSE),0)","v":353},{"$f":"IFERROR(VLOOKUP($A86,Filtro!$A$5:$AY$629,28,FALSE),0)","v":399},{"$f":"IFERROR(VLOOKUP($A86,Filtro!$A$5:$AY$629,29,FALSE),0)","v":229},{"$f":"IFERROR(VLOOKUP($A86,Filtro!$A$5:$AY$629,30,FALSE),0)","v":253},{"$f":"IFERROR(VLOOKUP($A86,Filtro!$A$5:$AY$629,31,FALSE),0)","v":234},{"$f":"IFERROR(VLOOKUP($A86,Filtro!$A$5:$AY$629,32,FALSE),0)","v":234},{"$f":"IFERROR(VLOOKUP($A86,Filtro!$A$5:$AY$629,33,FALSE),0)","v":6},{"$f":"IFERROR(VLOOKUP($A86,Filtro!$A$5:$AY$629,34,FALSE),0)","v":7},{"$f":"IFERROR(VLOOKUP($A86,Filtro!$A$5:$AY$629,35,FALSE),0)","v":15},{"$f":"IFERROR(VLOOKUP($A86,Filtro!$A$5:$AY$629,36,FALSE),0)","v":24}]
[null,"NOTA (*): La vigencia de la evaluación del pie diabético es de 12 meses."]
[]
[]
["CODIGOS NUEVOS"]
["P4302100"]
["P4302101"]
["P4302102"]
["P4302103"]
["P4302104"]
[]
[]
[]
[]
[null,{"$f":"SUM(D12:AM29,D34:AL42,D48:D73,D76:D79,D82:D85)","v":2590260},"datos"]
[null,{"$f":"SUM(CM13:DT94)","v":5},"errores"]

{"sheet":"P5","index":6,"n_rows":82,"n_cols":54,"rows_kept":82,"merged":[[6,5,6,18],[8,1,10,2],[8,3,9,5],[8,6,8,21],[8,22,9,23],[8,24,9,25],[8,26,9,27],[9,6,9,7],[9,8,9,9],[9,10,9,11],[9,12,9,13],[9,14,9,15],[9,16,9,17],[9,18,9,19],[9,20,9,21],[11,1,11,2],[12,1,12,2],[13,1,13,2],[14,1,14,2],[15,1,15,2],[16,1,16,2],[17,1,17,2],[18,1,18,2],[19,1,19,2],[20,1,20,2],[22,1,24,2],[22,3,23,5],[22,6,22,23],[22,24,23,25],[22,26,23,27],[22,35,23,36],[22,37,23,38],[22,39,23,39],[22,40,23,40],[22,42,23,43],[22,44,23,45],[22,46,23,46],[22,47,23,47],[23,6,23,7],[23,8,23,9],[23,10,23,11],[23,12,23,13],[23,14,23,15],[23,16,23,17],[23,18,23,19],[23,20,23,21],[23,22,23,23],[25,1,25,2],[26,1,26,2],[27,1,27,2],[28,1,28,2],[30,1,32,2],[30,3,31,5],[30,6,30,21],[30,22,31,23],[30,24,31,25],[30,26,31,27],[30,36,31,37],[30,38,31,39],[30,40,31,40],[30,41,31,41],[30,43,31,44],[30,45,31,46],[30,47,31,47],[30,48,31,48],[30,52,31,53],[31,6,31,7],[31,8,31,9],[31,10,31,11],[31,12,31,13],[31,14,31,15],[31,16,31,17],[31,18,31,19],[31,20,31,21],[33,1,33,2],[34,1,34,2],[35,1,35,2],[36,1,36,2],[37,1,37,2],[38,1,38,7],[39,1,41,2],[39,3,40,5],[39,6,39,21],[39,22,40,23],[39,24,40,25],[39,26,40,27],[40,6,40,7],[40,8,40,9],[40,10,40,11],[40,12,40,13],[40,14,40,15],[40,16,40,17],[40,18,40,19],[40,20,40,21],[42,1,42,2],[43,1,43,8],[44,1,46,2],[44,3,45,5],[44,6,44,21],[44,22,45,23],[44,24,45,25],[44,26,45,27],[45,6,45,7],[45,8,45,9],[45,10,45,11],[45,12,45,13],[45,14,45,15],[45,16,45,17],[45,18,45,19],[45,20,45,21],[47,1,47,2],[48,1,48,9],[49,1,51,1],[49,2,51,2],[49,3,50,5],[49,6,49,21],[49,22,50,23],[49,24,50,25],[49,26,50,27],[50,6,50,7],[50,8,50,9],[50,10,50,11],[50,12,50,13],[50,14,50,15],[50,16,50,17],[50,18,50,19],[50,20,50,21],[52,1,54,1],[55,1,56,1]]}
[null,"DATOS DEL ESTABLECIMIENTO"]
[null,{"$f":"CONCATENATE(\"COMUNA: \",NOMBRE!$B$2,\" - \",\"( \",NOMBRE!$C$2,NOMBRE!$D$2,NOMBRE!$E$2,NOMBRE!$F$2,NOMBRE!$G$2,\" )\")","v":"COMUNA:  - (  )"}]
[null,{"$f":"CONCATENATE(\"ESTABLECIMIENTO/ESTRATEGIA: \",NOMBRE!$B$3,\" - \",\"( \",NOMBRE!$C$3,NOMBRE!$D$3,NOMBRE!$E$3,NOMBRE!$F$3,NOMBRE!$G$3,NOMBRE!$H$3,\" )\")","v":"ESTABLECIMIENTO/ESTRATEGIA:  - (  )"}]
[null,{"$f":"CONCATENATE(\"MES: \",NOMBRE!$B$6,\" - \",\"( \",NOMBRE!$C$6,NOMBRE!$D$6,\" )\")","v":"MES:  - (  )"}]
[null,{"$f":"CONCATENATE(\"AÑO: \",NOMBRE!$B$7)","v":"AÑO: 2023"}]
[]
[{"$nulls":5},"REM-P5. POBLACIÓN EN CONTROL PROGRAMA NACIONAL DE SALUD INTEGRAL DE PERSONAS MAYORES "]
[null,"SECCION A: POBLACIÓN EN CONTROL POR CONDICIÓN DE FUNCIONALIDAD",{"$nulls":28},"Pueblos Originarios",null,"Población Migrantes",null,"Pueblos Originarios","Población Migrantes",null,"Pueblos Originarios",null,"Población Migrantes",null,"Pueblos Originarios","Población Migrantes"]
[null,"CONDICIÓN DE \nFUNCIONALIDAD",null,"TOTAL",null,null,"GRUPO DE EDAD (en años) Y SEXO",{"$nulls":15},"Pueblos Originarios",null," Migrantes",null,"Personas Mayores en ELEAM"]
[{"$nulls":6},"65 a 69 años",null,"70 a 74 años",null,"75 a 79 años",null,"80 a 84 años",null,"85 a 89 años",null,"90 a 94 años",null,"95 a 99 años",null,"100 y mas años",{"$nulls":16},"Hombres","Mujeres","Hombres","Mujeres","No Olvide","No Olvide",null,"Hombres","Mujeres","Hombres","Mujeres","No Olvide","No Olvide"]
[{"$nulls":3},"Ambos\nsexos","Hombres","Mujeres","Hombres ","Mujeres","Hombres ","Mujeres","Hombres ","Mujeres","Hombres ","Mujeres","Hombres ","Mujeres","Hombres ","Mujeres","Hombres ","Mujeres","Hombres ","Mujeres","Hombres","Mujeres","Hombres","Mujeres","Hombres","Mujeres"]
["P5180100","AUTOVALENTE SIN RIESGO",null,{"$f":"SUM(E12:F12)","v":11091},{"$f":"+G12+I12+K12+M12+O12+Q12+S12+U12","v":4830},{"$f":"+H12+J12+L12+N12+P12+R12+T12+V12","v":6261},{"$f":"IFERROR(VLOOKUP($A12,Filtro!$A$5:$AY$629,5,FALSE),0)","v":1335},{"$f":"IFERROR(VLOOKUP($A12,Filtro!$A$5:$AY$629,6,FALSE),0)","v":2132},{"$f":"IFERROR(VLOOKUP($A12,Filtro!$A$5:$AY$629,7,FALSE),0)","v":1458},{"$f":"IFERROR(VLOOKUP($A12,Filtro!$A$5:$AY$629,8,FALSE),0)","v":1823},{"$f":"IFERROR(VLOOKUP($A12,Filtro!$A$5:$AY$629,9,FALSE),0)","v":1067},{"$f":"IFERROR(VLOOKUP($A12,Filtro!$A$5:$AY$629,10,FALSE),0)","v":1225},{"$f":"IFERROR(VLOOKUP($A12,Filtro!$A$5:$AY$629,11,FALSE),0)","v":662},{"$f":"IFERROR(VLOOKUP($A12,Filtro!$A$5:$AY$629,12,FALSE),0)","v":769},{"$f":"IFERROR(VLOOKUP($A12,Filtro!$A$5:$AY$629,13,FALSE),0)","v":239},{"$f":"IFERROR(VLOOKUP($A12,Filtro!$A$5:$AY$629,14,FALSE),0)","v":245},{"$f":"IFERROR(VLOOKUP($A12,Filtro!$A$5:$AY$629,15,FALSE),0)","v":58},{"$f":"IFERROR(VLOOKUP($A12,Filtro!$A$5:$AY$629,16,FALSE),0)","v":59},{"$f":"IFERROR(VLOOKUP($A12,Filtro!$A$5:$AY$629,17,FALSE),0)","v":10},{"$f":"IFERROR(VLOOKUP($A12,Filtro!$A$5:$AY$629,18,FALSE),0)","v":8},{"$f":"IFERROR(VLOOKUP($A12,Filtro!$A$5:$AY$629,19,FALSE),0)","v":1},{"$f":"IFERROR(VLOOKUP($A12,Filtro!$A$5:$AY$629,20,FALSE),0)","v":0},{"$f":"IFERROR(VLOOKUP($A12,Filtro!$A$5:$AY$629,21,FALSE),0)","v":27},{"$f":"IFERROR(VLOOKUP($A12,Filtro!$A$5:$AY$629,22,FALSE),0)","v":23},{"$f":"IFERROR(VLOOKUP($A12,Filtro!$A$5:$AY$629,23,FALSE),0)","v":7},{"$f":"IFERROR(VLOOKUP($A12,Filtro!$A$5:$AY$629,24,FALSE),0)","v":8},{"$f":"IFERROR(VLOOKUP($A12,Filtro!$A$5:$AY$629,25,FALSE),0)","v":12},{"$f":"IFERROR(VLOOKUP($A12,Filtro!$A$5:$AY$629,26,FALSE),0)","v":8},{"$nulls":9},{"$f":"IF($E12>=$W12,\"\",\"* La celda 'Pueblos Originarios / Hombres' debe ser menor o igual al Total de Hombres en control. \")","v":""},{"$f":"IF($F12>=$X12,\"\",\"* La celda 'Pueblos Originarios / Mujeres' debe ser menor o igual al Total de Mujeres en control. \")","v":""},{"$f":"IF($E12>=$Y12,\"\",\"* La celda 'Población Migrantes / Hombres' debe ser menor o igual al Total de Hombres en control. \")","v":""},{"$f":"IF($F12>=$Z12,\"\",\"* La celda 'Población Migrantes / Mujeres' debe ser menor o igual al Total de Mujeres en control. \")","v":""},{"$f":"IF(AND($E12<>0,$W12=\"\"),\"* No olvide escribir en las celdas de 'Pueblos Originarios' (Digite CERO si no tiene). \",IF(AND(F12<>0,X12=\"\"),\"* No olvide escribir en las celdas de 'Pueblos Originarios' (Digite CERO si no tiene). \",\"\"))","v":""},{"$f":"IF(AND($E12<>0,$Y12=\"\"),\"* No olvide escribir en las celdas de 'Población Migrantes' (Digite CERO si no tiene). \",IF(AND(F12<>0,Z12=\"\"),\"* No olvide escribir en las celdas de 'Población Migrantes' (Digite CERO si no tiene). \",\"\"))","v":""},null,{"$f":"IF($E12>=$W12,0,1)","v":0},{"$f":"IF($F12>=$X12,0,1)","v":0},{"$f":"IF($E12>=$Y12,0,1)","v":0},{"$f":"IF($F12>=$Z12,0,1)","v":0},{"$f":"IF(AND(E12<>0,W12=\"\"),1,IF(AND(F12<>0,X12=\"\"),1,0))","v":0},{"$f":"IF(AND(E12<>0,Y12=\"\"),1,IF(AND(F12<>0,Z12=\"\"),1,0))","v":0}]
["P5180200","AUTOVALENTE CON RIESGO",null,9235,{"$f":"+G13+I13+K13+M13+O13+Q13+S13+U13","v":3683},5552,{"$f":"IFERROR(VLOOKUP($A13,Filtro!$A$5:$AY$629,5,FALSE),0)","v":1060},{"$f":"IFERROR(VLOOKUP($A13,Filtro!$A$5:$AY$629,6,FALSE),0)","v":1689},{"$f":"IFERROR(VLOOKUP($A13,Filtro!$A$5:$AY$629,7,FALSE),0)","v":971},{"$f":"IFERROR(VLOOKUP($A13,Filtro!$A$5:$AY$629,8,FALSE),0)","v":1478},{"$f":"IFERROR(VLOOKUP($A13,Filtro!$A$5:$AY$629,9,FALSE),0)","v":800},{"$f":"IFERROR(VLOOKUP($A13,Filtro!$A$5:$AY$629,10,FALSE),0)","v":1192},{"$f":"IFERROR(VLOOKUP($A13,Filtro!$A$5:$AY$629,11,FALSE),0)","v":503},{"$f":"IFERROR(VLOOKUP($A13,Filtro!$A$5:$AY$629,12,FALSE),0)","v":726},{"$f":"IFERROR(VLOOKUP($A13,Filtro!$A$5:$AY$629,13,FALSE),0)","v":257},{"$f":"IFERROR(VLOOKUP($A13,Filtro!$A$5:$AY$629,14,FALSE),0)","v":359},{"$f":"IFERROR(VLOOKUP($A13,Filtro!$A$5:$AY$629,15,FALSE),0)","v":82},{"$f":"IFERROR(VLOOKUP($A13,Filtro!$A$5:$AY$629,16,FALSE),0)","v":94},{"$f":"IFERROR(VLOOKUP($A13,Filtro!$A$5:$AY$629,17,FALSE),0)","v":9},{"$f":"IFERROR(VLOOKUP($A13,Filtro!$A$5:$AY$629,18,FALSE),0)","v":12},{"$f":"IFERROR(VLOOKUP($A13,Filtro!$A$5:$AY$629,19,FALSE),0)","v":1},{"$f":"IFERROR(VLOOKUP($A13,Filtro!$A$5:$AY$629,20,FALSE),0)","v":2},{"$f":"IFERROR(VLOOKUP($A13,Filtro!$A$5:$AY$629,21,FALSE),0)","v":9},{"$f":"IFERROR(VLOOKUP($A13,Filtro!$A$5:$AY$629,22,FALSE),0)","v":20},{"$f":"IFERROR(VLOOKUP($A13,Filtro!$A$5:$AY$629,23,FALSE),0)","v":10},{"$f":"IFERROR(VLOOKUP($A13,Filtro!$A$5:$AY$629,24,FALSE),0)","v":7},{"$f":"IFERROR(VLOOKUP($A13,Filtro!$A$5:$AY$629,25,FALSE),0)","v":2},{"$f":"IFERROR(VLOOKUP($A13,Filtro!$A$5:$AY$629,26,FALSE),0)","v":4},{"$nulls":9},{"$f":"IF($E13>=$W13,\"\",\"* La celda 'Pueblos Originarios / Hombres' debe ser menor o igual al Total de Hombres en control. \")","v":""},{"$f":"IF($F13>=$X13,\"\",\"* La celda 'Pueblos Originarios / Mujeres' debe ser menor o igual al Total de Mujeres en control. \")","v":""},{"$f":"IF($E13>=$Y13,\"\",\"* La celda 'Población Migrantes / Hombres' debe ser menor o igual al Total de Hombres en control. \")","v":""},{"$f":"IF($F13>=$Z13,\"\",\"* La celda 'Población Migrantes / Mujeres' debe ser menor o igual al Total de Mujeres en control. \")","v":""},{"$f":"IF(AND($E13<>0,$W13=\"\"),\"* No olvide escribir en las celdas de 'Pueblos Originarios' (Digite CERO si no tiene). \",IF(AND(F13<>0,X13=\"\"),\"* No olvide escribir en las celdas de 'Pueblos Originarios' (Digite CERO si no tiene). \",\"\"))","v":""},{"$f":"IF(AND($E13<>0,$Y13=\"\"),\"* No olvide escribir en las celdas de 'Población Migrantes' (Digite CERO si no tiene). \",IF(AND(F13<>0,Z13=\"\"),\"* No olvide escribir en las celdas de 'Población Migrantes' (Digite CERO si no tiene). \",\"\"))","v":""},null,{"$f":"IF($E13>=$W13,0,1)","v":0},{"$f":"IF($F13>=$X13,0,1)","v":0},{"$f":"IF($E13>=$Y13,0,1)","v":0},{"$f":"IF($F13>=$Z13,0,1)","v":0},{"$f":"IF(AND(E13<>0,W13=\"\"),1,IF(AND(F13<>0,X13=\"\"),1,0))","v":0},{"$f":"IF(AND(E13<>0,Y13=\"\"),1,IF(AND(F13<>0,Z13=\"\"),1,0))","v":0}]
["P5300510","RIESGO DE DEPENDENCIA ",null,4375,1563,2812,{"$f":"IFERROR(VLOOKUP($A14,Filtro!$A$5:$AY$629,5,FALSE),0)","v":201},{"$f":"IFERROR(VLOOKUP($A14,Filtro!$A$5:$AY$629,6,FALSE),0)","v":327},{"$f":"IFERROR(VLOOKUP($A14,Filtro!$A$5:$AY$629,7,FALSE),0)","v":227},{"$f":"IFERROR(VLOOKUP($A14,Filtro!$A$5:$AY$629,8,FALSE),0)","v":458},{"$f":"IFERROR(VLOOKUP($A14,Filtro!$A$5:$AY$629,9,FALSE),0)","v":338},{"$f":"IFERROR(VLOOKUP($A14,Filtro!$A$5:$AY$629,10,FALSE),0)","v":591},{"$f":"IFERROR(VLOOKUP($A14,Filtro!$A$5:$AY$629,11,FALSE),0)","v":375},{"$f":"IFERROR(VLOOKUP($A14,Filtro!$A$5:$AY$629,12,FALSE),0)","v":668},{"$f":"IFERROR(VLOOKUP($A14,Filtro!$A$5:$AY$629,13,FALSE),0)","v":271},{"$f":"IFERROR(VLOOKUP($A14,Filtro!$A$5:$AY$629,14,FALSE),0)","v":445},{"$f":"IFERROR(VLOOKUP($A14,Filtro!$A$5:$AY$629,15,FALSE),0)","v":118},{"$f":"IFERROR(VLOOKUP($A14,Filtro!$A$5:$AY$629,16,FALSE),0)","v":258},{"$f":"IFERROR(VLOOKUP($A14,Filtro!$A$5:$AY$629,17,FALSE),0)","v":26},{"$f":"IFERROR(VLOOKUP($A14,Filtro!$A$5:$AY$629,18,FALSE),0)","v":56},{"$f":"IFERROR(VLOOKUP($A14,Filtro!$A$5:$AY$629,19,FALSE),0)","v":7},{"$f":"IFERROR(VLOOKUP($A14,Filtro!$A$5:$AY$629,20,FALSE),0)","v":9},{"$f":"IFERROR(VLOOKUP($A14,Filtro!$A$5:$AY$629,21,FALSE),0)","v":10},{"$f":"IFERROR(VLOOKUP($A14,Filtro!$A$5:$AY$629,22,FALSE),0)","v":15},{"$f":"IFERROR(VLOOKUP($A14,Filtro!$A$5:$AY$629,23,FALSE),0)","v":2},{"$f":"IFERROR(VLOOKUP($A14,Filtro!$A$5:$AY$629,24,FALSE),0)","v":1},{"$f":"IFERROR(VLOOKUP($A14,Filtro!$A$5:$AY$629,25,FALSE),0)","v":5},{"$f":"IFERROR(VLOOKUP($A14,Filtro!$A$5:$AY$629,26,FALSE),0)","v":3},{"$nulls":9},{"$f":"IF($E14>=$W14,\"\",\"* La celda 'Pueblos Originarios / Hombres' debe ser menor o igual al Total de Hombres en control. \")","v":""},{"$f":"IF($F14>=$X14,\"\",\"* La celda 'Pueblos Originarios / Mujeres' debe ser menor o igual al Total de Mujeres en control. \")","v":""},{"$f":"IF($E14>=$Y14,\"\",\"* La celda 'Población Migrantes / Hombres' debe ser menor o igual al Total de Hombres en control. \")","v":""},{"$f":"IF($F14>=$Z14,\"\",\"* La celda 'Población Migrantes / Mujeres' debe ser menor o igual al Total de Mujeres en control. \")","v":""},{"$f":"IF(AND($E14<>0,$W14=\"\"),\"* No olvide escribir en las celdas de 'Pueblos Originarios' (Digite CERO si no tiene). \",IF(AND(F14<>0,X14=\"\"),\"* No olvide escribir en las celdas de 'Pueblos Originarios' (Digite CERO si no tiene). \",\"\"))","v":""},{"$f":"IF(AND($E14<>0,$Y14=\"\"),\"* No olvide escribir en las celdas de 'Población Migrantes' (Digite CERO si no tiene). \",IF(AND(F14<>0,Z14=\"\"),\"* No olvide escribir en las celdas de 'Población Migrantes' (Digite CERO si no tiene). \",\"\"))","v":""},null,{"$f":"IF($E14>=$W14,0,1)","v":0},{"$f":"IF($F14>=$X14,0,1)","v":0},{"$f":"IF($E14>=$Y14,0,1)","v":0},{"$f":"IF($F14>=$Z14,0,1)","v":0},{"$f":"IF(AND(E14<>0,W14=\"\"),1,IF(AND(F14<>0,X14=\"\"),1,0))","v":0},{"$f":"IF(AND(E14<>0,Y14=\"\"),1,IF(AND(F14<>0,Z14=\"\"),1,0))","v":0}]
[null,"SUBTOTAL (EFAM)",null,{"$f":"SUM(E15:F15)","v":24701},{"$f":"+G15+I15+K15+M15+O15+Q15+S15+U15","v":10076},{"$f":"+H15+J15+L15+N15+P15+R15+T15+V15","v":14625},{"$f":"SUM(G12:G14)","v":2596},{"$f":"SUM(H12:H14)","v":4148},2656,3759,2205,3008,1540,2163,767,1049,258,411,45,76,9,11,{"$f":"SUM(W12:W14)","v":46},{"$f":"SUM(X12:X14)","v":58},19,{"$f":"SUM(Z12:Z14)","v":16},{"$f":"SUM(AA12:AA14)","v":19},{"$f":"SUM(AB12:AB14)","v":15}]
["P5300100","DEPENDIENTE LEVE",null,{"$f":"SUM(E16:F16)","v":3585},{"$f":"+G16+I16+K16+M16+O16+Q16+S16+U16","v":1210},{"$f":"+H16+J16+L16+N16+P16+R16+T16+V16","v":2375},{"$f":"IFERROR(VLOOKUP($A16,Filtro!$A$5:$AY$629,5,FALSE),0)","v":152},{"$f":"IFERROR(VLOOKUP($A16,Filtro!$A$5:$AY$629,6,FALSE),0)","v":261},{"$f":"IFERROR(VLOOKUP($A16,Filtro!$A$5:$AY$629,7,FALSE),0)","v":161},{"$f":"IFERROR(VLOOKUP($A16,Filtro!$A$5:$AY$629,8,FALSE),0)","v":349},{"$f":"IFERROR(VLOOKUP($A16,Filtro!$A$5:$AY$629,9,FALSE),0)","v":226},{"$f":"IFERROR(VLOOKUP($A16,Filtro!$A$5:$AY$629,10,FALSE),0)","v":462},{"$f":"IFERROR(VLOOKUP($A16,Filtro!$A$5:$AY$629,11,FALSE),0)","v":288},{"$f":"IFERROR(VLOOKUP($A16,Filtro!$A$5:$AY$629,12,FALSE),0)","v":530},{"$f":"IFERROR(VLOOKUP($A16,Filtro!$A$5:$AY$629,13,FALSE),0)","v":220},{"$f":"IFERROR(VLOOKUP($A16,Filtro!$A$5:$AY$629,14,FALSE),0)","v":447},{"$f":"IFERROR(VLOOKUP($A16,Filtro!$A$5:$AY$629,15,FALSE),0)","v":131},{"$f":"IFERROR(VLOOKUP($A16,Filtro!$A$5:$AY$629,16,FALSE),0)","v":265},{"$f":"IFERROR(VLOOKUP($A16,Filtro!$A$5:$AY$629,17,FALSE),0)","v":27},{"$f":"IFERROR(VLOOKUP($A16,Filtro!$A$5:$AY$629,18,FALSE),0)","v":52},{"$f":"IFERROR(VLOOKUP($A16,Filtro!$A$5:$AY$629,19,FALSE),0)","v":5},{"$f":"IFERROR(VLOOKUP($A16,Filtro!$A$5:$AY$629,20,FALSE),0)","v":9},{"$f":"IFERROR(VLOOKUP($A16,Filtro!$A$5:$AY$629,21,FALSE),0)","v":7},{"$f":"IFERROR(VLOOKUP($A16,Filtro!$A$5:$AY$629,22,FALSE),0)","v":5},{"$f":"IFERROR(VLOOKUP($A16,Filtro!$A$5:$AY$629,23,FALSE),0)","v":1},{"$f":"IFERROR(VLOOKUP($A16,Filtro!$A$5:$AY$629,24,FALSE),0)","v":2},{"$f":"IFERROR(VLOOKUP($A16,Filtro!$A$5:$AY$629,25,FALSE),0)","v":45},{"$f":"IFERROR(VLOOKUP($A16,Filtro!$A$5:$AY$629,26,FALSE),0)","v":52},{"$nulls":9},{"$f":"IF($E16>=$W16,\"\",\"* La celda 'Pueblos Originarios / Hombres' debe ser menor o igual al Total de Hombres en control. \")","v":""},{"$f":"IF($F16>=$X16,\"\",\"* La celda 'Pueblos Originarios / Mujeres' debe ser menor o igual al Total de Mujeres en control. \")","v":""},{"$f":"IF($E16>=$Y16,\"\",\"* La celda 'Población Migrantes / Hombres' debe ser menor o igual al Total de Hombres en control. \")","v":""},{"$f":"IF($F16>=$Z16,\"\",\"* La celda 'Población Migrantes / Mujeres' debe ser menor o igual al Total de Mujeres en control. \")","v":""},{"$f":"IF(AND($E16<>0,$W16=\"\"),\"* No olvide escribir en las celdas de 'Pueblos Originarios' (Digite CERO si no tiene). \",IF(AND(F16<>0,X16=\"\"),\"* No olvide escribir en las celdas de 'Pueblos Originarios' (Digite CERO si no tiene). \",\"\"))","v":""},{"$f":"IF(AND($E16<>0,$Y16=\"\"),\"* No olvide escribir en las celdas de 'Población Migrantes' (Digite CERO si no tiene). \",IF(AND(F16<>0,Z16=\"\"),\"* No olvide escribir en las celdas de 'Población Migrantes' (Digite CERO si no tiene). \",\"\"))","v":""},null,{"$f":"IF($E16>=$W16,0,1)","v":0},{"$f":"IF($F16>=$X16,0,1)","v":0},{"$f":"IF($E16>=$Y16,0,1)","v":0},{"$f":"IF($F16>=$Z16,0,1)","v":0},{"$f":"IF(AND(E16<>0,W16=\"\"),1,IF(AND(F16<>0,X16=\"\"),1,0))","v":0},{"$f":"IF(AND(E16<>0,Y16=\"\"),1,IF(AND(F16<>0,Z16=\"\"),1,0))","v":0}]
["P5300200","DEPENDIENTE MODERADO ",null,774,{"$f":"+G17+I17+K17+M17+O17+Q17+S17+U17","v":254},520,{"$f":"IFERROR(VLOOKUP($A17,Filtro!$A$5:$AY$629,5,FALSE),0)","v":29},{"$f":"IFERROR(VLOOKUP($A17,Filtro!$A$5:$AY$629,6,FALSE),0)","v":31},{"$f":"IFERROR(VLOOKUP($A17,Filtro!$A$5:$AY$629,7,FALSE),0)","v":29},{"$f":"IFERROR(VLOOKUP($A17,Filtro!$A$5:$AY$629,8,FALSE),0)","v":37},{"$f":"IFERROR(VLOOKUP($A17,Filtro!$A$5:$AY$629,9,FALSE),0)","v":45},{"$f":"IFERROR(VLOOKUP($A17,Filtro!$A$5:$AY$629,10,FALSE),0)","v":69},{"$f":"IFERROR(VLOOKUP($A17,Filtro!$A$5:$AY$629,11,FALSE),0)","v":50},{"$f":"IFERROR(VLOOKUP($A17,Filtro!$A$5:$AY$629,12,FALSE),0)","v":146},{"$f":"IFERROR(VLOOKUP($A17,Filtro!$A$5:$AY$629,13,FALSE),0)","v":46},{"$f":"IFERROR(VLOOKUP($A17,Filtro!$A$5:$AY$629,14,FALSE),0)","v":115},{"$f":"IFERROR(VLOOKUP($A17,Filtro!$A$5:$AY$629,15,FALSE),0)","v":43},{"$f":"IFERROR(VLOOKUP($A17,Filtro!$A$5:$AY$629,16,FALSE),0)","v":91},{"$f":"IFERROR(VLOOKUP($A17,Filtro!$A$5:$AY$629,17,FALSE),0)","v":7},{"$f":"IFERROR(VLOOKUP($A17,Filtro!$A$5:$AY$629,18,FALSE),0)","v":28},{"$f":"IFERROR(VLOOKUP($A17,Filtro!$A$5:$AY$629,19,FALSE),0)","v":5},{"$f":"IFERROR(VLOOKUP($A17,Filtro!$A$5:$AY$629,20,FALSE),0)","v":3},{"$f":"IFERROR(VLOOKUP($A17,Filtro!$A$5:$AY$629,21,FALSE),0)","v":2},{"$f":"IFERROR(VLOOKUP($A17,Filtro!$A$5:$AY$629,22,FALSE),0)","v":4},{"$f":"IFERROR(VLOOKUP($A17,Filtro!$A$5:$AY$629,23,FALSE),0)","v":0},{"$f":"IFERROR(VLOOKUP($A17,Filtro!$A$5:$AY$629,24,FALSE),0)","v":0},{"$f":"IFERROR(VLOOKUP($A17,Filtro!$A$5:$AY$629,25,FALSE),0)","v":22},{"$f":"IFERROR(VLOOKUP($A17,Filtro!$A$5:$AY$629,26,FALSE),0)","v":20},{"$nulls":9},{"$f":"IF($E17>=$W17,\"\",\"* La celda 'Pueblos Originarios / Hombres' debe ser menor o igual al Total de Hombres en control. \")","v":""},{"$f":"IF($F17>=$X17,\"\",\"* La celda 'Pueblos Originarios / Mujeres' debe ser menor o igual al Total de Mujeres en control. \")","v":""},{"$f":"IF($E17>=$Y17,\"\",\"* La celda 'Población Migrantes / Hombres' debe ser menor o igual al Total de Hombres en control. \")","v":""},{"$f":"IF($F17>=$Z17,\"\",\"* La celda 'Población Migrantes / Mujeres' debe ser menor o igual al Total de Mujeres en control. \")","v":""},{"$f":"IF(AND($E17<>0,$W17=\"\"),\"* No olvide escribir en las celdas de 'Pueblos Originarios' (Digite CERO si no tiene). \",IF(AND(F17<>0,X17=\"\"),\"* No olvide escribir en las celdas de 'Pueblos Originarios' (Digite CERO si no tiene). \",\"\"))","v":""},{"$f":"IF(AND($E17<>0,$Y17=\"\"),\"* No olvide escribir en las celdas de 'Población Migrantes' (Digite CERO si no tiene). \",IF(AND(F17<>0,Z17=\"\"),\"* No olvide escribir en las celdas de 'Población Migrantes' (Digite CERO si no tiene). \",\"\"))","v":""},null,{"$f":"IF($E17>=$W17,0,1)","v":0},{"$f":"IF($F17>=$X17,0,1)","v":0},{"$f":"IF($E17>=$Y17,0,1)","v":0},{"$f":"IF($F17>=$Z17,0,1)","v":0},{"$f":"IF(AND(E17<>0,W17=\"\"),1,IF(AND(F17<>0,X17=\"\"),1,0))","v":0},{"$f":"IF(AND(E17<>0,Y17=\"\"),1,IF(AND(F17<>0,Z17=\"\"),1,0))","v":0}]
["P5300520","DEPENDIENTE GRAVE ",null,866,265,601,{"$f":"IFERROR(VLOOKUP($A18,Filtro!$A$5:$AY$629,5,FALSE),0)","v":33},{"$f":"IFERROR(VLOOKUP($A18,Filtro!$A$5:$AY$629,6,FALSE),0)","v":22},{"$f":"IFERROR(VLOOKUP($A18,Filtro!$A$5:$AY$629,7,FALSE),0)","v":27},{"$f":"IFERROR(VLOOKUP($A18,Filtro!$A$5:$AY$629,8,FALSE),0)","v":53},{"$f":"IFERROR(VLOOKUP($A18,Filtro!$A$5:$AY$629,9,FALSE),0)","v":48},{"$f":"IFERROR(VLOOKUP($A18,Filtro!$A$5:$AY$629,10,FALSE),0)","v":83},{"$f":"IFERROR(VLOOKUP($A18,Filtro!$A$5:$AY$629,11,FALSE),0)","v":56},{"$f":"IFERROR(VLOOKUP($A18,Filtro!$A$5:$AY$629,12,FALSE),0)","v":134},{"$f":"IFERROR(VLOOKUP($A18,Filtro!$A$5:$AY$629,13,FALSE),0)","v":52},{"$f":"IFERROR(VLOOKUP($A18,Filtro!$A$5:$AY$629,14,FALSE),0)","v":134},{"$f":"IFERROR(VLOOKUP($A18,Filtro!$A$5:$AY$629,15,FALSE),0)","v":30},{"$f":"IFERROR(VLOOKUP($A18,Filtro!$A$5:$AY$629,16,FALSE),0)","v":111},{"$f":"IFERROR(VLOOKUP($A18,Filtro!$A$5:$AY$629,17,FALSE),0)","v":17},{"$f":"IFERROR(VLOOKUP($A18,Filtro!$A$5:$AY$629,18,FALSE),0)","v":57},{"$f":"IFERROR(VLOOKUP($A18,Filtro!$A$5:$AY$629,19,FALSE),0)","v":2},{"$f":"IFERROR(VLOOKUP($A18,Filtro!$A$5:$AY$629,20,FALSE),0)","v":7},{"$f":"IFERROR(VLOOKUP($A18,Filtro!$A$5:$AY$629,21,FALSE),0)","v":0},{"$f":"IFERROR(VLOOKUP($A18,Filtro!$A$5:$AY$629,22,FALSE),0)","v":2},{"$f":"IFERROR(VLOOKUP($A18,Filtro!$A$5:$AY$629,23,FALSE),0)","v":0},{"$f":"IFERROR(VLOOKUP($A18,Filtro!$A$5:$AY$629,24,FALSE),0)","v":1},{"$f":"IFERROR(VLOOKUP($A18,Filtro!$A$5:$AY$629,25,FALSE),0)","v":15},{"$f":"IFERROR(VLOOKUP($A18,Filtro!$A$5:$AY$629,26,FALSE),0)","v":30},{"$nulls":9},{"$f":"IF($E18>=$W18,\"\",\"* La celda 'Pueblos Originarios / Hombres' debe ser menor o igual al Total de Hombres en control. \")","v":""},{"$f":"IF($F18>=$X18,\"\",\"* La celda 'Pueblos Originarios / Mujeres' debe ser menor o igual al Total de Mujeres en control. \")","v":""},{"$f":"IF($E18>=$Y18,\"\",\"* La celda 'Población Migrantes / Hombres' debe ser menor o igual al Total de Hombres en control. \")","v":""},{"$f":"IF($F18>=$Z18,\"\",\"* La celda 'Población Migrantes / Mujeres' debe ser menor o igual al Total de Mujeres en control. \")","v":""},{"$f":"IF(AND($E18<>0,$W18=\"\"),\"* No olvide escribir en las celdas de 'Pueblos Originarios' (Digite CERO si no tiene). \",IF(AND(F18<>0,X18=\"\"),\"* No olvide escribir en las celdas de 'Pueblos Originarios' (Digite CERO si no tiene). \",\"\"))","v":""},{"$f":"IF(AND($E18<>0,$Y18=\"\"),\"* No olvide escribir en las celdas de 'Población Migrantes' (Digite CERO si no tiene). \",IF(AND(F18<>0,Z18=\"\"),\"* No olvide escribir en las celdas de 'Población Migrantes' (Digite CERO si no tiene). \",\"\"))","v":""},null,{"$f":"IF($E18>=$W18,0,1)","v":0},{"$f":"IF($F18>=$X18,0,1)","v":0},{"$f":"IF($E18>=$Y18,0,1)","v":0},{"$f":"IF($F18>=$Z18,0,1)","v":0},{"$f":"IF(AND(E18<>0,W18=\"\"),1,IF(AND(F18<>0,X18=\"\"),1,0))","v":0},{"$f":"IF(AND(E18<>0,Y18=\"\"),1,IF(AND(F18<>0,Z18=\"\"),1,0))","v":0}]
["P5300530","DEPENDIENTE TOTAL",null,925,{"$f":"+G19+I19+K19+M19+O19+Q19+S19+U19","v":283},642,{"$f":"IFERROR(VLOOKUP($A19,Filtro!$A$5:$AY$629,5,FALSE),0)","v":38},{"$f":"IFERROR(VLOOKUP($A19,Filtro!$A$5:$AY$629,6,FALSE),0)","v":31},{"$f":"IFERROR(VLOOKUP($A19,Filtro!$A$5:$AY$629,7,FALSE),0)","v":36},{"$f":"IFERROR(VLOOKUP($A19,Filtro!$A$5:$AY$629,8,FALSE),0)","v":45},{"$f":"IFERROR(VLOOKUP($A19,Filtro!$A$5:$AY$629,9,FALSE),0)","v":41},{"$f":"IFERROR(VLOOKUP($A19,Filtro!$A$5:$AY$629,10,FALSE),0)","v":134},{"$f":"IFERROR(VLOOKUP($A19,Filtro!$A$5:$AY$629,11,FALSE),0)","v":72},{"$f":"IFERROR(VLOOKUP($A19,Filtro!$A$5:$AY$629,12,FALSE),0)","v":159},{"$f":"IFERROR(VLOOKUP($A19,Filtro!$A$5:$AY$629,13,FALSE),0)","v":55},{"$f":"IFERROR(VLOOKUP($A19,Filtro!$A$5:$AY$629,14,FALSE),0)","v":113},{"$f":"IFERROR(VLOOKUP($A19,Filtro!$A$5:$AY$629,15,FALSE),0)","v":26},{"$f":"IFERROR(VLOOKUP($A19,Filtro!$A$5:$AY$629,16,FALSE),0)","v":104},{"$f":"IFERROR(VLOOKUP($A19,Filtro!$A$5:$AY$629,17,FALSE),0)","v":9},{"$f":"IFERROR(VLOOKUP($A19,Filtro!$A$5:$AY$629,18,FALSE),0)","v":41},{"$f":"IFERROR(VLOOKUP($A19,Filtro!$A$5:$AY$629,19,FALSE),0)","v":6},{"$f":"IFERROR(VLOOKUP($A19,Filtro!$A$5:$AY$629,20,FALSE),0)","v":15},{"$f":"IFERROR(VLOOKUP($A19,Filtro!$A$5:$AY$629,21,FALSE),0)","v":0},{"$f":"IFERROR(VLOOKUP($A19,Filtro!$A$5:$AY$629,22,FALSE),0)","v":0},{"$f":"IFERROR(VLOOKUP($A19,Filtro!$A$5:$AY$629,23,FALSE),0)","v":0},{"$f":"IFERROR(VLOOKUP($A19,Filtro!$A$5:$AY$629,24,FALSE),0)","v":1},{"$f":"IFERROR(VLOOKUP($A19,Filtro!$A$5:$AY$629,25,FALSE),0)","v":31},{"$f":"IFERROR(VLOOKUP($A19,Filtro!$A$5:$AY$629,26,FALSE),0)","v":50},{"$nulls":9},{"$f":"IF($E19>=$W19,\"\",\"* La celda 'Pueblos Originarios / Hombres' debe ser menor o igual al Total de Hombres en control. \")","v":""},{"$f":"IF($F19>=$X19,\"\",\"* La celda 'Pueblos Originarios / Mujeres' debe ser menor o igual al Total de Mujeres en control. \")","v":""},{"$f":"IF($E19>=$Y19,\"\",\"* La celda 'Población Migrantes / Hombres' debe ser menor o igual al Total de Hombres en control. \")","v":""},{"$f":"IF($F19>=$Z19,\"\",\"* La celda 'Población Migrantes / Mujeres' debe ser menor o igual al Total de Mujeres en control. \")","v":""},{"$f":"IF(AND($E19<>0,$W19=\"\"),\"* No olvide escribir en las celdas de 'Pueblos Originarios' (Digite CERO si no tiene). \",IF(AND(F19<>0,X19=\"\"),\"* No olvide escribir en las celdas de 'Pueblos Originarios' (Digite CERO si no tiene). \",\"\"))","v":""},{"$f":"IF(AND($E19<>0,$Y19=\"\"),\"* No olvide escribir en las celdas de 'Población Migrantes' (Digite CERO si no tiene). \",IF(AND(F19<>0,Z19=\"\"),\"* No olvide escribir en las celdas de 'Población Migrantes' (Digite CERO si no tiene). \",\"\"))","v":""},null,{"$f":"IF($E19>=$W19,0,1)","v":0},{"$f":"IF($F19>=$X19,0,1)","v":0},{"$f":"IF($E19>=$Y19,0,1)","v":0},{"$f":"IF($F19>=$Z19,0,1)","v":0},{"$f":"IF(AND(E19<>0,W19=\"\"),1,IF(AND(F19<>0,X19=\"\"),1,0))","v":0},{"$f":"IF(AND(E19<>0,Y19=\"\"),1,IF(AND(F19<>0,Z19=\"\"),1,0))","v":0}]
[null,"SUBTOTAL (INDICE BARTHEL)",null,{"$f":"SUM(E20:F20)","v":6150},{"$f":"+G20+I20+K20+M20+O20+Q20+S20+U20","v":2012},{"$f":"+H20+J20+L20+N20+P20+R20+T20+V20","v":4138},{"$f":"SUM(G16:G19)","v":252},{"$f":"SUM(H16:H19)","v":345},253,484,360,748,466,969,{"$f":"SUM(O16:O19)","v":373},809,{"$f":"SUM(Q16:Q19)","v":230},571,{"$f":"SUM(S16:S19)","v":60},178,18,34,{"$f":"SUM(W16:W19)","v":9},{"$f":"SUM(X16:X19)","v":11},1,{"$f":"SUM(Z16:Z19)","v":4},{"$f":"SUM(AA16:AA19)","v":113},{"$f":"SUM(AB16:AB19)","v":152}]
[null,"TOTAL PERSONAS MAYORES EN CONTROL",null,{"$f":"SUM(E21:F21)","v":30851},{"$f":"+G21+I21+K21+M21+O21+Q21+S21+U21","v":12088},{"$f":"+H21+J21+L21+N21+P21+R21+T21+V21","v":18763},{"$f":"+G15+G20","v":2848},{"$f":"+H15+H20","v":4493},2909,4243,2565,3756,2006,3132,{"$f":"+O15+O20","v":1140},1858,{"$f":"+Q15+Q20","v":488},982,{"$f":"+S15+S20","v":105},254,27,45,{"$f":"+W15+W20","v":55},{"$f":"+X15+X20","v":69},20,{"$f":"+Z15+Z20","v":20},{"$f":"+AA15+AA20","v":132},{"$f":"+AB15+AB20","v":167}]
[null,"SECCION A.1: EXISTENCIA DE POBLACIÓN EN CONTROL EN PROGRAMA \"MÁS ADULTOS MAYORES AUTOVALENTES\" POR CONDICIÓN DE FUNCIONALIDAD"]
[null,"CONDICIÓN DE \nFUNCIONALIDAD",null,"TOTAL",null,null,"GRUPO DE EDAD (en años) Y SEXO",{"$nulls":17},"Pueblos Originarios",null," Migrantes",{"$nulls":8},"Pueblos Originarios",null,"Población Migrantes",null,"Pueblos Originarios","Población Migrantes",null,"Pueblos Originarios",null,"Población Migrantes",null,"Pueblos Originarios","Población Migrantes"]
[{"$nulls":6},"60 a 64 años",null,"65 a 69 años",null,"70 a 74 años",null,"75 a 79 años",null,"80 a 84 años",null,"85 a 89 años",null,"90 a 94 años",null,"95 a 99 años",null,"100 y mas años"]
[{"$nulls":3},"Ambos\nsexos","Hombres","Mujeres","Hombres ","Mujeres","Hombres ","Mujeres","Hombres ","Mujeres","Hombres ","Mujeres","Hombres ","Mujeres","Hombres ","Mujeres","Hombres ","Mujeres","Hombres ","Mujeres","Hombres ","Mujeres","Hombres","Mujeres","Hombres","Mujeres",{"$nulls":7},"Hombres","Mujeres","Hombres","Mujeres","No Olvide","No Olvide",null,"Hombres","Mujeres","Hombres","Mujeres","No Olvide","No Olvide"]
["P5300570","AUTOVALENTE SIN RIESGO",null,{"$f":"SUM(E26:F26)","v":3197},{"$f":"+G26+I26+K26+M26+O26+Q26+S26+U26+W26","v":619},{"$f":"+H26+J26+L26+N26+P26+R26+T26+V26+X26","v":2578},{"$f":"IFERROR(VLOOKUP($A26,Filtro!$A$5:$AY$629,5,FALSE),0)","v":88},{"$f":"IFERROR(VLOOKUP($A26,Filtro!$A$5:$AY$629,6,FALSE),0)","v":595},{"$f":"IFERROR(VLOOKUP($A26,Filtro!$A$5:$AY$629,7,FALSE),0)","v":135},{"$f":"IFERROR(VLOOKUP($A26,Filtro!$A$5:$AY$629,8,FALSE),0)","v":699},{"$f":"IFERROR(VLOOKUP($A26,Filtro!$A$5:$AY$629,9,FALSE),0)","v":167},{"$f":"IFERROR(VLOOKUP($A26,Filtro!$A$5:$AY$629,10,FALSE),0)","v":552},{"$f":"IFERROR(VLOOKUP($A26,Filtro!$A$5:$AY$629,11,FALSE),0)","v":134},{"$f":"IFERROR(VLOOKUP($A26,Filtro!$A$5:$AY$629,12,FALSE),0)","v":442},{"$f":"IFERROR(VLOOKUP($A26,Filtro!$A$5:$AY$629,13,FALSE),0)","v":60},{"$f":"IFERROR(VLOOKUP($A26,Filtro!$A$5:$AY$629,14,FALSE),0)","v":195},{"$f":"IFERROR(VLOOKUP($A26,Filtro!$A$5:$AY$629,15,FALSE),0)","v":30},{"$f":"IFERROR(VLOOKUP($A26,Filtro!$A$5:$AY$629,16,FALSE),0)","v":74},{"$f":"IFERROR(VLOOKUP($A26,Filtro!$A$5:$AY$629,17,FALSE),0)","v":4},{"$f":"IFERROR(VLOOKUP($A26,Filtro!$A$5:$AY$629,18,FALSE),0)","v":17},{"$f":"IFERROR(VLOOKUP($A26,Filtro!$A$5:$AY$629,19,FALSE),0)","v":1},{"$f":"IFERROR(VLOOKUP($A26,Filtro!$A$5:$AY$629,20,FALSE),0)","v":3},{"$f":"IFERROR(VLOOKUP($A26,Filtro!$A$5:$AY$629,21,FALSE),0)","v":0},{"$f":"IFERROR(VLOOKUP($A26,Filtro!$A$5:$AY$629,22,FALSE),0)","v":1},{"$f":"IFERROR(VLOOKUP($A26,Filtro!$A$5:$AY$629,23,FALSE),0)","v":4},{"$f":"IFERROR(VLOOKUP($A26,Filtro!$A$5:$AY$629,24,FALSE),0)","v":13},{"$f":"IFERROR(VLOOKUP($A26,Filtro!$A$5:$AY$629,25,FALSE),0)","v":1},{"$f":"IFERROR(VLOOKUP($A26,Filtro!$A$5:$AY$629,26,FALSE),0)","v":3},{"$nulls":7},{"$f":"IF($E26>=$Y26,\"\",\"* La celda 'Pueblos Originarios / Hombres' debe ser menor o igual al Total de Hombres en control. \")","v":""},{"$f":"IF($F26>=$Z26,\"\",\"* La celda 'Pueblos Originarios / Mujeres' debe ser menor o igual al Total de Mujeres en control. \")","v":""},{"$f":"IF($E26>=$AA26,\"\",\"* La celda 'Población Migrantes / Hombres' debe ser menor o igual al Total de Hombres en control. \")","v":""},{"$f":"IF($F26>=$AB26,\"\",\"* La celda 'Población Migrantes / Mujeres' debe ser menor o igual al Total de Mujeres en control. \")","v":""},{"$f":"IF(AND($E26<>0,$Y26=\"\"),\"* No olvide escribir en las celdas de 'Pueblos Originarios' (Digite CERO si no tiene). \",IF(AND(F26<>0,Z26=\"\"),\"* No olvide escribir en las celdas de 'Pueblos Originarios' (Digite CERO si no tiene). \",\"\"))","v":""},{"$f":"IF(AND($E26<>0,$AA26=\"\"),\"* No olvide escribir en las celdas de 'Población Migrantes' (Digite CERO si no tiene). \",IF(AND(F26<>0,AB26=\"\"),\"* No olvide escribir en las celdas de 'Población Migrantes' (Digite CERO si no tiene). \",\"\"))","v":""},null,{"$f":"IF($E26>=$Y26,0,1)","v":0},{"$f":"IF($F26>=$Z26,0,1)","v":0},{"$f":"IF($E26>=$AA26,0,1)","v":0},{"$f":"IF($F26>=$AB26,0,1)","v":0},{"$f":"IF(AND(E26<>0,Y26=\"\"),1,IF(AND(F26<>0,Z26=\"\"),1,0))","v":0},{"$f":"IF(AND(E26<>0,AA26=\"\"),1,IF(AND(F26<>0,AB26=\"\"),1,0))","v":0}]
["P5300580","AUTOVALENTE CON RIESGO",null,{"$f":"SUM(E27:F27)","v":1350},{"$f":"I27+K27+M27+O27+Q27+S27+U27+W27","v":284},{"$f":"J27+L27+N27+P27+R27+T27+V27+X27","v":1066},0,0,{"$f":"IFERROR(VLOOKUP($A27,Filtro!$A$5:$AY$629,7,FALSE),0)","v":56},{"$f":"IFERROR(VLOOKUP($A27,Filtro!$A$5:$AY$629,8,FALSE),0)","v":270},{"$f":"IFERROR(VLOOKUP($A27,Filtro!$A$5:$AY$629,9,FALSE),0)","v":74},{"$f":"IFERROR(VLOOKUP($A27,Filtro!$A$5:$AY$629,10,FALSE),0)","v":318},{"$f":"IFERROR(VLOOKUP($A27,Filtro!$A$5:$AY$629,11,FALSE),0)","v":69},{"$f":"IFERROR(VLOOKUP($A27,Filtro!$A$5:$AY$629,12,FALSE),0)","v":266},{"$f":"IFERROR(VLOOKUP($A27,Filtro!$A$5:$AY$629,13,FALSE),0)","v":63},{"$f":"IFERROR(VLOOKUP($A27,Filtro!$A$5:$AY$629,14,FALSE),0)","v":161},{"$f":"IFERROR(VLOOKUP($A27,Filtro!$A$5:$AY$629,15,FALSE),0)","v":20},{"$f":"IFERROR(VLOOKUP($A27,Filtro!$A$5:$AY$629,16,FALSE),0)","v":47},{"$f":"IFERROR(VLOOKUP($A27,Filtro!$A$5:$AY$629,17,FALSE),0)","v":2},{"$f":"IFERROR(VLOOKUP($A27,Filtro!$A$5:$AY$629,18,FALSE),0)","v":4},{"$f":"IFERROR(VLOOKUP($A27,Filtro!$A$5:$AY$629,19,FALSE),0)","v":0},{"$f":"IFERROR(VLOOKUP($A27,Filtro!$A$5:$AY$629,20,FALSE),0)","v":0},{"$f":"IFERROR(VLOOKUP($A27,Filtro!$A$5:$AY$629,21,FALSE),0)","v":0},{"$f":"IFERROR(VLOOKUP($A27,Filtro!$A$5:$AY$629,22,FALSE),0)","v":0},{"$f":"IFERROR(VLOOKUP($A27,Filtro!$A$5:$AY$629,23,FALSE),0)","v":0},{"$f":"IFERROR(VLOOKUP($A27,Filtro!$A$5:$AY$629,24,FALSE),0)","v":6},{"$f":"IFERROR(VLOOKUP($A27,Filtro!$A$5:$AY$629,25,FALSE),0)","v":0},{"$f":"IFERROR(VLOOKUP($A27,Filtro!$A$5:$AY$629,26,FALSE),0)","v":0},{"$nulls":7},{"$f":"IF($E27>=$Y27,\"\",\"* La celda 'Pueblos Originarios / Hombres' debe ser menor o igual al Total de Hombres en control. \")","v":""},{"$f":"IF($F27>=$Z27,\"\",\"* La celda 'Pueblos Originarios / Mujeres' debe ser menor o igual al Total de Mujeres en control. \")","v":""},{"$f":"IF($E27>=$AA27,\"\",\"* La celda 'Población Migrantes / Hombres' debe ser menor o igual al Total de Hombres en control. \")","v":""},{"$f":"IF($F27>=$AB27,\"\",\"* La celda 'Población Migrantes / Mujeres' debe ser menor o igual al Total de Mujeres en control. \")","v":""},{"$f":"IF(AND($E27<>0,$Y27=\"\"),\"* No olvide escribir en las celdas de 'Pueblos Originarios' (Digite CERO si no tiene). \",IF(AND(F27<>0,Z27=\"\"),\"* No olvide escribir en las celdas de 'Pueblos Originarios' (Digite CERO si no tiene). \",\"\"))","v":""},{"$f":"IF(AND($E27<>0,$AA27=\"\"),\"* No olvide escribir en las celdas de 'Población Migrantes' (Digite CERO si no tiene). \",IF(AND(F27<>0,AB27=\"\"),\"* No olvide escribir en las celdas de 'Población Migrantes' (Digite CERO si no tiene). \",\"\"))","v":""},null,{"$f":"IF($E27>=$Y27,0,1)","v":0},{"$f":"IF($F27>=$Z27,0,1)","v":0},{"$f":"IF($E27>=$AA27,0,1)","v":0},{"$f":"IF($F27>=$AB27,0,1)","v":0},{"$f":"IF(AND(E27<>0,Y27=\"\"),1,IF(AND(F27<>0,Z27=\"\"),1,0))","v":0},{"$f":"IF(AND(E27<>0,AA27=\"\"),1,IF(AND(F27<>0,AB27=\"\"),1,0))","v":0}]
["P5300590","RIESGO DE DEPENDENCIA ",null,{"$f":"SUM(E28:F28)","v":374},{"$f":"I28+K28+M28+O28+Q28+S28+U28+W28","v":85},{"$f":"J28+L28+N28+P28+R28+T28+V28+X28","v":289},0,0,{"$f":"IFERROR(VLOOKUP($A28,Filtro!$A$5:$AY$629,7,FALSE),0)","v":9},{"$f":"IFERROR(VLOOKUP($A28,Filtro!$A$5:$AY$629,8,FALSE),0)","v":27},{"$f":"IFERROR(VLOOKUP($A28,Filtro!$A$5:$AY$629,9,FALSE),0)","v":12},{"$f":"IFERROR(VLOOKUP($A28,Filtro!$A$5:$AY$629,10,FALSE),0)","v":58},{"$f":"IFERROR(VLOOKUP($A28,Filtro!$A$5:$AY$629,11,FALSE),0)","v":17},{"$f":"IFERROR(VLOOKUP($A28,Filtro!$A$5:$AY$629,12,FALSE),0)","v":65},{"$f":"IFERROR(VLOOKUP($A28,Filtro!$A$5:$AY$629,13,FALSE),0)","v":24},{"$f":"IFERROR(VLOOKUP($A28,Filtro!$A$5:$AY$629,14,FALSE),0)","v":84},{"$f":"IFERROR(VLOOKUP($A28,Filtro!$A$5:$AY$629,15,FALSE),0)","v":14},{"$f":"IFERROR(VLOOKUP($A28,Filtro!$A$5:$AY$629,16,FALSE),0)","v":39},{"$f":"IFERROR(VLOOKUP($A28,Filtro!$A$5:$AY$629,17,FALSE),0)","v":8},{"$f":"IFERROR(VLOOKUP($A28,Filtro!$A$5:$AY$629,18,FALSE),0)","v":12},{"$f":"IFERROR(VLOOKUP($A28,Filtro!$A$5:$AY$629,19,FALSE),0)","v":1},{"$f":"IFERROR(VLOOKUP($A28,Filtro!$A$5:$AY$629,20,FALSE),0)","v":2},{"$f":"IFERROR(VLOOKUP($A28,Filtro!$A$5:$AY$629,21,FALSE),0)","v":0},{"$f":"IFERROR(VLOOKUP($A28,Filtro!$A$5:$AY$629,22,FALSE),0)","v":2},{"$f":"IFERROR(VLOOKUP($A28,Filtro!$A$5:$AY$629,23,FALSE),0)","v":0},{"$f":"IFERROR(VLOOKUP($A28,Filtro!$A$5:$AY$629,24,FALSE),0)","v":1},{"$f":"IFERROR(VLOOKUP($A28,Filtro!$A$5:$AY$629,25,FALSE),0)","v":0},{"$f":"IFERROR(VLOOKUP($A28,Filtro!$A$5:$AY$629,26,FALSE),0)","v":1},{"$nulls":7},{"$f":"IF($E28>=$Y28,\"\",\"* La celda 'Pueblos Originarios / Hombres' debe ser menor o igual al Total de Hombres en control. \")","v":""},{"$f":"IF($F28>=$Z28,\"\",\"* La celda 'Pueblos Originarios / Mujeres' debe ser menor o igual al Total de Mujeres en control. \")","v":""},{"$f":"IF($E28>=$AA28,\"\",\"* La celda 'Población Migrantes / Hombres' debe ser menor o igual al Total de Hombres en control. \")","v":""},{"$f":"IF($F28>=$AB28,\"\",\"* La celda 'Población Migrantes / Mujeres' debe ser menor o igual al Total de Mujeres en control. \")","v":""},{"$f":"IF(AND($E28<>0,$Y28=\"\"),\"* No olvide escribir en las celdas de 'Pueblos Originarios' (Digite CERO si no tiene). \",IF(AND(F28<>0,Z28=\"\"),\"* No olvide escribir en las celdas de 'Pueblos Originarios' (Digite CERO si no tiene). \",\"\"))","v":""},{"$f":"IF(AND($E28<>0,$AA28=\"\"),\"* No olvide escribir en las celdas de 'Población Migrantes' (Digite CERO si no tiene). \",IF(AND(F28<>0,AB28=\"\"),\"* No olvide escribir en las celdas de 'Población Migrantes' (Digite CERO si no tiene). \",\"\"))","v":""},null,{"$f":"IF($E28>=$Y28,0,1)","v":0},{"$f":"IF($F28>=$Z28,0,1)","v":0},{"$f":"IF($E28>=$AA28,0,1)","v":0},{"$f":"IF($F28>=$AB28,0,1)","v":0},{"$f":"IF(AND(E28<>0,Y28=\"\"),1,IF(AND(F28<>0,Z28=\"\"),1,0))","v":0},{"$f":"IF(AND(E28<>0,AA28=\"\"),1,IF(AND(F28<>0,AB28=\"\"),1,0))","v":0}]
[null,"TOTAL (EFAM)",null,{"$f":"SUM(E29:F29)","v":4921},{"$f":"+G29+I29+K29+M29+O29+Q29+S29+U29+W29","v":988},{"$f":"+H29+J29+L29+N29+P29+R29+T29+V29+X29","v":3933},{"$f":"SUM(G26)","v":88},{"$f":"SUM(H26)","v":595},{"$f":"SUM(I26:I28)","v":200},{"$f":"SUM(J26:J28)","v":996},253,928,220,773,147,440,{"$f":"SUM(Q26:Q28)","v":64},160,14,33,2,5,{"$f":"SUM(W26:W28)","v":0},3,{"$f":"SUM(Y26:Y28)","v":4},{"$f":"SUM(Z26:Z28)","v":20},{"$f":"SUM(AA26:AA28)","v":1},{"$f":"SUM(AB26:AB28)","v":4}]
[null,"SECCION B: POBLACIÓN BAJO CONTROL POR ESTADO NUTRICIONAL"]
[null,"ESTADO NUTRICIONAL",null,"TOTAL",null,null,"GRUPO DE EDAD (en años) Y SEXO",{"$nulls":15},"Pueblos Originarios",null,"Migrantes",null,"Personas Mayores en ELEAM",{"$nulls":9},"Pueblos Originarios",null,"Población Migrantes",null,"Pueblos Originarios","Población Migrantes",null,"Pueblos Originarios",null,"Población Migrantes",null,"Pueblos Originarios","Población Migrantes",{"$nulls":3},"Personas Mayores en ELEAM"]
[{"$nulls":6},"65 a 69 años",null,"70 a 74 años",null,"75 a 79 años",null,"80 a 84 años",null,"85 a 89 años",null,"90 a 94 años",null,"95 a 99 años",null,"100 y mas años"]
[{"$nulls":3},"Ambos\nsexos","Hombres","Mujeres","Hombres ","Mujeres","Hombres ","Mujeres","Hombres ","Mujeres","Hombres","Mujeres","Hombres ","Mujeres","Hombres ","Mujeres","Hombres","Mujeres","Hombres","Mujeres","Hombres","Mujeres","Hombres","Mujeres","Hombres","Mujeres",{"$nulls":8},"Hombres","Mujeres","Hombres","Mujeres","No Olvide","No Olvide",null,"Hombres","Mujeres","Hombres","Mujeres","No Olvide","No Olvide",{"$nulls":3},"Hombres","Mujeres"]
["P5190200","BAJO PESO",null,{"$f":"SUM(E34:F34)","v":3065},{"$f":"+G34+I34+K34+M34+O34+Q34+S34+U34","v":1222},{"$f":"+H34+J34+L34+N34+P34+R34+T34+V34","v":1843},{"$f":"IFERROR(VLOOKUP($A34,Filtro!$A$5:$AY$629,5,FALSE),0)","v":206},{"$f":"IFERROR(VLOOKUP($A34,Filtro!$A$5:$AY$629,6,FALSE),0)","v":271},{"$f":"IFERROR(VLOOKUP($A34,Filtro!$A$5:$AY$629,7,FALSE),0)","v":246},{"$f":"IFERROR(VLOOKUP($A34,Filtro!$A$5:$AY$629,8,FALSE),0)","v":326},{"$f":"IFERROR(VLOOKUP($A34,Filtro!$A$5:$AY$629,9,FALSE),0)","v":250},{"$f":"IFERROR(VLOOKUP($A34,Filtro!$A$5:$AY$629,10,FALSE),0)","v":306},{"$f":"IFERROR(VLOOKUP($A34,Filtro!$A$5:$AY$629,11,FALSE),0)","v":254},{"$f":"IFERROR(VLOOKUP($A34,Filtro!$A$5:$AY$629,12,FALSE),0)","v":393},{"$f":"IFERROR(VLOOKUP($A34,Filtro!$A$5:$AY$629,13,FALSE),0)","v":162},{"$f":"IFERROR(VLOOKUP($A34,Filtro!$A$5:$AY$629,14,FALSE),0)","v":287},{"$f":"IFERROR(VLOOKUP($A34,Filtro!$A$5:$AY$629,15,FALSE),0)","v":78},{"$f":"IFERROR(VLOOKUP($A34,Filtro!$A$5:$AY$629,16,FALSE),0)","v":179},{"$f":"IFERROR(VLOOKUP($A34,Filtro!$A$5:$AY$629,17,FALSE),0)","v":21},{"$f":"IFERROR(VLOOKUP($A34,Filtro!$A$5:$AY$629,18,FALSE),0)","v":65},{"$f":"IFERROR(VLOOKUP($A34,Filtro!$A$5:$AY$629,19,FALSE),0)","v":5},{"$f":"IFERROR(VLOOKUP($A34,Filtro!$A$5:$AY$629,20,FALSE),0)","v":16},{"$f":"IFERROR(VLOOKUP($A34,Filtro!$A$5:$AY$629,21,FALSE),0)","v":0},{"$f":"IFERROR(VLOOKUP($A34,Filtro!$A$5:$AY$629,22,FALSE),0)","v":3},{"$f":"IFERROR(VLOOKUP($A34,Filtro!$A$5:$AY$629,23,FALSE),0)","v":2},{"$f":"IFERROR(VLOOKUP($A34,Filtro!$A$5:$AY$629,24,FALSE),0)","v":0},{"$f":"IFERROR(VLOOKUP($A34,Filtro!$A$5:$AY$629,25,FALSE),0)","v":26},{"$f":"IFERROR(VLOOKUP($A34,Filtro!$A$5:$AY$629,26,FALSE),0)","v":57},{"$nulls":8},{"$f":"IF($E34>=$W34,\"\",\"* El Nº de hombres bajo peso de 'Pueblos Originarios' no debe ser mayor al Total hombres bajo peso en control. \")","v":""},{"$f":"IF($F34>=$X34,\"\",\"* El Nº de mujeres bajo peso de 'Pueblos Originarios' no debe ser mayor al Total mujeres bajo peso en control. \")","v":""},{"$f":"IF($E34>=$Y34,\"\",\"* El Nº de hombres bajo peso de Pueblos Migrantes no debe ser mayor al Total hombres bajo peso en control. \")","v":""},{"$f":"IF($F34>=$Z34,\"\",\"* El Nº de mujeres bajo peso de Pueblos Migrantes no debe ser mayor al Total mujeres bajo peso en control. \")","v":""},{"$f":"IF(AND(F34<>0,W34=\"\"),\"* No olvide escribir en la celda de 'Pueblos Originarios' (Digite CERO si no tiene). \",IF(AND(G34<>0,X34=\"\"),\"* No olvide escribir en la celda de 'Pueblos Originarios' (Digite CERO si no tiene). \",\"\"))","v":""},{"$f":"IF(AND(F34<>0,Y34=\"\"),\"* No olvide escribir en la celda de 'Población Migrantes' (Digite CERO si no tiene). \",IF(AND(G34<>0,Z34=\"\"),\"* No olvide escribir en la celda de 'Población Migrantes' (Digite CERO si no tiene). \",\"\"))","v":""},null,{"$f":"IF($E34>=$W34,0,1)","v":0},{"$f":"IF($F34>=$X34,0,1)","v":0},{"$f":"IF($E34>=$Y34,0,1)","v":0},{"$f":"IF($F34>=$Z34,0,1)","v":0},{"$f":"IF(AND(F34<>0,W34=\"\"),1,IF(AND(G34<>0,X34=\"\"),1,0))","v":0},{"$f":"IF(AND(F34<>0,Y34=\"\"),1,IF(AND(G34<>0,Z34=\"\"),1,0))","v":0}]
["P5190300","NORMAL",null,{"$f":"SUM(E35:F35)","v":11611},{"$f":"+G35+I35+K35+M35+O35+Q35+S35+U35","v":5227},6384,{"$f":"IFERROR(VLOOKUP($A35,Filtro!$A$5:$AY$629,5,FALSE),0)","v":1168},{"$f":"IFERROR(VLOOKUP($A35,Filtro!$A$5:$AY$629,6,FALSE),0)","v":1571},{"$f":"IFERROR(VLOOKUP($A35,Filtro!$A$5:$AY$629,7,FALSE),0)","v":1285},{"$f":"IFERROR(VLOOKUP($A35,Filtro!$A$5:$AY$629,8,FALSE),0)","v":1335},{"$f":"IFERROR(VLOOKUP($A35,Filtro!$A$5:$AY$629,9,FALSE),0)","v":1132},{"$f":"IFERROR(VLOOKUP($A35,Filtro!$A$5:$AY$629,10,FALSE),0)","v":1288},{"$f":"IFERROR(VLOOKUP($A35,Filtro!$A$5:$AY$629,11,FALSE),0)","v":864},{"$f":"IFERROR(VLOOKUP($A35,Filtro!$A$5:$AY$629,12,FALSE),0)","v":1039},{"$f":"IFERROR(VLOOKUP($A35,Filtro!$A$5:$AY$629,13,FALSE),0)","v":487},{"$f":"IFERROR(VLOOKUP($A35,Filtro!$A$5:$AY$629,14,FALSE),0)","v":681},{"$f":"IFERROR(VLOOKUP($A35,Filtro!$A$5:$AY$629,15,FALSE),0)","v":234},{"$f":"IFERROR(VLOOKUP($A35,Filtro!$A$5:$AY$629,16,FALSE),0)","v":361},{"$f":"IFERROR(VLOOKUP($A35,Filtro!$A$5:$AY$629,17,FALSE),0)","v":49},{"$f":"IFERROR(VLOOKUP($A35,Filtro!$A$5:$AY$629,18,FALSE),0)","v":95},{"$f":"IFERROR(VLOOKUP($A35,Filtro!$A$5:$AY$629,19,FALSE),0)","v":8},{"$f":"IFERROR(VLOOKUP($A35,Filtro!$A$5:$AY$629,20,FALSE),0)","v":14},{"$f":"IFERROR(VLOOKUP($A35,Filtro!$A$5:$AY$629,21,FALSE),0)","v":23},{"$f":"IFERROR(VLOOKUP($A35,Filtro!$A$5:$AY$629,22,FALSE),0)","v":16},{"$f":"IFERROR(VLOOKUP($A35,Filtro!$A$5:$AY$629,23,FALSE),0)","v":8},{"$f":"IFERROR(VLOOKUP($A35,Filtro!$A$5:$AY$629,24,FALSE),0)","v":8},{"$f":"IFERROR(VLOOKUP($A35,Filtro!$A$5:$AY$629,25,FALSE),0)","v":51},{"$f":"IFERROR(VLOOKUP($A35,Filtro!$A$5:$AY$629,26,FALSE),0)","v":51},{"$nulls":8},{"$f":"IF($E35>=$W35,\"\",\"* El Nº de hombres normal de 'Pueblos Originarios' no debe ser mayor al Total hombres normal en control. \")","v":""},{"$f":"IF($F35>=$X35,\"\",\"* El Nº de mujeres normal de 'Pueblos Originarios' no debe ser mayor al Total mujeres normal en control. \")","v":""},{"$f":"IF($E35>=$Y35,\"\",\"* El Nº de hombres normal de Pueblos Migrantes no debe ser mayor al Total hombres normal en control. \")","v":""},{"$f":"IF($F35>=$Z35,\"\",\"* El Nº de mujeres normal de Pueblos Migrantes no debe ser mayor al Total mujeres normal en control. \")","v":""},{"$f":"IF(AND(F35<>0,W35=\"\"),\"* No olvide escribir en la celda de 'Pueblos Originarios' (Digite CERO si no tiene). \",IF(AND(G35<>0,X35=\"\"),\"* No olvide escribir en la celda de 'Pueblos Originarios' (Digite CERO si no tiene). \",\"\"))","v":""},{"$f":"IF(AND(F35<>0,Y35=\"\"),\"* No olvide escribir en la celda de 'Población Migrantes' (Digite CERO si no tiene). \",IF(AND(G35<>0,Z35=\"\"),\"* No olvide escribir en la celda de 'Población Migrantes' (Digite CERO si no tiene). \",\"\"))","v":""},null,{"$f":"IF($E35>=$W35,0,1)","v":0},{"$f":"IF($F35>=$X35,0,1)","v":0},{"$f":"IF($E35>=$Y35,0,1)","v":0},{"$f":"IF($F35>=$Z35,0,1)","v":0},{"$f":"IF(AND(F35<>0,W35=\"\"),1,IF(AND(G35<>0,X35=\"\"),1,0))","v":0},{"$f":"IF(AND(F35<>0,Y35=\"\"),1,IF(AND(G35<>0,Z35=\"\"),1,0))","v":0}]
["P5190400","SOBREPESO",null,{"$f":"SUM(E36:F36)","v":9961},4019,5942,{"$f":"IFERROR(VLOOKUP($A36,Filtro!$A$5:$AY$629,5,FALSE),0)","v":1151},{"$f":"IFERROR(VLOOKUP($A36,Filtro!$A$5:$AY$629,6,FALSE),0)","v":1602},{"$f":"IFERROR(VLOOKUP($A36,Filtro!$A$5:$AY$629,7,FALSE),0)","v":1025},{"$f":"IFERROR(VLOOKUP($A36,Filtro!$A$5:$AY$629,8,FALSE),0)","v":1508},{"$f":"IFERROR(VLOOKUP($A36,Filtro!$A$5:$AY$629,9,FALSE),0)","v":837},{"$f":"IFERROR(VLOOKUP($A36,Filtro!$A$5:$AY$629,10,FALSE),0)","v":1237},{"$f":"IFERROR(VLOOKUP($A36,Filtro!$A$5:$AY$629,11,FALSE),0)","v":570},{"$f":"IFERROR(VLOOKUP($A36,Filtro!$A$5:$AY$629,12,FALSE),0)","v":863},{"$f":"IFERROR(VLOOKUP($A36,Filtro!$A$5:$AY$629,13,FALSE),0)","v":305},{"$f":"IFERROR(VLOOKUP($A36,Filtro!$A$5:$AY$629,14,FALSE),0)","v":484},{"$f":"IFERROR(VLOOKUP($A36,Filtro!$A$5:$AY$629,15,FALSE),0)","v":103},{"$f":"IFERROR(VLOOKUP($A36,Filtro!$A$5:$AY$629,16,FALSE),0)","v":198},{"$f":"IFERROR(VLOOKUP($A36,Filtro!$A$5:$AY$629,17,FALSE),0)","v":20},{"$f":"IFERROR(VLOOKUP($A36,Filtro!$A$5:$AY$629,18,FALSE),0)","v":44},{"$f":"IFERROR(VLOOKUP($A36,Filtro!$A$5:$AY$629,19,FALSE),0)","v":8},{"$f":"IFERROR(VLOOKUP($A36,Filtro!$A$5:$AY$629,20,FALSE),0)","v":6},{"$f":"IFERROR(VLOOKUP($A36,Filtro!$A$5:$AY$629,21,FALSE),0)","v":14},{"$f":"IFERROR(VLOOKUP($A36,Filtro!$A$5:$AY$629,22,FALSE),0)","v":22},{"$f":"IFERROR(VLOOKUP($A36,Filtro!$A$5:$AY$629,23,FALSE),0)","v":4},{"$f":"IFERROR(VLOOKUP($A36,Filtro!$A$5:$AY$629,24,FALSE),0)","v":5},{"$f":"IFERROR(VLOOKUP($A36,Filtro!$A$5:$AY$629,25,FALSE),0)","v":23},{"$f":"IFERROR(VLOOKUP($A36,Filtro!$A$5:$AY$629,26,FALSE),0)","v":18},{"$nulls":8},{"$f":"IF($E36>=$W36,\"\",\"* El Nº de hombres sobrepeso de 'Pueblos Originarios' no debe ser mayor al Total hombres sobrepeso en control. \")","v":""},{"$f":"IF($F36>=$X36,\"\",\"* El Nº de mujeres sobrepeso de 'Pueblos Originarios' no debe ser mayor al Total mujeres sobrepeso en control. \")","v":""},{"$f":"IF($E36>=$Y36,\"\",\"* El Nº de hombres sobrepeso de Pueblos Migrantes no debe ser mayor al Total hombres sobrepeso en control. \")","v":""},{"$f":"IF($F36>=$Z36,\"\",\"* El Nº de mujeres sobrepeso de Pueblos Migrantes no debe ser mayor al Total mujeres sobrepeso en control. \")","v":""},{"$f":"IF(AND(F36<>0,W36=\"\"),\"* No olvide escribir en la celda de 'Pueblos Originarios' (Digite CERO si no tiene). \",IF(AND(G36<>0,X36=\"\"),\"* No olvide escribir en la celda de 'Pueblos Originarios' (Digite CERO si no tiene). \",\"\"))","v":""},{"$f":"IF(AND(F36<>0,Y36=\"\"),\"* No olvide escribir en la celda de 'Población Migrantes' (Digite CERO si no tiene). \",IF(AND(G36<>0,Z36=\"\"),\"* No olvide escribir en la celda de 'Población Migrantes' (Digite CERO si no tiene). \",\"\"))","v":""},null,{"$f":"IF($E36>=$W36,0,1)","v":0},{"$f":"IF($F36>=$X36,0,1)","v":0},{"$f":"IF($E36>=$Y36,0,1)","v":0},{"$f":"IF($F36>=$Z36,0,1)","v":0},{"$f":"IF(AND(F36<>0,W36=\"\"),1,IF(AND(G36<>0,X36=\"\"),1,0))","v":0},{"$f":"IF(AND(F36<>0,Y36=\"\"),1,IF(AND(G36<>0,Z36=\"\"),1,0))","v":0}]
["P5200100","OBESO",null,{"$f":"SUM(E37:F37)","v":7538},2208,5330,{"$f":"IFERROR(VLOOKUP($A37,Filtro!$A$5:$AY$629,5,FALSE),0)","v":675},{"$f":"IFERROR(VLOOKUP($A37,Filtro!$A$5:$AY$629,6,FALSE),0)","v":1703},{"$f":"IFERROR(VLOOKUP($A37,Filtro!$A$5:$AY$629,7,FALSE),0)","v":573},{"$f":"IFERROR(VLOOKUP($A37,Filtro!$A$5:$AY$629,8,FALSE),0)","v":1407},{"$f":"IFERROR(VLOOKUP($A37,Filtro!$A$5:$AY$629,9,FALSE),0)","v":451},{"$f":"IFERROR(VLOOKUP($A37,Filtro!$A$5:$AY$629,10,FALSE),0)","v":1016},{"$f":"IFERROR(VLOOKUP($A37,Filtro!$A$5:$AY$629,11,FALSE),0)","v":285},{"$f":"IFERROR(VLOOKUP($A37,Filtro!$A$5:$AY$629,12,FALSE),0)","v":689},{"$f":"IFERROR(VLOOKUP($A37,Filtro!$A$5:$AY$629,13,FALSE),0)","v":160},{"$f":"IFERROR(VLOOKUP($A37,Filtro!$A$5:$AY$629,14,FALSE),0)","v":362},{"$f":"IFERROR(VLOOKUP($A37,Filtro!$A$5:$AY$629,15,FALSE),0)","v":54},{"$f":"IFERROR(VLOOKUP($A37,Filtro!$A$5:$AY$629,16,FALSE),0)","v":118},{"$f":"IFERROR(VLOOKUP($A37,Filtro!$A$5:$AY$629,17,FALSE),0)","v":8},{"$f":"IFERROR(VLOOKUP($A37,Filtro!$A$5:$AY$629,18,FALSE),0)","v":31},{"$f":"IFERROR(VLOOKUP($A37,Filtro!$A$5:$AY$629,19,FALSE),0)","v":2},{"$f":"IFERROR(VLOOKUP($A37,Filtro!$A$5:$AY$629,20,FALSE),0)","v":4},{"$f":"IFERROR(VLOOKUP($A37,Filtro!$A$5:$AY$629,21,FALSE),0)","v":12},{"$f":"IFERROR(VLOOKUP($A37,Filtro!$A$5:$AY$629,22,FALSE),0)","v":20},{"$f":"IFERROR(VLOOKUP($A37,Filtro!$A$5:$AY$629,23,FALSE),0)","v":4},{"$f":"IFERROR(VLOOKUP($A37,Filtro!$A$5:$AY$629,24,FALSE),0)","v":6},{"$f":"IFERROR(VLOOKUP($A37,Filtro!$A$5:$AY$629,25,FALSE),0)","v":7},{"$f":"IFERROR(VLOOKUP($A37,Filtro!$A$5:$AY$629,26,FALSE),0)","v":16},{"$nulls":8},{"$f":"IF($E37>=$W37,\"\",\"* El Nº de hombres obeso de 'Pueblos Originarios' no debe ser mayor al Total hombres obesos en control. \")","v":""},{"$f":"IF($F37>=$X37,\"\",\"* El Nº de mujeres obesas de 'Pueblos Originarios' no debe ser mayor al Total mujeres obesas en control. \")","v":""},{"$f":"IF($E37>=$Y37,\"\",\"* El Nº de hombres obeso de Pueblos Migrantes no debe ser mayor al Total hombres obeso en control. \")","v":""},{"$f":"IF($F37>=$Z37,\"\",\"* El Nº de mujeres obesas de Pueblos Migrantes no debe ser mayor al Total mujeres obesas en control. \")","v":""},{"$f":"IF(AND(F37<>0,W37=\"\"),\"* No olvide escribir en la celda de 'Pueblos Originarios' (Digite CERO si no tiene). \",IF(AND(G37<>0,X37=\"\"),\"* No olvide escribir en la celda de 'Pueblos Originarios' (Digite CERO si no tiene). \",\"\"))","v":""},{"$f":"IF(AND(F37<>0,Y37=\"\"),\"* No olvide escribir en la celda de 'Población Migrantes' (Digite CERO si no tiene). \",IF(AND(G37<>0,Z37=\"\"),\"* No olvide escribir en la celda de 'Población Migrantes' (Digite CERO si no tiene). \",\"\"))","v":""},null,{"$f":"IF($E37>=$W37,0,1)","v":0},{"$f":"IF($F37>=$X37,0,1)","v":0},{"$f":"IF($E37>=$Y37,0,1)","v":0},{"$f":"IF($F37>=$Z37,0,1)","v":0},{"$f":"IF(AND(F37<>0,W37=\"\"),1,IF(AND(G37<>0,X37=\"\"),1,0))","v":0},{"$f":"IF(AND(F37<>0,Y37=\"\"),1,IF(AND(G37<>0,Z37=\"\"),1,0))","v":0}]
[null,"TOTAL ",null,{"$f":"SUM(E38:F38)","v":32175},{"$f":"+G38+I38+K38+M38+O38+Q38+S38+U38","v":12676},{"$f":"+H38+J38+L38+N38+P38+R38+T38+V38","v":19499},{"$f":"SUM(G34:G37)","v":3200},{"$f":"SUM(H34:H37)","v":5147},3129,4576,{"$f":"SUM(K34:K37)","v":2670},3847,1973,2984,1114,1814,{"$f":"SUM(Q34:Q37)","v":469},856,98,235,23,40,{"$f":"SUM(W34:W37)","v":49},{"$f":"SUM(X34:X37)","v":61},18,19,{"$f":"SUM(AA34:AA37)","v":107},142,{"$nulls":24},{"$f":"SUM(BA34:BA37)","v":0},0]
[null,"SECCION C: PERSONAS MAYORES CON SOSPECHA DE MALTRATO"]
[null,"CONCEPTO",null,"TOTAL",null,null,"GRUPO DE EDAD (en años) Y SEXO",{"$nulls":15},"Pueblos Originarios",null,"Migrantes",null,"Personas Mayores en ELEAM"]
[{"$nulls":6},"65 a 69 años",null,"70 a 74 años",null,"75 a 79 años",null,"80 a 84 años",null,"85 a 89 años",null,"90 a 94 años",null,"95 a 99 años",null,"100 y mas años"]
[{"$nulls":3},"Ambos\nsexos","Hombres","Mujeres","Hombres ","Mujeres","Hombres ","Mujeres","Hombres ","Mujeres","Hombres","Mujeres","Hombres","Mujeres","Hombres","Mujeres","Hombres","Mujeres","Hombres","Mujeres","Hombres","Mujeres","Hombres","Mujeres","Hombres","Mujeres"]
["P5300400","PERSONAS CON SOSPECHA DE MALTRATO",null,{"$f":"SUM(E43:F43)","v":191},{"$f":"+G43+I43+K43+M43+O43+Q43+S43+U43","v":68},{"$f":"+H43+J43+L43+N43+P43+R43+T43+V43","v":123},{"$f":"IFERROR(VLOOKUP($A43,Filtro!$A$5:$AY$629,5,FALSE),0)","v":12},{"$f":"IFERROR(VLOOKUP($A43,Filtro!$A$5:$AY$629,6,FALSE),0)","v":34},{"$f":"IFERROR(VLOOKUP($A43,Filtro!$A$5:$AY$629,7,FALSE),0)","v":19},{"$f":"IFERROR(VLOOKUP($A43,Filtro!$A$5:$AY$629,8,FALSE),0)","v":35},{"$f":"IFERROR(VLOOKUP($A43,Filtro!$A$5:$AY$629,9,FALSE),0)","v":20},{"$f":"IFERROR(VLOOKUP($A43,Filtro!$A$5:$AY$629,10,FALSE),0)","v":27},{"$f":"IFERROR(VLOOKUP($A43,Filtro!$A$5:$AY$629,11,FALSE),0)","v":8},{"$f":"IFERROR(VLOOKUP($A43,Filtro!$A$5:$AY$629,12,FALSE),0)","v":14},{"$f":"IFERROR(VLOOKUP($A43,Filtro!$A$5:$AY$629,13,FALSE),0)","v":6},{"$f":"IFERROR(VLOOKUP($A43,Filtro!$A$5:$AY$629,14,FALSE),0)","v":7},{"$f":"IFERROR(VLOOKUP($A43,Filtro!$A$5:$AY$629,15,FALSE),0)","v":2},{"$f":"IFERROR(VLOOKUP($A43,Filtro!$A$5:$AY$629,16,FALSE),0)","v":4},{"$f":"IFERROR(VLOOKUP($A43,Filtro!$A$5:$AY$629,17,FALSE),0)","v":1},{"$f":"IFERROR(VLOOKUP($A43,Filtro!$A$5:$AY$629,18,FALSE),0)","v":2},{"$f":"IFERROR(VLOOKUP($A43,Filtro!$A$5:$AY$629,19,FALSE),0)","v":0},{"$f":"IFERROR(VLOOKUP($A43,Filtro!$A$5:$AY$629,20,FALSE),0)","v":0},{"$f":"IFERROR(VLOOKUP($A43,Filtro!$A$5:$AY$629,21,FALSE),0)","v":0},{"$f":"IFERROR(VLOOKUP($A43,Filtro!$A$5:$AY$629,22,FALSE),0)","v":0},{"$f":"IFERROR(VLOOKUP($A43,Filtro!$A$5:$AY$629,23,FALSE),0)","v":0},{"$f":"IFERROR(VLOOKUP($A43,Filtro!$A$5:$AY$629,24,FALSE),0)","v":0},{"$f":"IFERROR(VLOOKUP($A43,Filtro!$A$5:$AY$629,25,FALSE),0)","v":0},{"$f":"IFERROR(VLOOKUP($A43,Filtro!$A$5:$AY$629,26,FALSE),0)","v":0},{"$f":"IF($I$21>=$I$43,\"\",\"* Los pacientes con sospecha de maltrato no pueden ser mayor que el total de Adultos Mayores en Control (70 - 74 años - Hombres). \")","v":""},{"$f":"IF($J$21>=$J$43,\"\",\"* Los pacientes con sospecha de maltrato no pueden ser mayor que el total de Adultos Mayores en Control (70 - 74 años - Mujeres). \")","v":""},{"$f":"IF($K$21>=$K$43,\"\",\"* Los pacientes con sospecha de maltrato no pueden ser mayor que el total de Adultos Mayores en Control (75 - 79 años - Hombres). \")","v":""},{"$f":"IF($L$21>=$L$43,\"\",\"* Los pacientes con sospecha de maltrato no pueden ser mayor que el total de Adultos Mayores en Control (75 - 79 años - Mujeres). \")","v":""},{"$f":"IF($U$21>=$M$43,\"\",\"* Los pacientes con sospecha de maltrato no pueden ser mayor que el total de Adultos Mayores en Control (80 y más años - Hombres). \")","v":""},{"$f":"IF($V$21>=$N$43,\"\",\"* Los pacientes con sospecha de maltrato no pueden ser mayor que el total de Adultos Mayores en Control (80 y más años - Mujeres). \")","v":""},null,{"$f":"IF($G$21>=$G$43,0,1)","v":0},{"$f":"IF($H$21>=$H$43,0,1)","v":0},{"$f":"IF($I$21>=$I$43,0,1)","v":0},{"$f":"IF($J$21>=$J$43,0,1)","v":0},{"$f":"IF($K$21>=$K$43,0,1)","v":0},{"$f":"IF($L$21>=$L$43,0,1)","v":0},{"$f":"IF($U$21>=$M$43,0,1)","v":0},{"$f":"IF($V$21>=$N$43,0,1)","v":0}]
[null,"SECCION D: PERSONAS MAYORES EN ACTIVIDAD FÍSICA "]
[null,"CONCEPTO",null,"TOTAL",null,null,"GRUPO DE EDAD (en años) Y SEXO",{"$nulls":15},"Pueblos Originarios",null,"Migrantes",null,"Personas Mayores en ELEAM"]
[{"$nulls":6},"65 a 69 años",null,"70 a 74 años",null,"75 a 79 años",null,"80 a 84 años",null,"85 a 89 años",null,"90 a 94 años",null,"95 a 99 años",null,"100 y mas años"]
[{"$nulls":3},"Ambos\nsexos","Hombres","Mujeres","Hombres ","Mujeres","Hombres ","Mujeres","Hombres ","Mujeres","Hombres","Mujeres","Hombres","Mujeres","Hombres","Mujeres","Hombres","Mujeres","Hombres","Mujeres","Hombres","Mujeres","Hombres","Mujeres","Hombres","Mujeres"]
["P5300500","PERSONAS EN ACTIVIDAD FÍSICA ",null,{"$f":"SUM(E48:F48)","v":5240},{"$f":"+G48+I48+K48+M48+O48+Q48+S48+U48","v":2201},{"$f":"+H48+J48+L48+N48+P48+R48+T48+V48","v":3039},{"$f":"IFERROR(VLOOKUP($A48,Filtro!$A$5:$AY$629,5,FALSE),0)","v":640},{"$f":"IFERROR(VLOOKUP($A48,Filtro!$A$5:$AY$629,6,FALSE),0)","v":1059},{"$f":"IFERROR(VLOOKUP($A48,Filtro!$A$5:$AY$629,7,FALSE),0)","v":637},{"$f":"IFERROR(VLOOKUP($A48,Filtro!$A$5:$AY$629,8,FALSE),0)","v":894},{"$f":"IFERROR(VLOOKUP($A48,Filtro!$A$5:$AY$629,9,FALSE),0)","v":530},{"$f":"IFERROR(VLOOKUP($A48,Filtro!$A$5:$AY$629,10,FALSE),0)","v":634},{"$f":"IFERROR(VLOOKUP($A48,Filtro!$A$5:$AY$629,11,FALSE),0)","v":272},{"$f":"IFERROR(VLOOKUP($A48,Filtro!$A$5:$AY$629,12,FALSE),0)","v":325},{"$f":"IFERROR(VLOOKUP($A48,Filtro!$A$5:$AY$629,13,FALSE),0)","v":98},{"$f":"IFERROR(VLOOKUP($A48,Filtro!$A$5:$AY$629,14,FALSE),0)","v":100},{"$f":"IFERROR(VLOOKUP($A48,Filtro!$A$5:$AY$629,15,FALSE),0)","v":23},{"$f":"IFERROR(VLOOKUP($A48,Filtro!$A$5:$AY$629,16,FALSE),0)","v":22},{"$f":"IFERROR(VLOOKUP($A48,Filtro!$A$5:$AY$629,17,FALSE),0)","v":1},{"$f":"IFERROR(VLOOKUP($A48,Filtro!$A$5:$AY$629,18,FALSE),0)","v":5},{"$f":"IFERROR(VLOOKUP($A48,Filtro!$A$5:$AY$629,19,FALSE),0)","v":0},{"$f":"IFERROR(VLOOKUP($A48,Filtro!$A$5:$AY$629,20,FALSE),0)","v":0},{"$f":"IFERROR(VLOOKUP($A48,Filtro!$A$5:$AY$629,21,FALSE),0)","v":5},{"$f":"IFERROR(VLOOKUP($A48,Filtro!$A$5:$AY$629,22,FALSE),0)","v":11},{"$f":"IFERROR(VLOOKUP($A48,Filtro!$A$5:$AY$629,23,FALSE),0)","v":8},{"$f":"IFERROR(VLOOKUP($A48,Filtro!$A$5:$AY$629,24,FALSE),0)","v":4},{"$f":"IFERROR(VLOOKUP($A48,Filtro!$A$5:$AY$629,25,FALSE),0)","v":2},{"$f":"IFERROR(VLOOKUP($A48,Filtro!$A$5:$AY$629,26,FALSE),0)","v":0},{"$nulls":7},{"$f":"IF($D$48<=$D$15,\"\",\"* Los Adultos Mayores en actividad física no pueden ser mayor que los clasificados como Autovalentes sin/con riesgo y los riesgo de Dependencia. \")","v":""},null,{"$f":"IF($D$48<=$D$15,0,1)","v":0}]
[null,"SECCION E: PERSONAS MAYORES CON RIESGO DE CAÍDAS"]
[null,"INSTRUMENTO DE EVALUACIÓN","TIPO DE RIESGO","TOTAL",null,null,"GRUPO DE EDAD (en años) Y SEXO",{"$nulls":15},"Pueblos Originarios",null,"Migrantes",null,"Personas Mayores en ELEAM"]
[{"$nulls":6},"65 a 69 años",null,"70 a 74 años",null,"75 a 79 años",null,"80 a 84 años",null,"85 a 89 años",null,"90 a 94 años",null,"95 a 99 años",null,"100 y mas años"]
[{"$nulls":3},"Ambos\nsexos","Hombres","Mujeres","Hombres ","Mujeres","Hombres ","Mujeres","Hombres ","Mujeres","Hombres","Mujeres","Hombres","Mujeres","Hombres","Mujeres","Hombres","Mujeres","Hombres","Mujeres","Hombres","Mujeres","Hombres","Mujeres","Hombres","Mujeres"]
["P5300540","TIMED UP AND GO","Normal",{"$f":"SUM(E53:F53)","v":10751},{"$f":"+G53+I53+K53+M53+O53+Q53+S53+U53","v":4495},{"$f":"+H53+J53+L53+N53+P53+R53+T53+V53","v":6256},{"$f":"IFERROR(VLOOKUP($A53,Filtro!$A$5:$AY$629,5,FALSE),0)","v":1400},{"$f":"IFERROR(VLOOKUP($A53,Filtro!$A$5:$AY$629,6,FALSE),0)","v":2225},{"$f":"IFERROR(VLOOKUP($A53,Filtro!$A$5:$AY$629,7,FALSE),0)","v":1323},{"$f":"IFERROR(VLOOKUP($A53,Filtro!$A$5:$AY$629,8,FALSE),0)","v":1882},{"$f":"IFERROR(VLOOKUP($A53,Filtro!$A$5:$AY$629,9,FALSE),0)","v":994},{"$f":"IFERROR(VLOOKUP($A53,Filtro!$A$5:$AY$629,10,FALSE),0)","v":1214},{"$f":"IFERROR(VLOOKUP($A53,Filtro!$A$5:$AY$629,11,FALSE),0)","v":518},{"$f":"IFERROR(VLOOKUP($A53,Filtro!$A$5:$AY$629,12,FALSE),0)","v":663},{"$f":"IFERROR(VLOOKUP($A53,Filtro!$A$5:$AY$629,13,FALSE),0)","v":220},{"$f":"IFERROR(VLOOKUP($A53,Filtro!$A$5:$AY$629,14,FALSE),0)","v":205},{"$f":"IFERROR(VLOOKUP($A53,Filtro!$A$5:$AY$629,15,FALSE),0)","v":35},{"$f":"IFERROR(VLOOKUP($A53,Filtro!$A$5:$AY$629,16,FALSE),0)","v":61},{"$f":"IFERROR(VLOOKUP($A53,Filtro!$A$5:$AY$629,17,FALSE),0)","v":5},{"$f":"IFERROR(VLOOKUP($A53,Filtro!$A$5:$AY$629,18,FALSE),0)","v":6},{"$f":"IFERROR(VLOOKUP($A53,Filtro!$A$5:$AY$629,19,FALSE),0)","v":0},{"$f":"IFERROR(VLOOKUP($A53,Filtro!$A$5:$AY$629,20,FALSE),0)","v":0},{"$f":"IFERROR(VLOOKUP($A53,Filtro!$A$5:$AY$629,21,FALSE),0)","v":18},{"$f":"IFERROR(VLOOKUP($A53,Filtro!$A$5:$AY$629,22,FALSE),0)","v":21},{"$f":"IFERROR(VLOOKUP($A53,Filtro!$A$5:$AY$629,23,FALSE),0)","v":12},{"$f":"IFERROR(VLOOKUP($A53,Filtro!$A$5:$AY$629,24,FALSE),0)","v":7},{"$f":"IFERROR(VLOOKUP($A53,Filtro!$A$5:$AY$629,25,FALSE),0)","v":4},{"$f":"IFERROR(VLOOKUP($A53,Filtro!$A$5:$AY$629,26,FALSE),0)","v":3}]
["P5300550",null,"Leve",{"$f":"SUM(E54:F54)","v":4588},{"$f":"+G54+I54+K54+M54+O54+Q54+S54+U54","v":1670},{"$f":"+H54+J54+L54+N54+P54+R54+T54+V54","v":2918},{"$f":"IFERROR(VLOOKUP($A54,Filtro!$A$5:$AY$629,5,FALSE),0)","v":297},{"$f":"IFERROR(VLOOKUP($A54,Filtro!$A$5:$AY$629,6,FALSE),0)","v":635},{"$f":"IFERROR(VLOOKUP($A54,Filtro!$A$5:$AY$629,7,FALSE),0)","v":391},{"$f":"IFERROR(VLOOKUP($A54,Filtro!$A$5:$AY$629,8,FALSE),0)","v":701},{"$f":"IFERROR(VLOOKUP($A54,Filtro!$A$5:$AY$629,9,FALSE),0)","v":366},{"$f":"IFERROR(VLOOKUP($A54,Filtro!$A$5:$AY$629,10,FALSE),0)","v":636},{"$f":"IFERROR(VLOOKUP($A54,Filtro!$A$5:$AY$629,11,FALSE),0)","v":366},{"$f":"IFERROR(VLOOKUP($A54,Filtro!$A$5:$AY$629,12,FALSE),0)","v":512},{"$f":"IFERROR(VLOOKUP($A54,Filtro!$A$5:$AY$629,13,FALSE),0)","v":173},{"$f":"IFERROR(VLOOKUP($A54,Filtro!$A$5:$AY$629,14,FALSE),0)","v":310},{"$f":"IFERROR(VLOOKUP($A54,Filtro!$A$5:$AY$629,15,FALSE),0)","v":69},{"$f":"IFERROR(VLOOKUP($A54,Filtro!$A$5:$AY$629,16,FALSE),0)","v":100},{"$f":"IFERROR(VLOOKUP($A54,Filtro!$A$5:$AY$629,17,FALSE),0)","v":7},{"$f":"IFERROR(VLOOKUP($A54,Filtro!$A$5:$AY$629,18,FALSE),0)","v":23},{"$f":"IFERROR(VLOOKUP($A54,Filtro!$A$5:$AY$629,19,FALSE),0)","v":1},{"$f":"IFERROR(VLOOKUP($A54,Filtro!$A$5:$AY$629,20,FALSE),0)","v":1},{"$f":"IFERROR(VLOOKUP($A54,Filtro!$A$5:$AY$629,21,FALSE),0)","v":4},{"$f":"IFERROR(VLOOKUP($A54,Filtro!$A$5:$AY$629,22,FALSE),0)","v":16},{"$f":"IFERROR(VLOOKUP($A54,Filtro!$A$5:$AY$629,23,FALSE),0)","v":5},{"$f":"IFERROR(VLOOKUP($A54,Filtro!$A$5:$AY$629,24,FALSE),0)","v":8},{"$f":"IFERROR(VLOOKUP($A54,Filtro!$A$5:$AY$629,25,FALSE),0)","v":10},{"$f":"IFERROR(VLOOKUP($A54,Filtro!$A$5:$AY$629,26,FALSE),0)","v":8}]
["P5300560",null,"Alto",{"$f":"SUM(E55:F55)","v":2716},{"$f":"+G55+I55+K55+M55+O55+Q55+S55+U55","v":976},1740,{"$f":"IFERROR(VLOOKUP($A55,Filtro!$A$5:$AY$629,5,FALSE),0)","v":161},{"$f":"IFERROR(VLOOKUP($A55,Filtro!$A$5:$AY$629,6,FALSE),0)","v":280},{"$f":"IFERROR(VLOOKUP($A55,Filtro!$A$5:$AY$629,7,FALSE),0)","v":158},{"$f":"IFERROR(VLOOKUP($A55,Filtro!$A$5:$AY$629,8,FALSE),0)","v":279},{"$f":"IFERROR(VLOOKUP($A55,Filtro!$A$5:$AY$629,9,FALSE),0)","v":184},{"$f":"IFERROR(VLOOKUP($A55,Filtro!$A$5:$AY$629,10,FALSE),0)","v":348},{"$f":"IFERROR(VLOOKUP($A55,Filtro!$A$5:$AY$629,11,FALSE),0)","v":228},{"$f":"IFERROR(VLOOKUP($A55,Filtro!$A$5:$AY$629,12,FALSE),0)","v":381},{"$f":"IFERROR(VLOOKUP($A55,Filtro!$A$5:$AY$629,13,FALSE),0)","v":147},{"$f":"IFERROR(VLOOKUP($A55,Filtro!$A$5:$AY$629,14,FALSE),0)","v":271},{"$f":"IFERROR(VLOOKUP($A55,Filtro!$A$5:$AY$629,15,FALSE),0)","v":75},{"$f":"IFERROR(VLOOKUP($A55,Filtro!$A$5:$AY$629,16,FALSE),0)","v":152},{"$f":"IFERROR(VLOOKUP($A55,Filtro!$A$5:$AY$629,17,FALSE),0)","v":18},{"$f":"IFERROR(VLOOKUP($A55,Filtro!$A$5:$AY$629,18,FALSE),0)","v":23},{"$f":"IFERROR(VLOOKUP($A55,Filtro!$A$5:$AY$629,19,FALSE),0)","v":5},{"$f":"IFERROR(VLOOKUP($A55,Filtro!$A$5:$AY$629,20,FALSE),0)","v":6},{"$f":"IFERROR(VLOOKUP($A55,Filtro!$A$5:$AY$629,21,FALSE),0)","v":0},{"$f":"IFERROR(VLOOKUP($A55,Filtro!$A$5:$AY$629,22,FALSE),0)","v":2},{"$f":"IFERROR(VLOOKUP($A55,Filtro!$A$5:$AY$629,23,FALSE),0)","v":0},{"$f":"IFERROR(VLOOKUP($A55,Filtro!$A$5:$AY$629,24,FALSE),0)","v":0},{"$f":"IFERROR(VLOOKUP($A55,Filtro!$A$5:$AY$629,25,FALSE),0)","v":1},{"$f":"IFERROR(VLOOKUP($A55,Filtro!$A$5:$AY$629,26,FALSE),0)","v":11},{"$f":"IF(SUM($H53:$H55)>$H15,\"* Riesgo de caída Mujeres (65 a 69 años) deben ser menor o igual al Total Adultos Mayores con EFAM de sección A. \",\"\")","v":""},{"$f":"IF(SUM($I53:$I55)>$I15,\"* Riesgo de caída Hombres (70 a 74 años) deben ser menor o igual al Total Adultos Mayores con EFAM de sección A. \",\"\")","v":""},{"$f":"IF(SUM($J53:$J55)>$J15,\"* Riesgo de caída Mujeres (70 a 74 años) deben ser menor o igual al Total Adultos Mayores con EFAM de sección A. \",\"\")","v":""},{"$f":"IF(SUM($K53:$K55)>$K15,\"* Riesgo de caída Hombres (75 a 79 años) deben ser menor o igual al Total Adultos Mayores con EFAM de sección A. \",\"\")","v":""},{"$f":"IF(SUM($L53:$L55)>$L15,\"* Riesgo de caída Mujeres (75 a 79 años) deben ser menor o igual al Total Adultos Mayores con EFAM de sección A. \",\"\")","v":""},{"$f":"IF(SUM($M53:$M55)>$U15,\"* Riesgo de caída Hombres (80 y más) deben ser menor o igual al Total Adultos Mayores con EFAM de sección A. \",\"\")","v":"* Riesgo de caída Hombres (80 y más) deben ser menor o igual al Total Adultos Mayores con EFAM de sección A. "},{"$f":"IF(SUM($N53:$N55)>$V15,\"* Riesgo de caída Mujeres (80 y más) deben ser menor o igual al Total Adultos Mayores con EFAM de sección A. \",\"\")","v":"* Riesgo de caída Mujeres (80 y más) deben ser menor o igual al Total Adultos Mayores con EFAM de sección A. "},null,{"$f":"IF(SUM($G53:$G55)>$G15,1,0)","v":0},{"$f":"IF(SUM($H53:$H55)>$H15,1,0)","v":0},{"$f":"IF(SUM($I53:$I55)>$I15,1,0)","v":0},{"$f":"IF(SUM($J53:$J55)>$J15,1,0)","v":0},{"$f":"IF(SUM($K53:$K55)>$K15,1,0)","v":0},{"$f":"IF(SUM($L53:$L55)>$L15,1,0)","v":0},{"$f":"IF(SUM($M53:$M55)>$U15,1,0)","v":1},{"$f":"IF(SUM($N53:$N55)>$V15,1,0)","v":1}]
["P5400100","ESTACIÓN UNIPODAL","Normal ",0,0,0,{"$f":"IFERROR(VLOOKUP($A56,Filtro!$A$5:$AY$629,5,FALSE),0)","v":1536},{"$f":"IFERROR(VLOOKUP($A56,Filtro!$A$5:$AY$629,6,FALSE),0)","v":2289},{"$f":"IFERROR(VLOOKUP($A56,Filtro!$A$5:$AY$629,7,FALSE),0)","v":1355},{"$f":"IFERROR(VLOOKUP($A56,Filtro!$A$5:$AY$629,8,FALSE),0)","v":1886},{"$f":"IFERROR(VLOOKUP($A56,Filtro!$A$5:$AY$629,9,FALSE),0)","v":1039},{"$f":"IFERROR(VLOOKUP($A56,Filtro!$A$5:$AY$629,10,FALSE),0)","v":1263},{"$f":"IFERROR(VLOOKUP($A56,Filtro!$A$5:$AY$629,11,FALSE),0)","v":602},{"$f":"IFERROR(VLOOKUP($A56,Filtro!$A$5:$AY$629,12,FALSE),0)","v":752},{"$f":"IFERROR(VLOOKUP($A56,Filtro!$A$5:$AY$629,13,FALSE),0)","v":266},{"$f":"IFERROR(VLOOKUP($A56,Filtro!$A$5:$AY$629,14,FALSE),0)","v":319},{"$f":"IFERROR(VLOOKUP($A56,Filtro!$A$5:$AY$629,15,FALSE),0)","v":64},{"$f":"IFERROR(VLOOKUP($A56,Filtro!$A$5:$AY$629,16,FALSE),0)","v":109},{"$f":"IFERROR(VLOOKUP($A56,Filtro!$A$5:$AY$629,17,FALSE),0)","v":5},{"$f":"IFERROR(VLOOKUP($A56,Filtro!$A$5:$AY$629,18,FALSE),0)","v":15},{"$f":"IFERROR(VLOOKUP($A56,Filtro!$A$5:$AY$629,19,FALSE),0)","v":0},{"$f":"IFERROR(VLOOKUP($A56,Filtro!$A$5:$AY$629,20,FALSE),0)","v":1},{"$f":"IFERROR(VLOOKUP($A56,Filtro!$A$5:$AY$629,21,FALSE),0)","v":19},{"$f":"IFERROR(VLOOKUP($A56,Filtro!$A$5:$AY$629,22,FALSE),0)","v":24},{"$f":"IFERROR(VLOOKUP($A56,Filtro!$A$5:$AY$629,23,FALSE),0)","v":11},{"$f":"IFERROR(VLOOKUP($A56,Filtro!$A$5:$AY$629,24,FALSE),0)","v":8},{"$f":"IFERROR(VLOOKUP($A56,Filtro!$A$5:$AY$629,25,FALSE),0)","v":5},{"$f":"IFERROR(VLOOKUP($A56,Filtro!$A$5:$AY$629,26,FALSE),0)","v":2}]
["P5400200",null,"Alterado",0,0,0,{"$f":"IFERROR(VLOOKUP($A57,Filtro!$A$5:$AY$629,5,FALSE),0)","v":533},{"$f":"IFERROR(VLOOKUP($A57,Filtro!$A$5:$AY$629,6,FALSE),0)","v":1099},{"$f":"IFERROR(VLOOKUP($A57,Filtro!$A$5:$AY$629,7,FALSE),0)","v":725},{"$f":"IFERROR(VLOOKUP($A57,Filtro!$A$5:$AY$629,8,FALSE),0)","v":1165},{"$f":"IFERROR(VLOOKUP($A57,Filtro!$A$5:$AY$629,9,FALSE),0)","v":706},{"$f":"IFERROR(VLOOKUP($A57,Filtro!$A$5:$AY$629,10,FALSE),0)","v":1160},{"$f":"IFERROR(VLOOKUP($A57,Filtro!$A$5:$AY$629,11,FALSE),0)","v":638},{"$f":"IFERROR(VLOOKUP($A57,Filtro!$A$5:$AY$629,12,FALSE),0)","v":934},{"$f":"IFERROR(VLOOKUP($A57,Filtro!$A$5:$AY$629,13,FALSE),0)","v":342},{"$f":"IFERROR(VLOOKUP($A57,Filtro!$A$5:$AY$629,14,FALSE),0)","v":540},{"$f":"IFERROR(VLOOKUP($A57,Filtro!$A$5:$AY$629,15,FALSE),0)","v":159},{"$f":"IFERROR(VLOOKUP($A57,Filtro!$A$5:$AY$629,16,FALSE),0)","v":240},{"$f":"IFERROR(VLOOKUP($A57,Filtro!$A$5:$AY$629,17,FALSE),0)","v":35},{"$f":"IFERROR(VLOOKUP($A57,Filtro!$A$5:$AY$629,18,FALSE),0)","v":52},{"$f":"IFERROR(VLOOKUP($A57,Filtro!$A$5:$AY$629,19,FALSE),0)","v":10},{"$f":"IFERROR(VLOOKUP($A57,Filtro!$A$5:$AY$629,20,FALSE),0)","v":6},{"$f":"IFERROR(VLOOKUP($A57,Filtro!$A$5:$AY$629,21,FALSE),0)","v":10},{"$f":"IFERROR(VLOOKUP($A57,Filtro!$A$5:$AY$629,22,FALSE),0)","v":15},{"$f":"IFERROR(VLOOKUP($A57,Filtro!$A$5:$AY$629,23,FALSE),0)","v":5},{"$f":"IFERROR(VLOOKUP($A57,Filtro!$A$5:$AY$629,24,FALSE),0)","v":6},{"$f":"IFERROR(VLOOKUP($A57,Filtro!$A$5:$AY$629,25,FALSE),0)","v":15},{"$f":"IFERROR(VLOOKUP($A57,Filtro!$A$5:$AY$629,26,FALSE),0)","v":22}]
{"$rows_empty":23}
[null,{"$f":"SUM(D12:Z21, D26:AD29,D34:Z38,D43:N43,D48:N48,D53:N57)","v":587035},"datos"]
[null,{"$f":"SUM(AL12:AS58)","v":2},"errores"]

{"sheet":"P6","index":7,"n_rows":151,"n_cols":122,"rows_kept":151,"merged":[[6,1,6,21],[8,1,8,7],[8,8,8,9],[8,10,8,11],[8,12,8,13],[8,14,8,15],[8,16,8,17],[8,18,8,19],[8,20,8,21],[8,22,8,23],[8,24,8,25],[8,26,8,27],[8,28,8,29],[8,30,8,31],[8,32,8,33],[8,34,8,35],[8,36,8,37],[8,38,8,39],[9,1,11,2],[9,3,10,5],[9,6,9,39],[9,40,11,40],[9,41,11,41],[9,42,10,43],[9,44,10,45],[9,46,11,46],[9,47,11,47],[9,48,11,48],[9,49,10,50],[10,6,10,7],[10,8,10,9],[10,10,10,11],[10,12,10,13],[10,14,10,15],[10,16,10,17],[10,18,10,19],[10,20,10,21],[10,22,10,23],[10,24,10,25],[10,26,10,27],[10,28,10,29],[10,30,10,31],[10,32,10,33],[10,34,10,35],[10,36,10,37],[10,38,10,39],[10,85,11,85],[10,86,11,86],[10,87,10,88],[10,89,10,90],[10,91,11,91],[12,1,12,2],[13,1,13,2],[14,1,15,1],[16,1,16,2],[17,1,18,1],[19,1,19,2],[20,1,24,1],[25,1,29,1],[30,1,33,1],[34,1,38,1],[39,1,41,1],[42,1,42,2],[44,1,44,2],[45,1,45,2],[46,1,46,2],[47,1,51,1],[53,1,53,2],[55,1,57,1],[55,2,57,2],[55,3,56,5],[55,6,55,39],[56,6,56,7],[56,8,56,9],[56,10,56,11],[56,12,56,13],[56,14,56,15],[56,16,56,17],[56,18,56,19],[56,20,56,21],[56,22,56,23],[56,24,56,25],[56,26,56,27],[56,28,56,29],[56,30,56,31],[56,32,56,33],[56,34,56,35],[56,36,56,37],[56,38,56,39],[61,1,63,2],[61,3,62,5],[61,6,61,15],[61,16,62,17],[62,6,62,7],[62,8,62,9],[62,10,62,11],[62,12,62,13],[62,14,62,15],[64,1,64,2],[65,1,65,15],[66,1,68,2],[66,3,67,5],[66,6,66,39],[66,40,68,40],[66,41,68,41],[66,42,67,43],[66,44,67,45],[66,46,68,46],[66,47,68,47],[66,48,68,48],[66,49,67,50],[67,6,67,7],[67,8,67,9],[67,10,67,11],[67,12,67,13],[67,14,67,15],[67,16,67,17],[67,18,67,19],[67,20,67,21],[67,22,67,23],[67,24,67,25],[67,26,67,27],[67,28,67,29],[67,30,67,31],[67,32,67,33],[67,34,67,35],[67,36,67,37],[67,38,67,39],[67,86,68,86],[67,87,68,87],[67,92,68,92],[67,100,68,100],[69,1,69,2],[70,1,70,2],[71,1,72,1],[73,1,73,2],[74,1,75,1],[76,1,76,2],[77,1,81,1],[82,1,86,1],[87,1,90,1],[91,1,95,1],[96,1,98,1],[99,1,99,2],[101,1,101,2],[102,1,102,2],[103,1,103,2],[104,1,108,1],[110,1,110,2],[112,1,114,1],[112,2,114,2],[112,3,113,5],[112,6,112,39],[113,6,113,7],[113,8,113,9],[113,10,113,11],[113,12,113,13],[113,14,113,15],[113,16,113,17],[113,18,113,19],[113,20,113,21],[113,22,113,23],[113,24,113,25],[113,26,113,27],[113,28,113,29],[113,30,113,31],[113,32,113,33],[113,34,113,35],[113,36,113,37],[113,38,113,39]]}
[null,"DATOS DEL ESTABLECIMIENTO"]
[null,{"$f":"CONCATENATE(\"COMUNA: \",NOMBRE!$B$2,\" - \",\"( \",NOMBRE!$C$2,NOMBRE!$D$2,NOMBRE!$E$2,NOMBRE!$F$2,NOMBRE!$G$2,\" )\")","v":"COMUNA:  - (  )"}]
[null,{"$f":"CONCATENATE(\"ESTABLECIMIENTO/ESTRATEGIA: \",NOMBRE!$B$3,\" - \",\"( \",NOMBRE!$C$3,NOMBRE!$D$3,NOMBRE!$E$3,NOMBRE!$F$3,NOMBRE!$G$3,NOMBRE!$H$3,\" )\")","v":"ESTABLECIMIENTO/ESTRATEGIA:  - (  )"}]
[null,{"$f":"CONCATENATE(\"MES: \",NOMBRE!$B$6,\" - \",\"( \",NOMBRE!$C$6,NOMBRE!$D$6,\" )\")","v":"MES:  - (  )"}]
[null,{"$f":"CONCATENATE(\"AÑO: \",NOMBRE!$B$7)","v":"AÑO: 2023"}]
[]
[null,"REM-P6. POBLACIÓN EN CONTROL PROGRAMA DE SALUD MENTAL EN ATENCIÓN PRIMARIA Y ESPECIALIDAD"]
[null,"A. ATENCIÓN PRIMARIA"]
[null,"SECCION A.1: POBLACIÓN EN CONTROL EN APS AL CORTE"]
[null,"CONCEPTO",null,"T O T A L",null,null,"GRUPO DE EDAD (en años)",{"$nulls":33},"Gestantes","Madre de Hijo menor de 5 años ","Pueblos Originarios",null," Migrantes",null,"Niños, Niñas, Adolescentes y Jóvenes SENAME","Niños, Niñas, Adolescentes y Jóvenes Mejor Niñez","Plan Cuidado Integral Elaborado","TRANS "]
[{"$nulls":6},"0 a 4 años",null,"5 a 9 años",null,"10 a 14 años",null,"15 a 19 años",null,"20 a 24 años",null,"25 a 29 años",null,"30 a 34 años",null,"35 a 39 años",null,"40 a 44 años",null,"45 a 49 años",null,"50 a 54 años",null,"55 a 59 años",null,"60 a 64 años",null,"65 a 69 años",null,"70 a 74 años",null,"75 a 79 años",null,"80 y más años",{"$nulls":46},"Gestantes","Madre de hijos","Pueblos originarios",null,"Poblacion Migrantes",null,"Niños y niñas SENAME","Gestantes","Madre de hojos","Niños y niñas SENAME","Pueblos originarios","Poblacion Migrantes",{"$nulls":8},"Gestantes","Madre de hijos","Pueblos originarios","Pueblos originarios","Poblacion Migrantes","Poblacion Migrantes","Niños y niñas SENAME","Gestantes","Madre de hojos","Niños y niñas SENAME","Pueblos originarios","Poblacion Migrantes"]
[{"$nulls":3},"Ambos\nsexos","Hombres","Mujeres","Hombres","Mujeres","Hombres","Mujeres","Hombres","Mujeres","Hombres","Mujeres","Hombres","Mujeres","Hombres","Mujeres","Hombres","Mujeres","Hombres","Mujeres","Hombres","Mujeres","Hombres","Mujeres","Hombres","Mujeres","Hombres","Mujeres","Hombres","Mujeres","Hombres ","Mujeres","Hombres ","Mujeres","Hombres ","Mujeres","Hombres","Mujeres",null,null,"Hombres","Mujeres","Hombres","Mujeres",{"$nulls":3},"Masculino","Femenino ",{"$nulls":36},"Hombres","Mujeres","Hombres","Mujeres",null,"No Olvide","No Olvide","No Olvide","No Olvide","No Olvide",{"$nulls":10},"Hombres","Mujeres","Hombres","Mujeres",null,"No Olvide","No Olvide","No Olvide","No Olvide","No Olvide"]
["P6221000","NUMERO DE PERSONAS EN CONTROL EN EL PROGRAMA",null,{"$f":"SUM(E13:F13)","v":35699},{"$f":"+G13+I13+K13+M13+O13+Q13+S13+U13+W13+Y13+AA13+AC13+AE13+AG13+AI13+AK13+AM13","v":10667},{"$f":"+H13+J13+L13+N13+P13+R13+T13+V13+X13+Z13+AB13+AD13+AF13+AH13+AJ13+AL13+AN13","v":25032},{"$f":"IFERROR(VLOOKUP($A13,Filtro!$A$5:$AY$629,5,FALSE),0)","v":154},{"$f":"IFERROR(VLOOKUP($A13,Filtro!$A$5:$AY$629,6,FALSE),0)","v":114},{"$f":"IFERROR(VLOOKUP($A13,Filtro!$A$5:$AY$629,7,FALSE),0)","v":1422},{"$f":"IFERROR(VLOOKUP($A13,Filtro!$A$5:$AY$629,8,FALSE),0)","v":942},{"$f":"IFERROR(VLOOKUP($A13,Filtro!$A$5:$AY$629,9,FALSE),0)","v":1404},{"$f":"IFERROR(VLOOKUP($A13,Filtro!$A$5:$AY$629,10,FALSE),0)","v":2024},{"$f":"IFERROR(VLOOKUP($A13,Filtro!$A$5:$AY$629,11,FALSE),0)","v":1212},{"$f":"IFERROR(VLOOKUP($A13,Filtro!$A$5:$AY$629,12,FALSE),0)","v":2392},{"$f":"IFERROR(VLOOKUP($A13,Filtro!$A$5:$AY$629,13,FALSE),0)","v":614},{"$f":"IFERROR(VLOOKUP($A13,Filtro!$A$5:$AY$629,14,FALSE),0)","v":1555},{"$f":"IFERROR(VLOOKUP($A13,Filtro!$A$5:$AY$629,15,FALSE),0)","v":545},{"$f":"IFERROR(VLOOKUP($A13,Filtro!$A$5:$AY$629,16,FALSE),0)","v":1522},{"$f":"IFERROR(VLOOKUP($A13,Filtro!$A$5:$AY$629,17,FALSE),0)","v":518},{"$f":"IFERROR(VLOOKUP($A13,Filtro!$A$5:$AY$629,18,FALSE),0)","v":1532},{"$f":"IFERROR(VLOOKUP($A13,Filtro!$A$5:$AY$629,19,FALSE),0)","v":513},{"$f":"IFERROR(VLOOKUP($A13,Filtro!$A$5:$AY$629,20,FALSE),0)","v":1447},{"$f":"IFERROR(VLOOKUP($A13,Filtro!$A$5:$AY$629,21,FALSE),0)","v":488},{"$f":"IFERROR(VLOOKUP($A13,Filtro!$A$5:$AY$629,22,FALSE),0)","v":1511},{"$f":"IFERROR(VLOOKUP($A13,Filtro!$A$5:$AY$629,23,FALSE),0)","v":515},{"$f":"IFERROR(VLOOKUP($A13,Filtro!$A$5:$AY$629,24,FALSE),0)","v":1507},{"$f":"IFERROR(VLOOKUP($A13,Filtro!$A$5:$AY$629,25,FALSE),0)","v":537},{"$f":"IFERROR(VLOOKUP($A13,Filtro!$A$5:$AY$629,26,FALSE),0)","v":1797},{"$f":"IFERROR(VLOOKUP($A13,Filtro!$A$5:$AY$629,27,FALSE),0)","v":522},{"$f":"IFERROR(VLOOKUP($A13,Filtro!$A$5:$AY$629,28,FALSE),0)","v":1845},{"$f":"IFERROR(VLOOKUP($A13,Filtro!$A$5:$AY$629,29,FALSE),0)","v":523},{"$f":"IFERROR(VLOOKUP($A13,Filtro!$A$5:$AY$629,30,FALSE),0)","v":1733},{"$f":"IFERROR(VLOOKUP($A13,Filtro!$A$5:$AY$629,31,FALSE),0)","v":466},{"$f":"IFERROR(VLOOKUP($A13,Filtro!$A$5:$AY$629,32,FALSE),0)","v":1608},{"$f":"IFERROR(VLOOKUP($A13,Filtro!$A$5:$AY$629,33,FALSE),0)","v":421},{"$f":"IFERROR(VLOOKUP($A13,Filtro!$A$5:$AY$629,34,FALSE),0)","v":1318},{"$f":"IFERROR(VLOOKUP($A13,Filtro!$A$5:$AY$629,35,FALSE),0)","v":328},{"$f":"IFERROR(VLOOKUP($A13,Filtro!$A$5:$AY$629,36,FALSE),0)","v":955},{"$f":"IFERROR(VLOOKUP($A13,Filtro!$A$5:$AY$629,37,FALSE),0)","v":485},{"$f":"IFERROR(VLOOKUP($A13,Filtro!$A$5:$AY$629,38,FALSE),0)","v":1230},{"$f":"IFERROR(VLOOKUP($A13,Filtro!$A$5:$AY$629,39,FALSE),0)","v":161},{"$f":"IFERROR(VLOOKUP($A13,Filtro!$A$5:$AY$629,40,FALSE),0)","v":692},{"$f":"IFERROR(VLOOKUP($A13,Filtro!$A$5:$AY$629,41,FALSE),0)","v":73},{"$f":"IFERROR(VLOOKUP($A13,Filtro!$A$5:$AY$629,42,FALSE),0)","v":173},{"$f":"IFERROR(VLOOKUP($A13,Filtro!$A$5:$AY$629,43,FALSE),0)","v":92},{"$f":"IFERROR(VLOOKUP($A13,Filtro!$A$5:$AY$629,44,FALSE),0)","v":198},{"$f":"IFERROR(VLOOKUP($A13,Filtro!$A$5:$AY$629,45,FALSE),0)","v":148},{"$f":"IFERROR(VLOOKUP($A13,Filtro!$A$5:$AY$629,46,FALSE),0)","v":778},{"$f":"IFERROR(VLOOKUP($A13,Filtro!$A$5:$AY$629,47,FALSE),0)","v":2493},{"$f":"IFERROR(VLOOKUP($A13,Filtro!$A$5:$AY$629,48,FALSE),0)","v":179},{"$f":"IFERROR(VLOOKUP($A13,Filtro!$A$5:$AY$629,49,FALSE),0)","v":26},{"$nulls":34},{"$f":"IF($AO13>$F13,\"* La celda 'Gestantes' debe ser menor o igual al Total de Mujeres en control. \",\"\")","v":""},{"$f":"IF($AP13>$F13,\"* La celda 'Madres de Hijos menor de 5 años' debe ser menor o igual al Total de Mujeres en control. \",\"\")","v":""},{"$f":"IF(($AQ13)>$E13,\"* La celda 'Pueblos Originarios / Hombres' debe ser menor o igual al Total de Hombres en control. \",\"\")","v":""},{"$f":"IF($AR13>$F13,\"* La celda 'Pueblos Originarios / Mujeres' debe ser menor o igual al Total de Mujeres en control. \",\"\")","v":""},{"$f":"IF(($AS13)>$E13,\"* La celda 'Población Migrantes / Hombres' debe ser menor o igual al Total de Hombres en control. \",\"\")","v":""},{"$f":"IF($AT13>$F13,\"* La celda 'Población Migrantes / Mujeres' debe ser menor o igual al Total de Mujeres en control. \",\"\")","v":""},{"$f":"IF($AU13>$D13,\"* La celda 'Niños, Niñas, Adolescentes y Jóvenes de Población SENAME' debe ser menor o igual al Total de Ambos Sexos. \",\"\")","v":""},{"$f":"IF(AND($D13<>0,$AO13=\"\"),\"* No olvide escribir en la celda de 'Gestantes' (Digite CERO si no tiene). \",\"\")","v":""},{"$f":"IF(AND($D13<>0,$AP13=\"\"),\"* No olvide escribir en la celda de 'Madres de Hijos menor de 5 años' (Digite CERO si no tiene). \",\"\")","v":""},{"$f":"IF(AND($D13<>0,$AU13=\"\"),\"* No olvide escribir en la celda de 'Niños, Niñas, Adolescentes y Jóvenes de Población SENAME' (Digite CERO si no tiene). \",\"\")","v":""},{"$f":"IF(AND($E13<>0,$AQ13=\"\"),\"* No olvide escribir en las celdas de 'Pueblos Originarios' (Digite CERO si no tiene). \",IF(AND($F13<>0,$AR13=\"\"),\"* No olvide escribir en las celdas de 'Pueblos Originarios' (Digite CERO si no tiene). \",\"\"))","v":""},{"$f":"IF(AND($E13<>0,$AS13=\"\"),\"* No olvide escribir en las celdas de 'Población Migrantes' (Digite CERO si no tiene). \",IF(AND($F13<>0,$AT13=\"\"),\"* No olvide escribir en las celdas de 'Población Migrantes' (Digite CERO si no tiene). \",\"\"))","v":""},{"$nulls":8},{"$f":"IF($AO13>$F13,1,0)","v":0},{"$f":"IF($AP13>$F13,1,0)","v":0},{"$f":"IF(($AQ13)>$E13,1,0)","v":0},{"$f":"IF($AR13>$F13,1,0)","v":0},{"$f":"IF(($AS13)>$E13,1,0)","v":0},{"$f":"IF($AT13>$F13,1,0)","v":0},{"$f":"IF($AU13>$D13,1,0)","v":0},{"$f":"IF(AND($D13<>0,$AO13=\"\"),1,0)","v":0},{"$f":"IF(AND($D13<>0,$AP13=\"\"),1,0)","v":0},{"$f":"IF(AND($D13<>0,$AU13=\"\"),1,0)","v":0},{"$f":"IF(AND($E13<>0,$AQ13=\"\"),1,IF(AND($F13<>0,$AR13=\"\"),1,0))","v":0},{"$f":"IF(AND($E13<>0,$AS13=\"\"),1,IF(AND($F13<>0,$AT13=\"\"),1,0))","v":0}]
[null,"FACTORES DE RIESGO Y CONDICIONANTES DE LA SALUD MENTAL"]
["P6221100","VIOLENCIA ","VICTIMA",{"$f":"SUM(E15:F15)","v":1290},{"$f":"+G15+I15+K15+M15+O15+Q15+S15+U15+W15+Y15+AA15+AC15+AE15+AG15+AI15+AK15+AM15","v":267},1023,{"$f":"IFERROR(VLOOKUP($A15,Filtro!$A$5:$AY$629,5,FALSE),0)","v":3},{"$f":"IFERROR(VLOOKUP($A15,Filtro!$A$5:$AY$629,6,FALSE),0)","v":5},{"$f":"IFERROR(VLOOKUP($A15,Filtro!$A$5:$AY$629,7,FALSE),0)","v":50},{"$f":"IFERROR(VLOOKUP($A15,Filtro!$A$5:$AY$629,8,FALSE),0)","v":32},{"$f":"IFERROR(VLOOKUP($A15,Filtro!$A$5:$AY$629,9,FALSE),0)","v":66},{"$f":"IFERROR(VLOOKUP($A15,Filtro!$A$5:$AY$629,10,FALSE),0)","v":91},{"$f":"IFERROR(VLOOKUP($A15,Filtro!$A$5:$AY$629,11,FALSE),0)","v":60},{"$f":"IFERROR(VLOOKUP($A15,Filtro!$A$5:$AY$629,12,FALSE),0)","v":107},{"$f":"IFERROR(VLOOKUP($A15,Filtro!$A$5:$AY$629,13,FALSE),0)","v":5},{"$f":"IFERROR(VLOOKUP($A15,Filtro!$A$5:$AY$629,14,FALSE),0)","v":46},{"$f":"IFERROR(VLOOKUP($A15,Filtro!$A$5:$AY$629,15,FALSE),0)","v":10},{"$f":"IFERROR(VLOOKUP($A15,Filtro!$A$5:$AY$629,16,FALSE),0)","v":79},{"$f":"IFERROR(VLOOKUP($A15,Filtro!$A$5:$AY$629,17,FALSE),0)","v":13},{"$f":"IFERROR(VLOOKUP($A15,Filtro!$A$5:$AY$629,18,FALSE),0)","v":75},{"$f":"IFERROR(VLOOKUP($A15,Filtro!$A$5:$AY$629,19,FALSE),0)","v":4},{"$f":"IFERROR(VLOOKUP($A15,Filtro!$A$5:$AY$629,20,FALSE),0)","v":64},{"$f":"IFERROR(VLOOKUP($A15,Filtro!$A$5:$AY$629,21,FALSE),0)","v":5},{"$f":"IFERROR(VLOOKUP($A15,Filtro!$A$5:$AY$629,22,FALSE),0)","v":71},{"$f":"IFERROR(VLOOKUP($A15,Filtro!$A$5:$AY$629,23,FALSE),0)","v":21},{"$f":"IFERROR(VLOOKUP($A15,Filtro!$A$5:$AY$629,24,FALSE),0)","v":79},{"$f":"IFERROR(VLOOKUP($A15,Filtro!$A$5:$AY$629,25,FALSE),0)","v":4},{"$f":"IFERROR(VLOOKUP($A15,Filtro!$A$5:$AY$629,26,FALSE),0)","v":95},{"$f":"IFERROR(VLOOKUP($A15,Filtro!$A$5:$AY$629,27,FALSE),0)","v":7},{"$f":"IFERROR(VLOOKUP($A15,Filtro!$A$5:$AY$629,28,FALSE),0)","v":78},{"$f":"IFERROR(VLOOKUP($A15,Filtro!$A$5:$AY$629,29,FALSE),0)","v":6},{"$f":"IFERROR(VLOOKUP($A15,Filtro!$A$5:$AY$629,30,FALSE),0)","v":68},{"$f":"IFERROR(VLOOKUP($A15,Filtro!$A$5:$AY$629,31,FALSE),0)","v":5},{"$f":"IFERROR(VLOOKUP($A15,Filtro!$A$5:$AY$629,32,FALSE),0)","v":62},{"$f":"IFERROR(VLOOKUP($A15,Filtro!$A$5:$AY$629,33,FALSE),0)","v":1},{"$f":"IFERROR(VLOOKUP($A15,Filtro!$A$5:$AY$629,34,FALSE),0)","v":28},{"$f":"IFERROR(VLOOKUP($A15,Filtro!$A$5:$AY$629,35,FALSE),0)","v":1},{"$f":"IFERROR(VLOOKUP($A15,Filtro!$A$5:$AY$629,36,FALSE),0)","v":31},{"$f":"IFERROR(VLOOKUP($A15,Filtro!$A$5:$AY$629,37,FALSE),0)","v":6},{"$f":"IFERROR(VLOOKUP($A15,Filtro!$A$5:$AY$629,38,FALSE),0)","v":12},{"$f":"IFERROR(VLOOKUP($A15,Filtro!$A$5:$AY$629,39,FALSE),0)","v":12},{"$f":"IFERROR(VLOOKUP($A15,Filtro!$A$5:$AY$629,40,FALSE),0)","v":47},{"$f":"IFERROR(VLOOKUP($A15,Filtro!$A$5:$AY$629,41,FALSE),0)","v":2},{"$f":"IFERROR(VLOOKUP($A15,Filtro!$A$5:$AY$629,42,FALSE),0)","v":6},{"$f":"IFERROR(VLOOKUP($A15,Filtro!$A$5:$AY$629,43,FALSE),0)","v":4},{"$f":"IFERROR(VLOOKUP($A15,Filtro!$A$5:$AY$629,44,FALSE),0)","v":15},{"$f":"IFERROR(VLOOKUP($A15,Filtro!$A$5:$AY$629,45,FALSE),0)","v":31},{"$f":"IFERROR(VLOOKUP($A15,Filtro!$A$5:$AY$629,46,FALSE),0)","v":157},{"$f":"IFERROR(VLOOKUP($A15,Filtro!$A$5:$AY$629,47,FALSE),0)","v":62},{"$f":"IFERROR(VLOOKUP($A15,Filtro!$A$5:$AY$629,48,FALSE),0)","v":2},{"$f":"IFERROR(VLOOKUP($A15,Filtro!$A$5:$AY$629,49,FALSE),0)","v":0},{"$nulls":34},{"$f":"IF($AO15>$F15,\"* La celda 'Gestantes' debe ser menor o igual al Total de Mujeres en control. \",\"\")","v":""},{"$f":"IF($AP15>$F15,\"* La celda 'Madres de Hijos menor de 5 años' debe ser menor o igual al Total de Mujeres en control. \",\"\")","v":""},{"$f":"IF(($AQ15)>$E15,\"* La celda 'Pueblos Originarios / Hombres' debe ser menor o igual al Total de Hombres en control. \",\"\")","v":""},{"$f":"IF($AR15>$F15,\"* La celda 'Pueblos Originarios / Mujeres' debe ser menor o igual al Total de Mujeres en control. \",\"\")","v":""},{"$f":"IF(($AS15)>$E15,\"* La celda 'Población Migrantes / Hombres' debe ser menor o igual al Total de Hombres en control. \",\"\")","v":""},{"$f":"IF($AT15>$F15,\"* La celda 'Población Migrantes / Mujeres' debe ser menor o igual al Total de Mujeres en control. \",\"\")","v":""},{"$f":"IF($AU15>$D15,\"* La celda 'Niños, Niñas, Adolescentes y Jóvenes de Población SENAME' debe ser menor o igual al Total de Ambos Sexos. \",\"\")","v":""},{"$f":"IF(AND($D15<>0,$AO15=\"\"),\"* No olvide escribir en la celda de 'Gestantes' (Digite CERO si no tiene). \",\"\")","v":""},{"$f":"IF(AND($D15<>0,$AP15=\"\"),\"* No olvide escribir en la celda de 'Madres de Hijos menor de 5 años' (Digite CERO si no tiene). \",\"\")","v":""},{"$f":"IF(AND($D15<>0,$AU15=\"\"),\"* No olvide escribir en la celda de 'Niños, Niñas, Adolescentes y Jóvenes de Población SENAME' (Digite CERO si no tiene). \",\"\")","v":""},{"$f":"IF(AND($E15<>0,$AQ15=\"\"),\"* No olvide escribir en las celdas de 'Pueblos Originarios' (Digite CERO si no tiene). \",IF(AND($F15<>0,$AR15=\"\"),\"* No olvide escribir en las celdas de 'Pueblos Originarios' (Digite CERO si no tiene). \",\"\"))","v":""},{"$f":"IF(AND($E15<>0,$AS15=\"\"),\"* No olvide escribir en las celdas de 'Población Migrantes' (Digite CERO si no tiene). \",IF(AND($F15<>0,$AT15=\"\"),\"* No olvide escribir en las celdas de 'Población Migrantes' (Digite CERO si no tiene). \",\"\"))","v":""},{"$nulls":8},{"$f":"IF($AO15>$F15,1,0)","v":0},{"$f":"IF($AP15>$F15,1,0)","v":0},{"$f":"IF(($AQ15)>$E15,1,0)","v":0},{"$f":"IF($AR15>$F15,1,0)","v":0},{"$f":"IF(($AS15)>$E15,1,0)","v":0},{"$f":"IF($AT15>$F15,1,0)","v":0},{"$f":"IF($AU15>$D15,1,0)","v":0},{"$f":"IF(AND($D15<>0,$AO15=\"\"),1,0)","v":0},{"$f":"IF(AND($D15<>0,$AP15=\"\"),1,0)","v":0},{"$f":"IF(AND($D15<>0,$AU15=\"\"),1,0)","v":0},{"$f":"IF(AND($E15<>0,$AQ15=\"\"),1,IF(AND($F15<>0,$AR15=\"\"),1,0))","v":0},{"$f":"IF(AND($E15<>0,$AS15=\"\"),1,IF(AND($F15<>0,$AT15=\"\"),1,0))","v":0}]
["P6221200",null,"AGRESOR/A",465,246,219,{"$f":"IFERROR(VLOOKUP($A16,Filtro!$A$5:$AY$629,5,FALSE),0)","v":0},{"$f":"IFERROR(VLOOKUP($A16,Filtro!$A$5:$AY$629,6,FALSE),0)","v":0},{"$f":"IFERROR(VLOOKUP($A16,Filtro!$A$5:$AY$629,7,FALSE),0)","v":0},{"$f":"IFERROR(VLOOKUP($A16,Filtro!$A$5:$AY$629,8,FALSE),0)","v":1},{"$f":"IFERROR(VLOOKUP($A16,Filtro!$A$5:$AY$629,9,FALSE),0)","v":2},{"$f":"IFERROR(VLOOKUP($A16,Filtro!$A$5:$AY$629,10,FALSE),0)","v":8},{"$f":"IFERROR(VLOOKUP($A16,Filtro!$A$5:$AY$629,11,FALSE),0)","v":42},{"$f":"IFERROR(VLOOKUP($A16,Filtro!$A$5:$AY$629,12,FALSE),0)","v":18},{"$f":"IFERROR(VLOOKUP($A16,Filtro!$A$5:$AY$629,13,FALSE),0)","v":12},{"$f":"IFERROR(VLOOKUP($A16,Filtro!$A$5:$AY$629,14,FALSE),0)","v":13},{"$f":"IFERROR(VLOOKUP($A16,Filtro!$A$5:$AY$629,15,FALSE),0)","v":21},{"$f":"IFERROR(VLOOKUP($A16,Filtro!$A$5:$AY$629,16,FALSE),0)","v":22},{"$f":"IFERROR(VLOOKUP($A16,Filtro!$A$5:$AY$629,17,FALSE),0)","v":19},{"$f":"IFERROR(VLOOKUP($A16,Filtro!$A$5:$AY$629,18,FALSE),0)","v":26},{"$f":"IFERROR(VLOOKUP($A16,Filtro!$A$5:$AY$629,19,FALSE),0)","v":31},{"$f":"IFERROR(VLOOKUP($A16,Filtro!$A$5:$AY$629,20,FALSE),0)","v":17},{"$f":"IFERROR(VLOOKUP($A16,Filtro!$A$5:$AY$629,21,FALSE),0)","v":23},{"$f":"IFERROR(VLOOKUP($A16,Filtro!$A$5:$AY$629,22,FALSE),0)","v":19},{"$f":"IFERROR(VLOOKUP($A16,Filtro!$A$5:$AY$629,23,FALSE),0)","v":24},{"$f":"IFERROR(VLOOKUP($A16,Filtro!$A$5:$AY$629,24,FALSE),0)","v":24},{"$f":"IFERROR(VLOOKUP($A16,Filtro!$A$5:$AY$629,25,FALSE),0)","v":19},{"$f":"IFERROR(VLOOKUP($A16,Filtro!$A$5:$AY$629,26,FALSE),0)","v":23},{"$f":"IFERROR(VLOOKUP($A16,Filtro!$A$5:$AY$629,27,FALSE),0)","v":19},{"$f":"IFERROR(VLOOKUP($A16,Filtro!$A$5:$AY$629,28,FALSE),0)","v":17},{"$f":"IFERROR(VLOOKUP($A16,Filtro!$A$5:$AY$629,29,FALSE),0)","v":14},{"$f":"IFERROR(VLOOKUP($A16,Filtro!$A$5:$AY$629,30,FALSE),0)","v":14},{"$f":"IFERROR(VLOOKUP($A16,Filtro!$A$5:$AY$629,31,FALSE),0)","v":9},{"$f":"IFERROR(VLOOKUP($A16,Filtro!$A$5:$AY$629,32,FALSE),0)","v":8},{"$f":"IFERROR(VLOOKUP($A16,Filtro!$A$5:$AY$629,33,FALSE),0)","v":6},{"$f":"IFERROR(VLOOKUP($A16,Filtro!$A$5:$AY$629,34,FALSE),0)","v":4},{"$f":"IFERROR(VLOOKUP($A16,Filtro!$A$5:$AY$629,35,FALSE),0)","v":2},{"$f":"IFERROR(VLOOKUP($A16,Filtro!$A$5:$AY$629,36,FALSE),0)","v":4},{"$f":"IFERROR(VLOOKUP($A16,Filtro!$A$5:$AY$629,37,FALSE),0)","v":3},{"$f":"IFERROR(VLOOKUP($A16,Filtro!$A$5:$AY$629,38,FALSE),0)","v":1},{"$f":"IFERROR(VLOOKUP($A16,Filtro!$A$5:$AY$629,39,FALSE),0)","v":0},{"$f":"IFERROR(VLOOKUP($A16,Filtro!$A$5:$AY$629,40,FALSE),0)","v":5},{"$f":"IFERROR(VLOOKUP($A16,Filtro!$A$5:$AY$629,41,FALSE),0)","v":1},{"$f":"IFERROR(VLOOKUP($A16,Filtro!$A$5:$AY$629,42,FALSE),0)","v":0},{"$f":"IFERROR(VLOOKUP($A16,Filtro!$A$5:$AY$629,43,FALSE),0)","v":1},{"$f":"IFERROR(VLOOKUP($A16,Filtro!$A$5:$AY$629,44,FALSE),0)","v":1},{"$f":"IFERROR(VLOOKUP($A16,Filtro!$A$5:$AY$629,45,FALSE),0)","v":44},{"$f":"IFERROR(VLOOKUP($A16,Filtro!$A$5:$AY$629,46,FALSE),0)","v":10},{"$f":"IFERROR(VLOOKUP($A16,Filtro!$A$5:$AY$629,47,FALSE),0)","v":4},{"$f":"IFERROR(VLOOKUP($A16,Filtro!$A$5:$AY$629,48,FALSE),0)","v":0},{"$f":"IFERROR(VLOOKUP($A16,Filtro!$A$5:$AY$629,49,FALSE),0)","v":0},{"$nulls":34},"","","","","","","","","","","","",{"$nulls":8},0,0,0,0,0,0,0,0,0,0,0,0]
["P6221500","ABUSO SEXUAL",null,294,33,261,{"$f":"IFERROR(VLOOKUP($A17,Filtro!$A$5:$AY$629,5,FALSE),0)","v":0},{"$f":"IFERROR(VLOOKUP($A17,Filtro!$A$5:$AY$629,6,FALSE),0)","v":0},{"$f":"IFERROR(VLOOKUP($A17,Filtro!$A$5:$AY$629,7,FALSE),0)","v":6},{"$f":"IFERROR(VLOOKUP($A17,Filtro!$A$5:$AY$629,8,FALSE),0)","v":7},{"$f":"IFERROR(VLOOKUP($A17,Filtro!$A$5:$AY$629,9,FALSE),0)","v":12},{"$f":"IFERROR(VLOOKUP($A17,Filtro!$A$5:$AY$629,10,FALSE),0)","v":61},{"$f":"IFERROR(VLOOKUP($A17,Filtro!$A$5:$AY$629,11,FALSE),0)","v":7},{"$f":"IFERROR(VLOOKUP($A17,Filtro!$A$5:$AY$629,12,FALSE),0)","v":74},{"$f":"IFERROR(VLOOKUP($A17,Filtro!$A$5:$AY$629,13,FALSE),0)","v":2},{"$f":"IFERROR(VLOOKUP($A17,Filtro!$A$5:$AY$629,14,FALSE),0)","v":16},{"$f":"IFERROR(VLOOKUP($A17,Filtro!$A$5:$AY$629,15,FALSE),0)","v":0},{"$f":"IFERROR(VLOOKUP($A17,Filtro!$A$5:$AY$629,16,FALSE),0)","v":17},{"$f":"IFERROR(VLOOKUP($A17,Filtro!$A$5:$AY$629,17,FALSE),0)","v":1},{"$f":"IFERROR(VLOOKUP($A17,Filtro!$A$5:$AY$629,18,FALSE),0)","v":20},{"$f":"IFERROR(VLOOKUP($A17,Filtro!$A$5:$AY$629,19,FALSE),0)","v":2},{"$f":"IFERROR(VLOOKUP($A17,Filtro!$A$5:$AY$629,20,FALSE),0)","v":9},{"$f":"IFERROR(VLOOKUP($A17,Filtro!$A$5:$AY$629,21,FALSE),0)","v":1},{"$f":"IFERROR(VLOOKUP($A17,Filtro!$A$5:$AY$629,22,FALSE),0)","v":6},{"$f":"IFERROR(VLOOKUP($A17,Filtro!$A$5:$AY$629,23,FALSE),0)","v":1},{"$f":"IFERROR(VLOOKUP($A17,Filtro!$A$5:$AY$629,24,FALSE),0)","v":11},{"$f":"IFERROR(VLOOKUP($A17,Filtro!$A$5:$AY$629,25,FALSE),0)","v":0},{"$f":"IFERROR(VLOOKUP($A17,Filtro!$A$5:$AY$629,26,FALSE),0)","v":7},{"$f":"IFERROR(VLOOKUP($A17,Filtro!$A$5:$AY$629,27,FALSE),0)","v":0},{"$f":"IFERROR(VLOOKUP($A17,Filtro!$A$5:$AY$629,28,FALSE),0)","v":7},{"$f":"IFERROR(VLOOKUP($A17,Filtro!$A$5:$AY$629,29,FALSE),0)","v":1},{"$f":"IFERROR(VLOOKUP($A17,Filtro!$A$5:$AY$629,30,FALSE),0)","v":12},{"$f":"IFERROR(VLOOKUP($A17,Filtro!$A$5:$AY$629,31,FALSE),0)","v":0},{"$f":"IFERROR(VLOOKUP($A17,Filtro!$A$5:$AY$629,32,FALSE),0)","v":9},{"$f":"IFERROR(VLOOKUP($A17,Filtro!$A$5:$AY$629,33,FALSE),0)","v":0},{"$f":"IFERROR(VLOOKUP($A17,Filtro!$A$5:$AY$629,34,FALSE),0)","v":3},{"$f":"IFERROR(VLOOKUP($A17,Filtro!$A$5:$AY$629,35,FALSE),0)","v":0},{"$f":"IFERROR(VLOOKUP($A17,Filtro!$A$5:$AY$629,36,FALSE),0)","v":0},{"$f":"IFERROR(VLOOKUP($A17,Filtro!$A$5:$AY$629,37,FALSE),0)","v":0},{"$f":"IFERROR(VLOOKUP($A17,Filtro!$A$5:$AY$629,38,FALSE),0)","v":2},{"$f":"IFERROR(VLOOKUP($A17,Filtro!$A$5:$AY$629,39,FALSE),0)","v":2},{"$f":"IFERROR(VLOOKUP($A17,Filtro!$A$5:$AY$629,40,FALSE),0)","v":11},{"$f":"IFERROR(VLOOKUP($A17,Filtro!$A$5:$AY$629,41,FALSE),0)","v":0},{"$f":"IFERROR(VLOOKUP($A17,Filtro!$A$5:$AY$629,42,FALSE),0)","v":0},{"$f":"IFERROR(VLOOKUP($A17,Filtro!$A$5:$AY$629,43,FALSE),0)","v":1},{"$f":"IFERROR(VLOOKUP($A17,Filtro!$A$5:$AY$629,44,FALSE),0)","v":3},{"$f":"IFERROR(VLOOKUP($A17,Filtro!$A$5:$AY$629,45,FALSE),0)","v":8},{"$f":"IFERROR(VLOOKUP($A17,Filtro!$A$5:$AY$629,46,FALSE),0)","v":61},{"$f":"IFERROR(VLOOKUP($A17,Filtro!$A$5:$AY$629,47,FALSE),0)","v":14},{"$f":"IFERROR(VLOOKUP($A17,Filtro!$A$5:$AY$629,48,FALSE),0)","v":3},{"$f":"IFERROR(VLOOKUP($A17,Filtro!$A$5:$AY$629,49,FALSE),0)","v":1},{"$nulls":34},"","","","","","","","","","","","",{"$nulls":8},0,0,0,0,0,0,0,0,0,0,0,0]
["P6230800","SUICIDIO","IDEACIÓN",783,{"$f":"+I18+K18+M18+O18+Q18+S18+U18+W18+Y18+AA18+AC18+AE18+AG18+AI18+AK18+AM18","v":169},{"$f":"+J18+L18+N18+P18+R18+T18+V18+X18+Z18+AB18+AD18+AF18+AH18+AJ18+AL18+AN18","v":614},0,0,{"$f":"IFERROR(VLOOKUP($A18,Filtro!$A$5:$AY$629,7,FALSE),0)","v":3},{"$f":"IFERROR(VLOOKUP($A18,Filtro!$A$5:$AY$629,8,FALSE),0)","v":3},{"$f":"IFERROR(VLOOKUP($A18,Filtro!$A$5:$AY$629,9,FALSE),0)","v":14},{"$f":"IFERROR(VLOOKUP($A18,Filtro!$A$5:$AY$629,10,FALSE),0)","v":87},{"$f":"IFERROR(VLOOKUP($A18,Filtro!$A$5:$AY$629,11,FALSE),0)","v":52},{"$f":"IFERROR(VLOOKUP($A18,Filtro!$A$5:$AY$629,12,FALSE),0)","v":148},{"$f":"IFERROR(VLOOKUP($A18,Filtro!$A$5:$AY$629,13,FALSE),0)","v":19},{"$f":"IFERROR(VLOOKUP($A18,Filtro!$A$5:$AY$629,14,FALSE),0)","v":47},{"$f":"IFERROR(VLOOKUP($A18,Filtro!$A$5:$AY$629,15,FALSE),0)","v":17},{"$f":"IFERROR(VLOOKUP($A18,Filtro!$A$5:$AY$629,16,FALSE),0)","v":40},{"$f":"IFERROR(VLOOKUP($A18,Filtro!$A$5:$AY$629,17,FALSE),0)","v":11},{"$f":"IFERROR(VLOOKUP($A18,Filtro!$A$5:$AY$629,18,FALSE),0)","v":48},{"$f":"IFERROR(VLOOKUP($A18,Filtro!$A$5:$AY$629,19,FALSE),0)","v":8},{"$f":"IFERROR(VLOOKUP($A18,Filtro!$A$5:$AY$629,20,FALSE),0)","v":32},{"$f":"IFERROR(VLOOKUP($A18,Filtro!$A$5:$AY$629,21,FALSE),0)","v":4},{"$f":"IFERROR(VLOOKUP($A18,Filtro!$A$5:$AY$629,22,FALSE),0)","v":17},{"$f":"IFERROR(VLOOKUP($A18,Filtro!$A$5:$AY$629,23,FALSE),0)","v":6},{"$f":"IFERROR(VLOOKUP($A18,Filtro!$A$5:$AY$629,24,FALSE),0)","v":28},{"$f":"IFERROR(VLOOKUP($A18,Filtro!$A$5:$AY$629,25,FALSE),0)","v":5},{"$f":"IFERROR(VLOOKUP($A18,Filtro!$A$5:$AY$629,26,FALSE),0)","v":42},{"$f":"IFERROR(VLOOKUP($A18,Filtro!$A$5:$AY$629,27,FALSE),0)","v":8},{"$f":"IFERROR(VLOOKUP($A18,Filtro!$A$5:$AY$629,28,FALSE),0)","v":39},{"$f":"IFERROR(VLOOKUP($A18,Filtro!$A$5:$AY$629,29,FALSE),0)","v":6},{"$f":"IFERROR(VLOOKUP($A18,Filtro!$A$5:$AY$629,30,FALSE),0)","v":21},{"$f":"IFERROR(VLOOKUP($A18,Filtro!$A$5:$AY$629,31,FALSE),0)","v":7},{"$f":"IFERROR(VLOOKUP($A18,Filtro!$A$5:$AY$629,32,FALSE),0)","v":28},{"$f":"IFERROR(VLOOKUP($A18,Filtro!$A$5:$AY$629,33,FALSE),0)","v":4},{"$f":"IFERROR(VLOOKUP($A18,Filtro!$A$5:$AY$629,34,FALSE),0)","v":15},{"$f":"IFERROR(VLOOKUP($A18,Filtro!$A$5:$AY$629,35,FALSE),0)","v":4},{"$f":"IFERROR(VLOOKUP($A18,Filtro!$A$5:$AY$629,36,FALSE),0)","v":16},{"$f":"IFERROR(VLOOKUP($A18,Filtro!$A$5:$AY$629,37,FALSE),0)","v":1},{"$f":"IFERROR(VLOOKUP($A18,Filtro!$A$5:$AY$629,38,FALSE),0)","v":3},{"$f":"IFERROR(VLOOKUP($A18,Filtro!$A$5:$AY$629,39,FALSE),0)","v":9},{"$f":"IFERROR(VLOOKUP($A18,Filtro!$A$5:$AY$629,40,FALSE),0)","v":18},{"$f":"IFERROR(VLOOKUP($A18,Filtro!$A$5:$AY$629,41,FALSE),0)","v":1},{"$f":"IFERROR(VLOOKUP($A18,Filtro!$A$5:$AY$629,42,FALSE),0)","v":6},{"$f":"IFERROR(VLOOKUP($A18,Filtro!$A$5:$AY$629,43,FALSE),0)","v":1},{"$f":"IFERROR(VLOOKUP($A18,Filtro!$A$5:$AY$629,44,FALSE),0)","v":7},{"$f":"IFERROR(VLOOKUP($A18,Filtro!$A$5:$AY$629,45,FALSE),0)","v":7},{"$f":"IFERROR(VLOOKUP($A18,Filtro!$A$5:$AY$629,46,FALSE),0)","v":65},{"$f":"IFERROR(VLOOKUP($A18,Filtro!$A$5:$AY$629,47,FALSE),0)","v":78},{"$f":"IFERROR(VLOOKUP($A18,Filtro!$A$5:$AY$629,48,FALSE),0)","v":5},{"$f":"IFERROR(VLOOKUP($A18,Filtro!$A$5:$AY$629,49,FALSE),0)","v":7},{"$nulls":34},"","","","","","","","","","","","",{"$nulls":8},0,0,0,0,0,0,0,0,0,0,0,0]
["P6230900",null,"INTENTO",432,{"$f":"+I19+K19+M19+O19+Q19+S19+U19+W19+Y19+AA19+AC19+AE19+AG19+AI19+AK19+AM19","v":117},{"$f":"+J19+L19+N19+P19+R19+T19+V19+X19+Z19+AB19+AD19+AF19+AH19+AJ19+AL19+AN19","v":315},0,0,{"$f":"IFERROR(VLOOKUP($A19,Filtro!$A$5:$AY$629,7,FALSE),0)","v":1},{"$f":"IFERROR(VLOOKUP($A19,Filtro!$A$5:$AY$629,8,FALSE),0)","v":1},{"$f":"IFERROR(VLOOKUP($A19,Filtro!$A$5:$AY$629,9,FALSE),0)","v":9},{"$f":"IFERROR(VLOOKUP($A19,Filtro!$A$5:$AY$629,10,FALSE),0)","v":42},{"$f":"IFERROR(VLOOKUP($A19,Filtro!$A$5:$AY$629,11,FALSE),0)","v":28},{"$f":"IFERROR(VLOOKUP($A19,Filtro!$A$5:$AY$629,12,FALSE),0)","v":80},{"$f":"IFERROR(VLOOKUP($A19,Filtro!$A$5:$AY$629,13,FALSE),0)","v":19},{"$f":"IFERROR(VLOOKUP($A19,Filtro!$A$5:$AY$629,14,FALSE),0)","v":38},{"$f":"IFERROR(VLOOKUP($A19,Filtro!$A$5:$AY$629,15,FALSE),0)","v":17},{"$f":"IFERROR(VLOOKUP($A19,Filtro!$A$5:$AY$629,16,FALSE),0)","v":17},{"$f":"IFERROR(VLOOKUP($A19,Filtro!$A$5:$AY$629,17,FALSE),0)","v":5},{"$f":"IFERROR(VLOOKUP($A19,Filtro!$A$5:$AY$629,18,FALSE),0)","v":23},{"$f":"IFERROR(VLOOKUP($A19,Filtro!$A$5:$AY$629,19,FALSE),0)","v":8},{"$f":"IFERROR(VLOOKUP($A19,Filtro!$A$5:$AY$629,20,FALSE),0)","v":18},{"$f":"IFERROR(VLOOKUP($A19,Filtro!$A$5:$AY$629,21,FALSE),0)","v":3},{"$f":"IFERROR(VLOOKUP($A19,Filtro!$A$5:$AY$629,22,FALSE),0)","v":11},{"$f":"IFERROR(VLOOKUP($A19,Filtro!$A$5:$AY$629,23,FALSE),0)","v":6},{"$f":"IFERROR(VLOOKUP($A19,Filtro!$A$5:$AY$629,24,FALSE),0)","v":14},{"$f":"IFERROR(VLOOKUP($A19,Filtro!$A$5:$AY$629,25,FALSE),0)","v":7},{"$f":"IFERROR(VLOOKUP($A19,Filtro!$A$5:$AY$629,26,FALSE),0)","v":23},{"$f":"IFERROR(VLOOKUP($A19,Filtro!$A$5:$AY$629,27,FALSE),0)","v":4},{"$f":"IFERROR(VLOOKUP($A19,Filtro!$A$5:$AY$629,28,FALSE),0)","v":17},{"$f":"IFERROR(VLOOKUP($A19,Filtro!$A$5:$AY$629,29,FALSE),0)","v":0},{"$f":"IFERROR(VLOOKUP($A19,Filtro!$A$5:$AY$629,30,FALSE),0)","v":11},{"$f":"IFERROR(VLOOKUP($A19,Filtro!$A$5:$AY$629,31,FALSE),0)","v":4},{"$f":"IFERROR(VLOOKUP($A19,Filtro!$A$5:$AY$629,32,FALSE),0)","v":10},{"$f":"IFERROR(VLOOKUP($A19,Filtro!$A$5:$AY$629,33,FALSE),0)","v":0},{"$f":"IFERROR(VLOOKUP($A19,Filtro!$A$5:$AY$629,34,FALSE),0)","v":5},{"$f":"IFERROR(VLOOKUP($A19,Filtro!$A$5:$AY$629,35,FALSE),0)","v":5},{"$f":"IFERROR(VLOOKUP($A19,Filtro!$A$5:$AY$629,36,FALSE),0)","v":4},{"$f":"IFERROR(VLOOKUP($A19,Filtro!$A$5:$AY$629,37,FALSE),0)","v":1},{"$f":"IFERROR(VLOOKUP($A19,Filtro!$A$5:$AY$629,38,FALSE),0)","v":1},{"$f":"IFERROR(VLOOKUP($A19,Filtro!$A$5:$AY$629,39,FALSE),0)","v":3},{"$f":"IFERROR(VLOOKUP($A19,Filtro!$A$5:$AY$629,40,FALSE),0)","v":15},{"$f":"IFERROR(VLOOKUP($A19,Filtro!$A$5:$AY$629,41,FALSE),0)","v":0},{"$f":"IFERROR(VLOOKUP($A19,Filtro!$A$5:$AY$629,42,FALSE),0)","v":4},{"$f":"IFERROR(VLOOKUP($A19,Filtro!$A$5:$AY$629,43,FALSE),0)","v":0},{"$f":"IFERROR(VLOOKUP($A19,Filtro!$A$5:$AY$629,44,FALSE),0)","v":4},{"$f":"IFERROR(VLOOKUP($A19,Filtro!$A$5:$AY$629,45,FALSE),0)","v":8},{"$f":"IFERROR(VLOOKUP($A19,Filtro!$A$5:$AY$629,46,FALSE),0)","v":24},{"$f":"IFERROR(VLOOKUP($A19,Filtro!$A$5:$AY$629,47,FALSE),0)","v":21},{"$f":"IFERROR(VLOOKUP($A19,Filtro!$A$5:$AY$629,48,FALSE),0)","v":4},{"$f":"IFERROR(VLOOKUP($A19,Filtro!$A$5:$AY$629,49,FALSE),0)","v":4},{"$nulls":34},"","","","","","","","","","","","",{"$nulls":8},0,0,0,0,0,0,0,0,0,0,0,0]
["P6227601","PERSONAS CON DIAGNOSTICOS DE TRASTORNOS MENTALES ",null,33504,9924,23580,{"$f":"IFERROR(VLOOKUP($A20,Filtro!$A$5:$AY$629,5,FALSE),0)","v":129},{"$f":"IFERROR(VLOOKUP($A20,Filtro!$A$5:$AY$629,6,FALSE),0)","v":90},{"$f":"IFERROR(VLOOKUP($A20,Filtro!$A$5:$AY$629,7,FALSE),0)","v":1317},{"$f":"IFERROR(VLOOKUP($A20,Filtro!$A$5:$AY$629,8,FALSE),0)","v":861},{"$f":"IFERROR(VLOOKUP($A20,Filtro!$A$5:$AY$629,9,FALSE),0)","v":1270},{"$f":"IFERROR(VLOOKUP($A20,Filtro!$A$5:$AY$629,10,FALSE),0)","v":1844},{"$f":"IFERROR(VLOOKUP($A20,Filtro!$A$5:$AY$629,11,FALSE),0)","v":1137},{"$f":"IFERROR(VLOOKUP($A20,Filtro!$A$5:$AY$629,12,FALSE),0)","v":2212},{"$f":"IFERROR(VLOOKUP($A20,Filtro!$A$5:$AY$629,13,FALSE),0)","v":594},{"$f":"IFERROR(VLOOKUP($A20,Filtro!$A$5:$AY$629,14,FALSE),0)","v":1462},{"$f":"IFERROR(VLOOKUP($A20,Filtro!$A$5:$AY$629,15,FALSE),0)","v":511},{"$f":"IFERROR(VLOOKUP($A20,Filtro!$A$5:$AY$629,16,FALSE),0)","v":1425},{"$f":"IFERROR(VLOOKUP($A20,Filtro!$A$5:$AY$629,17,FALSE),0)","v":481},{"$f":"IFERROR(VLOOKUP($A20,Filtro!$A$5:$AY$629,18,FALSE),0)","v":1428},{"$f":"IFERROR(VLOOKUP($A20,Filtro!$A$5:$AY$629,19,FALSE),0)","v":481},{"$f":"IFERROR(VLOOKUP($A20,Filtro!$A$5:$AY$629,20,FALSE),0)","v":1373},{"$f":"IFERROR(VLOOKUP($A20,Filtro!$A$5:$AY$629,21,FALSE),0)","v":445},{"$f":"IFERROR(VLOOKUP($A20,Filtro!$A$5:$AY$629,22,FALSE),0)","v":1423},{"$f":"IFERROR(VLOOKUP($A20,Filtro!$A$5:$AY$629,23,FALSE),0)","v":480},{"$f":"IFERROR(VLOOKUP($A20,Filtro!$A$5:$AY$629,24,FALSE),0)","v":1437},{"$f":"IFERROR(VLOOKUP($A20,Filtro!$A$5:$AY$629,25,FALSE),0)","v":503},{"$f":"IFERROR(VLOOKUP($A20,Filtro!$A$5:$AY$629,26,FALSE),0)","v":1719},{"$f":"IFERROR(VLOOKUP($A20,Filtro!$A$5:$AY$629,27,FALSE),0)","v":491},{"$f":"IFERROR(VLOOKUP($A20,Filtro!$A$5:$AY$629,28,FALSE),0)","v":1769},{"$f":"IFERROR(VLOOKUP($A20,Filtro!$A$5:$AY$629,29,FALSE),0)","v":503},{"$f":"IFERROR(VLOOKUP($A20,Filtro!$A$5:$AY$629,30,FALSE),0)","v":1665},{"$f":"IFERROR(VLOOKUP($A20,Filtro!$A$5:$AY$629,31,FALSE),0)","v":436},{"$f":"IFERROR(VLOOKUP($A20,Filtro!$A$5:$AY$629,32,FALSE),0)","v":1535},{"$f":"IFERROR(VLOOKUP($A20,Filtro!$A$5:$AY$629,33,FALSE),0)","v":401},{"$f":"IFERROR(VLOOKUP($A20,Filtro!$A$5:$AY$629,34,FALSE),0)","v":1258},{"$f":"IFERROR(VLOOKUP($A20,Filtro!$A$5:$AY$629,35,FALSE),0)","v":305},{"$f":"IFERROR(VLOOKUP($A20,Filtro!$A$5:$AY$629,36,FALSE),0)","v":912},{"$f":"IFERROR(VLOOKUP($A20,Filtro!$A$5:$AY$629,37,FALSE),0)","v":440},{"$f":"IFERROR(VLOOKUP($A20,Filtro!$A$5:$AY$629,38,FALSE),0)","v":1167},{"$f":"IFERROR(VLOOKUP($A20,Filtro!$A$5:$AY$629,39,FALSE),0)","v":127},{"$f":"IFERROR(VLOOKUP($A20,Filtro!$A$5:$AY$629,40,FALSE),0)","v":592},{"$f":"IFERROR(VLOOKUP($A20,Filtro!$A$5:$AY$629,41,FALSE),0)","v":60},{"$f":"IFERROR(VLOOKUP($A20,Filtro!$A$5:$AY$629,42,FALSE),0)","v":163},{"$f":"IFERROR(VLOOKUP($A20,Filtro!$A$5:$AY$629,43,FALSE),0)","v":69},{"$f":"IFERROR(VLOOKUP($A20,Filtro!$A$5:$AY$629,44,FALSE),0)","v":178},{"$f":"IFERROR(VLOOKUP($A20,Filtro!$A$5:$AY$629,45,FALSE),0)","v":102},{"$f":"IFERROR(VLOOKUP($A20,Filtro!$A$5:$AY$629,46,FALSE),0)","v":676},{"$f":"IFERROR(VLOOKUP($A20,Filtro!$A$5:$AY$629,47,FALSE),0)","v":1594},{"$f":"IFERROR(VLOOKUP($A20,Filtro!$A$5:$AY$629,48,FALSE),0)","v":60},{"$f":"IFERROR(VLOOKUP($A20,Filtro!$A$5:$AY$629,49,FALSE),0)","v":24},{"$nulls":34},"","","","","","","","","","","","",{"$nulls":8},0,0,0,0,0,0,0,0,0,0,0,0]
["P6221600","TRASTORNOS DEL HUMOR\n(AFECTIVOS)","DEPRESIÓN LEVE",{"$f":"SUM(E21:F21)","v":3377},605,2772,{"$f":"IFERROR(VLOOKUP($A21,Filtro!$A$5:$AY$629,5,FALSE),0)","v":0},{"$f":"IFERROR(VLOOKUP($A21,Filtro!$A$5:$AY$629,6,FALSE),0)","v":0},{"$f":"IFERROR(VLOOKUP($A21,Filtro!$A$5:$AY$629,7,FALSE),0)","v":6},{"$f":"IFERROR(VLOOKUP($A21,Filtro!$A$5:$AY$629,8,FALSE),0)","v":10},{"$f":"IFERROR(VLOOKUP($A21,Filtro!$A$5:$AY$629,9,FALSE),0)","v":43},{"$f":"IFERROR(VLOOKUP($A21,Filtro!$A$5:$AY$629,10,FALSE),0)","v":131},{"$f":"IFERROR(VLOOKUP($A21,Filtro!$A$5:$AY$629,11,FALSE),0)","v":76},{"$f":"IFERROR(VLOOKUP($A21,Filtro!$A$5:$AY$629,12,FALSE),0)","v":211},{"$f":"IFERROR(VLOOKUP($A21,Filtro!$A$5:$AY$629,13,FALSE),0)","v":55},{"$f":"IFERROR(VLOOKUP($A21,Filtro!$A$5:$AY$629,14,FALSE),0)","v":157},{"$f":"IFERROR(VLOOKUP($A21,Filtro!$A$5:$AY$629,15,FALSE),0)","v":41},{"$f":"IFERROR(VLOOKUP($A21,Filtro!$A$5:$AY$629,16,FALSE),0)","v":165},{"$f":"IFERROR(VLOOKUP($A21,Filtro!$A$5:$AY$629,17,FALSE),0)","v":30},{"$f":"IFERROR(VLOOKUP($A21,Filtro!$A$5:$AY$629,18,FALSE),0)","v":167},{"$f":"IFERROR(VLOOKUP($A21,Filtro!$A$5:$AY$629,19,FALSE),0)","v":29},{"$f":"IFERROR(VLOOKUP($A21,Filtro!$A$5:$AY$629,20,FALSE),0)","v":143},{"$f":"IFERROR(VLOOKUP($A21,Filtro!$A$5:$AY$629,21,FALSE),0)","v":24},{"$f":"IFERROR(VLOOKUP($A21,Filtro!$A$5:$AY$629,22,FALSE),0)","v":180},{"$f":"IFERROR(VLOOKUP($A21,Filtro!$A$5:$AY$629,23,FALSE),0)","v":25},{"$f":"IFERROR(VLOOKUP($A21,Filtro!$A$5:$AY$629,24,FALSE),0)","v":172},{"$f":"IFERROR(VLOOKUP($A21,Filtro!$A$5:$AY$629,25,FALSE),0)","v":33},{"$f":"IFERROR(VLOOKUP($A21,Filtro!$A$5:$AY$629,26,FALSE),0)","v":235},{"$f":"IFERROR(VLOOKUP($A21,Filtro!$A$5:$AY$629,27,FALSE),0)","v":32},{"$f":"IFERROR(VLOOKUP($A21,Filtro!$A$5:$AY$629,28,FALSE),0)","v":238},{"$f":"IFERROR(VLOOKUP($A21,Filtro!$A$5:$AY$629,29,FALSE),0)","v":55},{"$f":"IFERROR(VLOOKUP($A21,Filtro!$A$5:$AY$629,30,FALSE),0)","v":250},{"$f":"IFERROR(VLOOKUP($A21,Filtro!$A$5:$AY$629,31,FALSE),0)","v":31},{"$f":"IFERROR(VLOOKUP($A21,Filtro!$A$5:$AY$629,32,FALSE),0)","v":228},{"$f":"IFERROR(VLOOKUP($A21,Filtro!$A$5:$AY$629,33,FALSE),0)","v":45},{"$f":"IFERROR(VLOOKUP($A21,Filtro!$A$5:$AY$629,34,FALSE),0)","v":171},{"$f":"IFERROR(VLOOKUP($A21,Filtro!$A$5:$AY$629,35,FALSE),0)","v":40},{"$f":"IFERROR(VLOOKUP($A21,Filtro!$A$5:$AY$629,36,FALSE),0)","v":139},{"$f":"IFERROR(VLOOKUP($A21,Filtro!$A$5:$AY$629,37,FALSE),0)","v":40},{"$f":"IFERROR(VLOOKUP($A21,Filtro!$A$5:$AY$629,38,FALSE),0)","v":175},{"$f":"IFERROR(VLOOKUP($A21,Filtro!$A$5:$AY$629,39,FALSE),0)","v":15},{"$f":"IFERROR(VLOOKUP($A21,Filtro!$A$5:$AY$629,40,FALSE),0)","v":69},{"$f":"IFERROR(VLOOKUP($A21,Filtro!$A$5:$AY$629,41,FALSE),0)","v":5},{"$f":"IFERROR(VLOOKUP($A21,Filtro!$A$5:$AY$629,42,FALSE),0)","v":14},{"$f":"IFERROR(VLOOKUP($A21,Filtro!$A$5:$AY$629,43,FALSE),0)","v":3},{"$f":"IFERROR(VLOOKUP($A21,Filtro!$A$5:$AY$629,44,FALSE),0)","v":14},{"$f":"IFERROR(VLOOKUP($A21,Filtro!$A$5:$AY$629,45,FALSE),0)","v":14},{"$f":"IFERROR(VLOOKUP($A21,Filtro!$A$5:$AY$629,46,FALSE),0)","v":26},{"$f":"IFERROR(VLOOKUP($A21,Filtro!$A$5:$AY$629,47,FALSE),0)","v":121},{"$f":"IFERROR(VLOOKUP($A21,Filtro!$A$5:$AY$629,48,FALSE),0)","v":4},{"$f":"IFERROR(VLOOKUP($A21,Filtro!$A$5:$AY$629,49,FALSE),0)","v":0},{"$nulls":34},"","","","","","","","","","","","",{"$nulls":8},0,0,0,0,0,0,0,0,0,0,0,0]
["P6227500",null,"DEPRESIÓN MODERADA",5697,916,4781,{"$f":"IFERROR(VLOOKUP($A22,Filtro!$A$5:$AY$629,5,FALSE),0)","v":0},{"$f":"IFERROR(VLOOKUP($A22,Filtro!$A$5:$AY$629,6,FALSE),0)","v":1},{"$f":"IFERROR(VLOOKUP($A22,Filtro!$A$5:$AY$629,7,FALSE),0)","v":6},{"$f":"IFERROR(VLOOKUP($A22,Filtro!$A$5:$AY$629,8,FALSE),0)","v":3},{"$f":"IFERROR(VLOOKUP($A22,Filtro!$A$5:$AY$629,9,FALSE),0)","v":32},{"$f":"IFERROR(VLOOKUP($A22,Filtro!$A$5:$AY$629,10,FALSE),0)","v":165},{"$f":"IFERROR(VLOOKUP($A22,Filtro!$A$5:$AY$629,11,FALSE),0)","v":125},{"$f":"IFERROR(VLOOKUP($A22,Filtro!$A$5:$AY$629,12,FALSE),0)","v":361},{"$f":"IFERROR(VLOOKUP($A22,Filtro!$A$5:$AY$629,13,FALSE),0)","v":73},{"$f":"IFERROR(VLOOKUP($A22,Filtro!$A$5:$AY$629,14,FALSE),0)","v":245},{"$f":"IFERROR(VLOOKUP($A22,Filtro!$A$5:$AY$629,15,FALSE),0)","v":63},{"$f":"IFERROR(VLOOKUP($A22,Filtro!$A$5:$AY$629,16,FALSE),0)","v":274},{"$f":"IFERROR(VLOOKUP($A22,Filtro!$A$5:$AY$629,17,FALSE),0)","v":45},{"$f":"IFERROR(VLOOKUP($A22,Filtro!$A$5:$AY$629,18,FALSE),0)","v":294},{"$f":"IFERROR(VLOOKUP($A22,Filtro!$A$5:$AY$629,19,FALSE),0)","v":41},{"$f":"IFERROR(VLOOKUP($A22,Filtro!$A$5:$AY$629,20,FALSE),0)","v":252},{"$f":"IFERROR(VLOOKUP($A22,Filtro!$A$5:$AY$629,21,FALSE),0)","v":45},{"$f":"IFERROR(VLOOKUP($A22,Filtro!$A$5:$AY$629,22,FALSE),0)","v":322},{"$f":"IFERROR(VLOOKUP($A22,Filtro!$A$5:$AY$629,23,FALSE),0)","v":42},{"$f":"IFERROR(VLOOKUP($A22,Filtro!$A$5:$AY$629,24,FALSE),0)","v":341},{"$f":"IFERROR(VLOOKUP($A22,Filtro!$A$5:$AY$629,25,FALSE),0)","v":72},{"$f":"IFERROR(VLOOKUP($A22,Filtro!$A$5:$AY$629,26,FALSE),0)","v":457},{"$f":"IFERROR(VLOOKUP($A22,Filtro!$A$5:$AY$629,27,FALSE),0)","v":66},{"$f":"IFERROR(VLOOKUP($A22,Filtro!$A$5:$AY$629,28,FALSE),0)","v":462},{"$f":"IFERROR(VLOOKUP($A22,Filtro!$A$5:$AY$629,29,FALSE),0)","v":71},{"$f":"IFERROR(VLOOKUP($A22,Filtro!$A$5:$AY$629,30,FALSE),0)","v":456},{"$f":"IFERROR(VLOOKUP($A22,Filtro!$A$5:$AY$629,31,FALSE),0)","v":61},{"$f":"IFERROR(VLOOKUP($A22,Filtro!$A$5:$AY$629,32,FALSE),0)","v":393},{"$f":"IFERROR(VLOOKUP($A22,Filtro!$A$5:$AY$629,33,FALSE),0)","v":64},{"$f":"IFERROR(VLOOKUP($A22,Filtro!$A$5:$AY$629,34,FALSE),0)","v":303},{"$f":"IFERROR(VLOOKUP($A22,Filtro!$A$5:$AY$629,35,FALSE),0)","v":49},{"$f":"IFERROR(VLOOKUP($A22,Filtro!$A$5:$AY$629,36,FALSE),0)","v":211},{"$f":"IFERROR(VLOOKUP($A22,Filtro!$A$5:$AY$629,37,FALSE),0)","v":61},{"$f":"IFERROR(VLOOKUP($A22,Filtro!$A$5:$AY$629,38,FALSE),0)","v":241},{"$f":"IFERROR(VLOOKUP($A22,Filtro!$A$5:$AY$629,39,FALSE),0)","v":23},{"$f":"IFERROR(VLOOKUP($A22,Filtro!$A$5:$AY$629,40,FALSE),0)","v":155},{"$f":"IFERROR(VLOOKUP($A22,Filtro!$A$5:$AY$629,41,FALSE),0)","v":4},{"$f":"IFERROR(VLOOKUP($A22,Filtro!$A$5:$AY$629,42,FALSE),0)","v":39},{"$f":"IFERROR(VLOOKUP($A22,Filtro!$A$5:$AY$629,43,FALSE),0)","v":6},{"$f":"IFERROR(VLOOKUP($A22,Filtro!$A$5:$AY$629,44,FALSE),0)","v":36},{"$f":"IFERROR(VLOOKUP($A22,Filtro!$A$5:$AY$629,45,FALSE),0)","v":14},{"$f":"IFERROR(VLOOKUP($A22,Filtro!$A$5:$AY$629,46,FALSE),0)","v":67},{"$f":"IFERROR(VLOOKUP($A22,Filtro!$A$5:$AY$629,47,FALSE),0)","v":176},{"$f":"IFERROR(VLOOKUP($A22,Filtro!$A$5:$AY$629,48,FALSE),0)","v":9},{"$f":"IFERROR(VLOOKUP($A22,Filtro!$A$5:$AY$629,49,FALSE),0)","v":5},{"$nulls":34},"","","","","","","","","","","","",{"$nulls":8},0,0,0,0,0,0,0,0,0,0,0,0]
["P6227600",null,"DEPRESIÓN GRAVE",1027,217,810,{"$f":"IFERROR(VLOOKUP($A23,Filtro!$A$5:$AY$629,5,FALSE),0)","v":0},{"$f":"IFERROR(VLOOKUP($A23,Filtro!$A$5:$AY$629,6,FALSE),0)","v":0},{"$f":"IFERROR(VLOOKUP($A23,Filtro!$A$5:$AY$629,7,FALSE),0)","v":0},{"$f":"IFERROR(VLOOKUP($A23,Filtro!$A$5:$AY$629,8,FALSE),0)","v":4},{"$f":"IFERROR(VLOOKUP($A23,Filtro!$A$5:$AY$629,9,FALSE),0)","v":8},{"$f":"IFERROR(VLOOKUP($A23,Filtro!$A$5:$AY$629,10,FALSE),0)","v":51},{"$f":"IFERROR(VLOOKUP($A23,Filtro!$A$5:$AY$629,11,FALSE),0)","v":32},{"$f":"IFERROR(VLOOKUP($A23,Filtro!$A$5:$AY$629,12,FALSE),0)","v":106},{"$f":"IFERROR(VLOOKUP($A23,Filtro!$A$5:$AY$629,13,FALSE),0)","v":20},{"$f":"IFERROR(VLOOKUP($A23,Filtro!$A$5:$AY$629,14,FALSE),0)","v":69},{"$f":"IFERROR(VLOOKUP($A23,Filtro!$A$5:$AY$629,15,FALSE),0)","v":21},{"$f":"IFERROR(VLOOKUP($A23,Filtro!$A$5:$AY$629,16,FALSE),0)","v":45},{"$f":"IFERROR(VLOOKUP($A23,Filtro!$A$5:$AY$629,17,FALSE),0)","v":11},{"$f":"IFERROR(VLOOKUP($A23,Filtro!$A$5:$AY$629,18,FALSE),0)","v":46},{"$f":"IFERROR(VLOOKUP($A23,Filtro!$A$5:$AY$629,19,FALSE),0)","v":17},{"$f":"IFERROR(VLOOKUP($A23,Filtro!$A$5:$AY$629,20,FALSE),0)","v":58},{"$f":"IFERROR(VLOOKUP($A23,Filtro!$A$5:$AY$629,21,FALSE),0)","v":17},{"$f":"IFERROR(VLOOKUP($A23,Filtro!$A$5:$AY$629,22,FALSE),0)","v":48},{"$f":"IFERROR(VLOOKUP($A23,Filtro!$A$5:$AY$629,23,FALSE),0)","v":18},{"$f":"IFERROR(VLOOKUP($A23,Filtro!$A$5:$AY$629,24,FALSE),0)","v":49},{"$f":"IFERROR(VLOOKUP($A23,Filtro!$A$5:$AY$629,25,FALSE),0)","v":14},{"$f":"IFERROR(VLOOKUP($A23,Filtro!$A$5:$AY$629,26,FALSE),0)","v":85},{"$f":"IFERROR(VLOOKUP($A23,Filtro!$A$5:$AY$629,27,FALSE),0)","v":15},{"$f":"IFERROR(VLOOKUP($A23,Filtro!$A$5:$AY$629,28,FALSE),0)","v":76},{"$f":"IFERROR(VLOOKUP($A23,Filtro!$A$5:$AY$629,29,FALSE),0)","v":19},{"$f":"IFERROR(VLOOKUP($A23,Filtro!$A$5:$AY$629,30,FALSE),0)","v":62},{"$f":"IFERROR(VLOOKUP($A23,Filtro!$A$5:$AY$629,31,FALSE),0)","v":8},{"$f":"IFERROR(VLOOKUP($A23,Filtro!$A$5:$AY$629,32,FALSE),0)","v":61},{"$f":"IFERROR(VLOOKUP($A23,Filtro!$A$5:$AY$629,33,FALSE),0)","v":8},{"$f":"IFERROR(VLOOKUP($A23,Filtro!$A$5:$AY$629,34,FALSE),0)","v":28},{"$f":"IFERROR(VLOOKUP($A23,Filtro!$A$5:$AY$629,35,FALSE),0)","v":5},{"$f":"IFERROR(VLOOKUP($A23,Filtro!$A$5:$AY$629,36,FALSE),0)","v":11},{"$f":"IFERROR(VLOOKUP($A23,Filtro!$A$5:$AY$629,37,FALSE),0)","v":4},{"$f":"IFERROR(VLOOKUP($A23,Filtro!$A$5:$AY$629,38,FALSE),0)","v":11},{"$f":"IFERROR(VLOOKUP($A23,Filtro!$A$5:$AY$629,39,FALSE),0)","v":4},{"$f":"IFERROR(VLOOKUP($A23,Filtro!$A$5:$AY$629,40,FALSE),0)","v":18},{"$f":"IFERROR(VLOOKUP($A23,Filtro!$A$5:$AY$629,41,FALSE),0)","v":1},{"$f":"IFERROR(VLOOKUP($A23,Filtro!$A$5:$AY$629,42,FALSE),0)","v":6},{"$f":"IFERROR(VLOOKUP($A23,Filtro!$A$5:$AY$629,43,FALSE),0)","v":1},{"$f":"IFERROR(VLOOKUP($A23,Filtro!$A$5:$AY$629,44,FALSE),0)","v":6},{"$f":"IFERROR(VLOOKUP($A23,Filtro!$A$5:$AY$629,45,FALSE),0)","v":2},{"$f":"IFERROR(VLOOKUP($A23,Filtro!$A$5:$AY$629,46,FALSE),0)","v":16},{"$f":"IFERROR(VLOOKUP($A23,Filtro!$A$5:$AY$629,47,FALSE),0)","v":95},{"$f":"IFERROR(VLOOKUP($A23,Filtro!$A$5:$AY$629,48,FALSE),0)","v":7},{"$f":"IFERROR(VLOOKUP($A23,Filtro!$A$5:$AY$629,49,FALSE),0)","v":1},{"$nulls":34},"","","","","","","","","","","","",{"$nulls":8},0,0,0,0,0,0,0,0,0,0,0,0]
["P6221700",null,"DEPRESIÓN POST PARTO",96,0,96,0,0,0,0,0,{"$f":"IFERROR(VLOOKUP($A24,Filtro!$A$5:$AY$629,10,FALSE),0)","v":0},0,{"$f":"IFERROR(VLOOKUP($A24,Filtro!$A$5:$AY$629,12,FALSE),0)","v":7},0,{"$f":"IFERROR(VLOOKUP($A24,Filtro!$A$5:$AY$629,14,FALSE),0)","v":16},0,{"$f":"IFERROR(VLOOKUP($A24,Filtro!$A$5:$AY$629,16,FALSE),0)","v":18},0,{"$f":"IFERROR(VLOOKUP($A24,Filtro!$A$5:$AY$629,18,FALSE),0)","v":25},0,{"$f":"IFERROR(VLOOKUP($A24,Filtro!$A$5:$AY$629,20,FALSE),0)","v":14},0,{"$f":"IFERROR(VLOOKUP($A24,Filtro!$A$5:$AY$629,22,FALSE),0)","v":11},0,{"$f":"IFERROR(VLOOKUP($A24,Filtro!$A$5:$AY$629,24,FALSE),0)","v":3},0,{"$f":"IFERROR(VLOOKUP($A24,Filtro!$A$5:$AY$629,26,FALSE),0)","v":1},0,{"$f":"IFERROR(VLOOKUP($A24,Filtro!$A$5:$AY$629,28,FALSE),0)","v":1},0,0,0,0,0,0,0,0,0,0,0,{"$f":"IFERROR(VLOOKUP($A24,Filtro!$A$5:$AY$629,40,FALSE),0)","v":53},0,{"$f":"IFERROR(VLOOKUP($A24,Filtro!$A$5:$AY$629,42,FALSE),0)","v":1},0,{"$f":"IFERROR(VLOOKUP($A24,Filtro!$A$5:$AY$629,44,FALSE),0)","v":3},{"$f":"IFERROR(VLOOKUP($A24,Filtro!$A$5:$AY$629,45,FALSE),0)","v":0},{"$f":"IFERROR(VLOOKUP($A24,Filtro!$A$5:$AY$629,46,FALSE),0)","v":0},{"$f":"IFERROR(VLOOKUP($A24,Filtro!$A$5:$AY$629,47,FALSE),0)","v":1},{"$f":"IFERROR(VLOOKUP($A24,Filtro!$A$5:$AY$629,48,FALSE),0)","v":0},{"$f":"IFERROR(VLOOKUP($A24,Filtro!$A$5:$AY$629,49,FALSE),0)","v":0},{"$nulls":35},"",null,"",null,"","",null,{"$f":"IF(AND($D24<>0,$AP24=\"\"),\"* No olvide escribir en la celda de 'Madres de Hijos menor de 5 años' (Digite CERO si no tiene). \",\"\")","v":""},{"$f":"IF(AND($D24<>0,$AU24=\"\"),\"* No olvide escribir en la celda de 'Niños, Niñas, Adolescentes y Jóvenes de Población SENAME' (Digite CERO si no tiene). \",\"\")","v":""},{"$f":"IF(AND($F24<>0,$AR24=\"\"),\"* No olvide escribir en las celdas de 'Pueblos Originarios / Mujeres' (Digite CERO si no tiene). \",\"\")","v":""},{"$f":"IF(AND($F24<>0,$AT24=\"\"),\"* No olvide escribir en las celdas de ''Población Migrantes / Mujeres' (Digite CERO si no tiene). \",\"\")","v":""},{"$nulls":9},0,null,0,null,0,0,null,0,0,{"$f":"IF(AND($F24<>0,$AR24=\"\"),1,0)","v":0},{"$f":"IF(AND($F24<>0,$AT24=\"\"),1,0)","v":0}]
["P6221800",null,"TRASTORNO BIPOLAR",{"$f":"SUM(E25:F25)","v":406},{"$f":"+G25+I25+K25+M25+O25+Q25+S25+U25+W25+Y25+AA25+AC25+AE25+AG25+AI25+AK25+AM25","v":106},300,{"$f":"IFERROR(VLOOKUP($A25,Filtro!$A$5:$AY$629,5,FALSE),0)","v":0},{"$f":"IFERROR(VLOOKUP($A25,Filtro!$A$5:$AY$629,6,FALSE),0)","v":0},{"$f":"IFERROR(VLOOKUP($A25,Filtro!$A$5:$AY$629,7,FALSE),0)","v":0},{"$f":"IFERROR(VLOOKUP($A25,Filtro!$A$5:$AY$629,8,FALSE),0)","v":0},{"$f":"IFERROR(VLOOKUP($A25,Filtro!$A$5:$AY$629,9,FALSE),0)","v":3},{"$f":"IFERROR(VLOOKUP($A25,Filtro!$A$5:$AY$629,10,FALSE),0)","v":6},{"$f":"IFERROR(VLOOKUP($A25,Filtro!$A$5:$AY$629,11,FALSE),0)","v":5},{"$f":"IFERROR(VLOOKUP($A25,Filtro!$A$5:$AY$629,12,FALSE),0)","v":20},{"$f":"IFERROR(VLOOKUP($A25,Filtro!$A$5:$AY$629,13,FALSE),0)","v":9},{"$f":"IFERROR(VLOOKUP($A25,Filtro!$A$5:$AY$629,14,FALSE),0)","v":26},{"$f":"IFERROR(VLOOKUP($A25,Filtro!$A$5:$AY$629,15,FALSE),0)","v":16},{"$f":"IFERROR(VLOOKUP($A25,Filtro!$A$5:$AY$629,16,FALSE),0)","v":29},{"$f":"IFERROR(VLOOKUP($A25,Filtro!$A$5:$AY$629,17,FALSE),0)","v":10},{"$f":"IFERROR(VLOOKUP($A25,Filtro!$A$5:$AY$629,18,FALSE),0)","v":24},{"$f":"IFERROR(VLOOKUP($A25,Filtro!$A$5:$AY$629,19,FALSE),0)","v":17},{"$f":"IFERROR(VLOOKUP($A25,Filtro!$A$5:$AY$629,20,FALSE),0)","v":23},{"$f":"IFERROR(VLOOKUP($A25,Filtro!$A$5:$AY$629,21,FALSE),0)","v":10},{"$f":"IFERROR(VLOOKUP($A25,Filtro!$A$5:$AY$629,22,FALSE),0)","v":18},{"$f":"IFERROR(VLOOKUP($A25,Filtro!$A$5:$AY$629,23,FALSE),0)","v":5},{"$f":"IFERROR(VLOOKUP($A25,Filtro!$A$5:$AY$629,24,FALSE),0)","v":35},{"$f":"IFERROR(VLOOKUP($A25,Filtro!$A$5:$AY$629,25,FALSE),0)","v":10},{"$f":"IFERROR(VLOOKUP($A25,Filtro!$A$5:$AY$629,26,FALSE),0)","v":24},{"$f":"IFERROR(VLOOKUP($A25,Filtro!$A$5:$AY$629,27,FALSE),0)","v":4},{"$f":"IFERROR(VLOOKUP($A25,Filtro!$A$5:$AY$629,28,FALSE),0)","v":26},{"$f":"IFERROR(VLOOKUP($A25,Filtro!$A$5:$AY$629,29,FALSE),0)","v":10},{"$f":"IFERROR(VLOOKUP($A25,Filtro!$A$5:$AY$629,30,FALSE),0)","v":26},{"$f":"IFERROR(VLOOKUP($A25,Filtro!$A$5:$AY$629,31,FALSE),0)","v":2},{"$f":"IFERROR(VLOOKUP($A25,Filtro!$A$5:$AY$629,32,FALSE),0)","v":19},{"$f":"IFERROR(VLOOKUP($A25,Filtro!$A$5:$AY$629,33,FALSE),0)","v":1},{"$f":"IFERROR(VLOOKUP($A25,Filtro!$A$5:$AY$629,34,FALSE),0)","v":14},{"$f":"IFERROR(VLOOKUP($A25,Filtro!$A$5:$AY$629,35,FALSE),0)","v":3},{"$f":"IFERROR(VLOOKUP($A25,Filtro!$A$5:$AY$629,36,FALSE),0)","v":5},{"$f":"IFERROR(VLOOKUP($A25,Filtro!$A$5:$AY$629,37,FALSE),0)","v":1},{"$f":"IFERROR(VLOOKUP($A25,Filtro!$A$5:$AY$629,38,FALSE),0)","v":5},{"$f":"IFERROR(VLOOKUP($A25,Filtro!$A$5:$AY$629,39,FALSE),0)","v":1},{"$f":"IFERROR(VLOOKUP($A25,Filtro!$A$5:$AY$629,40,FALSE),0)","v":5},{"$f":"IFERROR(VLOOKUP($A25,Filtro!$A$5:$AY$629,41,FALSE),0)","v":0},{"$f":"IFERROR(VLOOKUP($A25,Filtro!$A$5:$AY$629,42,FALSE),0)","v":3},{"$f":"IFERROR(VLOOKUP($A25,Filtro!$A$5:$AY$629,43,FALSE),0)","v":0},{"$f":"IFERROR(VLOOKUP($A25,Filtro!$A$5:$AY$629,44,FALSE),0)","v":1},{"$f":"IFERROR(VLOOKUP($A25,Filtro!$A$5:$AY$629,45,FALSE),0)","v":0},{"$f":"IFERROR(VLOOKUP($A25,Filtro!$A$5:$AY$629,46,FALSE),0)","v":2},{"$f":"IFERROR(VLOOKUP($A25,Filtro!$A$5:$AY$629,47,FALSE),0)","v":19},{"$f":"IFERROR(VLOOKUP($A25,Filtro!$A$5:$AY$629,48,FALSE),0)","v":0},{"$f":"IFERROR(VLOOKUP($A25,Filtro!$A$5:$AY$629,49,FALSE),0)","v":0},{"$nulls":34},{"$f":"IF($AO25>$F25,\"* La celda 'Gestantes' debe ser menor o igual al Total de Mujeres en control. \",\"\")","v":""},{"$f":"IF($AP25>$F25,\"* La celda 'Madres de Hijos menor de 5 años' debe ser menor o igual al Total de Mujeres en control. \",\"\")","v":""},{"$f":"IF(($AQ25)>$E25,\"* La celda 'Pueblos Originarios / Hombres' debe ser menor o igual al Total de Hombres en control. \",\"\")","v":""},{"$f":"IF($AR25>$F25,\"* La celda 'Pueblos Originarios / Mujeres' debe ser menor o igual al Total de Mujeres en control. \",\"\")","v":""},{"$f":"IF(($AS25)>$E25,\"* La celda 'Población Migrantes / Hombres' debe ser menor o igual al Total de Hombres en control. \",\"\")","v":""},{"$f":"IF($AT25>$F25,\"* La celda 'Población Migrantes / Mujeres' debe ser menor o igual al Total de Mujeres en control. \",\"\")","v":""},{"$f":"IF($AU25>$D25,\"* La celda 'Niños, Niñas, Adolescentes y Jóvenes de Población SENAME' debe ser menor o igual al Total de Ambos Sexos. \",\"\")","v":""},{"$f":"IF(AND($D25<>0,$AO25=\"\"),\"* No olvide escribir en la celda de 'Gestantes' (Digite CERO si no tiene). \",\"\")","v":""},{"$f":"IF(AND($D25<>0,$AP25=\"\"),\"* No olvide escribir en la celda de 'Madres de Hijos menor de 5 años' (Digite CERO si no tiene). \",\"\")","v":""},{"$f":"IF(AND($D25<>0,$AU25=\"\"),\"* No olvide escribir en la celda de 'Niños, Niñas, Adolescentes y Jóvenes de Población SENAME' (Digite CERO si no tiene). \",\"\")","v":""},{"$f":"IF(AND($E25<>0,$AQ25=\"\"),\"* No olvide escribir en las celdas de 'Pueblos Originarios' (Digite CERO si no tiene). \",IF(AND($F25<>0,$AR25=\"\"),\"* No olvide escribir en las celdas de 'Pueblos Originarios' (Digite CERO si no tiene). \",\"\"))","v":""},{"$f":"IF(AND($E25<>0,$AS25=\"\"),\"* No olvide escribir en las celdas de 'Población Migrantes' (Digite CERO si no tiene). \",IF(AND($F25<>0,$AT25=\"\"),\"* No olvide escribir en las celdas de 'Población Migrantes' (Digite CERO si no tiene). \",\"\"))","v":""},{"$nulls":8},{"$f":"IF($AO25>$F25,1,0)","v":0},0,{"$f":"IF(($AQ25)>$E25,1,0)","v":0},0,{"$f":"IF(($AS25)>$E25,1,0)","v":0},0,0,{"$f":"IF(AND($D25<>0,$AO25=\"\"),1,0)","v":0},0,0,{"$f":"IF(AND($E25<>0,$AQ25=\"\"),1,IF(AND($F25<>0,$AR25=\"\"),1,0))","v":0},{"$f":"IF(AND($E25<>0,$AS25=\"\"),1,IF(AND($F25<>0,$AT25=\"\"),1,0))","v":0}]
["P6241110","TRASTORNOS MENTALES Y DEL COMPORTAMIENTO DEBIDO A CONSUMO SUSTANCIAS PSICOTROPICAS","CONSUMO PERJUDICIAL DE ALCOHOL ",287,210,77,{"$f":"IFERROR(VLOOKUP($A26,Filtro!$A$5:$AY$629,5,FALSE),0)","v":0},{"$f":"IFERROR(VLOOKUP($A26,Filtro!$A$5:$AY$629,6,FALSE),0)","v":0},{"$f":"IFERROR(VLOOKUP($A26,Filtro!$A$5:$AY$629,7,FALSE),0)","v":0},{"$f":"IFERROR(VLOOKUP($A26,Filtro!$A$5:$AY$629,8,FALSE),0)","v":0},{"$f":"IFERROR(VLOOKUP($A26,Filtro!$A$5:$AY$629,9,FALSE),0)","v":1},{"$f":"IFERROR(VLOOKUP($A26,Filtro!$A$5:$AY$629,10,FALSE),0)","v":0},{"$f":"IFERROR(VLOOKUP($A26,Filtro!$A$5:$AY$629,11,FALSE),0)","v":2},{"$f":"IFERROR(VLOOKUP($A26,Filtro!$A$5:$AY$629,12,FALSE),0)","v":3},{"$f":"IFERROR(VLOOKUP($A26,Filtro!$A$5:$AY$629,13,FALSE),0)","v":6},{"$f":"IFERROR(VLOOKUP($A26,Filtro!$A$5:$AY$629,14,FALSE),0)","v":2},{"$f":"IFERROR(VLOOKUP($A26,Filtro!$A$5:$AY$629,15,FALSE),0)","v":7},{"$f":"IFERROR(VLOOKUP($A26,Filtro!$A$5:$AY$629,16,FALSE),0)","v":5},{"$f":"IFERROR(VLOOKUP($A26,Filtro!$A$5:$AY$629,17,FALSE),0)","v":19},{"$f":"IFERROR(VLOOKUP($A26,Filtro!$A$5:$AY$629,18,FALSE),0)","v":8},{"$f":"IFERROR(VLOOKUP($A26,Filtro!$A$5:$AY$629,19,FALSE),0)","v":20},{"$f":"IFERROR(VLOOKUP($A26,Filtro!$A$5:$AY$629,20,FALSE),0)","v":10},{"$f":"IFERROR(VLOOKUP($A26,Filtro!$A$5:$AY$629,21,FALSE),0)","v":24},{"$f":"IFERROR(VLOOKUP($A26,Filtro!$A$5:$AY$629,22,FALSE),0)","v":10},{"$f":"IFERROR(VLOOKUP($A26,Filtro!$A$5:$AY$629,23,FALSE),0)","v":30},{"$f":"IFERROR(VLOOKUP($A26,Filtro!$A$5:$AY$629,24,FALSE),0)","v":6},{"$f":"IFERROR(VLOOKUP($A26,Filtro!$A$5:$AY$629,25,FALSE),0)","v":27},{"$f":"IFERROR(VLOOKUP($A26,Filtro!$A$5:$AY$629,26,FALSE),0)","v":9},{"$f":"IFERROR(VLOOKUP($A26,Filtro!$A$5:$AY$629,27,FALSE),0)","v":27},{"$f":"IFERROR(VLOOKUP($A26,Filtro!$A$5:$AY$629,28,FALSE),0)","v":11},{"$f":"IFERROR(VLOOKUP($A26,Filtro!$A$5:$AY$629,29,FALSE),0)","v":19},{"$f":"IFERROR(VLOOKUP($A26,Filtro!$A$5:$AY$629,30,FALSE),0)","v":6},{"$f":"IFERROR(VLOOKUP($A26,Filtro!$A$5:$AY$629,31,FALSE),0)","v":17},{"$f":"IFERROR(VLOOKUP($A26,Filtro!$A$5:$AY$629,32,FALSE),0)","v":6},{"$f":"IFERROR(VLOOKUP($A26,Filtro!$A$5:$AY$629,33,FALSE),0)","v":6},{"$f":"IFERROR(VLOOKUP($A26,Filtro!$A$5:$AY$629,34,FALSE),0)","v":0},{"$f":"IFERROR(VLOOKUP($A26,Filtro!$A$5:$AY$629,35,FALSE),0)","v":2},{"$f":"IFERROR(VLOOKUP($A26,Filtro!$A$5:$AY$629,36,FALSE),0)","v":1},{"$f":"IFERROR(VLOOKUP($A26,Filtro!$A$5:$AY$629,37,FALSE),0)","v":3},{"$f":"IFERROR(VLOOKUP($A26,Filtro!$A$5:$AY$629,38,FALSE),0)","v":0},{"$f":"IFERROR(VLOOKUP($A26,Filtro!$A$5:$AY$629,39,FALSE),0)","v":0},{"$f":"IFERROR(VLOOKUP($A26,Filtro!$A$5:$AY$629,40,FALSE),0)","v":3},{"$f":"IFERROR(VLOOKUP($A26,Filtro!$A$5:$AY$629,41,FALSE),0)","v":1},{"$f":"IFERROR(VLOOKUP($A26,Filtro!$A$5:$AY$629,42,FALSE),0)","v":0},{"$f":"IFERROR(VLOOKUP($A26,Filtro!$A$5:$AY$629,43,FALSE),0)","v":1},{"$f":"IFERROR(VLOOKUP($A26,Filtro!$A$5:$AY$629,44,FALSE),0)","v":0},{"$f":"IFERROR(VLOOKUP($A26,Filtro!$A$5:$AY$629,45,FALSE),0)","v":1},{"$f":"IFERROR(VLOOKUP($A26,Filtro!$A$5:$AY$629,46,FALSE),0)","v":2},{"$f":"IFERROR(VLOOKUP($A26,Filtro!$A$5:$AY$629,47,FALSE),0)","v":21},{"$f":"IFERROR(VLOOKUP($A26,Filtro!$A$5:$AY$629,48,FALSE),0)","v":0},{"$f":"IFERROR(VLOOKUP($A26,Filtro!$A$5:$AY$629,49,FALSE),0)","v":0},{"$nulls":34},{"$f":"IF($AO26>$F26,\"* La celda 'Gestantes' debe ser menor o igual al Total de Mujeres en control. \",\"\")","v":""},{"$f":"IF($AP26>$F26,\"* La celda 'Madres de Hijos menor de 5 años' debe ser menor o igual al Total de Mujeres en control. \",\"\")","v":""},"","","","","",{"$f":"IF(AND($D26<>0,$AO26=\"\"),\"* No olvide escribir en la celda de 'Gestantes' (Digite CERO si no tiene). \",\"\")","v":""},{"$f":"IF(AND($D26<>0,$AP26=\"\"),\"* No olvide escribir en la celda de 'Madres de Hijos menor de 5 años' (Digite CERO si no tiene). \",\"\")","v":""},"","","",{"$nulls":8},{"$f":"IF($AO26>$F26,1,0)","v":0},0,0,0,0,0,0,{"$f":"IF(AND($D26<>0,$AO26=\"\"),1,0)","v":0},0,0,0,0]
["P6241111",null,"CONSUMO DEPENDIENTE DEL ALCOHOL ",154,103,51,{"$f":"IFERROR(VLOOKUP($A27,Filtro!$A$5:$AY$629,5,FALSE),0)","v":0},{"$f":"IFERROR(VLOOKUP($A27,Filtro!$A$5:$AY$629,6,FALSE),0)","v":0},{"$f":"IFERROR(VLOOKUP($A27,Filtro!$A$5:$AY$629,7,FALSE),0)","v":0},{"$f":"IFERROR(VLOOKUP($A27,Filtro!$A$5:$AY$629,8,FALSE),0)","v":0},{"$f":"IFERROR(VLOOKUP($A27,Filtro!$A$5:$AY$629,9,FALSE),0)","v":1},{"$f":"IFERROR(VLOOKUP($A27,Filtro!$A$5:$AY$629,10,FALSE),0)","v":0},{"$f":"IFERROR(VLOOKUP($A27,Filtro!$A$5:$AY$629,11,FALSE),0)","v":5},{"$f":"IFERROR(VLOOKUP($A27,Filtro!$A$5:$AY$629,12,FALSE),0)","v":1},{"$f":"IFERROR(VLOOKUP($A27,Filtro!$A$5:$AY$629,13,FALSE),0)","v":2},{"$f":"IFERROR(VLOOKUP($A27,Filtro!$A$5:$AY$629,14,FALSE),0)","v":4},{"$f":"IFERROR(VLOOKUP($A27,Filtro!$A$5:$AY$629,15,FALSE),0)","v":2},{"$f":"IFERROR(VLOOKUP($A27,Filtro!$A$5:$AY$629,16,FALSE),0)","v":5},{"$f":"IFERROR(VLOOKUP($A27,Filtro!$A$5:$AY$629,17,FALSE),0)","v":7},{"$f":"IFERROR(VLOOKUP($A27,Filtro!$A$5:$AY$629,18,FALSE),0)","v":2},{"$f":"IFERROR(VLOOKUP($A27,Filtro!$A$5:$AY$629,19,FALSE),0)","v":10},{"$f":"IFERROR(VLOOKUP($A27,Filtro!$A$5:$AY$629,20,FALSE),0)","v":6},{"$f":"IFERROR(VLOOKUP($A27,Filtro!$A$5:$AY$629,21,FALSE),0)","v":10},{"$f":"IFERROR(VLOOKUP($A27,Filtro!$A$5:$AY$629,22,FALSE),0)","v":2},{"$f":"IFERROR(VLOOKUP($A27,Filtro!$A$5:$AY$629,23,FALSE),0)","v":15},{"$f":"IFERROR(VLOOKUP($A27,Filtro!$A$5:$AY$629,24,FALSE),0)","v":6},{"$f":"IFERROR(VLOOKUP($A27,Filtro!$A$5:$AY$629,25,FALSE),0)","v":10},{"$f":"IFERROR(VLOOKUP($A27,Filtro!$A$5:$AY$629,26,FALSE),0)","v":6},{"$f":"IFERROR(VLOOKUP($A27,Filtro!$A$5:$AY$629,27,FALSE),0)","v":15},{"$f":"IFERROR(VLOOKUP($A27,Filtro!$A$5:$AY$629,28,FALSE),0)","v":9},{"$f":"IFERROR(VLOOKUP($A27,Filtro!$A$5:$AY$629,29,FALSE),0)","v":12},{"$f":"IFERROR(VLOOKUP($A27,Filtro!$A$5:$AY$629,30,FALSE),0)","v":3},{"$f":"IFERROR(VLOOKUP($A27,Filtro!$A$5:$AY$629,31,FALSE),0)","v":7},{"$f":"IFERROR(VLOOKUP($A27,Filtro!$A$5:$AY$629,32,FALSE),0)","v":2},{"$f":"IFERROR(VLOOKUP($A27,Filtro!$A$5:$AY$629,33,FALSE),0)","v":4},{"$f":"IFERROR(VLOOKUP($A27,Filtro!$A$5:$AY$629,34,FALSE),0)","v":4},{"$f":"IFERROR(VLOOKUP($A27,Filtro!$A$5:$AY$629,35,FALSE),0)","v":3},{"$f":"IFERROR(VLOOKUP($A27,Filtro!$A$5:$AY$629,36,FALSE),0)","v":1},{"$f":"IFERROR(VLOOKUP($A27,Filtro!$A$5:$AY$629,37,FALSE),0)","v":0},{"$f":"IFERROR(VLOOKUP($A27,Filtro!$A$5:$AY$629,38,FALSE),0)","v":0},{"$f":"IFERROR(VLOOKUP($A27,Filtro!$A$5:$AY$629,39,FALSE),0)","v":0},{"$f":"IFERROR(VLOOKUP($A27,Filtro!$A$5:$AY$629,40,FALSE),0)","v":0},{"$f":"IFERROR(VLOOKUP($A27,Filtro!$A$5:$AY$629,41,FALSE),0)","v":1},{"$f":"IFERROR(VLOOKUP($A27,Filtro!$A$5:$AY$629,42,FALSE),0)","v":0},{"$f":"IFERROR(VLOOKUP($A27,Filtro!$A$5:$AY$629,43,FALSE),0)","v":2},{"$f":"IFERROR(VLOOKUP($A27,Filtro!$A$5:$AY$629,44,FALSE),0)","v":0},{"$f":"IFERROR(VLOOKUP($A27,Filtro!$A$5:$AY$629,45,FALSE),0)","v":2},{"$f":"IFERROR(VLOOKUP($A27,Filtro!$A$5:$AY$629,46,FALSE),0)","v":0},{"$f":"IFERROR(VLOOKUP($A27,Filtro!$A$5:$AY$629,47,FALSE),0)","v":12},{"$f":"IFERROR(VLOOKUP($A27,Filtro!$A$5:$AY$629,48,FALSE),0)","v":0},{"$f":"IFERROR(VLOOKUP($A27,Filtro!$A$5:$AY$629,49,FALSE),0)","v":0},{"$nulls":34},{"$f":"IF($AO27>$F27,\"* La celda 'Gestantes' debe ser menor o igual al Total de Mujeres en control. \",\"\")","v":""},{"$f":"IF($AP27>$F27,\"* La celda 'Madres de Hijos menor de 5 años' debe ser menor o igual al Total de Mujeres en control. \",\"\")","v":""},"","","","","",{"$f":"IF(AND($D27<>0,$AO27=\"\"),\"* No olvide escribir en la celda de 'Gestantes' (Digite CERO si no tiene). \",\"\")","v":""},{"$f":"IF(AND($D27<>0,$AP27=\"\"),\"* No olvide escribir en la celda de 'Madres de Hijos menor de 5 años' (Digite CERO si no tiene). \",\"\")","v":""},"","","",{"$nulls":8},{"$f":"IF($AO27>$F27,1,0)","v":0},0,0,0,0,0,0,{"$f":"IF(AND($D27<>0,$AO27=\"\"),1,0)","v":0},0,0,0,0]
["P6241112",null,"CONSUMO PERJUDICIAL DE DROGAS",179,123,56,{"$f":"IFERROR(VLOOKUP($A28,Filtro!$A$5:$AY$629,5,FALSE),0)","v":0},{"$f":"IFERROR(VLOOKUP($A28,Filtro!$A$5:$AY$629,6,FALSE),0)","v":0},{"$f":"IFERROR(VLOOKUP($A28,Filtro!$A$5:$AY$629,7,FALSE),0)","v":0},{"$f":"IFERROR(VLOOKUP($A28,Filtro!$A$5:$AY$629,8,FALSE),0)","v":0},{"$f":"IFERROR(VLOOKUP($A28,Filtro!$A$5:$AY$629,9,FALSE),0)","v":2},{"$f":"IFERROR(VLOOKUP($A28,Filtro!$A$5:$AY$629,10,FALSE),0)","v":2},{"$f":"IFERROR(VLOOKUP($A28,Filtro!$A$5:$AY$629,11,FALSE),0)","v":15},{"$f":"IFERROR(VLOOKUP($A28,Filtro!$A$5:$AY$629,12,FALSE),0)","v":6},{"$f":"IFERROR(VLOOKUP($A28,Filtro!$A$5:$AY$629,13,FALSE),0)","v":15},{"$f":"IFERROR(VLOOKUP($A28,Filtro!$A$5:$AY$629,14,FALSE),0)","v":5},{"$f":"IFERROR(VLOOKUP($A28,Filtro!$A$5:$AY$629,15,FALSE),0)","v":19},{"$f":"IFERROR(VLOOKUP($A28,Filtro!$A$5:$AY$629,16,FALSE),0)","v":7},{"$f":"IFERROR(VLOOKUP($A28,Filtro!$A$5:$AY$629,17,FALSE),0)","v":20},{"$f":"IFERROR(VLOOKUP($A28,Filtro!$A$5:$AY$629,18,FALSE),0)","v":10},{"$f":"IFERROR(VLOOKUP($A28,Filtro!$A$5:$AY$629,19,FALSE),0)","v":24},{"$f":"IFERROR(VLOOKUP($A28,Filtro!$A$5:$AY$629,20,FALSE),0)","v":1},{"$f":"IFERROR(VLOOKUP($A28,Filtro!$A$5:$AY$629,21,FALSE),0)","v":11},{"$f":"IFERROR(VLOOKUP($A28,Filtro!$A$5:$AY$629,22,FALSE),0)","v":5},{"$f":"IFERROR(VLOOKUP($A28,Filtro!$A$5:$AY$629,23,FALSE),0)","v":6},{"$f":"IFERROR(VLOOKUP($A28,Filtro!$A$5:$AY$629,24,FALSE),0)","v":7},{"$f":"IFERROR(VLOOKUP($A28,Filtro!$A$5:$AY$629,25,FALSE),0)","v":2},{"$f":"IFERROR(VLOOKUP($A28,Filtro!$A$5:$AY$629,26,FALSE),0)","v":4},{"$f":"IFERROR(VLOOKUP($A28,Filtro!$A$5:$AY$629,27,FALSE),0)","v":2},{"$f":"IFERROR(VLOOKUP($A28,Filtro!$A$5:$AY$629,28,FALSE),0)","v":2},{"$f":"IFERROR(VLOOKUP($A28,Filtro!$A$5:$AY$629,29,FALSE),0)","v":2},{"$f":"IFERROR(VLOOKUP($A28,Filtro!$A$5:$AY$629,30,FALSE),0)","v":4},{"$f":"IFERROR(VLOOKUP($A28,Filtro!$A$5:$AY$629,31,FALSE),0)","v":3},{"$f":"IFERROR(VLOOKUP($A28,Filtro!$A$5:$AY$629,32,FALSE),0)","v":1},{"$f":"IFERROR(VLOOKUP($A28,Filtro!$A$5:$AY$629,33,FALSE),0)","v":2},{"$f":"IFERROR(VLOOKUP($A28,Filtro!$A$5:$AY$629,34,FALSE),0)","v":0},{"$f":"IFERROR(VLOOKUP($A28,Filtro!$A$5:$AY$629,35,FALSE),0)","v":0},{"$f":"IFERROR(VLOOKUP($A28,Filtro!$A$5:$AY$629,36,FALSE),0)","v":1},{"$f":"IFERROR(VLOOKUP($A28,Filtro!$A$5:$AY$629,37,FALSE),0)","v":0},{"$f":"IFERROR(VLOOKUP($A28,Filtro!$A$5:$AY$629,38,FALSE),0)","v":1},{"$f":"IFERROR(VLOOKUP($A28,Filtro!$A$5:$AY$629,39,FALSE),0)","v":0},{"$f":"IFERROR(VLOOKUP($A28,Filtro!$A$5:$AY$629,40,FALSE),0)","v":5},{"$f":"IFERROR(VLOOKUP($A28,Filtro!$A$5:$AY$629,41,FALSE),0)","v":2},{"$f":"IFERROR(VLOOKUP($A28,Filtro!$A$5:$AY$629,42,FALSE),0)","v":0},{"$f":"IFERROR(VLOOKUP($A28,Filtro!$A$5:$AY$629,43,FALSE),0)","v":1},{"$f":"IFERROR(VLOOKUP($A28,Filtro!$A$5:$AY$629,44,FALSE),0)","v":0},{"$f":"IFERROR(VLOOKUP($A28,Filtro!$A$5:$AY$629,45,FALSE),0)","v":8},{"$f":"IFERROR(VLOOKUP($A28,Filtro!$A$5:$AY$629,46,FALSE),0)","v":1},{"$f":"IFERROR(VLOOKUP($A28,Filtro!$A$5:$AY$629,47,FALSE),0)","v":9},{"$f":"IFERROR(VLOOKUP($A28,Filtro!$A$5:$AY$629,48,FALSE),0)","v":1},{"$f":"IFERROR(VLOOKUP($A28,Filtro!$A$5:$AY$629,49,FALSE),0)","v":0}]
["P6241113",null,"CONSUMO DEPENDIENTE DE DROGAS ",192,103,89,{"$f":"IFERROR(VLOOKUP($A29,Filtro!$A$5:$AY$629,5,FALSE),0)","v":0},{"$f":"IFERROR(VLOOKUP($A29,Filtro!$A$5:$AY$629,6,FALSE),0)","v":0},{"$f":"IFERROR(VLOOKUP($A29,Filtro!$A$5:$AY$629,7,FALSE),0)","v":0},{"$f":"IFERROR(VLOOKUP($A29,Filtro!$A$5:$AY$629,8,FALSE),0)","v":0},{"$f":"IFERROR(VLOOKUP($A29,Filtro!$A$5:$AY$629,9,FALSE),0)","v":0},{"$f":"IFERROR(VLOOKUP($A29,Filtro!$A$5:$AY$629,10,FALSE),0)","v":2},{"$f":"IFERROR(VLOOKUP($A29,Filtro!$A$5:$AY$629,11,FALSE),0)","v":6},{"$f":"IFERROR(VLOOKUP($A29,Filtro!$A$5:$AY$629,12,FALSE),0)","v":3},{"$f":"IFERROR(VLOOKUP($A29,Filtro!$A$5:$AY$629,13,FALSE),0)","v":6},{"$f":"IFERROR(VLOOKUP($A29,Filtro!$A$5:$AY$629,14,FALSE),0)","v":3},{"$f":"IFERROR(VLOOKUP($A29,Filtro!$A$5:$AY$629,15,FALSE),0)","v":11},{"$f":"IFERROR(VLOOKUP($A29,Filtro!$A$5:$AY$629,16,FALSE),0)","v":6},{"$f":"IFERROR(VLOOKUP($A29,Filtro!$A$5:$AY$629,17,FALSE),0)","v":22},{"$f":"IFERROR(VLOOKUP($A29,Filtro!$A$5:$AY$629,18,FALSE),0)","v":12},{"$f":"IFERROR(VLOOKUP($A29,Filtro!$A$5:$AY$629,19,FALSE),0)","v":14},{"$f":"IFERROR(VLOOKUP($A29,Filtro!$A$5:$AY$629,20,FALSE),0)","v":6},{"$f":"IFERROR(VLOOKUP($A29,Filtro!$A$5:$AY$629,21,FALSE),0)","v":7},{"$f":"IFERROR(VLOOKUP($A29,Filtro!$A$5:$AY$629,22,FALSE),0)","v":10},{"$f":"IFERROR(VLOOKUP($A29,Filtro!$A$5:$AY$629,23,FALSE),0)","v":7},{"$f":"IFERROR(VLOOKUP($A29,Filtro!$A$5:$AY$629,24,FALSE),0)","v":6},{"$f":"IFERROR(VLOOKUP($A29,Filtro!$A$5:$AY$629,25,FALSE),0)","v":10},{"$f":"IFERROR(VLOOKUP($A29,Filtro!$A$5:$AY$629,26,FALSE),0)","v":1},{"$f":"IFERROR(VLOOKUP($A29,Filtro!$A$5:$AY$629,27,FALSE),0)","v":5},{"$f":"IFERROR(VLOOKUP($A29,Filtro!$A$5:$AY$629,28,FALSE),0)","v":6},{"$f":"IFERROR(VLOOKUP($A29,Filtro!$A$5:$AY$629,29,FALSE),0)","v":3},{"$f":"IFERROR(VLOOKUP($A29,Filtro!$A$5:$AY$629,30,FALSE),0)","v":6},{"$f":"IFERROR(VLOOKUP($A29,Filtro!$A$5:$AY$629,31,FALSE),0)","v":5},{"$f":"IFERROR(VLOOKUP($A29,Filtro!$A$5:$AY$629,32,FALSE),0)","v":8},{"$f":"IFERROR(VLOOKUP($A29,Filtro!$A$5:$AY$629,33,FALSE),0)","v":1},{"$f":"IFERROR(VLOOKUP($A29,Filtro!$A$5:$AY$629,34,FALSE),0)","v":6},{"$f":"IFERROR(VLOOKUP($A29,Filtro!$A$5:$AY$629,35,FALSE),0)","v":2},{"$f":"IFERROR(VLOOKUP($A29,Filtro!$A$5:$AY$629,36,FALSE),0)","v":7},{"$f":"IFERROR(VLOOKUP($A29,Filtro!$A$5:$AY$629,37,FALSE),0)","v":4},{"$f":"IFERROR(VLOOKUP($A29,Filtro!$A$5:$AY$629,38,FALSE),0)","v":7},{"$f":"IFERROR(VLOOKUP($A29,Filtro!$A$5:$AY$629,39,FALSE),0)","v":0},{"$f":"IFERROR(VLOOKUP($A29,Filtro!$A$5:$AY$629,40,FALSE),0)","v":4},{"$f":"IFERROR(VLOOKUP($A29,Filtro!$A$5:$AY$629,41,FALSE),0)","v":0},{"$f":"IFERROR(VLOOKUP($A29,Filtro!$A$5:$AY$629,42,FALSE),0)","v":0},{"$f":"IFERROR(VLOOKUP($A29,Filtro!$A$5:$AY$629,43,FALSE),0)","v":2},{"$f":"IFERROR(VLOOKUP($A29,Filtro!$A$5:$AY$629,44,FALSE),0)","v":3},{"$f":"IFERROR(VLOOKUP($A29,Filtro!$A$5:$AY$629,45,FALSE),0)","v":0},{"$f":"IFERROR(VLOOKUP($A29,Filtro!$A$5:$AY$629,46,FALSE),0)","v":4},{"$f":"IFERROR(VLOOKUP($A29,Filtro!$A$5:$AY$629,47,FALSE),0)","v":2},{"$f":"IFERROR(VLOOKUP($A29,Filtro!$A$5:$AY$629,48,FALSE),0)","v":0},{"$f":"IFERROR(VLOOKUP($A29,Filtro!$A$5:$AY$629,49,FALSE),0)","v":0}]
["P6241114",null,"CONSUMO DE DROGAS Y ALCOHOL ",354,231,123,{"$f":"IFERROR(VLOOKUP($A30,Filtro!$A$5:$AY$629,5,FALSE),0)","v":0},{"$f":"IFERROR(VLOOKUP($A30,Filtro!$A$5:$AY$629,6,FALSE),0)","v":0},{"$f":"IFERROR(VLOOKUP($A30,Filtro!$A$5:$AY$629,7,FALSE),0)","v":0},{"$f":"IFERROR(VLOOKUP($A30,Filtro!$A$5:$AY$629,8,FALSE),0)","v":0},{"$f":"IFERROR(VLOOKUP($A30,Filtro!$A$5:$AY$629,9,FALSE),0)","v":3},{"$f":"IFERROR(VLOOKUP($A30,Filtro!$A$5:$AY$629,10,FALSE),0)","v":0},{"$f":"IFERROR(VLOOKUP($A30,Filtro!$A$5:$AY$629,11,FALSE),0)","v":29},{"$f":"IFERROR(VLOOKUP($A30,Filtro!$A$5:$AY$629,12,FALSE),0)","v":18},{"$f":"IFERROR(VLOOKUP($A30,Filtro!$A$5:$AY$629,13,FALSE),0)","v":23},{"$f":"IFERROR(VLOOKUP($A30,Filtro!$A$5:$AY$629,14,FALSE),0)","v":10},{"$f":"IFERROR(VLOOKUP($A30,Filtro!$A$5:$AY$629,15,FALSE),0)","v":23},{"$f":"IFERROR(VLOOKUP($A30,Filtro!$A$5:$AY$629,16,FALSE),0)","v":10},{"$f":"IFERROR(VLOOKUP($A30,Filtro!$A$5:$AY$629,17,FALSE),0)","v":40},{"$f":"IFERROR(VLOOKUP($A30,Filtro!$A$5:$AY$629,18,FALSE),0)","v":22},{"$f":"IFERROR(VLOOKUP($A30,Filtro!$A$5:$AY$629,19,FALSE),0)","v":36},{"$f":"IFERROR(VLOOKUP($A30,Filtro!$A$5:$AY$629,20,FALSE),0)","v":11},{"$f":"IFERROR(VLOOKUP($A30,Filtro!$A$5:$AY$629,21,FALSE),0)","v":27},{"$f":"IFERROR(VLOOKUP($A30,Filtro!$A$5:$AY$629,22,FALSE),0)","v":14},{"$f":"IFERROR(VLOOKUP($A30,Filtro!$A$5:$AY$629,23,FALSE),0)","v":21},{"$f":"IFERROR(VLOOKUP($A30,Filtro!$A$5:$AY$629,24,FALSE),0)","v":16},{"$f":"IFERROR(VLOOKUP($A30,Filtro!$A$5:$AY$629,25,FALSE),0)","v":14},{"$f":"IFERROR(VLOOKUP($A30,Filtro!$A$5:$AY$629,26,FALSE),0)","v":8},{"$f":"IFERROR(VLOOKUP($A30,Filtro!$A$5:$AY$629,27,FALSE),0)","v":7},{"$f":"IFERROR(VLOOKUP($A30,Filtro!$A$5:$AY$629,28,FALSE),0)","v":8},{"$f":"IFERROR(VLOOKUP($A30,Filtro!$A$5:$AY$629,29,FALSE),0)","v":4},{"$f":"IFERROR(VLOOKUP($A30,Filtro!$A$5:$AY$629,30,FALSE),0)","v":4},{"$f":"IFERROR(VLOOKUP($A30,Filtro!$A$5:$AY$629,31,FALSE),0)","v":1},{"$f":"IFERROR(VLOOKUP($A30,Filtro!$A$5:$AY$629,32,FALSE),0)","v":2},{"$f":"IFERROR(VLOOKUP($A30,Filtro!$A$5:$AY$629,33,FALSE),0)","v":3},{"$f":"IFERROR(VLOOKUP($A30,Filtro!$A$5:$AY$629,34,FALSE),0)","v":0},{"$f":"IFERROR(VLOOKUP($A30,Filtro!$A$5:$AY$629,35,FALSE),0)","v":0},{"$f":"IFERROR(VLOOKUP($A30,Filtro!$A$5:$AY$629,36,FALSE),0)","v":0},{"$f":"IFERROR(VLOOKUP($A30,Filtro!$A$5:$AY$629,37,FALSE),0)","v":0},{"$f":"IFERROR(VLOOKUP($A30,Filtro!$A$5:$AY$629,38,FALSE),0)","v":0},{"$f":"IFERROR(VLOOKUP($A30,Filtro!$A$5:$AY$629,39,FALSE),0)","v":1},{"$f":"IFERROR(VLOOKUP($A30,Filtro!$A$5:$AY$629,40,FALSE),0)","v":8},{"$f":"IFERROR(VLOOKUP($A30,Filtro!$A$5:$AY$629,41,FALSE),0)","v":1},{"$f":"IFERROR(VLOOKUP($A30,Filtro!$A$5:$AY$629,42,FALSE),0)","v":0},{"$f":"IFERROR(VLOOKUP($A30,Filtro!$A$5:$AY$629,43,FALSE),0)","v":0},{"$f":"IFERROR(VLOOKUP($A30,Filtro!$A$5:$AY$629,44,FALSE),0)","v":2},{"$f":"IFERROR(VLOOKUP($A30,Filtro!$A$5:$AY$629,45,FALSE),0)","v":14},{"$f":"IFERROR(VLOOKUP($A30,Filtro!$A$5:$AY$629,46,FALSE),0)","v":12},{"$f":"IFERROR(VLOOKUP($A30,Filtro!$A$5:$AY$629,47,FALSE),0)","v":30},{"$f":"IFERROR(VLOOKUP($A30,Filtro!$A$5:$AY$629,48,FALSE),0)","v":0},{"$f":"IFERROR(VLOOKUP($A30,Filtro!$A$5:$AY$629,49,FALSE),0)","v":2},{"$nulls":34},{"$f":"IF($AO30>$F30,\"* La celda 'Gestantes' debe ser menor o igual al Total de Mujeres en control. \",\"\")","v":""},{"$f":"IF($AP30>$F30,\"* La celda 'Madres de Hijos menor de 5 años' debe ser menor o igual al Total de Mujeres en control. \",\"\")","v":""},"","","","","",{"$f":"IF(AND($D30<>0,$AO30=\"\"),\"* No olvide escribir en la celda de 'Gestantes' (Digite CERO si no tiene). \",\"\")","v":""},{"$f":"IF(AND($D30<>0,$AP30=\"\"),\"* No olvide escribir en la celda de 'Madres de Hijos menor de 5 años' (Digite CERO si no tiene). \",\"\")","v":""},"","","",{"$nulls":8},{"$f":"IF($AO30>$F30,1,0)","v":0},0,0,0,0,0,0,{"$f":"IF(AND($D30<>0,$AO30=\"\"),1,0)","v":0},0,0,0,0]
["P6222600","TRASTORNOS DEL COMPORTAMIENTO Y DE LAS EMOCIONES DE COMIENZO HABITUAL EN LA INFANCIA Y ADOLESCENCIA","TRASTORNO HIPERCINÉTICO",1046,722,324,{"$f":"IFERROR(VLOOKUP($A31,Filtro!$A$5:$AY$629,5,FALSE),0)","v":6},{"$f":"IFERROR(VLOOKUP($A31,Filtro!$A$5:$AY$629,6,FALSE),0)","v":10},{"$f":"IFERROR(VLOOKUP($A31,Filtro!$A$5:$AY$629,7,FALSE),0)","v":287},{"$f":"IFERROR(VLOOKUP($A31,Filtro!$A$5:$AY$629,8,FALSE),0)","v":129},{"$f":"IFERROR(VLOOKUP($A31,Filtro!$A$5:$AY$629,9,FALSE),0)","v":305},{"$f":"IFERROR(VLOOKUP($A31,Filtro!$A$5:$AY$629,10,FALSE),0)","v":119},{"$f":"IFERROR(VLOOKUP($A31,Filtro!$A$5:$AY$629,11,FALSE),0)","v":106},{"$f":"IFERROR(VLOOKUP($A31,Filtro!$A$5:$AY$629,12,FALSE),0)","v":48},{"$f":"IFERROR(VLOOKUP($A31,Filtro!$A$5:$AY$629,13,FALSE),0)","v":7},{"$f":"IFERROR(VLOOKUP($A31,Filtro!$A$5:$AY$629,14,FALSE),0)","v":9},{"$f":"IFERROR(VLOOKUP($A31,Filtro!$A$5:$AY$629,15,FALSE),0)","v":6},{"$f":"IFERROR(VLOOKUP($A31,Filtro!$A$5:$AY$629,16,FALSE),0)","v":3},{"$f":"IFERROR(VLOOKUP($A31,Filtro!$A$5:$AY$629,17,FALSE),0)","v":3},{"$f":"IFERROR(VLOOKUP($A31,Filtro!$A$5:$AY$629,18,FALSE),0)","v":2},{"$f":"IFERROR(VLOOKUP($A31,Filtro!$A$5:$AY$629,19,FALSE),0)","v":1},{"$f":"IFERROR(VLOOKUP($A31,Filtro!$A$5:$AY$629,20,FALSE),0)","v":2},{"$f":"IFERROR(VLOOKUP($A31,Filtro!$A$5:$AY$629,21,FALSE),0)","v":0},{"$f":"IFERROR(VLOOKUP($A31,Filtro!$A$5:$AY$629,22,FALSE),0)","v":1},{"$f":"IFERROR(VLOOKUP($A31,Filtro!$A$5:$AY$629,23,FALSE),0)","v":0},{"$f":"IFERROR(VLOOKUP($A31,Filtro!$A$5:$AY$629,24,FALSE),0)","v":1},{"$f":"IFERROR(VLOOKUP($A31,Filtro!$A$5:$AY$629,25,FALSE),0)","v":0},{"$f":"IFERROR(VLOOKUP($A31,Filtro!$A$5:$AY$629,26,FALSE),0)","v":0},{"$f":"IFERROR(VLOOKUP($A31,Filtro!$A$5:$AY$629,27,FALSE),0)","v":1},{"$f":"IFERROR(VLOOKUP($A31,Filtro!$A$5:$AY$629,28,FALSE),0)","v":0},{"$f":"IFERROR(VLOOKUP($A31,Filtro!$A$5:$AY$629,29,FALSE),0)","v":0},{"$f":"IFERROR(VLOOKUP($A31,Filtro!$A$5:$AY$629,30,FALSE),0)","v":0},{"$f":"IFERROR(VLOOKUP($A31,Filtro!$A$5:$AY$629,31,FALSE),0)","v":0},{"$f":"IFERROR(VLOOKUP($A31,Filtro!$A$5:$AY$629,32,FALSE),0)","v":0},{"$f":"IFERROR(VLOOKUP($A31,Filtro!$A$5:$AY$629,33,FALSE),0)","v":0},{"$f":"IFERROR(VLOOKUP($A31,Filtro!$A$5:$AY$629,34,FALSE),0)","v":0},{"$f":"IFERROR(VLOOKUP($A31,Filtro!$A$5:$AY$629,35,FALSE),0)","v":0},{"$f":"IFERROR(VLOOKUP($A31,Filtro!$A$5:$AY$629,36,FALSE),0)","v":0},{"$f":"IFERROR(VLOOKUP($A31,Filtro!$A$5:$AY$629,37,FALSE),0)","v":0},{"$f":"IFERROR(VLOOKUP($A31,Filtro!$A$5:$AY$629,38,FALSE),0)","v":0},{"$f":"IFERROR(VLOOKUP($A31,Filtro!$A$5:$AY$629,39,FALSE),0)","v":0},{"$f":"IFERROR(VLOOKUP($A31,Filtro!$A$5:$AY$629,40,FALSE),0)","v":0},{"$f":"IFERROR(VLOOKUP($A31,Filtro!$A$5:$AY$629,41,FALSE),0)","v":8},{"$f":"IFERROR(VLOOKUP($A31,Filtro!$A$5:$AY$629,42,FALSE),0)","v":3},{"$f":"IFERROR(VLOOKUP($A31,Filtro!$A$5:$AY$629,43,FALSE),0)","v":8},{"$f":"IFERROR(VLOOKUP($A31,Filtro!$A$5:$AY$629,44,FALSE),0)","v":3},{"$f":"IFERROR(VLOOKUP($A31,Filtro!$A$5:$AY$629,45,FALSE),0)","v":13},{"$f":"IFERROR(VLOOKUP($A31,Filtro!$A$5:$AY$629,46,FALSE),0)","v":90},{"$f":"IFERROR(VLOOKUP($A31,Filtro!$A$5:$AY$629,47,FALSE),0)","v":130},{"$f":"IFERROR(VLOOKUP($A31,Filtro!$A$5:$AY$629,48,FALSE),0)","v":0},{"$f":"IFERROR(VLOOKUP($A31,Filtro!$A$5:$AY$629,49,FALSE),0)","v":0},{"$nulls":36},"","","","","",null,null,"","","",{"$nulls":10},0,0,0,0,0,null,null,0,0,0]
["P6223060",null,"TRASTORNO DISOCIAL DESAFIANTE Y OPOSICIONISTA",188,121,67,{"$f":"IFERROR(VLOOKUP($A32,Filtro!$A$5:$AY$629,5,FALSE),0)","v":0},{"$f":"IFERROR(VLOOKUP($A32,Filtro!$A$5:$AY$629,6,FALSE),0)","v":2},{"$f":"IFERROR(VLOOKUP($A32,Filtro!$A$5:$AY$629,7,FALSE),0)","v":40},{"$f":"IFERROR(VLOOKUP($A32,Filtro!$A$5:$AY$629,8,FALSE),0)","v":23},{"$f":"IFERROR(VLOOKUP($A32,Filtro!$A$5:$AY$629,9,FALSE),0)","v":56},{"$f":"IFERROR(VLOOKUP($A32,Filtro!$A$5:$AY$629,10,FALSE),0)","v":29},{"$f":"IFERROR(VLOOKUP($A32,Filtro!$A$5:$AY$629,11,FALSE),0)","v":21},{"$f":"IFERROR(VLOOKUP($A32,Filtro!$A$5:$AY$629,12,FALSE),0)","v":10},{"$f":"IFERROR(VLOOKUP($A32,Filtro!$A$5:$AY$629,13,FALSE),0)","v":2},{"$f":"IFERROR(VLOOKUP($A32,Filtro!$A$5:$AY$629,14,FALSE),0)","v":2},{"$f":"IFERROR(VLOOKUP($A32,Filtro!$A$5:$AY$629,15,FALSE),0)","v":2},{"$f":"IFERROR(VLOOKUP($A32,Filtro!$A$5:$AY$629,16,FALSE),0)","v":0},{"$f":"IFERROR(VLOOKUP($A32,Filtro!$A$5:$AY$629,17,FALSE),0)","v":0},{"$f":"IFERROR(VLOOKUP($A32,Filtro!$A$5:$AY$629,18,FALSE),0)","v":0},{"$f":"IFERROR(VLOOKUP($A32,Filtro!$A$5:$AY$629,19,FALSE),0)","v":0},{"$f":"IFERROR(VLOOKUP($A32,Filtro!$A$5:$AY$629,20,FALSE),0)","v":0},{"$f":"IFERROR(VLOOKUP($A32,Filtro!$A$5:$AY$629,21,FALSE),0)","v":0},{"$f":"IFERROR(VLOOKUP($A32,Filtro!$A$5:$AY$629,22,FALSE),0)","v":0},{"$f":"IFERROR(VLOOKUP($A32,Filtro!$A$5:$AY$629,23,FALSE),0)","v":0},{"$f":"IFERROR(VLOOKUP($A32,Filtro!$A$5:$AY$629,24,FALSE),0)","v":0},{"$f":"IFERROR(VLOOKUP($A32,Filtro!$A$5:$AY$629,25,FALSE),0)","v":0},{"$f":"IFERROR(VLOOKUP($A32,Filtro!$A$5:$AY$629,26,FALSE),0)","v":0},{"$f":"IFERROR(VLOOKUP($A32,Filtro!$A$5:$AY$629,27,FALSE),0)","v":0},{"$f":"IFERROR(VLOOKUP($A32,Filtro!$A$5:$AY$629,28,FALSE),0)","v":1},{"$f":"IFERROR(VLOOKUP($A32,Filtro!$A$5:$AY$629,29,FALSE),0)","v":0},{"$f":"IFERROR(VLOOKUP($A32,Filtro!$A$5:$AY$629,30,FALSE),0)","v":0},{"$f":"IFERROR(VLOOKUP($A32,Filtro!$A$5:$AY$629,31,FALSE),0)","v":0},{"$f":"IFERROR(VLOOKUP($A32,Filtro!$A$5:$AY$629,32,FALSE),0)","v":0},{"$f":"IFERROR(VLOOKUP($A32,Filtro!$A$5:$AY$629,33,FALSE),0)","v":0},{"$f":"IFERROR(VLOOKUP($A32,Filtro!$A$5:$AY$629,34,FALSE),0)","v":0},{"$f":"IFERROR(VLOOKUP($A32,Filtro!$A$5:$AY$629,35,FALSE),0)","v":0},{"$f":"IFERROR(VLOOKUP($A32,Filtro!$A$5:$AY$629,36,FALSE),0)","v":0},{"$f":"IFERROR(VLOOKUP($A32,Filtro!$A$5:$AY$629,37,FALSE),0)","v":0},{"$f":"IFERROR(VLOOKUP($A32,Filtro!$A$5:$AY$629,38,FALSE),0)","v":0},{"$f":"IFERROR(VLOOKUP($A32,Filtro!$A$5:$AY$629,39,FALSE),0)","v":0},{"$f":"IFERROR(VLOOKUP($A32,Filtro!$A$5:$AY$629,40,FALSE),0)","v":0},{"$f":"IFERROR(VLOOKUP($A32,Filtro!$A$5:$AY$629,41,FALSE),0)","v":1},{"$f":"IFERROR(VLOOKUP($A32,Filtro!$A$5:$AY$629,42,FALSE),0)","v":0},{"$f":"IFERROR(VLOOKUP($A32,Filtro!$A$5:$AY$629,43,FALSE),0)","v":0},{"$f":"IFERROR(VLOOKUP($A32,Filtro!$A$5:$AY$629,44,FALSE),0)","v":1},{"$f":"IFERROR(VLOOKUP($A32,Filtro!$A$5:$AY$629,45,FALSE),0)","v":5},{"$f":"IFERROR(VLOOKUP($A32,Filtro!$A$5:$AY$629,46,FALSE),0)","v":20},{"$f":"IFERROR(VLOOKUP($A32,Filtro!$A$5:$AY$629,47,FALSE),0)","v":14},{"$f":"IFERROR(VLOOKUP($A32,Filtro!$A$5:$AY$629,48,FALSE),0)","v":1},{"$f":"IFERROR(VLOOKUP($A32,Filtro!$A$5:$AY$629,49,FALSE),0)","v":0},{"$nulls":36},"","","","","",null,null,"","","",{"$nulls":10},0,0,0,0,0,null,null,0,0,0]
["P6223070",null,"TRASTORNO DE ANSIEDAD DE SEPARACIÓN EN LA INFANCIA",90,{"$f":"+G33+I33+K33","v":47},{"$f":"+H33+J33+L33","v":43},{"$f":"IFERROR(VLOOKUP($A33,Filtro!$A$5:$AY$629,5,FALSE),0)","v":3},{"$f":"IFERROR(VLOOKUP($A33,Filtro!$A$5:$AY$629,6,FALSE),0)","v":2},{"$f":"IFERROR(VLOOKUP($A33,Filtro!$A$5:$AY$629,7,FALSE),0)","v":23},{"$f":"IFERROR(VLOOKUP($A33,Filtro!$A$5:$AY$629,8,FALSE),0)","v":23},{"$f":"IFERROR(VLOOKUP($A33,Filtro!$A$5:$AY$629,9,FALSE),0)","v":21},{"$f":"IFERROR(VLOOKUP($A33,Filtro!$A$5:$AY$629,10,FALSE),0)","v":18},0,0,0,0,0,0,0,0,0,0,0,0,0,0,0,0,0,0,0,0,0,0,0,0,0,0,0,0,{"$f":"IFERROR(VLOOKUP($A33,Filtro!$A$5:$AY$629,39,FALSE),0)","v":0},0,{"$f":"IFERROR(VLOOKUP($A33,Filtro!$A$5:$AY$629,41,FALSE),0)","v":0},{"$f":"IFERROR(VLOOKUP($A33,Filtro!$A$5:$AY$629,42,FALSE),0)","v":0},{"$f":"IFERROR(VLOOKUP($A33,Filtro!$A$5:$AY$629,43,FALSE),0)","v":0},{"$f":"IFERROR(VLOOKUP($A33,Filtro!$A$5:$AY$629,44,FALSE),0)","v":0},{"$f":"IFERROR(VLOOKUP($A33,Filtro!$A$5:$AY$629,45,FALSE),0)","v":0},{"$f":"IFERROR(VLOOKUP($A33,Filtro!$A$5:$AY$629,46,FALSE),0)","v":5},{"$f":"IFERROR(VLOOKUP($A33,Filtro!$A$5:$AY$629,47,FALSE),0)","v":10},{"$f":"IFERROR(VLOOKUP($A33,Filtro!$A$5:$AY$629,48,FALSE),0)","v":0},{"$f":"IFERROR(VLOOKUP($A33,Filtro!$A$5:$AY$629,49,FALSE),0)","v":0},{"$nulls":36},"","","","","",null,null,"","","",{"$nulls":10},0,0,0,0,0,null,null,0,0,0]
["P6223080",null,"OTROS TRASTORNOS DEL COMPORTAMIENTO Y DE LAS EMOCIONES DE COMIENZO HABITUAL EN LA INFANCIA Y ADOLESCENCIA",2422,{"$f":"+G34+I34+K34+M34+O34","v":1135},{"$f":"+H34+J34+L34+N34+P34","v":1287},{"$f":"IFERROR(VLOOKUP($A34,Filtro!$A$5:$AY$629,5,FALSE),0)","v":17},{"$f":"IFERROR(VLOOKUP($A34,Filtro!$A$5:$AY$629,6,FALSE),0)","v":32},{"$f":"IFERROR(VLOOKUP($A34,Filtro!$A$5:$AY$629,7,FALSE),0)","v":511},{"$f":"IFERROR(VLOOKUP($A34,Filtro!$A$5:$AY$629,8,FALSE),0)","v":436},{"$f":"IFERROR(VLOOKUP($A34,Filtro!$A$5:$AY$629,9,FALSE),0)","v":424},{"$f":"IFERROR(VLOOKUP($A34,Filtro!$A$5:$AY$629,10,FALSE),0)","v":516},{"$f":"IFERROR(VLOOKUP($A34,Filtro!$A$5:$AY$629,11,FALSE),0)","v":172},{"$f":"IFERROR(VLOOKUP($A34,Filtro!$A$5:$AY$629,12,FALSE),0)","v":288},{"$f":"IFERROR(VLOOKUP($A34,Filtro!$A$5:$AY$629,13,FALSE),0)","v":11},{"$f":"IFERROR(VLOOKUP($A34,Filtro!$A$5:$AY$629,14,FALSE),0)","v":15},0,0,0,0,0,0,0,0,0,0,0,0,0,0,0,0,0,0,0,0,0,0,0,0,{"$f":"IFERROR(VLOOKUP($A34,Filtro!$A$5:$AY$629,39,FALSE),0)","v":0},0,{"$f":"IFERROR(VLOOKUP($A34,Filtro!$A$5:$AY$629,41,FALSE),0)","v":10},{"$f":"IFERROR(VLOOKUP($A34,Filtro!$A$5:$AY$629,42,FALSE),0)","v":11},{"$f":"IFERROR(VLOOKUP($A34,Filtro!$A$5:$AY$629,43,FALSE),0)","v":16},{"$f":"IFERROR(VLOOKUP($A34,Filtro!$A$5:$AY$629,44,FALSE),0)","v":14},{"$f":"IFERROR(VLOOKUP($A34,Filtro!$A$5:$AY$629,45,FALSE),0)","v":7},{"$f":"IFERROR(VLOOKUP($A34,Filtro!$A$5:$AY$629,46,FALSE),0)","v":205},{"$f":"IFERROR(VLOOKUP($A34,Filtro!$A$5:$AY$629,47,FALSE),0)","v":310},{"$f":"IFERROR(VLOOKUP($A34,Filtro!$A$5:$AY$629,48,FALSE),0)","v":13},{"$f":"IFERROR(VLOOKUP($A34,Filtro!$A$5:$AY$629,49,FALSE),0)","v":4},{"$nulls":36},"","","","","",null,null,"","","",{"$nulls":10},0,0,0,0,0,null,null,0,0,0]
["P6231000","TRASTORNOS DE ANSIEDAD","TRASTORNO DE ESTRÉS POST TRAUMATICO",495,{"$f":"SUM(G35+I35+K35+M35+O35+Q35+S35+U35+W35+Y35+AA35+AC35+AE35+AG35+AI35+AK35+AM35)","v":128},{"$f":"SUM(H35+J35+L35+N35+P35+R35+T35+V35+X35+Z35+AB35+AD35+AF35+AH35+AJ35+AL35+AN35)","v":367},{"$f":"IFERROR(VLOOKUP($A35,Filtro!$A$5:$AY$629,5,FALSE),0)","v":1},{"$f":"IFERROR(VLOOKUP($A35,Filtro!$A$5:$AY$629,6,FALSE),0)","v":1},{"$f":"IFERROR(VLOOKUP($A35,Filtro!$A$5:$AY$629,7,FALSE),0)","v":13},{"$f":"IFERROR(VLOOKUP($A35,Filtro!$A$5:$AY$629,8,FALSE),0)","v":5},{"$f":"IFERROR(VLOOKUP($A35,Filtro!$A$5:$AY$629,9,FALSE),0)","v":14},{"$f":"IFERROR(VLOOKUP($A35,Filtro!$A$5:$AY$629,10,FALSE),0)","v":52},{"$f":"IFERROR(VLOOKUP($A35,Filtro!$A$5:$AY$629,11,FALSE),0)","v":18},{"$f":"IFERROR(VLOOKUP($A35,Filtro!$A$5:$AY$629,12,FALSE),0)","v":53},{"$f":"IFERROR(VLOOKUP($A35,Filtro!$A$5:$AY$629,13,FALSE),0)","v":8},{"$f":"IFERROR(VLOOKUP($A35,Filtro!$A$5:$AY$629,14,FALSE),0)","v":32},{"$f":"IFERROR(VLOOKUP($A35,Filtro!$A$5:$AY$629,15,FALSE),0)","v":7},{"$f":"IFERROR(VLOOKUP($A35,Filtro!$A$5:$AY$629,16,FALSE),0)","v":26},{"$f":"IFERROR(VLOOKUP($A35,Filtro!$A$5:$AY$629,17,FALSE),0)","v":8},{"$f":"IFERROR(VLOOKUP($A35,Filtro!$A$5:$AY$629,18,FALSE),0)","v":23},{"$f":"IFERROR(VLOOKUP($A35,Filtro!$A$5:$AY$629,19,FALSE),0)","v":7},{"$f":"IFERROR(VLOOKUP($A35,Filtro!$A$5:$AY$629,20,FALSE),0)","v":23},{"$f":"IFERROR(VLOOKUP($A35,Filtro!$A$5:$AY$629,21,FALSE),0)","v":5},{"$f":"IFERROR(VLOOKUP($A35,Filtro!$A$5:$AY$629,22,FALSE),0)","v":26},{"$f":"IFERROR(VLOOKUP($A35,Filtro!$A$5:$AY$629,23,FALSE),0)","v":6},{"$f":"IFERROR(VLOOKUP($A35,Filtro!$A$5:$AY$629,24,FALSE),0)","v":21},{"$f":"IFERROR(VLOOKUP($A35,Filtro!$A$5:$AY$629,25,FALSE),0)","v":8},{"$f":"IFERROR(VLOOKUP($A35,Filtro!$A$5:$AY$629,26,FALSE),0)","v":28},{"$f":"IFERROR(VLOOKUP($A35,Filtro!$A$5:$AY$629,27,FALSE),0)","v":10},{"$f":"IFERROR(VLOOKUP($A35,Filtro!$A$5:$AY$629,28,FALSE),0)","v":19},{"$f":"IFERROR(VLOOKUP($A35,Filtro!$A$5:$AY$629,29,FALSE),0)","v":10},{"$f":"IFERROR(VLOOKUP($A35,Filtro!$A$5:$AY$629,30,FALSE),0)","v":21},{"$f":"IFERROR(VLOOKUP($A35,Filtro!$A$5:$AY$629,31,FALSE),0)","v":7},{"$f":"IFERROR(VLOOKUP($A35,Filtro!$A$5:$AY$629,32,FALSE),0)","v":19},{"$f":"IFERROR(VLOOKUP($A35,Filtro!$A$5:$AY$629,33,FALSE),0)","v":4},{"$f":"IFERROR(VLOOKUP($A35,Filtro!$A$5:$AY$629,34,FALSE),0)","v":9},{"$f":"IFERROR(VLOOKUP($A35,Filtro!$A$5:$AY$629,35,FALSE),0)","v":1},{"$f":"IFERROR(VLOOKUP($A35,Filtro!$A$5:$AY$629,36,FALSE),0)","v":4},{"$f":"IFERROR(VLOOKUP($A35,Filtro!$A$5:$AY$629,37,FALSE),0)","v":1},{"$f":"IFERROR(VLOOKUP($A35,Filtro!$A$5:$AY$629,38,FALSE),0)","v":5},{"$f":"IFERROR(VLOOKUP($A35,Filtro!$A$5:$AY$629,39,FALSE),0)","v":2},{"$f":"IFERROR(VLOOKUP($A35,Filtro!$A$5:$AY$629,40,FALSE),0)","v":14},{"$f":"IFERROR(VLOOKUP($A35,Filtro!$A$5:$AY$629,41,FALSE),0)","v":1},{"$f":"IFERROR(VLOOKUP($A35,Filtro!$A$5:$AY$629,42,FALSE),0)","v":4},{"$f":"IFERROR(VLOOKUP($A35,Filtro!$A$5:$AY$629,43,FALSE),0)","v":0},{"$f":"IFERROR(VLOOKUP($A35,Filtro!$A$5:$AY$629,44,FALSE),0)","v":5},{"$f":"IFERROR(VLOOKUP($A35,Filtro!$A$5:$AY$629,45,FALSE),0)","v":1},{"$f":"IFERROR(VLOOKUP($A35,Filtro!$A$5:$AY$629,46,FALSE),0)","v":35},{"$f":"IFERROR(VLOOKUP($A35,Filtro!$A$5:$AY$629,47,FALSE),0)","v":44},{"$f":"IFERROR(VLOOKUP($A35,Filtro!$A$5:$AY$629,48,FALSE),0)","v":2},{"$f":"IFERROR(VLOOKUP($A35,Filtro!$A$5:$AY$629,49,FALSE),0)","v":0},{"$nulls":34},{"$f":"IF($AO35>$F35,\"* La celda 'Gestantes' debe ser menor o igual al Total de Mujeres en control. \",\"\")","v":""},{"$f":"IF($AP35>$F35,\"* La celda 'Madres de Hijos menor de 5 años' debe ser menor o igual al Total de Mujeres en control. \",\"\")","v":""},"","","","","",{"$f":"IF(AND($D35<>0,$AO35=\"\"),\"* No olvide escribir en la celda de 'Gestantes' (Digite CERO si no tiene). \",\"\")","v":""},{"$f":"IF(AND($D35<>0,$AP35=\"\"),\"* No olvide escribir en la celda de 'Madres de Hijos menor de 5 años' (Digite CERO si no tiene). \",\"\")","v":""},"","","",{"$nulls":8},{"$f":"IF($AO35>$F35,1,0)","v":0},{"$f":"IF($AP35>$F35,1,0)","v":0},0,0,0,0,0,{"$f":"IF(AND($D35<>0,$AO35=\"\"),1,0)","v":0},{"$f":"IF(AND($D35<>0,$AP35=\"\"),1,0)","v":0},0,0,0]
["P6241115",null,"TRASTORNO DE PÁNICO",1203,241,{"$f":"SUM(H36+J36+L36+N36+P36+R36+T36+V36+X36+Z36+AB36+AD36+AF36+AH36+AJ36+AL36+AN36)","v":962},{"$f":"IFERROR(VLOOKUP($A36,Filtro!$A$5:$AY$629,5,FALSE),0)","v":0},{"$f":"IFERROR(VLOOKUP($A36,Filtro!$A$5:$AY$629,6,FALSE),0)","v":0},{"$f":"IFERROR(VLOOKUP($A36,Filtro!$A$5:$AY$629,7,FALSE),0)","v":2},{"$f":"IFERROR(VLOOKUP($A36,Filtro!$A$5:$AY$629,8,FALSE),0)","v":4},{"$f":"IFERROR(VLOOKUP($A36,Filtro!$A$5:$AY$629,9,FALSE),0)","v":12},{"$f":"IFERROR(VLOOKUP($A36,Filtro!$A$5:$AY$629,10,FALSE),0)","v":70},{"$f":"IFERROR(VLOOKUP($A36,Filtro!$A$5:$AY$629,11,FALSE),0)","v":36},{"$f":"IFERROR(VLOOKUP($A36,Filtro!$A$5:$AY$629,12,FALSE),0)","v":144},{"$f":"IFERROR(VLOOKUP($A36,Filtro!$A$5:$AY$629,13,FALSE),0)","v":26},{"$f":"IFERROR(VLOOKUP($A36,Filtro!$A$5:$AY$629,14,FALSE),0)","v":79},{"$f":"IFERROR(VLOOKUP($A36,Filtro!$A$5:$AY$629,15,FALSE),0)","v":17},{"$f":"IFERROR(VLOOKUP($A36,Filtro!$A$5:$AY$629,16,FALSE),0)","v":79},{"$f":"IFERROR(VLOOKUP($A36,Filtro!$A$5:$AY$629,17,FALSE),0)","v":20},{"$f":"IFERROR(VLOOKUP($A36,Filtro!$A$5:$AY$629,18,FALSE),0)","v":77},{"$f":"IFERROR(VLOOKUP($A36,Filtro!$A$5:$AY$629,19,FALSE),0)","v":19},{"$f":"IFERROR(VLOOKUP($A36,Filtro!$A$5:$AY$629,20,FALSE),0)","v":55},{"$f":"IFERROR(VLOOKUP($A36,Filtro!$A$5:$AY$629,21,FALSE),0)","v":12},{"$f":"IFERROR(VLOOKUP($A36,Filtro!$A$5:$AY$629,22,FALSE),0)","v":73},{"$f":"IFERROR(VLOOKUP($A36,Filtro!$A$5:$AY$629,23,FALSE),0)","v":22},{"$f":"IFERROR(VLOOKUP($A36,Filtro!$A$5:$AY$629,24,FALSE),0)","v":65},{"$f":"IFERROR(VLOOKUP($A36,Filtro!$A$5:$AY$629,25,FALSE),0)","v":16},{"$f":"IFERROR(VLOOKUP($A36,Filtro!$A$5:$AY$629,26,FALSE),0)","v":81},{"$f":"IFERROR(VLOOKUP($A36,Filtro!$A$5:$AY$629,27,FALSE),0)","v":20},{"$f":"IFERROR(VLOOKUP($A36,Filtro!$A$5:$AY$629,28,FALSE),0)","v":72},{"$f":"IFERROR(VLOOKUP($A36,Filtro!$A$5:$AY$629,29,FALSE),0)","v":22},{"$f":"IFERROR(VLOOKUP($A36,Filtro!$A$5:$AY$629,30,FALSE),0)","v":56},{"$f":"IFERROR(VLOOKUP($A36,Filtro!$A$5:$AY$629,31,FALSE),0)","v":7},{"$f":"IFERROR(VLOOKUP($A36,Filtro!$A$5:$AY$629,32,FALSE),0)","v":39},{"$f":"IFERROR(VLOOKUP($A36,Filtro!$A$5:$AY$629,33,FALSE),0)","v":5},{"$f":"IFERROR(VLOOKUP($A36,Filtro!$A$5:$AY$629,34,FALSE),0)","v":29},{"$f":"IFERROR(VLOOKUP($A36,Filtro!$A$5:$AY$629,35,FALSE),0)","v":4},{"$f":"IFERROR(VLOOKUP($A36,Filtro!$A$5:$AY$629,36,FALSE),0)","v":25},{"$f":"IFERROR(VLOOKUP($A36,Filtro!$A$5:$AY$629,37,FALSE),0)","v":1},{"$f":"IFERROR(VLOOKUP($A36,Filtro!$A$5:$AY$629,38,FALSE),0)","v":14},{"$f":"IFERROR(VLOOKUP($A36,Filtro!$A$5:$AY$629,39,FALSE),0)","v":6},{"$f":"IFERROR(VLOOKUP($A36,Filtro!$A$5:$AY$629,40,FALSE),0)","v":17},{"$f":"IFERROR(VLOOKUP($A36,Filtro!$A$5:$AY$629,41,FALSE),0)","v":2},{"$f":"IFERROR(VLOOKUP($A36,Filtro!$A$5:$AY$629,42,FALSE),0)","v":2},{"$f":"IFERROR(VLOOKUP($A36,Filtro!$A$5:$AY$629,43,FALSE),0)","v":0},{"$f":"IFERROR(VLOOKUP($A36,Filtro!$A$5:$AY$629,44,FALSE),0)","v":4},{"$f":"IFERROR(VLOOKUP($A36,Filtro!$A$5:$AY$629,45,FALSE),0)","v":5},{"$f":"IFERROR(VLOOKUP($A36,Filtro!$A$5:$AY$629,46,FALSE),0)","v":14},{"$f":"IFERROR(VLOOKUP($A36,Filtro!$A$5:$AY$629,47,FALSE),0)","v":30},{"$f":"IFERROR(VLOOKUP($A36,Filtro!$A$5:$AY$629,48,FALSE),0)","v":1},{"$f":"IFERROR(VLOOKUP($A36,Filtro!$A$5:$AY$629,49,FALSE),0)","v":0}]
["P6231300",null,"FOBIAS SOCIALES",193,{"$f":"SUM(G37+I37+K37+M37+O37+Q37+S37+U37+W37+Y37+AA37+AC37+AE37+AG37+AI37+AK37+AM37)","v":64},129,{"$f":"IFERROR(VLOOKUP($A37,Filtro!$A$5:$AY$629,5,FALSE),0)","v":0},{"$f":"IFERROR(VLOOKUP($A37,Filtro!$A$5:$AY$629,6,FALSE),0)","v":0},{"$f":"IFERROR(VLOOKUP($A37,Filtro!$A$5:$AY$629,7,FALSE),0)","v":2},{"$f":"IFERROR(VLOOKUP($A37,Filtro!$A$5:$AY$629,8,FALSE),0)","v":0},{"$f":"IFERROR(VLOOKUP($A37,Filtro!$A$5:$AY$629,9,FALSE),0)","v":4},{"$f":"IFERROR(VLOOKUP($A37,Filtro!$A$5:$AY$629,10,FALSE),0)","v":13},{"$f":"IFERROR(VLOOKUP($A37,Filtro!$A$5:$AY$629,11,FALSE),0)","v":14},{"$f":"IFERROR(VLOOKUP($A37,Filtro!$A$5:$AY$629,12,FALSE),0)","v":13},{"$f":"IFERROR(VLOOKUP($A37,Filtro!$A$5:$AY$629,13,FALSE),0)","v":7},{"$f":"IFERROR(VLOOKUP($A37,Filtro!$A$5:$AY$629,14,FALSE),0)","v":14},{"$f":"IFERROR(VLOOKUP($A37,Filtro!$A$5:$AY$629,15,FALSE),0)","v":3},{"$f":"IFERROR(VLOOKUP($A37,Filtro!$A$5:$AY$629,16,FALSE),0)","v":6},{"$f":"IFERROR(VLOOKUP($A37,Filtro!$A$5:$AY$629,17,FALSE),0)","v":3},{"$f":"IFERROR(VLOOKUP($A37,Filtro!$A$5:$AY$629,18,FALSE),0)","v":15},{"$f":"IFERROR(VLOOKUP($A37,Filtro!$A$5:$AY$629,19,FALSE),0)","v":5},{"$f":"IFERROR(VLOOKUP($A37,Filtro!$A$5:$AY$629,20,FALSE),0)","v":5},{"$f":"IFERROR(VLOOKUP($A37,Filtro!$A$5:$AY$629,21,FALSE),0)","v":5},{"$f":"IFERROR(VLOOKUP($A37,Filtro!$A$5:$AY$629,22,FALSE),0)","v":3},{"$f":"IFERROR(VLOOKUP($A37,Filtro!$A$5:$AY$629,23,FALSE),0)","v":4},{"$f":"IFERROR(VLOOKUP($A37,Filtro!$A$5:$AY$629,24,FALSE),0)","v":6},{"$f":"IFERROR(VLOOKUP($A37,Filtro!$A$5:$AY$629,25,FALSE),0)","v":0},{"$f":"IFERROR(VLOOKUP($A37,Filtro!$A$5:$AY$629,26,FALSE),0)","v":4},{"$f":"IFERROR(VLOOKUP($A37,Filtro!$A$5:$AY$629,27,FALSE),0)","v":2},{"$f":"IFERROR(VLOOKUP($A37,Filtro!$A$5:$AY$629,28,FALSE),0)","v":14},{"$f":"IFERROR(VLOOKUP($A37,Filtro!$A$5:$AY$629,29,FALSE),0)","v":5},{"$f":"IFERROR(VLOOKUP($A37,Filtro!$A$5:$AY$629,30,FALSE),0)","v":12},{"$f":"IFERROR(VLOOKUP($A37,Filtro!$A$5:$AY$629,31,FALSE),0)","v":3},{"$f":"IFERROR(VLOOKUP($A37,Filtro!$A$5:$AY$629,32,FALSE),0)","v":9},{"$f":"IFERROR(VLOOKUP($A37,Filtro!$A$5:$AY$629,33,FALSE),0)","v":7},{"$f":"IFERROR(VLOOKUP($A37,Filtro!$A$5:$AY$629,34,FALSE),0)","v":11},{"$f":"IFERROR(VLOOKUP($A37,Filtro!$A$5:$AY$629,35,FALSE),0)","v":0},{"$f":"IFERROR(VLOOKUP($A37,Filtro!$A$5:$AY$629,36,FALSE),0)","v":1},{"$f":"IFERROR(VLOOKUP($A37,Filtro!$A$5:$AY$629,37,FALSE),0)","v":0},{"$f":"IFERROR(VLOOKUP($A37,Filtro!$A$5:$AY$629,38,FALSE),0)","v":3},{"$f":"IFERROR(VLOOKUP($A37,Filtro!$A$5:$AY$629,39,FALSE),0)","v":0},{"$f":"IFERROR(VLOOKUP($A37,Filtro!$A$5:$AY$629,40,FALSE),0)","v":3},{"$f":"IFERROR(VLOOKUP($A37,Filtro!$A$5:$AY$629,41,FALSE),0)","v":0},{"$f":"IFERROR(VLOOKUP($A37,Filtro!$A$5:$AY$629,42,FALSE),0)","v":4},{"$f":"IFERROR(VLOOKUP($A37,Filtro!$A$5:$AY$629,43,FALSE),0)","v":0},{"$f":"IFERROR(VLOOKUP($A37,Filtro!$A$5:$AY$629,44,FALSE),0)","v":1},{"$f":"IFERROR(VLOOKUP($A37,Filtro!$A$5:$AY$629,45,FALSE),0)","v":0},{"$f":"IFERROR(VLOOKUP($A37,Filtro!$A$5:$AY$629,46,FALSE),0)","v":1},{"$f":"IFERROR(VLOOKUP($A37,Filtro!$A$5:$AY$629,47,FALSE),0)","v":2},{"$f":"IFERROR(VLOOKUP($A37,Filtro!$A$5:$AY$629,48,FALSE),0)","v":0},{"$f":"IFERROR(VLOOKUP($A37,Filtro!$A$5:$AY$629,49,FALSE),0)","v":0},{"$nulls":34},"","","","","","","","","","","","",{"$nulls":8},0,0,0,0,0,0,0,0,0,0,0,0]
["P6231400",null,"TRASTORNOS DE ANSIEDAD GENERALIZADA",2678,640,2038,{"$f":"IFERROR(VLOOKUP($A38,Filtro!$A$5:$AY$629,5,FALSE),0)","v":1},{"$f":"IFERROR(VLOOKUP($A38,Filtro!$A$5:$AY$629,6,FALSE),0)","v":2},{"$f":"IFERROR(VLOOKUP($A38,Filtro!$A$5:$AY$629,7,FALSE),0)","v":16},{"$f":"IFERROR(VLOOKUP($A38,Filtro!$A$5:$AY$629,8,FALSE),0)","v":23},{"$f":"IFERROR(VLOOKUP($A38,Filtro!$A$5:$AY$629,9,FALSE),0)","v":36},{"$f":"IFERROR(VLOOKUP($A38,Filtro!$A$5:$AY$629,10,FALSE),0)","v":77},{"$f":"IFERROR(VLOOKUP($A38,Filtro!$A$5:$AY$629,11,FALSE),0)","v":60},{"$f":"IFERROR(VLOOKUP($A38,Filtro!$A$5:$AY$629,12,FALSE),0)","v":149},{"$f":"IFERROR(VLOOKUP($A38,Filtro!$A$5:$AY$629,13,FALSE),0)","v":54},{"$f":"IFERROR(VLOOKUP($A38,Filtro!$A$5:$AY$629,14,FALSE),0)","v":145},{"$f":"IFERROR(VLOOKUP($A38,Filtro!$A$5:$AY$629,15,FALSE),0)","v":34},{"$f":"IFERROR(VLOOKUP($A38,Filtro!$A$5:$AY$629,16,FALSE),0)","v":144},{"$f":"IFERROR(VLOOKUP($A38,Filtro!$A$5:$AY$629,17,FALSE),0)","v":39},{"$f":"IFERROR(VLOOKUP($A38,Filtro!$A$5:$AY$629,18,FALSE),0)","v":142},{"$f":"IFERROR(VLOOKUP($A38,Filtro!$A$5:$AY$629,19,FALSE),0)","v":45},{"$f":"IFERROR(VLOOKUP($A38,Filtro!$A$5:$AY$629,20,FALSE),0)","v":152},{"$f":"IFERROR(VLOOKUP($A38,Filtro!$A$5:$AY$629,21,FALSE),0)","v":43},{"$f":"IFERROR(VLOOKUP($A38,Filtro!$A$5:$AY$629,22,FALSE),0)","v":150},{"$f":"IFERROR(VLOOKUP($A38,Filtro!$A$5:$AY$629,23,FALSE),0)","v":61},{"$f":"IFERROR(VLOOKUP($A38,Filtro!$A$5:$AY$629,24,FALSE),0)","v":158},{"$f":"IFERROR(VLOOKUP($A38,Filtro!$A$5:$AY$629,25,FALSE),0)","v":42},{"$f":"IFERROR(VLOOKUP($A38,Filtro!$A$5:$AY$629,26,FALSE),0)","v":163},{"$f":"IFERROR(VLOOKUP($A38,Filtro!$A$5:$AY$629,27,FALSE),0)","v":46},{"$f":"IFERROR(VLOOKUP($A38,Filtro!$A$5:$AY$629,28,FALSE),0)","v":131},{"$f":"IFERROR(VLOOKUP($A38,Filtro!$A$5:$AY$629,29,FALSE),0)","v":54},{"$f":"IFERROR(VLOOKUP($A38,Filtro!$A$5:$AY$629,30,FALSE),0)","v":152},{"$f":"IFERROR(VLOOKUP($A38,Filtro!$A$5:$AY$629,31,FALSE),0)","v":33},{"$f":"IFERROR(VLOOKUP($A38,Filtro!$A$5:$AY$629,32,FALSE),0)","v":144},{"$f":"IFERROR(VLOOKUP($A38,Filtro!$A$5:$AY$629,33,FALSE),0)","v":30},{"$f":"IFERROR(VLOOKUP($A38,Filtro!$A$5:$AY$629,34,FALSE),0)","v":134},{"$f":"IFERROR(VLOOKUP($A38,Filtro!$A$5:$AY$629,35,FALSE),0)","v":26},{"$f":"IFERROR(VLOOKUP($A38,Filtro!$A$5:$AY$629,36,FALSE),0)","v":94},{"$f":"IFERROR(VLOOKUP($A38,Filtro!$A$5:$AY$629,37,FALSE),0)","v":20},{"$f":"IFERROR(VLOOKUP($A38,Filtro!$A$5:$AY$629,38,FALSE),0)","v":78},{"$f":"IFERROR(VLOOKUP($A38,Filtro!$A$5:$AY$629,39,FALSE),0)","v":17},{"$f":"IFERROR(VLOOKUP($A38,Filtro!$A$5:$AY$629,40,FALSE),0)","v":50},{"$f":"IFERROR(VLOOKUP($A38,Filtro!$A$5:$AY$629,41,FALSE),0)","v":0},{"$f":"IFERROR(VLOOKUP($A38,Filtro!$A$5:$AY$629,42,FALSE),0)","v":12},{"$f":"IFERROR(VLOOKUP($A38,Filtro!$A$5:$AY$629,43,FALSE),0)","v":4},{"$f":"IFERROR(VLOOKUP($A38,Filtro!$A$5:$AY$629,44,FALSE),0)","v":10},{"$f":"IFERROR(VLOOKUP($A38,Filtro!$A$5:$AY$629,45,FALSE),0)","v":3},{"$f":"IFERROR(VLOOKUP($A38,Filtro!$A$5:$AY$629,46,FALSE),0)","v":10},{"$f":"IFERROR(VLOOKUP($A38,Filtro!$A$5:$AY$629,47,FALSE),0)","v":42},{"$f":"IFERROR(VLOOKUP($A38,Filtro!$A$5:$AY$629,48,FALSE),0)","v":4},{"$f":"IFERROR(VLOOKUP($A38,Filtro!$A$5:$AY$629,49,FALSE),0)","v":1},{"$nulls":34},"","","","","","","","","","","","",{"$nulls":8},0,0,0,0,0,0,0,0,0,0,0,0]
["P6231500",null,"OTROS TRASTORNOS DE ANSIEDAD",7460,1704,5756,{"$f":"IFERROR(VLOOKUP($A39,Filtro!$A$5:$AY$629,5,FALSE),0)","v":4},{"$f":"IFERROR(VLOOKUP($A39,Filtro!$A$5:$AY$629,6,FALSE),0)","v":2},{"$f":"IFERROR(VLOOKUP($A39,Filtro!$A$5:$AY$629,7,FALSE),0)","v":68},{"$f":"IFERROR(VLOOKUP($A39,Filtro!$A$5:$AY$629,8,FALSE),0)","v":66},{"$f":"IFERROR(VLOOKUP($A39,Filtro!$A$5:$AY$629,9,FALSE),0)","v":120},{"$f":"IFERROR(VLOOKUP($A39,Filtro!$A$5:$AY$629,10,FALSE),0)","v":308},{"$f":"IFERROR(VLOOKUP($A39,Filtro!$A$5:$AY$629,11,FALSE),0)","v":200},{"$f":"IFERROR(VLOOKUP($A39,Filtro!$A$5:$AY$629,12,FALSE),0)","v":531},{"$f":"IFERROR(VLOOKUP($A39,Filtro!$A$5:$AY$629,13,FALSE),0)","v":141},{"$f":"IFERROR(VLOOKUP($A39,Filtro!$A$5:$AY$629,14,FALSE),0)","v":397},{"$f":"IFERROR(VLOOKUP($A39,Filtro!$A$5:$AY$629,15,FALSE),0)","v":144},{"$f":"IFERROR(VLOOKUP($A39,Filtro!$A$5:$AY$629,16,FALSE),0)","v":398},{"$f":"IFERROR(VLOOKUP($A39,Filtro!$A$5:$AY$629,17,FALSE),0)","v":107},{"$f":"IFERROR(VLOOKUP($A39,Filtro!$A$5:$AY$629,18,FALSE),0)","v":409},{"$f":"IFERROR(VLOOKUP($A39,Filtro!$A$5:$AY$629,19,FALSE),0)","v":93},{"$f":"IFERROR(VLOOKUP($A39,Filtro!$A$5:$AY$629,20,FALSE),0)","v":401},{"$f":"IFERROR(VLOOKUP($A39,Filtro!$A$5:$AY$629,21,FALSE),0)","v":110},{"$f":"IFERROR(VLOOKUP($A39,Filtro!$A$5:$AY$629,22,FALSE),0)","v":398},{"$f":"IFERROR(VLOOKUP($A39,Filtro!$A$5:$AY$629,23,FALSE),0)","v":100},{"$f":"IFERROR(VLOOKUP($A39,Filtro!$A$5:$AY$629,24,FALSE),0)","v":426},{"$f":"IFERROR(VLOOKUP($A39,Filtro!$A$5:$AY$629,25,FALSE),0)","v":115},{"$f":"IFERROR(VLOOKUP($A39,Filtro!$A$5:$AY$629,26,FALSE),0)","v":438},{"$f":"IFERROR(VLOOKUP($A39,Filtro!$A$5:$AY$629,27,FALSE),0)","v":93},{"$f":"IFERROR(VLOOKUP($A39,Filtro!$A$5:$AY$629,28,FALSE),0)","v":449},{"$f":"IFERROR(VLOOKUP($A39,Filtro!$A$5:$AY$629,29,FALSE),0)","v":96},{"$f":"IFERROR(VLOOKUP($A39,Filtro!$A$5:$AY$629,30,FALSE),0)","v":423},{"$f":"IFERROR(VLOOKUP($A39,Filtro!$A$5:$AY$629,31,FALSE),0)","v":113},{"$f":"IFERROR(VLOOKUP($A39,Filtro!$A$5:$AY$629,32,FALSE),0)","v":380},{"$f":"IFERROR(VLOOKUP($A39,Filtro!$A$5:$AY$629,33,FALSE),0)","v":84},{"$f":"IFERROR(VLOOKUP($A39,Filtro!$A$5:$AY$629,34,FALSE),0)","v":329},{"$f":"IFERROR(VLOOKUP($A39,Filtro!$A$5:$AY$629,35,FALSE),0)","v":60},{"$f":"IFERROR(VLOOKUP($A39,Filtro!$A$5:$AY$629,36,FALSE),0)","v":219},{"$f":"IFERROR(VLOOKUP($A39,Filtro!$A$5:$AY$629,37,FALSE),0)","v":56},{"$f":"IFERROR(VLOOKUP($A39,Filtro!$A$5:$AY$629,38,FALSE),0)","v":182},{"$f":"IFERROR(VLOOKUP($A39,Filtro!$A$5:$AY$629,39,FALSE),0)","v":39},{"$f":"IFERROR(VLOOKUP($A39,Filtro!$A$5:$AY$629,40,FALSE),0)","v":190},{"$f":"IFERROR(VLOOKUP($A39,Filtro!$A$5:$AY$629,41,FALSE),0)","v":17},{"$f":"IFERROR(VLOOKUP($A39,Filtro!$A$5:$AY$629,42,FALSE),0)","v":61},{"$f":"IFERROR(VLOOKUP($A39,Filtro!$A$5:$AY$629,43,FALSE),0)","v":5},{"$f":"IFERROR(VLOOKUP($A39,Filtro!$A$5:$AY$629,44,FALSE),0)","v":41},{"$f":"IFERROR(VLOOKUP($A39,Filtro!$A$5:$AY$629,45,FALSE),0)","v":26},{"$f":"IFERROR(VLOOKUP($A39,Filtro!$A$5:$AY$629,46,FALSE),0)","v":68},{"$f":"IFERROR(VLOOKUP($A39,Filtro!$A$5:$AY$629,47,FALSE),0)","v":161},{"$f":"IFERROR(VLOOKUP($A39,Filtro!$A$5:$AY$629,48,FALSE),0)","v":12},{"$f":"IFERROR(VLOOKUP($A39,Filtro!$A$5:$AY$629,49,FALSE),0)","v":5},{"$nulls":34},"","","","","","","","","","","","",{"$nulls":8},0,0,0,0,0,0,0,0,0,0,0,0]
["P6222300","DEMENCIAS (INCLUYE ALZHEIMER)","LEVE",339,{"$f":"+G40+I40+K40+M40+O40+Q40+S40+U40+W40+Y40+AA40+AC40+AE40+AG40+AI40+AK40+AM40","v":117},222,{"$f":"IFERROR(VLOOKUP($A40,Filtro!$A$5:$AY$629,5,FALSE),0)","v":0},{"$f":"IFERROR(VLOOKUP($A40,Filtro!$A$5:$AY$629,6,FALSE),0)","v":0},{"$f":"IFERROR(VLOOKUP($A40,Filtro!$A$5:$AY$629,7,FALSE),0)","v":0},{"$f":"IFERROR(VLOOKUP($A40,Filtro!$A$5:$AY$629,8,FALSE),0)","v":0},{"$f":"IFERROR(VLOOKUP($A40,Filtro!$A$5:$AY$629,9,FALSE),0)","v":0},{"$f":"IFERROR(VLOOKUP($A40,Filtro!$A$5:$AY$629,10,FALSE),0)","v":0},{"$f":"IFERROR(VLOOKUP($A40,Filtro!$A$5:$AY$629,11,FALSE),0)","v":0},{"$f":"IFERROR(VLOOKUP($A40,Filtro!$A$5:$AY$629,12,FALSE),0)","v":0},{"$f":"IFERROR(VLOOKUP($A40,Filtro!$A$5:$AY$629,13,FALSE),0)","v":0},{"$f":"IFERROR(VLOOKUP($A40,Filtro!$A$5:$AY$629,14,FALSE),0)","v":0},{"$f":"IFERROR(VLOOKUP($A40,Filtro!$A$5:$AY$629,15,FALSE),0)","v":0},{"$f":"IFERROR(VLOOKUP($A40,Filtro!$A$5:$AY$629,16,FALSE),0)","v":3},{"$f":"IFERROR(VLOOKUP($A40,Filtro!$A$5:$AY$629,17,FALSE),0)","v":0},{"$f":"IFERROR(VLOOKUP($A40,Filtro!$A$5:$AY$629,18,FALSE),0)","v":0},{"$f":"IFERROR(VLOOKUP($A40,Filtro!$A$5:$AY$629,19,FALSE),0)","v":0},{"$f":"IFERROR(VLOOKUP($A40,Filtro!$A$5:$AY$629,20,FALSE),0)","v":0},{"$f":"IFERROR(VLOOKUP($A40,Filtro!$A$5:$AY$629,21,FALSE),0)","v":1},{"$f":"IFERROR(VLOOKUP($A40,Filtro!$A$5:$AY$629,22,FALSE),0)","v":0},{"$f":"IFERROR(VLOOKUP($A40,Filtro!$A$5:$AY$629,23,FALSE),0)","v":1},{"$f":"IFERROR(VLOOKUP($A40,Filtro!$A$5:$AY$629,24,FALSE),0)","v":1},{"$f":"IFERROR(VLOOKUP($A40,Filtro!$A$5:$AY$629,25,FALSE),0)","v":1},{"$f":"IFERROR(VLOOKUP($A40,Filtro!$A$5:$AY$629,26,FALSE),0)","v":0},{"$f":"IFERROR(VLOOKUP($A40,Filtro!$A$5:$AY$629,27,FALSE),0)","v":4},{"$f":"IFERROR(VLOOKUP($A40,Filtro!$A$5:$AY$629,28,FALSE),0)","v":4},{"$f":"IFERROR(VLOOKUP($A40,Filtro!$A$5:$AY$629,29,FALSE),0)","v":3},{"$f":"IFERROR(VLOOKUP($A40,Filtro!$A$5:$AY$629,30,FALSE),0)","v":7},{"$f":"IFERROR(VLOOKUP($A40,Filtro!$A$5:$AY$629,31,FALSE),0)","v":10},{"$f":"IFERROR(VLOOKUP($A40,Filtro!$A$5:$AY$629,32,FALSE),0)","v":27},{"$f":"IFERROR(VLOOKUP($A40,Filtro!$A$5:$AY$629,33,FALSE),0)","v":17},{"$f":"IFERROR(VLOOKUP($A40,Filtro!$A$5:$AY$629,34,FALSE),0)","v":33},{"$f":"IFERROR(VLOOKUP($A40,Filtro!$A$5:$AY$629,35,FALSE),0)","v":20},{"$f":"IFERROR(VLOOKUP($A40,Filtro!$A$5:$AY$629,36,FALSE),0)","v":51},{"$f":"IFERROR(VLOOKUP($A40,Filtro!$A$5:$AY$629,37,FALSE),0)","v":60},{"$f":"IFERROR(VLOOKUP($A40,Filtro!$A$5:$AY$629,38,FALSE),0)","v":96},0,0,{"$f":"IFERROR(VLOOKUP($A40,Filtro!$A$5:$AY$629,41,FALSE),0)","v":0},{"$f":"IFERROR(VLOOKUP($A40,Filtro!$A$5:$AY$629,42,FALSE),0)","v":1},{"$f":"IFERROR(VLOOKUP($A40,Filtro!$A$5:$AY$629,43,FALSE),0)","v":4},{"$f":"IFERROR(VLOOKUP($A40,Filtro!$A$5:$AY$629,44,FALSE),0)","v":0},{"$f":"IFERROR(VLOOKUP($A40,Filtro!$A$5:$AY$629,45,FALSE),0)","v":0},{"$f":"IFERROR(VLOOKUP($A40,Filtro!$A$5:$AY$629,46,FALSE),0)","v":0},{"$f":"IFERROR(VLOOKUP($A40,Filtro!$A$5:$AY$629,47,FALSE),0)","v":19},{"$f":"IFERROR(VLOOKUP($A40,Filtro!$A$5:$AY$629,48,FALSE),0)","v":0},{"$f":"IFERROR(VLOOKUP($A40,Filtro!$A$5:$AY$629,49,FALSE),0)","v":0},{"$nulls":34},"","","","","","","",null,null,"","","",{"$nulls":8},0,0,0,0,0,0,0,null,null,0,0,0]
["P6230100",null,"MODERADO",364,136,228,{"$f":"IFERROR(VLOOKUP($A41,Filtro!$A$5:$AY$629,5,FALSE),0)","v":0},{"$f":"IFERROR(VLOOKUP($A41,Filtro!$A$5:$AY$629,6,FALSE),0)","v":0},{"$f":"IFERROR(VLOOKUP($A41,Filtro!$A$5:$AY$629,7,FALSE),0)","v":0},{"$f":"IFERROR(VLOOKUP($A41,Filtro!$A$5:$AY$629,8,FALSE),0)","v":0},{"$f":"IFERROR(VLOOKUP($A41,Filtro!$A$5:$AY$629,9,FALSE),0)","v":0},{"$f":"IFERROR(VLOOKUP($A41,Filtro!$A$5:$AY$629,10,FALSE),0)","v":1},{"$f":"IFERROR(VLOOKUP($A41,Filtro!$A$5:$AY$629,11,FALSE),0)","v":1},{"$f":"IFERROR(VLOOKUP($A41,Filtro!$A$5:$AY$629,12,FALSE),0)","v":0},{"$f":"IFERROR(VLOOKUP($A41,Filtro!$A$5:$AY$629,13,FALSE),0)","v":1},{"$f":"IFERROR(VLOOKUP($A41,Filtro!$A$5:$AY$629,14,FALSE),0)","v":0},{"$f":"IFERROR(VLOOKUP($A41,Filtro!$A$5:$AY$629,15,FALSE),0)","v":1},{"$f":"IFERROR(VLOOKUP($A41,Filtro!$A$5:$AY$629,16,FALSE),0)","v":0},{"$f":"IFERROR(VLOOKUP($A41,Filtro!$A$5:$AY$629,17,FALSE),0)","v":0},{"$f":"IFERROR(VLOOKUP($A41,Filtro!$A$5:$AY$629,18,FALSE),0)","v":0},{"$f":"IFERROR(VLOOKUP($A41,Filtro!$A$5:$AY$629,19,FALSE),0)","v":1},{"$f":"IFERROR(VLOOKUP($A41,Filtro!$A$5:$AY$629,20,FALSE),0)","v":0},{"$f":"IFERROR(VLOOKUP($A41,Filtro!$A$5:$AY$629,21,FALSE),0)","v":0},{"$f":"IFERROR(VLOOKUP($A41,Filtro!$A$5:$AY$629,22,FALSE),0)","v":2},{"$f":"IFERROR(VLOOKUP($A41,Filtro!$A$5:$AY$629,23,FALSE),0)","v":0},{"$f":"IFERROR(VLOOKUP($A41,Filtro!$A$5:$AY$629,24,FALSE),0)","v":0},{"$f":"IFERROR(VLOOKUP($A41,Filtro!$A$5:$AY$629,25,FALSE),0)","v":2},{"$f":"IFERROR(VLOOKUP($A41,Filtro!$A$5:$AY$629,26,FALSE),0)","v":1},{"$f":"IFERROR(VLOOKUP($A41,Filtro!$A$5:$AY$629,27,FALSE),0)","v":2},{"$f":"IFERROR(VLOOKUP($A41,Filtro!$A$5:$AY$629,28,FALSE),0)","v":5},{"$f":"IFERROR(VLOOKUP($A41,Filtro!$A$5:$AY$629,29,FALSE),0)","v":5},{"$f":"IFERROR(VLOOKUP($A41,Filtro!$A$5:$AY$629,30,FALSE),0)","v":5},{"$f":"IFERROR(VLOOKUP($A41,Filtro!$A$5:$AY$629,31,FALSE),0)","v":7},{"$f":"IFERROR(VLOOKUP($A41,Filtro!$A$5:$AY$629,32,FALSE),0)","v":13},{"$f":"IFERROR(VLOOKUP($A41,Filtro!$A$5:$AY$629,33,FALSE),0)","v":12},{"$f":"IFERROR(VLOOKUP($A41,Filtro!$A$5:$AY$629,34,FALSE),0)","v":22},{"$f":"IFERROR(VLOOKUP($A41,Filtro!$A$5:$AY$629,35,FALSE),0)","v":24},{"$f":"IFERROR(VLOOKUP($A41,Filtro!$A$5:$AY$629,36,FALSE),0)","v":43},{"$f":"IFERROR(VLOOKUP($A41,Filtro!$A$5:$AY$629,37,FALSE),0)","v":80},{"$f":"IFERROR(VLOOKUP($A41,Filtro!$A$5:$AY$629,38,FALSE),0)","v":136},0,0,{"$f":"IFERROR(VLOOKUP($A41,Filtro!$A$5:$AY$629,41,FALSE),0)","v":0},{"$f":"IFERROR(VLOOKUP($A41,Filtro!$A$5:$AY$629,42,FALSE),0)","v":0},{"$f":"IFERROR(VLOOKUP($A41,Filtro!$A$5:$AY$629,43,FALSE),0)","v":1},{"$f":"IFERROR(VLOOKUP($A41,Filtro!$A$5:$AY$629,44,FALSE),0)","v":2},{"$f":"IFERROR(VLOOKUP($A41,Filtro!$A$5:$AY$629,45,FALSE),0)","v":0},{"$f":"IFERROR(VLOOKUP($A41,Filtro!$A$5:$AY$629,46,FALSE),0)","v":0},{"$f":"IFERROR(VLOOKUP($A41,Filtro!$A$5:$AY$629,47,FALSE),0)","v":43},{"$f":"IFERROR(VLOOKUP($A41,Filtro!$A$5:$AY$629,48,FALSE),0)","v":0},{"$f":"IFERROR(VLOOKUP($A41,Filtro!$A$5:$AY$629,49,FALSE),0)","v":0},{"$nulls":34},"","","","","","","",null,null,"","","",{"$nulls":8},0,0,0,0,0,0,0,null,null,0,0,0]
["P6230200",null,"AVANZADO",92,28,64,{"$f":"IFERROR(VLOOKUP($A42,Filtro!$A$5:$AY$629,5,FALSE),0)","v":0},{"$f":"IFERROR(VLOOKUP($A42,Filtro!$A$5:$AY$629,6,FALSE),0)","v":0},{"$f":"IFERROR(VLOOKUP($A42,Filtro!$A$5:$AY$629,7,FALSE),0)","v":0},{"$f":"IFERROR(VLOOKUP($A42,Filtro!$A$5:$AY$629,8,FALSE),0)","v":0},{"$f":"IFERROR(VLOOKUP($A42,Filtro!$A$5:$AY$629,9,FALSE),0)","v":0},{"$f":"IFERROR(VLOOKUP($A42,Filtro!$A$5:$AY$629,10,FALSE),0)","v":1},{"$f":"IFERROR(VLOOKUP($A42,Filtro!$A$5:$AY$629,11,FALSE),0)","v":0},{"$f":"IFERROR(VLOOKUP($A42,Filtro!$A$5:$AY$629,12,FALSE),0)","v":0},{"$f":"IFERROR(VLOOKUP($A42,Filtro!$A$5:$AY$629,13,FALSE),0)","v":0},{"$f":"IFERROR(VLOOKUP($A42,Filtro!$A$5:$AY$629,14,FALSE),0)","v":0},{"$f":"IFERROR(VLOOKUP($A42,Filtro!$A$5:$AY$629,15,FALSE),0)","v":1},{"$f":"IFERROR(VLOOKUP($A42,Filtro!$A$5:$AY$629,16,FALSE),0)","v":1},{"$f":"IFERROR(VLOOKUP($A42,Filtro!$A$5:$AY$629,17,FALSE),0)","v":0},{"$f":"IFERROR(VLOOKUP($A42,Filtro!$A$5:$AY$629,18,FALSE),0)","v":0},{"$f":"IFERROR(VLOOKUP($A42,Filtro!$A$5:$AY$629,19,FALSE),0)","v":0},{"$f":"IFERROR(VLOOKUP($A42,Filtro!$A$5:$AY$629,20,FALSE),0)","v":0},{"$f":"IFERROR(VLOOKUP($A42,Filtro!$A$5:$AY$629,21,FALSE),0)","v":1},{"$f":"IFERROR(VLOOKUP($A42,Filtro!$A$5:$AY$629,22,FALSE),0)","v":0},{"$f":"IFERROR(VLOOKUP($A42,Filtro!$A$5:$AY$629,23,FALSE),0)","v":0},{"$f":"IFERROR(VLOOKUP($A42,Filtro!$A$5:$AY$629,24,FALSE),0)","v":1},{"$f":"IFERROR(VLOOKUP($A42,Filtro!$A$5:$AY$629,25,FALSE),0)","v":1},{"$f":"IFERROR(VLOOKUP($A42,Filtro!$A$5:$AY$629,26,FALSE),0)","v":0},{"$f":"IFERROR(VLOOKUP($A42,Filtro!$A$5:$AY$629,27,FALSE),0)","v":0},{"$f":"IFERROR(VLOOKUP($A42,Filtro!$A$5:$AY$629,28,FALSE),0)","v":1},{"$f":"IFERROR(VLOOKUP($A42,Filtro!$A$5:$AY$629,29,FALSE),0)","v":2},{"$f":"IFERROR(VLOOKUP($A42,Filtro!$A$5:$AY$629,30,FALSE),0)","v":4},{"$f":"IFERROR(VLOOKUP($A42,Filtro!$A$5:$AY$629,31,FALSE),0)","v":2},{"$f":"IFERROR(VLOOKUP($A42,Filtro!$A$5:$AY$629,32,FALSE),0)","v":3},{"$f":"IFERROR(VLOOKUP($A42,Filtro!$A$5:$AY$629,33,FALSE),0)","v":2},{"$f":"IFERROR(VLOOKUP($A42,Filtro!$A$5:$AY$629,34,FALSE),0)","v":6},{"$f":"IFERROR(VLOOKUP($A42,Filtro!$A$5:$AY$629,35,FALSE),0)","v":6},{"$f":"IFERROR(VLOOKUP($A42,Filtro!$A$5:$AY$629,36,FALSE),0)","v":12},{"$f":"IFERROR(VLOOKUP($A42,Filtro!$A$5:$AY$629,37,FALSE),0)","v":13},{"$f":"IFERROR(VLOOKUP($A42,Filtro!$A$5:$AY$629,38,FALSE),0)","v":35},0,0,{"$f":"IFERROR(VLOOKUP($A42,Filtro!$A$5:$AY$629,41,FALSE),0)","v":0},{"$f":"IFERROR(VLOOKUP($A42,Filtro!$A$5:$AY$629,42,FALSE),0)","v":0},{"$f":"IFERROR(VLOOKUP($A42,Filtro!$A$5:$AY$629,43,FALSE),0)","v":0},{"$f":"IFERROR(VLOOKUP($A42,Filtro!$A$5:$AY$629,44,FALSE),0)","v":0},{"$f":"IFERROR(VLOOKUP($A42,Filtro!$A$5:$AY$629,45,FALSE),0)","v":0},{"$f":"IFERROR(VLOOKUP($A42,Filtro!$A$5:$AY$629,46,FALSE),0)","v":0},{"$f":"IFERROR(VLOOKUP($A42,Filtro!$A$5:$AY$629,47,FALSE),0)","v":24},{"$f":"IFERROR(VLOOKUP($A42,Filtro!$A$5:$AY$629,48,FALSE),0)","v":0},{"$f":"IFERROR(VLOOKUP($A42,Filtro!$A$5:$AY$629,49,FALSE),0)","v":0},{"$nulls":34},"","","","","","","",null,null,"","","",{"$nulls":8},0,0,0,0,0,0,0,null,null,0,0,0]
["P6222400","ESQUIZOFRENIA",null,523,301,222,{"$f":"IFERROR(VLOOKUP($A43,Filtro!$A$5:$AY$629,5,FALSE),0)","v":0},{"$f":"IFERROR(VLOOKUP($A43,Filtro!$A$5:$AY$629,6,FALSE),0)","v":0},{"$f":"IFERROR(VLOOKUP($A43,Filtro!$A$5:$AY$629,7,FALSE),0)","v":0},{"$f":"IFERROR(VLOOKUP($A43,Filtro!$A$5:$AY$629,8,FALSE),0)","v":0},{"$f":"IFERROR(VLOOKUP($A43,Filtro!$A$5:$AY$629,9,FALSE),0)","v":4},{"$f":"IFERROR(VLOOKUP($A43,Filtro!$A$5:$AY$629,10,FALSE),0)","v":5},{"$f":"IFERROR(VLOOKUP($A43,Filtro!$A$5:$AY$629,11,FALSE),0)","v":8},{"$f":"IFERROR(VLOOKUP($A43,Filtro!$A$5:$AY$629,12,FALSE),0)","v":4},{"$f":"IFERROR(VLOOKUP($A43,Filtro!$A$5:$AY$629,13,FALSE),0)","v":34},{"$f":"IFERROR(VLOOKUP($A43,Filtro!$A$5:$AY$629,14,FALSE),0)","v":13},{"$f":"IFERROR(VLOOKUP($A43,Filtro!$A$5:$AY$629,15,FALSE),0)","v":34},{"$f":"IFERROR(VLOOKUP($A43,Filtro!$A$5:$AY$629,16,FALSE),0)","v":10},{"$f":"IFERROR(VLOOKUP($A43,Filtro!$A$5:$AY$629,17,FALSE),0)","v":30},{"$f":"IFERROR(VLOOKUP($A43,Filtro!$A$5:$AY$629,18,FALSE),0)","v":5},{"$f":"IFERROR(VLOOKUP($A43,Filtro!$A$5:$AY$629,19,FALSE),0)","v":30},{"$f":"IFERROR(VLOOKUP($A43,Filtro!$A$5:$AY$629,20,FALSE),0)","v":18},{"$f":"IFERROR(VLOOKUP($A43,Filtro!$A$5:$AY$629,21,FALSE),0)","v":26},{"$f":"IFERROR(VLOOKUP($A43,Filtro!$A$5:$AY$629,22,FALSE),0)","v":12},{"$f":"IFERROR(VLOOKUP($A43,Filtro!$A$5:$AY$629,23,FALSE),0)","v":31},{"$f":"IFERROR(VLOOKUP($A43,Filtro!$A$5:$AY$629,24,FALSE),0)","v":12},{"$f":"IFERROR(VLOOKUP($A43,Filtro!$A$5:$AY$629,25,FALSE),0)","v":32},{"$f":"IFERROR(VLOOKUP($A43,Filtro!$A$5:$AY$629,26,FALSE),0)","v":28},{"$f":"IFERROR(VLOOKUP($A43,Filtro!$A$5:$AY$629,27,FALSE),0)","v":25},{"$f":"IFERROR(VLOOKUP($A43,Filtro!$A$5:$AY$629,28,FALSE),0)","v":27},{"$f":"IFERROR(VLOOKUP($A43,Filtro!$A$5:$AY$629,29,FALSE),0)","v":22},{"$f":"IFERROR(VLOOKUP($A43,Filtro!$A$5:$AY$629,30,FALSE),0)","v":33},{"$f":"IFERROR(VLOOKUP($A43,Filtro!$A$5:$AY$629,31,FALSE),0)","v":13},{"$f":"IFERROR(VLOOKUP($A43,Filtro!$A$5:$AY$629,32,FALSE),0)","v":21},{"$f":"IFERROR(VLOOKUP($A43,Filtro!$A$5:$AY$629,33,FALSE),0)","v":4},{"$f":"IFERROR(VLOOKUP($A43,Filtro!$A$5:$AY$629,34,FALSE),0)","v":13},{"$f":"IFERROR(VLOOKUP($A43,Filtro!$A$5:$AY$629,35,FALSE),0)","v":4},{"$f":"IFERROR(VLOOKUP($A43,Filtro!$A$5:$AY$629,36,FALSE),0)","v":12},{"$f":"IFERROR(VLOOKUP($A43,Filtro!$A$5:$AY$629,37,FALSE),0)","v":4},{"$f":"IFERROR(VLOOKUP($A43,Filtro!$A$5:$AY$629,38,FALSE),0)","v":9},{"$f":"IFERROR(VLOOKUP($A43,Filtro!$A$5:$AY$629,39,FALSE),0)","v":0},{"$f":"IFERROR(VLOOKUP($A43,Filtro!$A$5:$AY$629,40,FALSE),0)","v":1},{"$f":"IFERROR(VLOOKUP($A43,Filtro!$A$5:$AY$629,41,FALSE),0)","v":1},{"$f":"IFERROR(VLOOKUP($A43,Filtro!$A$5:$AY$629,42,FALSE),0)","v":1},{"$f":"IFERROR(VLOOKUP($A43,Filtro!$A$5:$AY$629,43,FALSE),0)","v":2},{"$f":"IFERROR(VLOOKUP($A43,Filtro!$A$5:$AY$629,44,FALSE),0)","v":1},{"$f":"IFERROR(VLOOKUP($A43,Filtro!$A$5:$AY$629,45,FALSE),0)","v":0},{"$f":"IFERROR(VLOOKUP($A43,Filtro!$A$5:$AY$629,46,FALSE),0)","v":0},{"$f":"IFERROR(VLOOKUP($A43,Filtro!$A$5:$AY$629,47,FALSE),0)","v":71},{"$f":"IFERROR(VLOOKUP($A43,Filtro!$A$5:$AY$629,48,FALSE),0)","v":0},{"$f":"IFERROR(VLOOKUP($A43,Filtro!$A$5:$AY$629,49,FALSE),0)","v":2},{"$nulls":34},"","","","","","","","","","","","",{"$nulls":8},0,0,0,0,0,0,0,0,0,0,0,0]
["P6241116","TRASTORNO ADAPTATIVO",null,1660,463,1197,{"$f":"IFERROR(VLOOKUP($A44,Filtro!$A$5:$AY$629,5,FALSE),0)","v":0},{"$f":"IFERROR(VLOOKUP($A44,Filtro!$A$5:$AY$629,6,FALSE),0)","v":1},{"$f":"IFERROR(VLOOKUP($A44,Filtro!$A$5:$AY$629,7,FALSE),0)","v":70},{"$f":"IFERROR(VLOOKUP($A44,Filtro!$A$5:$AY$629,8,FALSE),0)","v":54},{"$f":"IFERROR(VLOOKUP($A44,Filtro!$A$5:$AY$629,9,FALSE),0)","v":69},{"$f":"IFERROR(VLOOKUP($A44,Filtro!$A$5:$AY$629,10,FALSE),0)","v":93},{"$f":"IFERROR(VLOOKUP($A44,Filtro!$A$5:$AY$629,11,FALSE),0)","v":66},{"$f":"IFERROR(VLOOKUP($A44,Filtro!$A$5:$AY$629,12,FALSE),0)","v":90},{"$f":"IFERROR(VLOOKUP($A44,Filtro!$A$5:$AY$629,13,FALSE),0)","v":26},{"$f":"IFERROR(VLOOKUP($A44,Filtro!$A$5:$AY$629,14,FALSE),0)","v":59},{"$f":"IFERROR(VLOOKUP($A44,Filtro!$A$5:$AY$629,15,FALSE),0)","v":19},{"$f":"IFERROR(VLOOKUP($A44,Filtro!$A$5:$AY$629,16,FALSE),0)","v":84},{"$f":"IFERROR(VLOOKUP($A44,Filtro!$A$5:$AY$629,17,FALSE),0)","v":16},{"$f":"IFERROR(VLOOKUP($A44,Filtro!$A$5:$AY$629,18,FALSE),0)","v":95},{"$f":"IFERROR(VLOOKUP($A44,Filtro!$A$5:$AY$629,19,FALSE),0)","v":20},{"$f":"IFERROR(VLOOKUP($A44,Filtro!$A$5:$AY$629,20,FALSE),0)","v":76},{"$f":"IFERROR(VLOOKUP($A44,Filtro!$A$5:$AY$629,21,FALSE),0)","v":17},{"$f":"IFERROR(VLOOKUP($A44,Filtro!$A$5:$AY$629,22,FALSE),0)","v":65},{"$f":"IFERROR(VLOOKUP($A44,Filtro!$A$5:$AY$629,23,FALSE),0)","v":23},{"$f":"IFERROR(VLOOKUP($A44,Filtro!$A$5:$AY$629,24,FALSE),0)","v":56},{"$f":"IFERROR(VLOOKUP($A44,Filtro!$A$5:$AY$629,25,FALSE),0)","v":17},{"$f":"IFERROR(VLOOKUP($A44,Filtro!$A$5:$AY$629,26,FALSE),0)","v":82},{"$f":"IFERROR(VLOOKUP($A44,Filtro!$A$5:$AY$629,27,FALSE),0)","v":13},{"$f":"IFERROR(VLOOKUP($A44,Filtro!$A$5:$AY$629,28,FALSE),0)","v":80},{"$f":"IFERROR(VLOOKUP($A44,Filtro!$A$5:$AY$629,29,FALSE),0)","v":33},{"$f":"IFERROR(VLOOKUP($A44,Filtro!$A$5:$AY$629,30,FALSE),0)","v":69},{"$f":"IFERROR(VLOOKUP($A44,Filtro!$A$5:$AY$629,31,FALSE),0)","v":20},{"$f":"IFERROR(VLOOKUP($A44,Filtro!$A$5:$AY$629,32,FALSE),0)","v":79},{"$f":"IFERROR(VLOOKUP($A44,Filtro!$A$5:$AY$629,33,FALSE),0)","v":27},{"$f":"IFERROR(VLOOKUP($A44,Filtro!$A$5:$AY$629,34,FALSE),0)","v":49},{"$f":"IFERROR(VLOOKUP($A44,Filtro!$A$5:$AY$629,35,FALSE),0)","v":14},{"$f":"IFERROR(VLOOKUP($A44,Filtro!$A$5:$AY$629,36,FALSE),0)","v":43},{"$f":"IFERROR(VLOOKUP($A44,Filtro!$A$5:$AY$629,37,FALSE),0)","v":13},{"$f":"IFERROR(VLOOKUP($A44,Filtro!$A$5:$AY$629,38,FALSE),0)","v":122},{"$f":"IFERROR(VLOOKUP($A44,Filtro!$A$5:$AY$629,39,FALSE),0)","v":13},{"$f":"IFERROR(VLOOKUP($A44,Filtro!$A$5:$AY$629,40,FALSE),0)","v":40},{"$f":"IFERROR(VLOOKUP($A44,Filtro!$A$5:$AY$629,41,FALSE),0)","v":1},{"$f":"IFERROR(VLOOKUP($A44,Filtro!$A$5:$AY$629,42,FALSE),0)","v":6},{"$f":"IFERROR(VLOOKUP($A44,Filtro!$A$5:$AY$629,43,FALSE),0)","v":5},{"$f":"IFERROR(VLOOKUP($A44,Filtro!$A$5:$AY$629,44,FALSE),0)","v":16},{"$f":"IFERROR(VLOOKUP($A44,Filtro!$A$5:$AY$629,45,FALSE),0)","v":18},{"$f":"IFERROR(VLOOKUP($A44,Filtro!$A$5:$AY$629,46,FALSE),0)","v":47},{"$f":"IFERROR(VLOOKUP($A44,Filtro!$A$5:$AY$629,47,FALSE),0)","v":39},{"$f":"IFERROR(VLOOKUP($A44,Filtro!$A$5:$AY$629,48,FALSE),0)","v":3},{"$f":"IFERROR(VLOOKUP($A44,Filtro!$A$5:$AY$629,49,FALSE),0)","v":0}]
["P6222500","TRASTORNOS DE LA CONDUCTA ALIMENTARIA",null,270,35,235,{"$f":"IFERROR(VLOOKUP($A45,Filtro!$A$5:$AY$629,5,FALSE),0)","v":0},{"$f":"IFERROR(VLOOKUP($A45,Filtro!$A$5:$AY$629,6,FALSE),0)","v":0},{"$f":"IFERROR(VLOOKUP($A45,Filtro!$A$5:$AY$629,7,FALSE),0)","v":2},{"$f":"IFERROR(VLOOKUP($A45,Filtro!$A$5:$AY$629,8,FALSE),0)","v":5},{"$f":"IFERROR(VLOOKUP($A45,Filtro!$A$5:$AY$629,9,FALSE),0)","v":9},{"$f":"IFERROR(VLOOKUP($A45,Filtro!$A$5:$AY$629,10,FALSE),0)","v":52},{"$f":"IFERROR(VLOOKUP($A45,Filtro!$A$5:$AY$629,11,FALSE),0)","v":9},{"$f":"IFERROR(VLOOKUP($A45,Filtro!$A$5:$AY$629,12,FALSE),0)","v":99},{"$f":"IFERROR(VLOOKUP($A45,Filtro!$A$5:$AY$629,13,FALSE),0)","v":2},{"$f":"IFERROR(VLOOKUP($A45,Filtro!$A$5:$AY$629,14,FALSE),0)","v":30},{"$f":"IFERROR(VLOOKUP($A45,Filtro!$A$5:$AY$629,15,FALSE),0)","v":2},{"$f":"IFERROR(VLOOKUP($A45,Filtro!$A$5:$AY$629,16,FALSE),0)","v":16},{"$f":"IFERROR(VLOOKUP($A45,Filtro!$A$5:$AY$629,17,FALSE),0)","v":1},{"$f":"IFERROR(VLOOKUP($A45,Filtro!$A$5:$AY$629,18,FALSE),0)","v":5},{"$f":"IFERROR(VLOOKUP($A45,Filtro!$A$5:$AY$629,19,FALSE),0)","v":2},{"$f":"IFERROR(VLOOKUP($A45,Filtro!$A$5:$AY$629,20,FALSE),0)","v":11},{"$f":"IFERROR(VLOOKUP($A45,Filtro!$A$5:$AY$629,21,FALSE),0)","v":4},{"$f":"IFERROR(VLOOKUP($A45,Filtro!$A$5:$AY$629,22,FALSE),0)","v":8},{"$f":"IFERROR(VLOOKUP($A45,Filtro!$A$5:$AY$629,23,FALSE),0)","v":1},{"$f":"IFERROR(VLOOKUP($A45,Filtro!$A$5:$AY$629,24,FALSE),0)","v":4},{"$f":"IFERROR(VLOOKUP($A45,Filtro!$A$5:$AY$629,25,FALSE),0)","v":0},{"$f":"IFERROR(VLOOKUP($A45,Filtro!$A$5:$AY$629,26,FALSE),0)","v":3},{"$f":"IFERROR(VLOOKUP($A45,Filtro!$A$5:$AY$629,27,FALSE),0)","v":2},{"$f":"IFERROR(VLOOKUP($A45,Filtro!$A$5:$AY$629,28,FALSE),0)","v":2},{"$f":"IFERROR(VLOOKUP($A45,Filtro!$A$5:$AY$629,29,FALSE),0)","v":1},{"$f":"IFERROR(VLOOKUP($A45,Filtro!$A$5:$AY$629,30,FALSE),0)","v":0},{"$f":"IFERROR(VLOOKUP($A45,Filtro!$A$5:$AY$629,31,FALSE),0)","v":0},{"$f":"IFERROR(VLOOKUP($A45,Filtro!$A$5:$AY$629,32,FALSE),0)","v":0},{"$f":"IFERROR(VLOOKUP($A45,Filtro!$A$5:$AY$629,33,FALSE),0)","v":0},{"$f":"IFERROR(VLOOKUP($A45,Filtro!$A$5:$AY$629,34,FALSE),0)","v":0},{"$f":"IFERROR(VLOOKUP($A45,Filtro!$A$5:$AY$629,35,FALSE),0)","v":0},{"$f":"IFERROR(VLOOKUP($A45,Filtro!$A$5:$AY$629,36,FALSE),0)","v":0},{"$f":"IFERROR(VLOOKUP($A45,Filtro!$A$5:$AY$629,37,FALSE),0)","v":0},{"$f":"IFERROR(VLOOKUP($A45,Filtro!$A$5:$AY$629,38,FALSE),0)","v":0},{"$f":"IFERROR(VLOOKUP($A45,Filtro!$A$5:$AY$629,39,FALSE),0)","v":2},{"$f":"IFERROR(VLOOKUP($A45,Filtro!$A$5:$AY$629,40,FALSE),0)","v":7},{"$f":"IFERROR(VLOOKUP($A45,Filtro!$A$5:$AY$629,41,FALSE),0)","v":1},{"$f":"IFERROR(VLOOKUP($A45,Filtro!$A$5:$AY$629,42,FALSE),0)","v":4},{"$f":"IFERROR(VLOOKUP($A45,Filtro!$A$5:$AY$629,43,FALSE),0)","v":0},{"$f":"IFERROR(VLOOKUP($A45,Filtro!$A$5:$AY$629,44,FALSE),0)","v":1},{"$f":"IFERROR(VLOOKUP($A45,Filtro!$A$5:$AY$629,45,FALSE),0)","v":1},{"$f":"IFERROR(VLOOKUP($A45,Filtro!$A$5:$AY$629,46,FALSE),0)","v":6},{"$f":"IFERROR(VLOOKUP($A45,Filtro!$A$5:$AY$629,47,FALSE),0)","v":13},{"$f":"IFERROR(VLOOKUP($A45,Filtro!$A$5:$AY$629,48,FALSE),0)","v":1},{"$f":"IFERROR(VLOOKUP($A45,Filtro!$A$5:$AY$629,49,FALSE),0)","v":1},{"$nulls":34},"","","","","","","","","","","","",{"$nulls":8},0,0,0,0,0,0,0,0,0,0,0,0]
["P6222800","RETRASO MENTAL",null,386,190,196,{"$f":"IFERROR(VLOOKUP($A46,Filtro!$A$5:$AY$629,5,FALSE),0)","v":1},{"$f":"IFERROR(VLOOKUP($A46,Filtro!$A$5:$AY$629,6,FALSE),0)","v":0},{"$f":"IFERROR(VLOOKUP($A46,Filtro!$A$5:$AY$629,7,FALSE),0)","v":18},{"$f":"IFERROR(VLOOKUP($A46,Filtro!$A$5:$AY$629,8,FALSE),0)","v":4},{"$f":"IFERROR(VLOOKUP($A46,Filtro!$A$5:$AY$629,9,FALSE),0)","v":27},{"$f":"IFERROR(VLOOKUP($A46,Filtro!$A$5:$AY$629,10,FALSE),0)","v":20},{"$f":"IFERROR(VLOOKUP($A46,Filtro!$A$5:$AY$629,11,FALSE),0)","v":20},{"$f":"IFERROR(VLOOKUP($A46,Filtro!$A$5:$AY$629,12,FALSE),0)","v":15},{"$f":"IFERROR(VLOOKUP($A46,Filtro!$A$5:$AY$629,13,FALSE),0)","v":15},{"$f":"IFERROR(VLOOKUP($A46,Filtro!$A$5:$AY$629,14,FALSE),0)","v":20},{"$f":"IFERROR(VLOOKUP($A46,Filtro!$A$5:$AY$629,15,FALSE),0)","v":9},{"$f":"IFERROR(VLOOKUP($A46,Filtro!$A$5:$AY$629,16,FALSE),0)","v":18},{"$f":"IFERROR(VLOOKUP($A46,Filtro!$A$5:$AY$629,17,FALSE),0)","v":14},{"$f":"IFERROR(VLOOKUP($A46,Filtro!$A$5:$AY$629,18,FALSE),0)","v":14},{"$f":"IFERROR(VLOOKUP($A46,Filtro!$A$5:$AY$629,19,FALSE),0)","v":7},{"$f":"IFERROR(VLOOKUP($A46,Filtro!$A$5:$AY$629,20,FALSE),0)","v":17},{"$f":"IFERROR(VLOOKUP($A46,Filtro!$A$5:$AY$629,21,FALSE),0)","v":17},{"$f":"IFERROR(VLOOKUP($A46,Filtro!$A$5:$AY$629,22,FALSE),0)","v":14},{"$f":"IFERROR(VLOOKUP($A46,Filtro!$A$5:$AY$629,23,FALSE),0)","v":17},{"$f":"IFERROR(VLOOKUP($A46,Filtro!$A$5:$AY$629,24,FALSE),0)","v":19},{"$f":"IFERROR(VLOOKUP($A46,Filtro!$A$5:$AY$629,25,FALSE),0)","v":15},{"$f":"IFERROR(VLOOKUP($A46,Filtro!$A$5:$AY$629,26,FALSE),0)","v":11},{"$f":"IFERROR(VLOOKUP($A46,Filtro!$A$5:$AY$629,27,FALSE),0)","v":12},{"$f":"IFERROR(VLOOKUP($A46,Filtro!$A$5:$AY$629,28,FALSE),0)","v":21},{"$f":"IFERROR(VLOOKUP($A46,Filtro!$A$5:$AY$629,29,FALSE),0)","v":8},{"$f":"IFERROR(VLOOKUP($A46,Filtro!$A$5:$AY$629,30,FALSE),0)","v":6},{"$f":"IFERROR(VLOOKUP($A46,Filtro!$A$5:$AY$629,31,FALSE),0)","v":5},{"$f":"IFERROR(VLOOKUP($A46,Filtro!$A$5:$AY$629,32,FALSE),0)","v":5},{"$f":"IFERROR(VLOOKUP($A46,Filtro!$A$5:$AY$629,33,FALSE),0)","v":3},{"$f":"IFERROR(VLOOKUP($A46,Filtro!$A$5:$AY$629,34,FALSE),0)","v":5},{"$f":"IFERROR(VLOOKUP($A46,Filtro!$A$5:$AY$629,35,FALSE),0)","v":0},{"$f":"IFERROR(VLOOKUP($A46,Filtro!$A$5:$AY$629,36,FALSE),0)","v":7},{"$f":"IFERROR(VLOOKUP($A46,Filtro!$A$5:$AY$629,37,FALSE),0)","v":2},{"$f":"IFERROR(VLOOKUP($A46,Filtro!$A$5:$AY$629,38,FALSE),0)","v":0},{"$f":"IFERROR(VLOOKUP($A46,Filtro!$A$5:$AY$629,39,FALSE),0)","v":0},{"$f":"IFERROR(VLOOKUP($A46,Filtro!$A$5:$AY$629,40,FALSE),0)","v":4},{"$f":"IFERROR(VLOOKUP($A46,Filtro!$A$5:$AY$629,41,FALSE),0)","v":1},{"$f":"IFERROR(VLOOKUP($A46,Filtro!$A$5:$AY$629,42,FALSE),0)","v":0},{"$f":"IFERROR(VLOOKUP($A46,Filtro!$A$5:$AY$629,43,FALSE),0)","v":1},{"$f":"IFERROR(VLOOKUP($A46,Filtro!$A$5:$AY$629,44,FALSE),0)","v":1},{"$f":"IFERROR(VLOOKUP($A46,Filtro!$A$5:$AY$629,45,FALSE),0)","v":12},{"$f":"IFERROR(VLOOKUP($A46,Filtro!$A$5:$AY$629,46,FALSE),0)","v":13},{"$f":"IFERROR(VLOOKUP($A46,Filtro!$A$5:$AY$629,47,FALSE),0)","v":33},{"$f":"IFERROR(VLOOKUP($A46,Filtro!$A$5:$AY$629,48,FALSE),0)","v":0},{"$f":"IFERROR(VLOOKUP($A46,Filtro!$A$5:$AY$629,49,FALSE),0)","v":0},{"$nulls":34},"","","","","","","","","","","","",{"$nulls":8},0,0,0,0,0,0,0,0,0,0,0,0]
["P6222900","TRASTORNO DE PERSONALIDAD",null,1415,298,1117,{"$f":"IFERROR(VLOOKUP($A47,Filtro!$A$5:$AY$629,5,FALSE),0)","v":0},{"$f":"IFERROR(VLOOKUP($A47,Filtro!$A$5:$AY$629,6,FALSE),0)","v":0},{"$f":"IFERROR(VLOOKUP($A47,Filtro!$A$5:$AY$629,7,FALSE),0)","v":0},{"$f":"IFERROR(VLOOKUP($A47,Filtro!$A$5:$AY$629,8,FALSE),0)","v":0},{"$f":"IFERROR(VLOOKUP($A47,Filtro!$A$5:$AY$629,9,FALSE),0)","v":11},{"$f":"IFERROR(VLOOKUP($A47,Filtro!$A$5:$AY$629,10,FALSE),0)","v":26},{"$f":"IFERROR(VLOOKUP($A47,Filtro!$A$5:$AY$629,11,FALSE),0)","v":42},{"$f":"IFERROR(VLOOKUP($A47,Filtro!$A$5:$AY$629,12,FALSE),0)","v":121},{"$f":"IFERROR(VLOOKUP($A47,Filtro!$A$5:$AY$629,13,FALSE),0)","v":42},{"$f":"IFERROR(VLOOKUP($A47,Filtro!$A$5:$AY$629,14,FALSE),0)","v":99},{"$f":"IFERROR(VLOOKUP($A47,Filtro!$A$5:$AY$629,15,FALSE),0)","v":28},{"$f":"IFERROR(VLOOKUP($A47,Filtro!$A$5:$AY$629,16,FALSE),0)","v":90},{"$f":"IFERROR(VLOOKUP($A47,Filtro!$A$5:$AY$629,17,FALSE),0)","v":24},{"$f":"IFERROR(VLOOKUP($A47,Filtro!$A$5:$AY$629,18,FALSE),0)","v":89},{"$f":"IFERROR(VLOOKUP($A47,Filtro!$A$5:$AY$629,19,FALSE),0)","v":22},{"$f":"IFERROR(VLOOKUP($A47,Filtro!$A$5:$AY$629,20,FALSE),0)","v":76},{"$f":"IFERROR(VLOOKUP($A47,Filtro!$A$5:$AY$629,21,FALSE),0)","v":16},{"$f":"IFERROR(VLOOKUP($A47,Filtro!$A$5:$AY$629,22,FALSE),0)","v":78},{"$f":"IFERROR(VLOOKUP($A47,Filtro!$A$5:$AY$629,23,FALSE),0)","v":27},{"$f":"IFERROR(VLOOKUP($A47,Filtro!$A$5:$AY$629,24,FALSE),0)","v":73},{"$f":"IFERROR(VLOOKUP($A47,Filtro!$A$5:$AY$629,25,FALSE),0)","v":24},{"$f":"IFERROR(VLOOKUP($A47,Filtro!$A$5:$AY$629,26,FALSE),0)","v":114},{"$f":"IFERROR(VLOOKUP($A47,Filtro!$A$5:$AY$629,27,FALSE),0)","v":12},{"$f":"IFERROR(VLOOKUP($A47,Filtro!$A$5:$AY$629,28,FALSE),0)","v":100},{"$f":"IFERROR(VLOOKUP($A47,Filtro!$A$5:$AY$629,29,FALSE),0)","v":15},{"$f":"IFERROR(VLOOKUP($A47,Filtro!$A$5:$AY$629,30,FALSE),0)","v":97},{"$f":"IFERROR(VLOOKUP($A47,Filtro!$A$5:$AY$629,31,FALSE),0)","v":20},{"$f":"IFERROR(VLOOKUP($A47,Filtro!$A$5:$AY$629,32,FALSE),0)","v":72},{"$f":"IFERROR(VLOOKUP($A47,Filtro!$A$5:$AY$629,33,FALSE),0)","v":7},{"$f":"IFERROR(VLOOKUP($A47,Filtro!$A$5:$AY$629,34,FALSE),0)","v":40},{"$f":"IFERROR(VLOOKUP($A47,Filtro!$A$5:$AY$629,35,FALSE),0)","v":5},{"$f":"IFERROR(VLOOKUP($A47,Filtro!$A$5:$AY$629,36,FALSE),0)","v":25},{"$f":"IFERROR(VLOOKUP($A47,Filtro!$A$5:$AY$629,37,FALSE),0)","v":3},{"$f":"IFERROR(VLOOKUP($A47,Filtro!$A$5:$AY$629,38,FALSE),0)","v":17},{"$f":"IFERROR(VLOOKUP($A47,Filtro!$A$5:$AY$629,39,FALSE),0)","v":9},{"$f":"IFERROR(VLOOKUP($A47,Filtro!$A$5:$AY$629,40,FALSE),0)","v":30},{"$f":"IFERROR(VLOOKUP($A47,Filtro!$A$5:$AY$629,41,FALSE),0)","v":4},{"$f":"IFERROR(VLOOKUP($A47,Filtro!$A$5:$AY$629,42,FALSE),0)","v":11},{"$f":"IFERROR(VLOOKUP($A47,Filtro!$A$5:$AY$629,43,FALSE),0)","v":0},{"$f":"IFERROR(VLOOKUP($A47,Filtro!$A$5:$AY$629,44,FALSE),0)","v":5},{"$f":"IFERROR(VLOOKUP($A47,Filtro!$A$5:$AY$629,45,FALSE),0)","v":4},{"$f":"IFERROR(VLOOKUP($A47,Filtro!$A$5:$AY$629,46,FALSE),0)","v":22},{"$f":"IFERROR(VLOOKUP($A47,Filtro!$A$5:$AY$629,47,FALSE),0)","v":112},{"$f":"IFERROR(VLOOKUP($A47,Filtro!$A$5:$AY$629,48,FALSE),0)","v":4},{"$f":"IFERROR(VLOOKUP($A47,Filtro!$A$5:$AY$629,49,FALSE),0)","v":2},{"$nulls":34},"","","","","","","","","","","","",{"$nulls":8},0,0,0,0,0,0,0,0,0,0,0,0]
["P6241010","TRASTORNO GENERALIZADOS DEL DESARROLLO","AUTISMO",{"$f":"SUM(E48:F48)","v":776},{"$f":"+G48+I48+K48+M48+O48+Q48+S48+U48+W48+Y48+AA48+AC48+AE48+AG48+AI48+AK48+AM48","v":568},{"$f":"+H48+J48+L48+N48+P48+R48+T48+V48+X48+Z48+AB48+AD48+AF48+AH48+AJ48+AL48+AN48","v":208},{"$f":"IFERROR(VLOOKUP($A48,Filtro!$A$5:$AY$629,5,FALSE),0)","v":57},{"$f":"IFERROR(VLOOKUP($A48,Filtro!$A$5:$AY$629,6,FALSE),0)","v":14},{"$f":"IFERROR(VLOOKUP($A48,Filtro!$A$5:$AY$629,7,FALSE),0)","v":274},{"$f":"IFERROR(VLOOKUP($A48,Filtro!$A$5:$AY$629,8,FALSE),0)","v":72},{"$f":"IFERROR(VLOOKUP($A48,Filtro!$A$5:$AY$629,9,FALSE),0)","v":136},{"$f":"IFERROR(VLOOKUP($A48,Filtro!$A$5:$AY$629,10,FALSE),0)","v":69},{"$f":"IFERROR(VLOOKUP($A48,Filtro!$A$5:$AY$629,11,FALSE),0)","v":63},{"$f":"IFERROR(VLOOKUP($A48,Filtro!$A$5:$AY$629,12,FALSE),0)","v":34},{"$f":"IFERROR(VLOOKUP($A48,Filtro!$A$5:$AY$629,13,FALSE),0)","v":19},{"$f":"IFERROR(VLOOKUP($A48,Filtro!$A$5:$AY$629,14,FALSE),0)","v":9},{"$f":"IFERROR(VLOOKUP($A48,Filtro!$A$5:$AY$629,15,FALSE),0)","v":8},{"$f":"IFERROR(VLOOKUP($A48,Filtro!$A$5:$AY$629,16,FALSE),0)","v":4},{"$f":"IFERROR(VLOOKUP($A48,Filtro!$A$5:$AY$629,17,FALSE),0)","v":3},{"$f":"IFERROR(VLOOKUP($A48,Filtro!$A$5:$AY$629,18,FALSE),0)","v":1},{"$f":"IFERROR(VLOOKUP($A48,Filtro!$A$5:$AY$629,19,FALSE),0)","v":3},{"$f":"IFERROR(VLOOKUP($A48,Filtro!$A$5:$AY$629,20,FALSE),0)","v":0},{"$f":"IFERROR(VLOOKUP($A48,Filtro!$A$5:$AY$629,21,FALSE),0)","v":3},{"$f":"IFERROR(VLOOKUP($A48,Filtro!$A$5:$AY$629,22,FALSE),0)","v":0},{"$f":"IFERROR(VLOOKUP($A48,Filtro!$A$5:$AY$629,23,FALSE),0)","v":1},{"$f":"IFERROR(VLOOKUP($A48,Filtro!$A$5:$AY$629,24,FALSE),0)","v":3},{"$f":"IFERROR(VLOOKUP($A48,Filtro!$A$5:$AY$629,25,FALSE),0)","v":1},{"$f":"IFERROR(VLOOKUP($A48,Filtro!$A$5:$AY$629,26,FALSE),0)","v":1},{"$f":"IFERROR(VLOOKUP($A48,Filtro!$A$5:$AY$629,27,FALSE),0)","v":0},{"$f":"IFERROR(VLOOKUP($A48,Filtro!$A$5:$AY$629,28,FALSE),0)","v":0},{"$f":"IFERROR(VLOOKUP($A48,Filtro!$A$5:$AY$629,29,FALSE),0)","v":0},{"$f":"IFERROR(VLOOKUP($A48,Filtro!$A$5:$AY$629,30,FALSE),0)","v":0},{"$f":"IFERROR(VLOOKUP($A48,Filtro!$A$5:$AY$629,31,FALSE),0)","v":0},{"$f":"IFERROR(VLOOKUP($A48,Filtro!$A$5:$AY$629,32,FALSE),0)","v":0},{"$f":"IFERROR(VLOOKUP($A48,Filtro!$A$5:$AY$629,33,FALSE),0)","v":0},{"$f":"IFERROR(VLOOKUP($A48,Filtro!$A$5:$AY$629,34,FALSE),0)","v":1},{"$f":"IFERROR(VLOOKUP($A48,Filtro!$A$5:$AY$629,35,FALSE),0)","v":0},{"$f":"IFERROR(VLOOKUP($A48,Filtro!$A$5:$AY$629,36,FALSE),0)","v":0},{"$f":"IFERROR(VLOOKUP($A48,Filtro!$A$5:$AY$629,37,FALSE),0)","v":0},{"$f":"IFERROR(VLOOKUP($A48,Filtro!$A$5:$AY$629,38,FALSE),0)","v":0},{"$f":"IFERROR(VLOOKUP($A48,Filtro!$A$5:$AY$629,39,FALSE),0)","v":0},{"$f":"IFERROR(VLOOKUP($A48,Filtro!$A$5:$AY$629,40,FALSE),0)","v":0},{"$f":"IFERROR(VLOOKUP($A48,Filtro!$A$5:$AY$629,41,FALSE),0)","v":1},{"$f":"IFERROR(VLOOKUP($A48,Filtro!$A$5:$AY$629,42,FALSE),0)","v":1},{"$f":"IFERROR(VLOOKUP($A48,Filtro!$A$5:$AY$629,43,FALSE),0)","v":4},{"$f":"IFERROR(VLOOKUP($A48,Filtro!$A$5:$AY$629,44,FALSE),0)","v":0},{"$f":"IFERROR(VLOOKUP($A48,Filtro!$A$5:$AY$629,45,FALSE),0)","v":3},{"$f":"IFERROR(VLOOKUP($A48,Filtro!$A$5:$AY$629,46,FALSE),0)","v":20},{"$f":"IFERROR(VLOOKUP($A48,Filtro!$A$5:$AY$629,47,FALSE),0)","v":106},{"$f":"IFERROR(VLOOKUP($A48,Filtro!$A$5:$AY$629,48,FALSE),0)","v":1},{"$f":"IFERROR(VLOOKUP($A48,Filtro!$A$5:$AY$629,49,FALSE),0)","v":0}]
["P6241020",null,"ASPERGER",79,{"$f":"+G49+I49+K49+M49+O49+Q49+S49+U49+W49+Y49+AA49+AC49+AE49+AG49+AI49+AK49+AM49","v":61},18,{"$f":"IFERROR(VLOOKUP($A49,Filtro!$A$5:$AY$629,5,FALSE),0)","v":0},{"$f":"IFERROR(VLOOKUP($A49,Filtro!$A$5:$AY$629,6,FALSE),0)","v":1},{"$f":"IFERROR(VLOOKUP($A49,Filtro!$A$5:$AY$629,7,FALSE),0)","v":9},{"$f":"IFERROR(VLOOKUP($A49,Filtro!$A$5:$AY$629,8,FALSE),0)","v":2},{"$f":"IFERROR(VLOOKUP($A49,Filtro!$A$5:$AY$629,9,FALSE),0)","v":21},{"$f":"IFERROR(VLOOKUP($A49,Filtro!$A$5:$AY$629,10,FALSE),0)","v":4},{"$f":"IFERROR(VLOOKUP($A49,Filtro!$A$5:$AY$629,11,FALSE),0)","v":20},{"$f":"IFERROR(VLOOKUP($A49,Filtro!$A$5:$AY$629,12,FALSE),0)","v":8},{"$f":"IFERROR(VLOOKUP($A49,Filtro!$A$5:$AY$629,13,FALSE),0)","v":5},{"$f":"IFERROR(VLOOKUP($A49,Filtro!$A$5:$AY$629,14,FALSE),0)","v":2},{"$f":"IFERROR(VLOOKUP($A49,Filtro!$A$5:$AY$629,15,FALSE),0)","v":2},{"$f":"IFERROR(VLOOKUP($A49,Filtro!$A$5:$AY$629,16,FALSE),0)","v":0},{"$f":"IFERROR(VLOOKUP($A49,Filtro!$A$5:$AY$629,17,FALSE),0)","v":2},{"$f":"IFERROR(VLOOKUP($A49,Filtro!$A$5:$AY$629,18,FALSE),0)","v":0},{"$f":"IFERROR(VLOOKUP($A49,Filtro!$A$5:$AY$629,19,FALSE),0)","v":2},{"$f":"IFERROR(VLOOKUP($A49,Filtro!$A$5:$AY$629,20,FALSE),0)","v":0},{"$f":"IFERROR(VLOOKUP($A49,Filtro!$A$5:$AY$629,21,FALSE),0)","v":0},{"$f":"IFERROR(VLOOKUP($A49,Filtro!$A$5:$AY$629,22,FALSE),0)","v":1},{"$f":"IFERROR(VLOOKUP($A49,Filtro!$A$5:$AY$629,23,FALSE),0)","v":0},{"$f":"IFERROR(VLOOKUP($A49,Filtro!$A$5:$AY$629,24,FALSE),0)","v":0},{"$f":"IFERROR(VLOOKUP($A49,Filtro!$A$5:$AY$629,25,FALSE),0)","v":0},{"$f":"IFERROR(VLOOKUP($A49,Filtro!$A$5:$AY$629,26,FALSE),0)","v":0},{"$f":"IFERROR(VLOOKUP($A49,Filtro!$A$5:$AY$629,27,FALSE),0)","v":0},{"$f":"IFERROR(VLOOKUP($A49,Filtro!$A$5:$AY$629,28,FALSE),0)","v":0},{"$f":"IFERROR(VLOOKUP($A49,Filtro!$A$5:$AY$629,29,FALSE),0)","v":0},{"$f":"IFERROR(VLOOKUP($A49,Filtro!$A$5:$AY$629,30,FALSE),0)","v":0},{"$f":"IFERROR(VLOOKUP($A49,Filtro!$A$5:$AY$629,31,FALSE),0)","v":0},{"$f":"IFERROR(VLOOKUP($A49,Filtro!$A$5:$AY$629,32,FALSE),0)","v":0},{"$f":"IFERROR(VLOOKUP($A49,Filtro!$A$5:$AY$629,33,FALSE),0)","v":0},{"$f":"IFERROR(VLOOKUP($A49,Filtro!$A$5:$AY$629,34,FALSE),0)","v":0},{"$f":"IFERROR(VLOOKUP($A49,Filtro!$A$5:$AY$629,35,FALSE),0)","v":0},{"$f":"IFERROR(VLOOKUP($A49,Filtro!$A$5:$AY$629,36,FALSE),0)","v":0},{"$f":"IFERROR(VLOOKUP($A49,Filtro!$A$5:$AY$629,37,FALSE),0)","v":0},{"$f":"IFERROR(VLOOKUP($A49,Filtro!$A$5:$AY$629,38,FALSE),0)","v":0},{"$f":"IFERROR(VLOOKUP($A49,Filtro!$A$5:$AY$629,39,FALSE),0)","v":0},{"$f":"IFERROR(VLOOKUP($A49,Filtro!$A$5:$AY$629,40,FALSE),0)","v":0},{"$f":"IFERROR(VLOOKUP($A49,Filtro!$A$5:$AY$629,41,FALSE),0)","v":1},{"$f":"IFERROR(VLOOKUP($A49,Filtro!$A$5:$AY$629,42,FALSE),0)","v":0},{"$f":"IFERROR(VLOOKUP($A49,Filtro!$A$5:$AY$629,43,FALSE),0)","v":1},{"$f":"IFERROR(VLOOKUP($A49,Filtro!$A$5:$AY$629,44,FALSE),0)","v":0},{"$f":"IFERROR(VLOOKUP($A49,Filtro!$A$5:$AY$629,45,FALSE),0)","v":0},{"$f":"IFERROR(VLOOKUP($A49,Filtro!$A$5:$AY$629,46,FALSE),0)","v":2},{"$f":"IFERROR(VLOOKUP($A49,Filtro!$A$5:$AY$629,47,FALSE),0)","v":0},{"$f":"IFERROR(VLOOKUP($A49,Filtro!$A$5:$AY$629,48,FALSE),0)","v":1},{"$f":"IFERROR(VLOOKUP($A49,Filtro!$A$5:$AY$629,49,FALSE),0)","v":1}]
["P6241030",null,"SÍNDROME DE RETT",0,0,0,{"$f":"IFERROR(VLOOKUP($A50,Filtro!$A$5:$AY$629,5,FALSE),0)","v":0},{"$f":"IFERROR(VLOOKUP($A50,Filtro!$A$5:$AY$629,6,FALSE),0)","v":0},{"$f":"IFERROR(VLOOKUP($A50,Filtro!$A$5:$AY$629,7,FALSE),0)","v":0},{"$f":"IFERROR(VLOOKUP($A50,Filtro!$A$5:$AY$629,8,FALSE),0)","v":0},{"$f":"IFERROR(VLOOKUP($A50,Filtro!$A$5:$AY$629,9,FALSE),0)","v":0},{"$f":"IFERROR(VLOOKUP($A50,Filtro!$A$5:$AY$629,10,FALSE),0)","v":0},{"$f":"IFERROR(VLOOKUP($A50,Filtro!$A$5:$AY$629,11,FALSE),0)","v":0},{"$f":"IFERROR(VLOOKUP($A50,Filtro!$A$5:$AY$629,12,FALSE),0)","v":0},{"$f":"IFERROR(VLOOKUP($A50,Filtro!$A$5:$AY$629,13,FALSE),0)","v":0},{"$f":"IFERROR(VLOOKUP($A50,Filtro!$A$5:$AY$629,14,FALSE),0)","v":0},{"$f":"IFERROR(VLOOKUP($A50,Filtro!$A$5:$AY$629,15,FALSE),0)","v":0},{"$f":"IFERROR(VLOOKUP($A50,Filtro!$A$5:$AY$629,16,FALSE),0)","v":0},{"$f":"IFERROR(VLOOKUP($A50,Filtro!$A$5:$AY$629,17,FALSE),0)","v":0},{"$f":"IFERROR(VLOOKUP($A50,Filtro!$A$5:$AY$629,18,FALSE),0)","v":0},{"$f":"IFERROR(VLOOKUP($A50,Filtro!$A$5:$AY$629,19,FALSE),0)","v":0},{"$f":"IFERROR(VLOOKUP($A50,Filtro!$A$5:$AY$629,20,FALSE),0)","v":0},{"$f":"IFERROR(VLOOKUP($A50,Filtro!$A$5:$AY$629,21,FALSE),0)","v":0},{"$f":"IFERROR(VLOOKUP($A50,Filtro!$A$5:$AY$629,22,FALSE),0)","v":0},{"$f":"IFERROR(VLOOKUP($A50,Filtro!$A$5:$AY$629,23,FALSE),0)","v":0},{"$f":"IFERROR(VLOOKUP($A50,Filtro!$A$5:$AY$629,24,FALSE),0)","v":0},{"$f":"IFERROR(VLOOKUP($A50,Filtro!$A$5:$AY$629,25,FALSE),0)","v":0},{"$f":"IFERROR(VLOOKUP($A50,Filtro!$A$5:$AY$629,26,FALSE),0)","v":0},{"$f":"IFERROR(VLOOKUP($A50,Filtro!$A$5:$AY$629,27,FALSE),0)","v":0},{"$f":"IFERROR(VLOOKUP($A50,Filtro!$A$5:$AY$629,28,FALSE),0)","v":0},{"$f":"IFERROR(VLOOKUP($A50,Filtro!$A$5:$AY$629,29,FALSE),0)","v":0},{"$f":"IFERROR(VLOOKUP($A50,Filtro!$A$5:$AY$629,30,FALSE),0)","v":0},{"$f":"IFERROR(VLOOKUP($A50,Filtro!$A$5:$AY$629,31,FALSE),0)","v":0},{"$f":"IFERROR(VLOOKUP($A50,Filtro!$A$5:$AY$629,32,FALSE),0)","v":0},{"$f":"IFERROR(VLOOKUP($A50,Filtro!$A$5:$AY$629,33,FALSE),0)","v":0},{"$f":"IFERROR(VLOOKUP($A50,Filtro!$A$5:$AY$629,34,FALSE),0)","v":0},{"$f":"IFERROR(VLOOKUP($A50,Filtro!$A$5:$AY$629,35,FALSE),0)","v":0},{"$f":"IFERROR(VLOOKUP($A50,Filtro!$A$5:$AY$629,36,FALSE),0)","v":0},{"$f":"IFERROR(VLOOKUP($A50,Filtro!$A$5:$AY$629,37,FALSE),0)","v":0},{"$f":"IFERROR(VLOOKUP($A50,Filtro!$A$5:$AY$629,38,FALSE),0)","v":0},{"$f":"IFERROR(VLOOKUP($A50,Filtro!$A$5:$AY$629,39,FALSE),0)","v":0},{"$f":"IFERROR(VLOOKUP($A50,Filtro!$A$5:$AY$629,40,FALSE),0)","v":0},{"$f":"IFERROR(VLOOKUP($A50,Filtro!$A$5:$AY$629,41,FALSE),0)","v":0},{"$f":"IFERROR(VLOOKUP($A50,Filtro!$A$5:$AY$629,42,FALSE),0)","v":0},{"$f":"IFERROR(VLOOKUP($A50,Filtro!$A$5:$AY$629,43,FALSE),0)","v":0},{"$f":"IFERROR(VLOOKUP($A50,Filtro!$A$5:$AY$629,44,FALSE),0)","v":0},{"$f":"IFERROR(VLOOKUP($A50,Filtro!$A$5:$AY$629,45,FALSE),0)","v":0},{"$f":"IFERROR(VLOOKUP($A50,Filtro!$A$5:$AY$629,46,FALSE),0)","v":0},{"$f":"IFERROR(VLOOKUP($A50,Filtro!$A$5:$AY$629,47,FALSE),0)","v":0},{"$f":"IFERROR(VLOOKUP($A50,Filtro!$A$5:$AY$629,48,FALSE),0)","v":0},{"$f":"IFERROR(VLOOKUP($A50,Filtro!$A$5:$AY$629,49,FALSE),0)","v":0}]
["P6241040",null,"TRASTORNO DESINTEGRATIVO DE LA INFANCIA",3,2,1,{"$f":"IFERROR(VLOOKUP($A51,Filtro!$A$5:$AY$629,5,FALSE),0)","v":0},{"$f":"IFERROR(VLOOKUP($A51,Filtro!$A$5:$AY$629,6,FALSE),0)","v":0},{"$f":"IFERROR(VLOOKUP($A51,Filtro!$A$5:$AY$629,7,FALSE),0)","v":1},{"$f":"IFERROR(VLOOKUP($A51,Filtro!$A$5:$AY$629,8,FALSE),0)","v":0},{"$f":"IFERROR(VLOOKUP($A51,Filtro!$A$5:$AY$629,9,FALSE),0)","v":1},{"$f":"IFERROR(VLOOKUP($A51,Filtro!$A$5:$AY$629,10,FALSE),0)","v":0},{"$f":"IFERROR(VLOOKUP($A51,Filtro!$A$5:$AY$629,11,FALSE),0)","v":0},{"$f":"IFERROR(VLOOKUP($A51,Filtro!$A$5:$AY$629,12,FALSE),0)","v":1},{"$f":"IFERROR(VLOOKUP($A51,Filtro!$A$5:$AY$629,13,FALSE),0)","v":0},{"$f":"IFERROR(VLOOKUP($A51,Filtro!$A$5:$AY$629,14,FALSE),0)","v":0},{"$f":"IFERROR(VLOOKUP($A51,Filtro!$A$5:$AY$629,15,FALSE),0)","v":0},{"$f":"IFERROR(VLOOKUP($A51,Filtro!$A$5:$AY$629,16,FALSE),0)","v":0},{"$f":"IFERROR(VLOOKUP($A51,Filtro!$A$5:$AY$629,17,FALSE),0)","v":0},{"$f":"IFERROR(VLOOKUP($A51,Filtro!$A$5:$AY$629,18,FALSE),0)","v":0},{"$f":"IFERROR(VLOOKUP($A51,Filtro!$A$5:$AY$629,19,FALSE),0)","v":0},{"$f":"IFERROR(VLOOKUP($A51,Filtro!$A$5:$AY$629,20,FALSE),0)","v":0},{"$f":"IFERROR(VLOOKUP($A51,Filtro!$A$5:$AY$629,21,FALSE),0)","v":0},{"$f":"IFERROR(VLOOKUP($A51,Filtro!$A$5:$AY$629,22,FALSE),0)","v":0},{"$f":"IFERROR(VLOOKUP($A51,Filtro!$A$5:$AY$629,23,FALSE),0)","v":0},{"$f":"IFERROR(VLOOKUP($A51,Filtro!$A$5:$AY$629,24,FALSE),0)","v":0},{"$f":"IFERROR(VLOOKUP($A51,Filtro!$A$5:$AY$629,25,FALSE),0)","v":0},{"$f":"IFERROR(VLOOKUP($A51,Filtro!$A$5:$AY$629,26,FALSE),0)","v":0},{"$f":"IFERROR(VLOOKUP($A51,Filtro!$A$5:$AY$629,27,FALSE),0)","v":0},{"$f":"IFERROR(VLOOKUP($A51,Filtro!$A$5:$AY$629,28,FALSE),0)","v":0},{"$f":"IFERROR(VLOOKUP($A51,Filtro!$A$5:$AY$629,29,FALSE),0)","v":0},{"$f":"IFERROR(VLOOKUP($A51,Filtro!$A$5:$AY$629,30,FALSE),0)","v":0},{"$f":"IFERROR(VLOOKUP($A51,Filtro!$A$5:$AY$629,31,FALSE),0)","v":0},{"$f":"IFERROR(VLOOKUP($A51,Filtro!$A$5:$AY$629,32,FALSE),0)","v":0},{"$f":"IFERROR(VLOOKUP($A51,Filtro!$A$5:$AY$629,33,FALSE),0)","v":0},{"$f":"IFERROR(VLOOKUP($A51,Filtro!$A$5:$AY$629,34,FALSE),0)","v":0},{"$f":"IFERROR(VLOOKUP($A51,Filtro!$A$5:$AY$629,35,FALSE),0)","v":0},{"$f":"IFERROR(VLOOKUP($A51,Filtro!$A$5:$AY$629,36,FALSE),0)","v":0},{"$f":"IFERROR(VLOOKUP($A51,Filtro!$A$5:$AY$629,37,FALSE),0)","v":0},{"$f":"IFERROR(VLOOKUP($A51,Filtro!$A$5:$AY$629,38,FALSE),0)","v":0},{"$f":"IFERROR(VLOOKUP($A51,Filtro!$A$5:$AY$629,39,FALSE),0)","v":0},{"$f":"IFERROR(VLOOKUP($A51,Filtro!$A$5:$AY$629,40,FALSE),0)","v":0},{"$f":"IFERROR(VLOOKUP($A51,Filtro!$A$5:$AY$629,41,FALSE),0)","v":0},{"$f":"IFERROR(VLOOKUP($A51,Filtro!$A$5:$AY$629,42,FALSE),0)","v":0},{"$f":"IFERROR(VLOOKUP($A51,Filtro!$A$5:$AY$629,43,FALSE),0)","v":0},{"$f":"IFERROR(VLOOKUP($A51,Filtro!$A$5:$AY$629,44,FALSE),0)","v":0},{"$f":"IFERROR(VLOOKUP($A51,Filtro!$A$5:$AY$629,45,FALSE),0)","v":0},{"$f":"IFERROR(VLOOKUP($A51,Filtro!$A$5:$AY$629,46,FALSE),0)","v":0},{"$f":"IFERROR(VLOOKUP($A51,Filtro!$A$5:$AY$629,47,FALSE),0)","v":0},{"$f":"IFERROR(VLOOKUP($A51,Filtro!$A$5:$AY$629,48,FALSE),0)","v":0},{"$f":"IFERROR(VLOOKUP($A51,Filtro!$A$5:$AY$629,49,FALSE),0)","v":0}]
["P6241050",null,"TRASTONO GENERALIZADO DEL DESARROLLO NO ESPECÍFICO",126,93,33,{"$f":"IFERROR(VLOOKUP($A52,Filtro!$A$5:$AY$629,5,FALSE),0)","v":8},{"$f":"IFERROR(VLOOKUP($A52,Filtro!$A$5:$AY$629,6,FALSE),0)","v":2},{"$f":"IFERROR(VLOOKUP($A52,Filtro!$A$5:$AY$629,7,FALSE),0)","v":38},{"$f":"IFERROR(VLOOKUP($A52,Filtro!$A$5:$AY$629,8,FALSE),0)","v":5},{"$f":"IFERROR(VLOOKUP($A52,Filtro!$A$5:$AY$629,9,FALSE),0)","v":25},{"$f":"IFERROR(VLOOKUP($A52,Filtro!$A$5:$AY$629,10,FALSE),0)","v":13},{"$f":"IFERROR(VLOOKUP($A52,Filtro!$A$5:$AY$629,11,FALSE),0)","v":16},{"$f":"IFERROR(VLOOKUP($A52,Filtro!$A$5:$AY$629,12,FALSE),0)","v":6},{"$f":"IFERROR(VLOOKUP($A52,Filtro!$A$5:$AY$629,13,FALSE),0)","v":2},{"$f":"IFERROR(VLOOKUP($A52,Filtro!$A$5:$AY$629,14,FALSE),0)","v":0},{"$f":"IFERROR(VLOOKUP($A52,Filtro!$A$5:$AY$629,15,FALSE),0)","v":2},{"$f":"IFERROR(VLOOKUP($A52,Filtro!$A$5:$AY$629,16,FALSE),0)","v":2},{"$f":"IFERROR(VLOOKUP($A52,Filtro!$A$5:$AY$629,17,FALSE),0)","v":1},{"$f":"IFERROR(VLOOKUP($A52,Filtro!$A$5:$AY$629,18,FALSE),0)","v":0},{"$f":"IFERROR(VLOOKUP($A52,Filtro!$A$5:$AY$629,19,FALSE),0)","v":0},{"$f":"IFERROR(VLOOKUP($A52,Filtro!$A$5:$AY$629,20,FALSE),0)","v":0},{"$f":"IFERROR(VLOOKUP($A52,Filtro!$A$5:$AY$629,21,FALSE),0)","v":0},{"$f":"IFERROR(VLOOKUP($A52,Filtro!$A$5:$AY$629,22,FALSE),0)","v":0},{"$f":"IFERROR(VLOOKUP($A52,Filtro!$A$5:$AY$629,23,FALSE),0)","v":0},{"$f":"IFERROR(VLOOKUP($A52,Filtro!$A$5:$AY$629,24,FALSE),0)","v":2},{"$f":"IFERROR(VLOOKUP($A52,Filtro!$A$5:$AY$629,25,FALSE),0)","v":0},{"$f":"IFERROR(VLOOKUP($A52,Filtro!$A$5:$AY$629,26,FALSE),0)","v":3},{"$f":"IFERROR(VLOOKUP($A52,Filtro!$A$5:$AY$629,27,FALSE),0)","v":1},{"$f":"IFERROR(VLOOKUP($A52,Filtro!$A$5:$AY$629,28,FALSE),0)","v":0},{"$f":"IFERROR(VLOOKUP($A52,Filtro!$A$5:$AY$629,29,FALSE),0)","v":0},{"$f":"IFERROR(VLOOKUP($A52,Filtro!$A$5:$AY$629,30,FALSE),0)","v":0},{"$f":"IFERROR(VLOOKUP($A52,Filtro!$A$5:$AY$629,31,FALSE),0)","v":0},{"$f":"IFERROR(VLOOKUP($A52,Filtro!$A$5:$AY$629,32,FALSE),0)","v":0},{"$f":"IFERROR(VLOOKUP($A52,Filtro!$A$5:$AY$629,33,FALSE),0)","v":0},{"$f":"IFERROR(VLOOKUP($A52,Filtro!$A$5:$AY$629,34,FALSE),0)","v":0},{"$f":"IFERROR(VLOOKUP($A52,Filtro!$A$5:$AY$629,35,FALSE),0)","v":0},{"$f":"IFERROR(VLOOKUP($A52,Filtro!$A$5:$AY$629,36,FALSE),0)","v":0},{"$f":"IFERROR(VLOOKUP($A52,Filtro!$A$5:$AY$629,37,FALSE),0)","v":0},{"$f":"IFERROR(VLOOKUP($A52,Filtro!$A$5:$AY$629,38,FALSE),0)","v":0},{"$f":"IFERROR(VLOOKUP($A52,Filtro!$A$5:$AY$629,39,FALSE),0)","v":0},{"$f":"IFERROR(VLOOKUP($A52,Filtro!$A$5:$AY$629,40,FALSE),0)","v":0},{"$f":"IFERROR(VLOOKUP($A52,Filtro!$A$5:$AY$629,41,FALSE),0)","v":1},{"$f":"IFERROR(VLOOKUP($A52,Filtro!$A$5:$AY$629,42,FALSE),0)","v":0},{"$f":"IFERROR(VLOOKUP($A52,Filtro!$A$5:$AY$629,43,FALSE),0)","v":1},{"$f":"IFERROR(VLOOKUP($A52,Filtro!$A$5:$AY$629,44,FALSE),0)","v":0},{"$f":"IFERROR(VLOOKUP($A52,Filtro!$A$5:$AY$629,45,FALSE),0)","v":0},{"$f":"IFERROR(VLOOKUP($A52,Filtro!$A$5:$AY$629,46,FALSE),0)","v":3},{"$f":"IFERROR(VLOOKUP($A52,Filtro!$A$5:$AY$629,47,FALSE),0)","v":28},{"$f":"IFERROR(VLOOKUP($A52,Filtro!$A$5:$AY$629,48,FALSE),0)","v":0},{"$f":"IFERROR(VLOOKUP($A52,Filtro!$A$5:$AY$629,49,FALSE),0)","v":0},{"$nulls":34},"","","","","","","","","","","","",{"$nulls":8},0,0,0,0,0,0,0,0,0,0,0,0]
["P6231600","EPILEPSIA",null,{"$f":"SUM(E53:F53)","v":329},130,199,{"$f":"IFERROR(VLOOKUP($A53,Filtro!$A$5:$AY$629,5,FALSE),0)","v":3},{"$f":"IFERROR(VLOOKUP($A53,Filtro!$A$5:$AY$629,6,FALSE),0)","v":2},{"$f":"IFERROR(VLOOKUP($A53,Filtro!$A$5:$AY$629,7,FALSE),0)","v":2},{"$f":"IFERROR(VLOOKUP($A53,Filtro!$A$5:$AY$629,8,FALSE),0)","v":2},{"$f":"IFERROR(VLOOKUP($A53,Filtro!$A$5:$AY$629,9,FALSE),0)","v":12},{"$f":"IFERROR(VLOOKUP($A53,Filtro!$A$5:$AY$629,10,FALSE),0)","v":16},{"$f":"IFERROR(VLOOKUP($A53,Filtro!$A$5:$AY$629,11,FALSE),0)","v":8},{"$f":"IFERROR(VLOOKUP($A53,Filtro!$A$5:$AY$629,12,FALSE),0)","v":14},{"$f":"IFERROR(VLOOKUP($A53,Filtro!$A$5:$AY$629,13,FALSE),0)","v":6},{"$f":"IFERROR(VLOOKUP($A53,Filtro!$A$5:$AY$629,14,FALSE),0)","v":10},{"$f":"IFERROR(VLOOKUP($A53,Filtro!$A$5:$AY$629,15,FALSE),0)","v":5},{"$f":"IFERROR(VLOOKUP($A53,Filtro!$A$5:$AY$629,16,FALSE),0)","v":16},{"$f":"IFERROR(VLOOKUP($A53,Filtro!$A$5:$AY$629,17,FALSE),0)","v":10},{"$f":"IFERROR(VLOOKUP($A53,Filtro!$A$5:$AY$629,18,FALSE),0)","v":15},{"$f":"IFERROR(VLOOKUP($A53,Filtro!$A$5:$AY$629,19,FALSE),0)","v":15},{"$f":"IFERROR(VLOOKUP($A53,Filtro!$A$5:$AY$629,20,FALSE),0)","v":11},{"$f":"IFERROR(VLOOKUP($A53,Filtro!$A$5:$AY$629,21,FALSE),0)","v":13},{"$f":"IFERROR(VLOOKUP($A53,Filtro!$A$5:$AY$629,22,FALSE),0)","v":13},{"$f":"IFERROR(VLOOKUP($A53,Filtro!$A$5:$AY$629,23,FALSE),0)","v":7},{"$f":"IFERROR(VLOOKUP($A53,Filtro!$A$5:$AY$629,24,FALSE),0)","v":15},{"$f":"IFERROR(VLOOKUP($A53,Filtro!$A$5:$AY$629,25,FALSE),0)","v":7},{"$f":"IFERROR(VLOOKUP($A53,Filtro!$A$5:$AY$629,26,FALSE),0)","v":17},{"$f":"IFERROR(VLOOKUP($A53,Filtro!$A$5:$AY$629,27,FALSE),0)","v":6},{"$f":"IFERROR(VLOOKUP($A53,Filtro!$A$5:$AY$629,28,FALSE),0)","v":22},{"$f":"IFERROR(VLOOKUP($A53,Filtro!$A$5:$AY$629,29,FALSE),0)","v":9},{"$f":"IFERROR(VLOOKUP($A53,Filtro!$A$5:$AY$629,30,FALSE),0)","v":9},{"$f":"IFERROR(VLOOKUP($A53,Filtro!$A$5:$AY$629,31,FALSE),0)","v":7},{"$f":"IFERROR(VLOOKUP($A53,Filtro!$A$5:$AY$629,32,FALSE),0)","v":11},{"$f":"IFERROR(VLOOKUP($A53,Filtro!$A$5:$AY$629,33,FALSE),0)","v":5},{"$f":"IFERROR(VLOOKUP($A53,Filtro!$A$5:$AY$629,34,FALSE),0)","v":12},{"$f":"IFERROR(VLOOKUP($A53,Filtro!$A$5:$AY$629,35,FALSE),0)","v":7},{"$f":"IFERROR(VLOOKUP($A53,Filtro!$A$5:$AY$629,36,FALSE),0)","v":8},{"$f":"IFERROR(VLOOKUP($A53,Filtro!$A$5:$AY$629,37,FALSE),0)","v":8},{"$f":"IFERROR(VLOOKUP($A53,Filtro!$A$5:$AY$629,38,FALSE),0)","v":6},{"$f":"IFERROR(VLOOKUP($A53,Filtro!$A$5:$AY$629,39,FALSE),0)","v":0},{"$f":"IFERROR(VLOOKUP($A53,Filtro!$A$5:$AY$629,40,FALSE),0)","v":1},{"$f":"IFERROR(VLOOKUP($A53,Filtro!$A$5:$AY$629,41,FALSE),0)","v":0},{"$f":"IFERROR(VLOOKUP($A53,Filtro!$A$5:$AY$629,42,FALSE),0)","v":0},{"$f":"IFERROR(VLOOKUP($A53,Filtro!$A$5:$AY$629,43,FALSE),0)","v":0},{"$f":"IFERROR(VLOOKUP($A53,Filtro!$A$5:$AY$629,44,FALSE),0)","v":0},{"$f":"IFERROR(VLOOKUP($A53,Filtro!$A$5:$AY$629,45,FALSE),0)","v":0},{"$f":"IFERROR(VLOOKUP($A53,Filtro!$A$5:$AY$629,46,FALSE),0)","v":2},{"$f":"IFERROR(VLOOKUP($A53,Filtro!$A$5:$AY$629,47,FALSE),0)","v":8},{"$f":"IFERROR(VLOOKUP($A53,Filtro!$A$5:$AY$629,48,FALSE),0)","v":0},{"$f":"IFERROR(VLOOKUP($A53,Filtro!$A$5:$AY$629,49,FALSE),0)","v":0},{"$nulls":34},"","","","","","","","","","","","",{"$nulls":8},0,0,0,0,0,0,0,0,0,0,0,0]
["P6227602","OTRAS ",null,{"$f":"SUM(E54:F54)","v":5512},1879,3633,{"$f":"IFERROR(VLOOKUP($A54,Filtro!$A$5:$AY$629,5,FALSE),0)","v":54},{"$f":"IFERROR(VLOOKUP($A54,Filtro!$A$5:$AY$629,6,FALSE),0)","v":34},{"$f":"IFERROR(VLOOKUP($A54,Filtro!$A$5:$AY$629,7,FALSE),0)","v":211},{"$f":"IFERROR(VLOOKUP($A54,Filtro!$A$5:$AY$629,8,FALSE),0)","v":155},{"$f":"IFERROR(VLOOKUP($A54,Filtro!$A$5:$AY$629,9,FALSE),0)","v":224},{"$f":"IFERROR(VLOOKUP($A54,Filtro!$A$5:$AY$629,10,FALSE),0)","v":315},{"$f":"IFERROR(VLOOKUP($A54,Filtro!$A$5:$AY$629,11,FALSE),0)","v":200},{"$f":"IFERROR(VLOOKUP($A54,Filtro!$A$5:$AY$629,12,FALSE),0)","v":330},{"$f":"IFERROR(VLOOKUP($A54,Filtro!$A$5:$AY$629,13,FALSE),0)","v":89},{"$f":"IFERROR(VLOOKUP($A54,Filtro!$A$5:$AY$629,14,FALSE),0)","v":189},{"$f":"IFERROR(VLOOKUP($A54,Filtro!$A$5:$AY$629,15,FALSE),0)","v":67},{"$f":"IFERROR(VLOOKUP($A54,Filtro!$A$5:$AY$629,16,FALSE),0)","v":192},{"$f":"IFERROR(VLOOKUP($A54,Filtro!$A$5:$AY$629,17,FALSE),0)","v":79},{"$f":"IFERROR(VLOOKUP($A54,Filtro!$A$5:$AY$629,18,FALSE),0)","v":187},{"$f":"IFERROR(VLOOKUP($A54,Filtro!$A$5:$AY$629,19,FALSE),0)","v":77},{"$f":"IFERROR(VLOOKUP($A54,Filtro!$A$5:$AY$629,20,FALSE),0)","v":202},{"$f":"IFERROR(VLOOKUP($A54,Filtro!$A$5:$AY$629,21,FALSE),0)","v":84},{"$f":"IFERROR(VLOOKUP($A54,Filtro!$A$5:$AY$629,22,FALSE),0)","v":190},{"$f":"IFERROR(VLOOKUP($A54,Filtro!$A$5:$AY$629,23,FALSE),0)","v":97},{"$f":"IFERROR(VLOOKUP($A54,Filtro!$A$5:$AY$629,24,FALSE),0)","v":175},{"$f":"IFERROR(VLOOKUP($A54,Filtro!$A$5:$AY$629,25,FALSE),0)","v":99},{"$f":"IFERROR(VLOOKUP($A54,Filtro!$A$5:$AY$629,26,FALSE),0)","v":240},{"$f":"IFERROR(VLOOKUP($A54,Filtro!$A$5:$AY$629,27,FALSE),0)","v":105},{"$f":"IFERROR(VLOOKUP($A54,Filtro!$A$5:$AY$629,28,FALSE),0)","v":262},{"$f":"IFERROR(VLOOKUP($A54,Filtro!$A$5:$AY$629,29,FALSE),0)","v":79},{"$f":"IFERROR(VLOOKUP($A54,Filtro!$A$5:$AY$629,30,FALSE),0)","v":270},{"$f":"IFERROR(VLOOKUP($A54,Filtro!$A$5:$AY$629,31,FALSE),0)","v":100},{"$f":"IFERROR(VLOOKUP($A54,Filtro!$A$5:$AY$629,32,FALSE),0)","v":273},{"$f":"IFERROR(VLOOKUP($A54,Filtro!$A$5:$AY$629,33,FALSE),0)","v":109},{"$f":"IFERROR(VLOOKUP($A54,Filtro!$A$5:$AY$629,34,FALSE),0)","v":205},{"$f":"IFERROR(VLOOKUP($A54,Filtro!$A$5:$AY$629,35,FALSE),0)","v":72},{"$f":"IFERROR(VLOOKUP($A54,Filtro!$A$5:$AY$629,36,FALSE),0)","v":171},{"$f":"IFERROR(VLOOKUP($A54,Filtro!$A$5:$AY$629,37,FALSE),0)","v":133},{"$f":"IFERROR(VLOOKUP($A54,Filtro!$A$5:$AY$629,38,FALSE),0)","v":243},{"$f":"IFERROR(VLOOKUP($A54,Filtro!$A$5:$AY$629,39,FALSE),0)","v":38},{"$f":"IFERROR(VLOOKUP($A54,Filtro!$A$5:$AY$629,40,FALSE),0)","v":93},{"$f":"IFERROR(VLOOKUP($A54,Filtro!$A$5:$AY$629,41,FALSE),0)","v":10},{"$f":"IFERROR(VLOOKUP($A54,Filtro!$A$5:$AY$629,42,FALSE),0)","v":19},{"$f":"IFERROR(VLOOKUP($A54,Filtro!$A$5:$AY$629,43,FALSE),0)","v":18},{"$f":"IFERROR(VLOOKUP($A54,Filtro!$A$5:$AY$629,44,FALSE),0)","v":29},{"$f":"IFERROR(VLOOKUP($A54,Filtro!$A$5:$AY$629,45,FALSE),0)","v":61},{"$f":"IFERROR(VLOOKUP($A54,Filtro!$A$5:$AY$629,46,FALSE),0)","v":187},{"$f":"IFERROR(VLOOKUP($A54,Filtro!$A$5:$AY$629,47,FALSE),0)","v":275},{"$f":"IFERROR(VLOOKUP($A54,Filtro!$A$5:$AY$629,48,FALSE),0)","v":20},{"$f":"IFERROR(VLOOKUP($A54,Filtro!$A$5:$AY$629,49,FALSE),0)","v":7},{"$nulls":36},"","","","","",null,null,"","","",{"$nulls":10},0,0,0,0,0,null,null,0,0,0]
[null,"SECCION A.2: PROGRAMA DE REHABILITACIÓN EN ATENCION PRIMARIA (PERSONAS CON TRANSTORNOS PSIQUIÁTRICO)."]
[null,"TIPO","RUBRO","T O T A L",null,null,"GRUPO DE EDAD (en años)"]
[{"$nulls":6},"0 a 4 años",null,"5 a 9 años",null,"10 a 14 años",null,"15 a 19 años",null,"20 a 24 años",null,"25 a 29 años",null,"30 a 34 años",null,"35 a 39 años",null,"40 a 44 años",null,"45 a 49 años",null,"50 a 54 años",null,"55 a 59 años",null,"60 a 64 años",null,"65 a 69 años",null,"70 a 74 años",null,"75 a 79 años",null,"80 y más años"]
[{"$nulls":3},"Ambos\nsexos","Hombres","Mujeres","Hombres","Mujeres","Hombres","Mujeres","Hombres","Mujeres","Hombres","Mujeres","Hombres","Mujeres","Hombres","Mujeres","Hombres","Mujeres","Hombres","Mujeres","Hombres","Mujeres","Hombres","Mujeres","Hombres","Mujeres","Hombres","Mujeres","Hombres","Mujeres","Hombres","Mujeres","Hombres","Mujeres","Hombres","Mujeres","Hombres","Mujeres"]
["P6223040","PROGRAMA DE REHABILITACIÓN TIPO I","NÚMERO DE PERSONAS EN CONTROL EN EL PROGRAMA",0,{"$f":"+G59+I59+K59+M59+O59+Q59+S59+U59+W59+Y59+AA59+AC59+AE59+AG59+AI59+AK59+AM59","v":0},{"$f":"+H59+J59+L59+N59+P59+R59+T59+V59+X59+Z59+AB59+AD59+AF59+AH59+AJ59+AL59+AN59","v":0},{"$f":"IFERROR(VLOOKUP($A59,Filtro!$A$5:$AY$629,5,FALSE),0)","v":0},{"$f":"IFERROR(VLOOKUP($A59,Filtro!$A$5:$AY$629,6,FALSE),0)","v":0},{"$f":"IFERROR(VLOOKUP($A59,Filtro!$A$5:$AY$629,7,FALSE),0)","v":0},{"$f":"IFERROR(VLOOKUP($A59,Filtro!$A$5:$AY$629,8,FALSE),0)","v":0},{"$f":"IFERROR(VLOOKUP($A59,Filtro!$A$5:$AY$629,9,FALSE),0)","v":0},{"$f":"IFERROR(VLOOKUP($A59,Filtro!$A$5:$AY$629,10,FALSE),0)","v":0},{"$f":"IFERROR(VLOOKUP($A59,Filtro!$A$5:$AY$629,11,FALSE),0)","v":0},{"$f":"IFERROR(VLOOKUP($A59,Filtro!$A$5:$AY$629,12,FALSE),0)","v":0},{"$f":"IFERROR(VLOOKUP($A59,Filtro!$A$5:$AY$629,13,FALSE),0)","v":0},{"$f":"IFERROR(VLOOKUP($A59,Filtro!$A$5:$AY$629,14,FALSE),0)","v":0},{"$f":"IFERROR(VLOOKUP($A59,Filtro!$A$5:$AY$629,15,FALSE),0)","v":0},{"$f":"IFERROR(VLOOKUP($A59,Filtro!$A$5:$AY$629,16,FALSE),0)","v":0},{"$f":"IFERROR(VLOOKUP($A59,Filtro!$A$5:$AY$629,17,FALSE),0)","v":0},{"$f":"IFERROR(VLOOKUP($A59,Filtro!$A$5:$AY$629,18,FALSE),0)","v":0},{"$f":"IFERROR(VLOOKUP($A59,Filtro!$A$5:$AY$629,19,FALSE),0)","v":0},{"$f":"IFERROR(VLOOKUP($A59,Filtro!$A$5:$AY$629,20,FALSE),0)","v":0},{"$f":"IFERROR(VLOOKUP($A59,Filtro!$A$5:$AY$629,21,FALSE),0)","v":0},{"$f":"IFERROR(VLOOKUP($A59,Filtro!$A$5:$AY$629,22,FALSE),0)","v":0},{"$f":"IFERROR(VLOOKUP($A59,Filtro!$A$5:$AY$629,23,FALSE),0)","v":0},{"$f":"IFERROR(VLOOKUP($A59,Filtro!$A$5:$AY$629,24,FALSE),0)","v":0},{"$f":"IFERROR(VLOOKUP($A59,Filtro!$A$5:$AY$629,25,FALSE),0)","v":0},{"$f":"IFERROR(VLOOKUP($A59,Filtro!$A$5:$AY$629,26,FALSE),0)","v":0},{"$f":"IFERROR(VLOOKUP($A59,Filtro!$A$5:$AY$629,27,FALSE),0)","v":0},{"$f":"IFERROR(VLOOKUP($A59,Filtro!$A$5:$AY$629,28,FALSE),0)","v":0},{"$f":"IFERROR(VLOOKUP($A59,Filtro!$A$5:$AY$629,29,FALSE),0)","v":0},{"$f":"IFERROR(VLOOKUP($A59,Filtro!$A$5:$AY$629,30,FALSE),0)","v":0},{"$f":"IFERROR(VLOOKUP($A59,Filtro!$A$5:$AY$629,31,FALSE),0)","v":0},{"$f":"IFERROR(VLOOKUP($A59,Filtro!$A$5:$AY$629,32,FALSE),0)","v":0},{"$f":"IFERROR(VLOOKUP($A59,Filtro!$A$5:$AY$629,33,FALSE),0)","v":0},{"$f":"IFERROR(VLOOKUP($A59,Filtro!$A$5:$AY$629,34,FALSE),0)","v":0},{"$f":"IFERROR(VLOOKUP($A59,Filtro!$A$5:$AY$629,35,FALSE),0)","v":0},{"$f":"IFERROR(VLOOKUP($A59,Filtro!$A$5:$AY$629,36,FALSE),0)","v":0},{"$f":"IFERROR(VLOOKUP($A59,Filtro!$A$5:$AY$629,37,FALSE),0)","v":0},{"$f":"IFERROR(VLOOKUP($A59,Filtro!$A$5:$AY$629,38,FALSE),0)","v":0}]
["P6223050","PROGRAMA DE REHABILITACIÓN TIPO II","NÚMERO DE PERSONAS EN CONTROL EN EL PROGRAMA",0,{"$f":"+G60+I60+K60+M60+O60+Q60+S60+U60+W60+Y60+AA60+AC60+AE60+AG60+AI60+AK60+AM60","v":0},{"$f":"+H60+J60+L60+N60+P60+R60+T60+V60+X60+Z60+AB60+AD60+AF60+AH60+AJ60+AL60+AN60","v":0},{"$f":"IFERROR(VLOOKUP($A60,Filtro!$A$5:$AY$629,5,FALSE),0)","v":0},{"$f":"IFERROR(VLOOKUP($A60,Filtro!$A$5:$AY$629,6,FALSE),0)","v":0},{"$f":"IFERROR(VLOOKUP($A60,Filtro!$A$5:$AY$629,7,FALSE),0)","v":0},{"$f":"IFERROR(VLOOKUP($A60,Filtro!$A$5:$AY$629,8,FALSE),0)","v":0},{"$f":"IFERROR(VLOOKUP($A60,Filtro!$A$5:$AY$629,9,FALSE),0)","v":0},{"$f":"IFERROR(VLOOKUP($A60,Filtro!$A$5:$AY$629,10,FALSE),0)","v":0},{"$f":"IFERROR(VLOOKUP($A60,Filtro!$A$5:$AY$629,11,FALSE),0)","v":0},{"$f":"IFERROR(VLOOKUP($A60,Filtro!$A$5:$AY$629,12,FALSE),0)","v":0},{"$f":"IFERROR(VLOOKUP($A60,Filtro!$A$5:$AY$629,13,FALSE),0)","v":0},{"$f":"IFERROR(VLOOKUP($A60,Filtro!$A$5:$AY$629,14,FALSE),0)","v":0},{"$f":"IFERROR(VLOOKUP($A60,Filtro!$A$5:$AY$629,15,FALSE),0)","v":0},{"$f":"IFERROR(VLOOKUP($A60,Filtro!$A$5:$AY$629,16,FALSE),0)","v":0},{"$f":"IFERROR(VLOOKUP($A60,Filtro!$A$5:$AY$629,17,FALSE),0)","v":0},{"$f":"IFERROR(VLOOKUP($A60,Filtro!$A$5:$AY$629,18,FALSE),0)","v":0},{"$f":"IFERROR(VLOOKUP($A60,Filtro!$A$5:$AY$629,19,FALSE),0)","v":0},{"$f":"IFERROR(VLOOKUP($A60,Filtro!$A$5:$AY$629,20,FALSE),0)","v":0},{"$f":"IFERROR(VLOOKUP($A60,Filtro!$A$5:$AY$629,21,FALSE),0)","v":0},{"$f":"IFERROR(VLOOKUP($A60,Filtro!$A$5:$AY$629,22,FALSE),0)","v":0},{"$f":"IFERROR(VLOOKUP($A60,Filtro!$A$5:$AY$629,23,FALSE),0)","v":0},{"$f":"IFERROR(VLOOKUP($A60,Filtro!$A$5:$AY$629,24,FALSE),0)","v":0},{"$f":"IFERROR(VLOOKUP($A60,Filtro!$A$5:$AY$629,25,FALSE),0)","v":0},{"$f":"IFERROR(VLOOKUP($A60,Filtro!$A$5:$AY$629,26,FALSE),0)","v":0},{"$f":"IFERROR(VLOOKUP($A60,Filtro!$A$5:$AY$629,27,FALSE),0)","v":0},{"$f":"IFERROR(VLOOKUP($A60,Filtro!$A$5:$AY$629,28,FALSE),0)","v":0},{"$f":"IFERROR(VLOOKUP($A60,Filtro!$A$5:$AY$629,29,FALSE),0)","v":0},{"$f":"IFERROR(VLOOKUP($A60,Filtro!$A$5:$AY$629,30,FALSE),0)","v":0},{"$f":"IFERROR(VLOOKUP($A60,Filtro!$A$5:$AY$629,31,FALSE),0)","v":0},{"$f":"IFERROR(VLOOKUP($A60,Filtro!$A$5:$AY$629,32,FALSE),0)","v":0},{"$f":"IFERROR(VLOOKUP($A60,Filtro!$A$5:$AY$629,33,FALSE),0)","v":0},{"$f":"IFERROR(VLOOKUP($A60,Filtro!$A$5:$AY$629,34,FALSE),0)","v":0},{"$f":"IFERROR(VLOOKUP($A60,Filtro!$A$5:$AY$629,35,FALSE),0)","v":0},{"$f":"IFERROR(VLOOKUP($A60,Filtro!$A$5:$AY$629,36,FALSE),0)","v":0},{"$f":"IFERROR(VLOOKUP($A60,Filtro!$A$5:$AY$629,37,FALSE),0)","v":0},{"$f":"IFERROR(VLOOKUP($A60,Filtro!$A$5:$AY$629,38,FALSE),0)","v":0}]
[null,"SECCION A.3: PROGRAMA DE ACOMPAÑAMIENTO PSICOSOCIAL EN LA ATENCION PRIMARIA"]
[null,"CONCEPTO",null,"TOTAL",null,null,"GRUPOS DE EDAD (en años)",{"$nulls":9},"Población Migrantes"]
[{"$nulls":6},"0 a 4 años",null,"5 a 9 años",null,"10 a 14 años",null,"15 a 19 años",null,"20 a 24 años"]
[{"$nulls":3},"Ambos Sexos","Hombres","Mujeres","Hombres","Mujeres","Hombres","Mujeres","Hombres","Mujeres","Hombres","Mujeres","Hombres","Mujeres","Hombres","Mujeres"]
["P6230300","N° DE PERSONAS EN CONTROL EN PROGRAMA DE ACOMPAÑAMIENTO PSICOSOCIAL",null,{"$f":"SUM(E65:F65)","v":917},{"$f":"+G65+I65+K65+M65+O65","v":395},{"$f":"+H65+J65+L65+N65+P65","v":522},{"$f":"IFERROR(VLOOKUP($A65,Filtro!$A$5:$AY$629,5,FALSE),0)","v":65},{"$f":"IFERROR(VLOOKUP($A65,Filtro!$A$5:$AY$629,6,FALSE),0)","v":70},{"$f":"IFERROR(VLOOKUP($A65,Filtro!$A$5:$AY$629,7,FALSE),0)","v":93},{"$f":"IFERROR(VLOOKUP($A65,Filtro!$A$5:$AY$629,8,FALSE),0)","v":76},{"$f":"IFERROR(VLOOKUP($A65,Filtro!$A$5:$AY$629,9,FALSE),0)","v":140},{"$f":"IFERROR(VLOOKUP($A65,Filtro!$A$5:$AY$629,10,FALSE),0)","v":157},{"$f":"IFERROR(VLOOKUP($A65,Filtro!$A$5:$AY$629,11,FALSE),0)","v":84},{"$f":"IFERROR(VLOOKUP($A65,Filtro!$A$5:$AY$629,12,FALSE),0)","v":158},{"$f":"IFERROR(VLOOKUP($A65,Filtro!$A$5:$AY$629,13,FALSE),0)","v":13},{"$f":"IFERROR(VLOOKUP($A65,Filtro!$A$5:$AY$629,14,FALSE),0)","v":61},{"$f":"IFERROR(VLOOKUP($A65,Filtro!$A$5:$AY$629,15,FALSE),0)","v":21},{"$f":"IFERROR(VLOOKUP($A65,Filtro!$A$5:$AY$629,16,FALSE),0)","v":28}]
[null,"B. ATENCIÓN DE ESPECIALIDADES\nSECCION B.1: POBLACIÓN EN CONTROL EN ESPECIALIDAD AL CORTE"]
[null,"CONCEPTO",null,"T O T A L",null,null,"GRUPO DE EDAD (en años)",{"$nulls":33},"Gestantes","Madre de Hijo menor de 5 años ","Pueblos Originarios",null," Migrantes",null,"Niños, Niñas, Adolescentes y Jóvenes SENAME","Niños, Niñas, Adolescentes y Jóvenes Mejor Niñez","Plan Cuidado Integral Elaborado","TRANS "]
[{"$nulls":6},"0 a 4 años",null,"5 a 9 años",null,"10 a 14 años",null,"15 a 19 años",null,"20 a 24 años",null,"25 a 29 años",null,"30 a 34 años",null,"35 a 39 años",null,"40 a 44 años",null,"45 a 49 años",null,"50 a 54 años",null,"55 a 59 años",null,"60 a 64 años",null,"65 a 69 años",null,"70 a 74 años",null,"75 a 79 años",null,"80 y más años",{"$nulls":47},"Gestantes","Madre de hijos","Pueblos originarios","Pueblos originarios","Poblacion Migrantes","Poblacion Migrantes","Población SENAME","Gestantes","Madre de hijos",null,"Pueblos originarios","Poblacion Migrantes","Población SENAME",null,"Plan Cuidado Integral Elaborado","PCIE",{"$nulls":4},"Gestantes","Madre de hojos","Pueblos originarios","Pueblos originarios","Poblacion Migrantes","Poblacion Migrantes","Poblacion SENAME","Gestantes","Madre de hijos",null,"Pueblos originarios","Poblacion Migrantes","Poblacion SENAME",null,"Plan Cuidado Integral Elaborado","Plan Cuidado Integral Elaborado"]
[{"$nulls":3},"Ambos\nsexos","Hombres","Mujeres","Hombres","Mujeres","Hombres","Mujeres","Hombres","Mujeres","Hombres","Mujeres","Hombres","Mujeres","Hombres","Mujeres","Hombres","Mujeres","Hombres","Mujeres","Hombres","Mujeres","Hombres","Mujeres","Hombres","Mujeres","Hombres","Mujeres","Hombres","Mujeres","Hombres ","Mujeres","Hombres ","Mujeres","Hombres ","Mujeres","Hombres","Mujeres",null,null,"Hombres","Mujeres","Hombres","Mujeres",{"$nulls":3},"Masculino","Femenino ",{"$nulls":37},"Hombres","Mujeres","Hombres","Mujeres",null,"No Olvide","No Olvide",null,"No Olvide","No Olvide","No Olvide",null,null,"No Olvide",{"$nulls":6},"Hombres","Mujeres","Hombres","Mujeres",null,"No Olvide","No Olvide",null,"No Olvide","No Olvide","No Olvide",null,null,"No Olvide"]
["P6223090","NUMERO DE PERSONAS EN CONTROL EN EL PROGRAMA",null,{"$f":"SUM(E70:F70)","v":3147},{"$f":"+G70+I70+K70+M70+O70+Q70+S70+U70+W70+Y70+AA70+AC70+AE70+AG70+AI70+AK70+AM70","v":1263},{"$f":"+H70+J70+L70+N70+P70+R70+T70+V70+X70+Z70+AB70+AD70+AF70+AH70+AJ70+AL70+AN70","v":1884},{"$f":"IFERROR(VLOOKUP($A70,Filtro!$A$5:$AY$629,5,FALSE),0)","v":1},{"$f":"IFERROR(VLOOKUP($A70,Filtro!$A$5:$AY$629,6,FALSE),0)","v":3},{"$f":"IFERROR(VLOOKUP($A70,Filtro!$A$5:$AY$629,7,FALSE),0)","v":44},{"$f":"IFERROR(VLOOKUP($A70,Filtro!$A$5:$AY$629,8,FALSE),0)","v":22},{"$f":"IFERROR(VLOOKUP($A70,Filtro!$A$5:$AY$629,9,FALSE),0)","v":96},{"$f":"IFERROR(VLOOKUP($A70,Filtro!$A$5:$AY$629,10,FALSE),0)","v":126},{"$f":"IFERROR(VLOOKUP($A70,Filtro!$A$5:$AY$629,11,FALSE),0)","v":103},{"$f":"IFERROR(VLOOKUP($A70,Filtro!$A$5:$AY$629,12,FALSE),0)","v":247},{"$f":"IFERROR(VLOOKUP($A70,Filtro!$A$5:$AY$629,13,FALSE),0)","v":136},{"$f":"IFERROR(VLOOKUP($A70,Filtro!$A$5:$AY$629,14,FALSE),0)","v":118},{"$f":"IFERROR(VLOOKUP($A70,Filtro!$A$5:$AY$629,15,FALSE),0)","v":148},{"$f":"IFERROR(VLOOKUP($A70,Filtro!$A$5:$AY$629,16,FALSE),0)","v":120},{"$f":"IFERROR(VLOOKUP($A70,Filtro!$A$5:$AY$629,17,FALSE),0)","v":147},{"$f":"IFERROR(VLOOKUP($A70,Filtro!$A$5:$AY$629,18,FALSE),0)","v":134},{"$f":"IFERROR(VLOOKUP($A70,Filtro!$A$5:$AY$629,19,FALSE),0)","v":102},{"$f":"IFERROR(VLOOKUP($A70,Filtro!$A$5:$AY$629,20,FALSE),0)","v":123},{"$f":"IFERROR(VLOOKUP($A70,Filtro!$A$5:$AY$629,21,FALSE),0)","v":96},{"$f":"IFERROR(VLOOKUP($A70,Filtro!$A$5:$AY$629,22,FALSE),0)","v":132},{"$f":"IFERROR(VLOOKUP($A70,Filtro!$A$5:$AY$629,23,FALSE),0)","v":92},{"$f":"IFERROR(VLOOKUP($A70,Filtro!$A$5:$AY$629,24,FALSE),0)","v":137},{"$f":"IFERROR(VLOOKUP($A70,Filtro!$A$5:$AY$629,25,FALSE),0)","v":85},{"$f":"IFERROR(VLOOKUP($A70,Filtro!$A$5:$AY$629,26,FALSE),0)","v":165},{"$f":"IFERROR(VLOOKUP($A70,Filtro!$A$5:$AY$629,27,FALSE),0)","v":80},{"$f":"IFERROR(VLOOKUP($A70,Filtro!$A$5:$AY$629,28,FALSE),0)","v":175},{"$f":"IFERROR(VLOOKUP($A70,Filtro!$A$5:$AY$629,29,FALSE),0)","v":53},{"$f":"IFERROR(VLOOKUP($A70,Filtro!$A$5:$AY$629,30,FALSE),0)","v":136},{"$f":"IFERROR(VLOOKUP($A70,Filtro!$A$5:$AY$629,31,FALSE),0)","v":39},{"$f":"IFERROR(VLOOKUP($A70,Filtro!$A$5:$AY$629,32,FALSE),0)","v":104},{"$f":"IFERROR(VLOOKUP($A70,Filtro!$A$5:$AY$629,33,FALSE),0)","v":21},{"$f":"IFERROR(VLOOKUP($A70,Filtro!$A$5:$AY$629,34,FALSE),0)","v":69},{"$f":"IFERROR(VLOOKUP($A70,Filtro!$A$5:$AY$629,35,FALSE),0)","v":13},{"$f":"IFERROR(VLOOKUP($A70,Filtro!$A$5:$AY$629,36,FALSE),0)","v":45},{"$f":"IFERROR(VLOOKUP($A70,Filtro!$A$5:$AY$629,37,FALSE),0)","v":7},{"$f":"IFERROR(VLOOKUP($A70,Filtro!$A$5:$AY$629,38,FALSE),0)","v":28},{"$f":"IFERROR(VLOOKUP($A70,Filtro!$A$5:$AY$629,39,FALSE),0)","v":3},{"$f":"IFERROR(VLOOKUP($A70,Filtro!$A$5:$AY$629,40,FALSE),0)","v":20},{"$f":"IFERROR(VLOOKUP($A70,Filtro!$A$5:$AY$629,41,FALSE),0)","v":8},{"$f":"IFERROR(VLOOKUP($A70,Filtro!$A$5:$AY$629,42,FALSE),0)","v":12},{"$f":"IFERROR(VLOOKUP($A70,Filtro!$A$5:$AY$629,43,FALSE),0)","v":6},{"$f":"IFERROR(VLOOKUP($A70,Filtro!$A$5:$AY$629,44,FALSE),0)","v":4},{"$f":"IFERROR(VLOOKUP($A70,Filtro!$A$5:$AY$629,45,FALSE),0)","v":27},{"$f":"IFERROR(VLOOKUP($A70,Filtro!$A$5:$AY$629,46,FALSE),0)","v":54},{"$f":"IFERROR(VLOOKUP($A70,Filtro!$A$5:$AY$629,47,FALSE),0)","v":1013},{"$f":"IFERROR(VLOOKUP($A70,Filtro!$A$5:$AY$629,48,FALSE),0)","v":4},{"$f":"IFERROR(VLOOKUP($A70,Filtro!$A$5:$AY$629,49,FALSE),0)","v":6},{"$nulls":35},{"$f":"IF($AO70>$F70,\"* La celda 'Gestantes' debe ser menor o igual al Total de Mujeres en control. \",\"\")","v":""},{"$f":"IF($AP70>$F70,\"* La celda 'Madres de Hijos menor de 5 años' debe ser menor o igual al Total de Mujeres en control. \",\"\")","v":""},{"$f":"IF(($AQ70)>$E70,\"* La celda 'Pueblos Originarios / Hombres' debe ser menor o igual al Total de Hombres en control. \",\"\")","v":""},{"$f":"IF($AR70>$F70,\"* La celda 'Pueblos Originarios / Mujeres' debe ser menor o igual al Total de Mujeres en control. \",\"\")","v":""},{"$f":"IF(($AS70)>$E70,\"* La celda 'Población Migrantes / Hombres' debe ser menor o igual al Total de Hombres en control. \",\"\")","v":""},{"$f":"IF($AT70>$F70,\"* La celda 'Población Migrantes / Mujeres' debe ser menor o igual al Total de Mujeres en control. \",\"\")","v":""},{"$f":"IF($AV70>$D70,\"* La celda 'Población SENAME' debe ser menor o igual al Total de Personas en control. \",\"\")","v":""},{"$f":"IF(AND($D70<>0,$AO70=\"\"),\"* No olvide escribir en la celda de 'Gestantes' (Digite CERO si no tiene). \",\"\")","v":""},{"$f":"IF(AND($D70<>0,$AP70=\"\"),\"* No olvide escribir en la celda de 'Madres de Hijos menor de 5 años' (Digite CERO si no tiene). \",\"\")","v":""},null,{"$f":"IF(AND($E70<>0,$AQ70=\"\"),\"* No olvide escribir en las celdas de 'Pueblos Originarios' (Digite CERO si no tiene). \",IF(AND($F70<>0,$AR70=\"\"),\"* No olvide escribir en las celdas de 'Pueblos Originarios' (Digite CERO si no tiene). \",\"\"))","v":""},{"$f":"IF(AND($E70<>0,$AS70=\"\"),\"* No olvide escribir en las celdas de 'Población Migrantes' (Digite CERO si no tiene). \",IF(AND($F70<>0,$AT70=\"\"),\"* No olvide escribir en las celdas de 'Población Migrantes' (Digite CERO si no tiene). \",\"\"))","v":""},{"$f":"IF(AND($D70<>0,$AV70=\"\"),\"* No olvide escribir en las celdas de 'Población SENAME' (Digite CERO si no tiene). \",\"\")","v":""},null,{"$f":"IF($AW70>$D70,\"* La celda 'Plan Cuidado Integral Elaborado' debe ser menor o igual al Total de Personas en control. \",\"\")","v":""},{"$f":"IF(AND($D70<>0,$AW70=\"\"),\"* No olvide escribir en las celdas de 'Plan Cuidado Integral Elaborado' (Digite CERO si no tiene). \",\"\")","v":""},{"$nulls":4},{"$f":"IF($AO70>$F70,1,0)","v":0},{"$f":"IF($AP70>$F70,1,0)","v":0},{"$f":"IF(($AQ70)>$E70,1,0)","v":0},{"$f":"IF($AR70>$F70,1,0)","v":0},{"$f":"IF(($AS70)>$E70,1,0)","v":0},{"$f":"IF($AT70>$F70,1,0)","v":0},{"$f":"IF($AV70>$D70,1,0)","v":0},{"$f":"IF(AND($D70<>0,$AO70=\"\"),1,0)","v":0},{"$f":"IF(AND($D70<>0,$AP70=\"\"),1,0)","v":0},null,{"$f":"IF(AND($E70<>0,$AQ70=\"\"),1,IF(AND($F70<>0,$AR70=\"\"),1,0))","v":0},{"$f":"IF(AND($E70<>0,$AS70=\"\"),1,IF(AND($F70<>0,$AT70=\"\"),1,0))","v":0},{"$f":"IF(AND($D70<>0,$AV70=\"\"),1,0)","v":0},null,{"$f":"IF($AW70>$D70,1,0)","v":0},{"$f":"IF(AND($D70<>0,$AW70=\"\"),1,0)","v":0}]
[null,"FACTORES DE RIESGO Y CONDICIONANTES DE LA SALUD MENTAL"]
["P6223100","VIOLENCIA ","VICTIMA",{"$f":"SUM(E72:F72)","v":90},{"$f":"+G72+I72+K72+M72+O72+Q72+S72+U72+W72+Y72+AA72+AC72+AE72+AG72+AI72+AK72+AM72","v":18},72,{"$f":"IFERROR(VLOOKUP($A72,Filtro!$A$5:$AY$629,5,FALSE),0)","v":0},{"$f":"IFERROR(VLOOKUP($A72,Filtro!$A$5:$AY$629,6,FALSE),0)","v":0},{"$f":"IFERROR(VLOOKUP($A72,Filtro!$A$5:$AY$629,7,FALSE),0)","v":3},{"$f":"IFERROR(VLOOKUP($A72,Filtro!$A$5:$AY$629,8,FALSE),0)","v":1},{"$f":"IFERROR(VLOOKUP($A72,Filtro!$A$5:$AY$629,9,FALSE),0)","v":7},{"$f":"IFERROR(VLOOKUP($A72,Filtro!$A$5:$AY$629,10,FALSE),0)","v":5},{"$f":"IFERROR(VLOOKUP($A72,Filtro!$A$5:$AY$629,11,FALSE),0)","v":3},{"$f":"IFERROR(VLOOKUP($A72,Filtro!$A$5:$AY$629,12,FALSE),0)","v":29},{"$f":"IFERROR(VLOOKUP($A72,Filtro!$A$5:$AY$629,13,FALSE),0)","v":1},{"$f":"IFERROR(VLOOKUP($A72,Filtro!$A$5:$AY$629,14,FALSE),0)","v":3},{"$f":"IFERROR(VLOOKUP($A72,Filtro!$A$5:$AY$629,15,FALSE),0)","v":1},{"$f":"IFERROR(VLOOKUP($A72,Filtro!$A$5:$AY$629,16,FALSE),0)","v":2},{"$f":"IFERROR(VLOOKUP($A72,Filtro!$A$5:$AY$629,17,FALSE),0)","v":0},{"$f":"IFERROR(VLOOKUP($A72,Filtro!$A$5:$AY$629,18,FALSE),0)","v":3},{"$f":"IFERROR(VLOOKUP($A72,Filtro!$A$5:$AY$629,19,FALSE),0)","v":1},{"$f":"IFERROR(VLOOKUP($A72,Filtro!$A$5:$AY$629,20,FALSE),0)","v":1},{"$f":"IFERROR(VLOOKUP($A72,Filtro!$A$5:$AY$629,21,FALSE),0)","v":1},{"$f":"IFERROR(VLOOKUP($A72,Filtro!$A$5:$AY$629,22,FALSE),0)","v":2},{"$f":"IFERROR(VLOOKUP($A72,Filtro!$A$5:$AY$629,23,FALSE),0)","v":0},{"$f":"IFERROR(VLOOKUP($A72,Filtro!$A$5:$AY$629,24,FALSE),0)","v":7},{"$f":"IFERROR(VLOOKUP($A72,Filtro!$A$5:$AY$629,25,FALSE),0)","v":0},{"$f":"IFERROR(VLOOKUP($A72,Filtro!$A$5:$AY$629,26,FALSE),0)","v":5},{"$f":"IFERROR(VLOOKUP($A72,Filtro!$A$5:$AY$629,27,FALSE),0)","v":0},{"$f":"IFERROR(VLOOKUP($A72,Filtro!$A$5:$AY$629,28,FALSE),0)","v":4},{"$f":"IFERROR(VLOOKUP($A72,Filtro!$A$5:$AY$629,29,FALSE),0)","v":1},{"$f":"IFERROR(VLOOKUP($A72,Filtro!$A$5:$AY$629,30,FALSE),0)","v":7},{"$f":"IFERROR(VLOOKUP($A72,Filtro!$A$5:$AY$629,31,FALSE),0)","v":0},{"$f":"IFERROR(VLOOKUP($A72,Filtro!$A$5:$AY$629,32,FALSE),0)","v":1},{"$f":"IFERROR(VLOOKUP($A72,Filtro!$A$5:$AY$629,33,FALSE),0)","v":0},{"$f":"IFERROR(VLOOKUP($A72,Filtro!$A$5:$AY$629,34,FALSE),0)","v":2},{"$f":"IFERROR(VLOOKUP($A72,Filtro!$A$5:$AY$629,35,FALSE),0)","v":0},{"$f":"IFERROR(VLOOKUP($A72,Filtro!$A$5:$AY$629,36,FALSE),0)","v":0},{"$f":"IFERROR(VLOOKUP($A72,Filtro!$A$5:$AY$629,37,FALSE),0)","v":0},{"$f":"IFERROR(VLOOKUP($A72,Filtro!$A$5:$AY$629,38,FALSE),0)","v":0},{"$f":"IFERROR(VLOOKUP($A72,Filtro!$A$5:$AY$629,39,FALSE),0)","v":2},{"$f":"IFERROR(VLOOKUP($A72,Filtro!$A$5:$AY$629,40,FALSE),0)","v":2},{"$f":"IFERROR(VLOOKUP($A72,Filtro!$A$5:$AY$629,41,FALSE),0)","v":0},{"$f":"IFERROR(VLOOKUP($A72,Filtro!$A$5:$AY$629,42,FALSE),0)","v":0},{"$f":"IFERROR(VLOOKUP($A72,Filtro!$A$5:$AY$629,43,FALSE),0)","v":0},{"$f":"IFERROR(VLOOKUP($A72,Filtro!$A$5:$AY$629,44,FALSE),0)","v":0},{"$f":"IFERROR(VLOOKUP($A72,Filtro!$A$5:$AY$629,45,FALSE),0)","v":6},{"$f":"IFERROR(VLOOKUP($A72,Filtro!$A$5:$AY$629,46,FALSE),0)","v":6},{"$f":"IFERROR(VLOOKUP($A72,Filtro!$A$5:$AY$629,47,FALSE),0)","v":61},{"$f":"IFERROR(VLOOKUP($A72,Filtro!$A$5:$AY$629,48,FALSE),0)","v":1},{"$f":"IFERROR(VLOOKUP($A72,Filtro!$A$5:$AY$629,49,FALSE),0)","v":0},{"$nulls":35},{"$f":"IF($AO72>$F72,\"* La celda 'Gestantes' debe ser menor o igual al Total de Mujeres en control. \",\"\")","v":""},{"$f":"IF($AP72>$F72,\"* La celda 'Madres de Hijos menor de 5 años' debe ser menor o igual al Total de Mujeres en control. \",\"\")","v":""},{"$f":"IF(($AQ72)>$E72,\"* La celda 'Pueblos Originarios / Hombres' debe ser menor o igual al Total de Hombres en control. \",\"\")","v":""},{"$f":"IF($AR72>$F72,\"* La celda 'Pueblos Originarios / Mujeres' debe ser menor o igual al Total de Mujeres en control. \",\"\")","v":""},{"$f":"IF(($AS72)>$E72,\"* La celda 'Población Migrantes / Hombres' debe ser menor o igual al Total de Hombres en control. \",\"\")","v":""},{"$f":"IF($AT72>$F72,\"* La celda 'Población Migrantes / Mujeres' debe ser menor o igual al Total de Mujeres en control. \",\"\")","v":""},{"$f":"IF($AV72>$D72,\"* La celda 'Población SENAME' debe ser menor o igual al Total de Personas en control. \",\"\")","v":""},{"$f":"IF(AND($D72<>0,$AO72=\"\"),\"* No olvide escribir en la celda de 'Gestantes' (Digite CERO si no tiene). \",\"\")","v":""},{"$f":"IF(AND($D72<>0,$AP72=\"\"),\"* No olvide escribir en la celda de 'Madres de Hijos menor de 5 años' (Digite CERO si no tiene). \",\"\")","v":""},null,{"$f":"IF(AND($E72<>0,$AQ72=\"\"),\"* No olvide escribir en las celdas de 'Pueblos Originarios' (Digite CERO si no tiene). \",IF(AND($F72<>0,$AR72=\"\"),\"* No olvide escribir en las celdas de 'Pueblos Originarios' (Digite CERO si no tiene). \",\"\"))","v":""},{"$f":"IF(AND($E72<>0,$AS72=\"\"),\"* No olvide escribir en las celdas de 'Población Migrantes' (Digite CERO si no tiene). \",IF(AND($F72<>0,$AT72=\"\"),\"* No olvide escribir en las celdas de 'Población Migrantes' (Digite CERO si no tiene). \",\"\"))","v":""},{"$f":"IF(AND($D72<>0,$AV72=\"\"),\"* No olvide escribir en las celdas de 'Población SENAME' (Digite CERO si no tiene). \",\"\")","v":""},null,{"$f":"IF($AW72>$D72,\"* La celda 'Plan Cuidado Integral Elaborado' debe ser menor o igual al Total de Personas en control. \",\"\")","v":""},{"$f":"IF(AND($D72<>0,$AW72=\"\"),\"* No olvide escribir en las celdas de 'Plan Cuidado Integral Elaborado' (Digite CERO si no tiene). \",\"\")","v":""},{"$nulls":4},{"$f":"IF($AO72>$F72,1,0)","v":0},{"$f":"IF($AP72>$F72,1,0)","v":0},{"$f":"IF(($AQ72)>$E72,1,0)","v":0},{"$f":"IF($AR72>$F72,1,0)","v":0},{"$f":"IF(($AS72)>$E72,1,0)","v":0},{"$f":"IF($AT72>$F72,1,0)","v":0},{"$f":"IF($AV72>$D72,1,0)","v":0},{"$f":"IF(AND($D72<>0,$AO72=\"\"),1,0)","v":0},{"$f":"IF(AND($D72<>0,$AP72=\"\"),1,0)","v":0},null,{"$f":"IF(AND($E72<>0,$AQ72=\"\"),1,IF(AND($F72<>0,$AR72=\"\"),1,0))","v":0},{"$f":"IF(AND($E72<>0,$AS72=\"\"),1,IF(AND($F72<>0,$AT72=\"\"),1,0))","v":0},{"$f":"IF(AND($D72<>0,$AV72=\"\"),1,0)","v":0},null,{"$f":"IF($AW72>$D72,1,0)","v":0},{"$f":"IF(AND($D72<>0,$AW72=\"\"),1,0)","v":0}]
["P6223110",null,"AGRESOR/A",13,6,7,{"$f":"IFERROR(VLOOKUP($A73,Filtro!$A$5:$AY$629,5,FALSE),0)","v":0},{"$f":"IFERROR(VLOOKUP($A73,Filtro!$A$5:$AY$629,6,FALSE),0)","v":0},{"$f":"IFERROR(VLOOKUP($A73,Filtro!$A$5:$AY$629,7,FALSE),0)","v":0},{"$f":"IFERROR(VLOOKUP($A73,Filtro!$A$5:$AY$629,8,FALSE),0)","v":0},{"$f":"IFERROR(VLOOKUP($A73,Filtro!$A$5:$AY$629,9,FALSE),0)","v":0},{"$f":"IFERROR(VLOOKUP($A73,Filtro!$A$5:$AY$629,10,FALSE),0)","v":0},{"$f":"IFERROR(VLOOKUP($A73,Filtro!$A$5:$AY$629,11,FALSE),0)","v":0},{"$f":"IFERROR(VLOOKUP($A73,Filtro!$A$5:$AY$629,12,FALSE),0)","v":0},{"$f":"IFERROR(VLOOKUP($A73,Filtro!$A$5:$AY$629,13,FALSE),0)","v":0},{"$f":"IFERROR(VLOOKUP($A73,Filtro!$A$5:$AY$629,14,FALSE),0)","v":0},{"$f":"IFERROR(VLOOKUP($A73,Filtro!$A$5:$AY$629,15,FALSE),0)","v":1},{"$f":"IFERROR(VLOOKUP($A73,Filtro!$A$5:$AY$629,16,FALSE),0)","v":1},{"$f":"IFERROR(VLOOKUP($A73,Filtro!$A$5:$AY$629,17,FALSE),0)","v":0},{"$f":"IFERROR(VLOOKUP($A73,Filtro!$A$5:$AY$629,18,FALSE),0)","v":2},{"$f":"IFERROR(VLOOKUP($A73,Filtro!$A$5:$AY$629,19,FALSE),0)","v":0},{"$f":"IFERROR(VLOOKUP($A73,Filtro!$A$5:$AY$629,20,FALSE),0)","v":0},{"$f":"IFERROR(VLOOKUP($A73,Filtro!$A$5:$AY$629,21,FALSE),0)","v":0},{"$f":"IFERROR(VLOOKUP($A73,Filtro!$A$5:$AY$629,22,FALSE),0)","v":1},{"$f":"IFERROR(VLOOKUP($A73,Filtro!$A$5:$AY$629,23,FALSE),0)","v":0},{"$f":"IFERROR(VLOOKUP($A73,Filtro!$A$5:$AY$629,24,FALSE),0)","v":1},{"$f":"IFERROR(VLOOKUP($A73,Filtro!$A$5:$AY$629,25,FALSE),0)","v":0},{"$f":"IFERROR(VLOOKUP($A73,Filtro!$A$5:$AY$629,26,FALSE),0)","v":0},{"$f":"IFERROR(VLOOKUP($A73,Filtro!$A$5:$AY$629,27,FALSE),0)","v":2},{"$f":"IFERROR(VLOOKUP($A73,Filtro!$A$5:$AY$629,28,FALSE),0)","v":0},{"$f":"IFERROR(VLOOKUP($A73,Filtro!$A$5:$AY$629,29,FALSE),0)","v":0},{"$f":"IFERROR(VLOOKUP($A73,Filtro!$A$5:$AY$629,30,FALSE),0)","v":2},{"$f":"IFERROR(VLOOKUP($A73,Filtro!$A$5:$AY$629,31,FALSE),0)","v":1},{"$f":"IFERROR(VLOOKUP($A73,Filtro!$A$5:$AY$629,32,FALSE),0)","v":0},{"$f":"IFERROR(VLOOKUP($A73,Filtro!$A$5:$AY$629,33,FALSE),0)","v":0},{"$f":"IFERROR(VLOOKUP($A73,Filtro!$A$5:$AY$629,34,FALSE),0)","v":0},{"$f":"IFERROR(VLOOKUP($A73,Filtro!$A$5:$AY$629,35,FALSE),0)","v":2},{"$f":"IFERROR(VLOOKUP($A73,Filtro!$A$5:$AY$629,36,FALSE),0)","v":0},{"$f":"IFERROR(VLOOKUP($A73,Filtro!$A$5:$AY$629,37,FALSE),0)","v":0},{"$f":"IFERROR(VLOOKUP($A73,Filtro!$A$5:$AY$629,38,FALSE),0)","v":0},{"$f":"IFERROR(VLOOKUP($A73,Filtro!$A$5:$AY$629,39,FALSE),0)","v":1},{"$f":"IFERROR(VLOOKUP($A73,Filtro!$A$5:$AY$629,40,FALSE),0)","v":2},{"$f":"IFERROR(VLOOKUP($A73,Filtro!$A$5:$AY$629,41,FALSE),0)","v":0},{"$f":"IFERROR(VLOOKUP($A73,Filtro!$A$5:$AY$629,42,FALSE),0)","v":0},{"$f":"IFERROR(VLOOKUP($A73,Filtro!$A$5:$AY$629,43,FALSE),0)","v":0},{"$f":"IFERROR(VLOOKUP($A73,Filtro!$A$5:$AY$629,44,FALSE),0)","v":0},{"$f":"IFERROR(VLOOKUP($A73,Filtro!$A$5:$AY$629,45,FALSE),0)","v":0},{"$f":"IFERROR(VLOOKUP($A73,Filtro!$A$5:$AY$629,46,FALSE),0)","v":0},{"$f":"IFERROR(VLOOKUP($A73,Filtro!$A$5:$AY$629,47,FALSE),0)","v":11},{"$f":"IFERROR(VLOOKUP($A73,Filtro!$A$5:$AY$629,48,FALSE),0)","v":0},{"$f":"IFERROR(VLOOKUP($A73,Filtro!$A$5:$AY$629,49,FALSE),0)","v":0},{"$nulls":35},"",{"$f":"IF($AP73>$F73,\"* La celda 'Madres de Hijos menor de 5 años' debe ser menor o igual al Total de Mujeres en control. \",\"\")","v":""},"",{"$f":"IF($AR73>$F73,\"* La celda 'Pueblos Originarios / Mujeres' debe ser menor o igual al Total de Mujeres en control. \",\"\")","v":""},"",{"$f":"IF($AT73>$F73,\"* La celda 'Población Migrantes / Mujeres' debe ser menor o igual al Total de Mujeres en control. \",\"\")","v":""},"","",{"$f":"IF(AND($D73<>0,$AP73=\"\"),\"* No olvide escribir en la celda de 'Madres de Hijos menor de 5 años' (Digite CERO si no tiene). \",\"\")","v":""},null,"","","",null,"","",{"$nulls":4},0,{"$f":"IF($AP73>$F73,1,0)","v":0},0,{"$f":"IF($AR73>$F73,1,0)","v":0},0,{"$f":"IF($AT73>$F73,1,0)","v":0},0,0,0,null,0,0,0,null,0,0]
["P6223140","ABUSO SEXUAL",null,51,4,47,{"$f":"IFERROR(VLOOKUP($A74,Filtro!$A$5:$AY$629,5,FALSE),0)","v":0},{"$f":"IFERROR(VLOOKUP($A74,Filtro!$A$5:$AY$629,6,FALSE),0)","v":0},{"$f":"IFERROR(VLOOKUP($A74,Filtro!$A$5:$AY$629,7,FALSE),0)","v":0},{"$f":"IFERROR(VLOOKUP($A74,Filtro!$A$5:$AY$629,8,FALSE),0)","v":3},{"$f":"IFERROR(VLOOKUP($A74,Filtro!$A$5:$AY$629,9,FALSE),0)","v":1},{"$f":"IFERROR(VLOOKUP($A74,Filtro!$A$5:$AY$629,10,FALSE),0)","v":6},{"$f":"IFERROR(VLOOKUP($A74,Filtro!$A$5:$AY$629,11,FALSE),0)","v":1},{"$f":"IFERROR(VLOOKUP($A74,Filtro!$A$5:$AY$629,12,FALSE),0)","v":18},{"$f":"IFERROR(VLOOKUP($A74,Filtro!$A$5:$AY$629,13,FALSE),0)","v":2},{"$f":"IFERROR(VLOOKUP($A74,Filtro!$A$5:$AY$629,14,FALSE),0)","v":2},{"$f":"IFERROR(VLOOKUP($A74,Filtro!$A$5:$AY$629,15,FALSE),0)","v":0},{"$f":"IFERROR(VLOOKUP($A74,Filtro!$A$5:$AY$629,16,FALSE),0)","v":2},{"$f":"IFERROR(VLOOKUP($A74,Filtro!$A$5:$AY$629,17,FALSE),0)","v":0},{"$f":"IFERROR(VLOOKUP($A74,Filtro!$A$5:$AY$629,18,FALSE),0)","v":1},{"$f":"IFERROR(VLOOKUP($A74,Filtro!$A$5:$AY$629,19,FALSE),0)","v":0},{"$f":"IFERROR(VLOOKUP($A74,Filtro!$A$5:$AY$629,20,FALSE),0)","v":4},{"$f":"IFERROR(VLOOKUP($A74,Filtro!$A$5:$AY$629,21,FALSE),0)","v":0},{"$f":"IFERROR(VLOOKUP($A74,Filtro!$A$5:$AY$629,22,FALSE),0)","v":2},{"$f":"IFERROR(VLOOKUP($A74,Filtro!$A$5:$AY$629,23,FALSE),0)","v":0},{"$f":"IFERROR(VLOOKUP($A74,Filtro!$A$5:$AY$629,24,FALSE),0)","v":5},{"$f":"IFERROR(VLOOKUP($A74,Filtro!$A$5:$AY$629,25,FALSE),0)","v":0},{"$f":"IFERROR(VLOOKUP($A74,Filtro!$A$5:$AY$629,26,FALSE),0)","v":3},{"$f":"IFERROR(VLOOKUP($A74,Filtro!$A$5:$AY$629,27,FALSE),0)","v":0},{"$f":"IFERROR(VLOOKUP($A74,Filtro!$A$5:$AY$629,28,FALSE),0)","v":1},{"$f":"IFERROR(VLOOKUP($A74,Filtro!$A$5:$AY$629,29,FALSE),0)","v":0},{"$f":"IFERROR(VLOOKUP($A74,Filtro!$A$5:$AY$629,30,FALSE),0)","v":0},{"$f":"IFERROR(VLOOKUP($A74,Filtro!$A$5:$AY$629,31,FALSE),0)","v":0},{"$f":"IFERROR(VLOOKUP($A74,Filtro!$A$5:$AY$629,32,FALSE),0)","v":0},{"$f":"IFERROR(VLOOKUP($A74,Filtro!$A$5:$AY$629,33,FALSE),0)","v":0},{"$f":"IFERROR(VLOOKUP($A74,Filtro!$A$5:$AY$629,34,FALSE),0)","v":0},{"$f":"IFERROR(VLOOKUP($A74,Filtro!$A$5:$AY$629,35,FALSE),0)","v":0},{"$f":"IFERROR(VLOOKUP($A74,Filtro!$A$5:$AY$629,36,FALSE),0)","v":0},{"$f":"IFERROR(VLOOKUP($A74,Filtro!$A$5:$AY$629,37,FALSE),0)","v":0},{"$f":"IFERROR(VLOOKUP($A74,Filtro!$A$5:$AY$629,38,FALSE),0)","v":0},{"$f":"IFERROR(VLOOKUP($A74,Filtro!$A$5:$AY$629,39,FALSE),0)","v":1},{"$f":"IFERROR(VLOOKUP($A74,Filtro!$A$5:$AY$629,40,FALSE),0)","v":2},{"$f":"IFERROR(VLOOKUP($A74,Filtro!$A$5:$AY$629,41,FALSE),0)","v":0},{"$f":"IFERROR(VLOOKUP($A74,Filtro!$A$5:$AY$629,42,FALSE),0)","v":0},{"$f":"IFERROR(VLOOKUP($A74,Filtro!$A$5:$AY$629,43,FALSE),0)","v":0},{"$f":"IFERROR(VLOOKUP($A74,Filtro!$A$5:$AY$629,44,FALSE),0)","v":1},{"$f":"IFERROR(VLOOKUP($A74,Filtro!$A$5:$AY$629,45,FALSE),0)","v":3},{"$f":"IFERROR(VLOOKUP($A74,Filtro!$A$5:$AY$629,46,FALSE),0)","v":3},{"$f":"IFERROR(VLOOKUP($A74,Filtro!$A$5:$AY$629,47,FALSE),0)","v":45},{"$f":"IFERROR(VLOOKUP($A74,Filtro!$A$5:$AY$629,48,FALSE),0)","v":1},{"$f":"IFERROR(VLOOKUP($A74,Filtro!$A$5:$AY$629,49,FALSE),0)","v":0},{"$nulls":35},"",{"$f":"IF($AP74>$F74,\"* La celda 'Madres de Hijos menor de 5 años' debe ser menor o igual al Total de Mujeres en control. \",\"\")","v":""},"",{"$f":"IF($AR74>$F74,\"* La celda 'Pueblos Originarios / Mujeres' debe ser menor o igual al Total de Mujeres en control. \",\"\")","v":""},"",{"$f":"IF($AT74>$F74,\"* La celda 'Población Migrantes / Mujeres' debe ser menor o igual al Total de Mujeres en control. \",\"\")","v":""},"","",{"$f":"IF(AND($D74<>0,$AP74=\"\"),\"* No olvide escribir en la celda de 'Madres de Hijos menor de 5 años' (Digite CERO si no tiene). \",\"\")","v":""},null,"","","",null,"","",{"$nulls":4},0,{"$f":"IF($AP74>$F74,1,0)","v":0},0,{"$f":"IF($AR74>$F74,1,0)","v":0},0,{"$f":"IF($AT74>$F74,1,0)","v":0},0,0,0,null,0,0,0,null,0,0]
["P6231900","SUICIDIO","IDEACIÓN",{"$f":"SUM(E75:F75)","v":63},{"$f":"+I75+K75+M75+O75+Q75+S75+U75+W75+Y75+AA75+AC75+AE75+AG75+AI75+AK75+AM75","v":11},{"$f":"+J75+L75+N75+P75+R75+T75+V75+X75+Z75+AB75+AD75+AF75+AH75+AJ75+AL75+AN75","v":52},0,0,{"$f":"IFERROR(VLOOKUP($A75,Filtro!$A$5:$AY$629,7,FALSE),0)","v":0},{"$f":"IFERROR(VLOOKUP($A75,Filtro!$A$5:$AY$629,8,FALSE),0)","v":0},{"$f":"IFERROR(VLOOKUP($A75,Filtro!$A$5:$AY$629,9,FALSE),0)","v":3},{"$f":"IFERROR(VLOOKUP($A75,Filtro!$A$5:$AY$629,10,FALSE),0)","v":14},{"$f":"IFERROR(VLOOKUP($A75,Filtro!$A$5:$AY$629,11,FALSE),0)","v":4},{"$f":"IFERROR(VLOOKUP($A75,Filtro!$A$5:$AY$629,12,FALSE),0)","v":15},{"$f":"IFERROR(VLOOKUP($A75,Filtro!$A$5:$AY$629,13,FALSE),0)","v":1},{"$f":"IFERROR(VLOOKUP($A75,Filtro!$A$5:$AY$629,14,FALSE),0)","v":0},{"$f":"IFERROR(VLOOKUP($A75,Filtro!$A$5:$AY$629,15,FALSE),0)","v":1},{"$f":"IFERROR(VLOOKUP($A75,Filtro!$A$5:$AY$629,16,FALSE),0)","v":2},{"$f":"IFERROR(VLOOKUP($A75,Filtro!$A$5:$AY$629,17,FALSE),0)","v":0},{"$f":"IFERROR(VLOOKUP($A75,Filtro!$A$5:$AY$629,18,FALSE),0)","v":5},{"$f":"IFERROR(VLOOKUP($A75,Filtro!$A$5:$AY$629,19,FALSE),0)","v":1},{"$f":"IFERROR(VLOOKUP($A75,Filtro!$A$5:$AY$629,20,FALSE),0)","v":3},{"$f":"IFERROR(VLOOKUP($A75,Filtro!$A$5:$AY$629,21,FALSE),0)","v":0},{"$f":"IFERROR(VLOOKUP($A75,Filtro!$A$5:$AY$629,22,FALSE),0)","v":1},{"$f":"IFERROR(VLOOKUP($A75,Filtro!$A$5:$AY$629,23,FALSE),0)","v":0},{"$f":"IFERROR(VLOOKUP($A75,Filtro!$A$5:$AY$629,24,FALSE),0)","v":7},{"$f":"IFERROR(VLOOKUP($A75,Filtro!$A$5:$AY$629,25,FALSE),0)","v":0},{"$f":"IFERROR(VLOOKUP($A75,Filtro!$A$5:$AY$629,26,FALSE),0)","v":3},{"$f":"IFERROR(VLOOKUP($A75,Filtro!$A$5:$AY$629,27,FALSE),0)","v":0},{"$f":"IFERROR(VLOOKUP($A75,Filtro!$A$5:$AY$629,28,FALSE),0)","v":0},{"$f":"IFERROR(VLOOKUP($A75,Filtro!$A$5:$AY$629,29,FALSE),0)","v":0},{"$f":"IFERROR(VLOOKUP($A75,Filtro!$A$5:$AY$629,30,FALSE),0)","v":2},{"$f":"IFERROR(VLOOKUP($A75,Filtro!$A$5:$AY$629,31,FALSE),0)","v":1},{"$f":"IFERROR(VLOOKUP($A75,Filtro!$A$5:$AY$629,32,FALSE),0)","v":0},{"$f":"IFERROR(VLOOKUP($A75,Filtro!$A$5:$AY$629,33,FALSE),0)","v":0},{"$f":"IFERROR(VLOOKUP($A75,Filtro!$A$5:$AY$629,34,FALSE),0)","v":0},{"$f":"IFERROR(VLOOKUP($A75,Filtro!$A$5:$AY$629,35,FALSE),0)","v":0},{"$f":"IFERROR(VLOOKUP($A75,Filtro!$A$5:$AY$629,36,FALSE),0)","v":0},{"$f":"IFERROR(VLOOKUP($A75,Filtro!$A$5:$AY$629,37,FALSE),0)","v":0},{"$f":"IFERROR(VLOOKUP($A75,Filtro!$A$5:$AY$629,38,FALSE),0)","v":0},{"$f":"IFERROR(VLOOKUP($A75,Filtro!$A$5:$AY$629,39,FALSE),0)","v":1},{"$f":"IFERROR(VLOOKUP($A75,Filtro!$A$5:$AY$629,40,FALSE),0)","v":3},{"$f":"IFERROR(VLOOKUP($A75,Filtro!$A$5:$AY$629,41,FALSE),0)","v":0},{"$f":"IFERROR(VLOOKUP($A75,Filtro!$A$5:$AY$629,42,FALSE),0)","v":0},{"$f":"IFERROR(VLOOKUP($A75,Filtro!$A$5:$AY$629,43,FALSE),0)","v":0},{"$f":"IFERROR(VLOOKUP($A75,Filtro!$A$5:$AY$629,44,FALSE),0)","v":0},{"$f":"IFERROR(VLOOKUP($A75,Filtro!$A$5:$AY$629,45,FALSE),0)","v":3},{"$f":"IFERROR(VLOOKUP($A75,Filtro!$A$5:$AY$629,46,FALSE),0)","v":5},{"$f":"IFERROR(VLOOKUP($A75,Filtro!$A$5:$AY$629,47,FALSE),0)","v":39},{"$f":"IFERROR(VLOOKUP($A75,Filtro!$A$5:$AY$629,48,FALSE),0)","v":0},{"$f":"IFERROR(VLOOKUP($A75,Filtro!$A$5:$AY$629,49,FALSE),0)","v":0},{"$nulls":35},"",{"$f":"IF($AP75>$F75,\"* La celda 'Madres de Hijos menor de 5 años' debe ser menor o igual al Total de Mujeres en control. \",\"\")","v":""},"",{"$f":"IF($AR75>$F75,\"* La celda 'Pueblos Originarios / Mujeres' debe ser menor o igual al Total de Mujeres en control. \",\"\")","v":""},"",{"$f":"IF($AT75>$F75,\"* La celda 'Población Migrantes / Mujeres' debe ser menor o igual al Total de Mujeres en control. \",\"\")","v":""},"","",{"$f":"IF(AND($D75<>0,$AP75=\"\"),\"* No olvide escribir en la celda de 'Madres de Hijos menor de 5 años' (Digite CERO si no tiene). \",\"\")","v":""},null,"","","",null,"","",{"$nulls":4},0,{"$f":"IF($AP75>$F75,1,0)","v":0},0,{"$f":"IF($AR75>$F75,1,0)","v":0},0,{"$f":"IF($AT75>$F75,1,0)","v":0},0,0,0,null,0,0,0,null,0,0]
["P6232000",null,"INTENTO",{"$f":"SUM(E76:F76)","v":78},{"$f":"+I76+K76+M76+O76+Q76+S76+U76+W76+Y76+AA76+AC76+AE76+AG76+AI76+AK76+AM76","v":18},{"$f":"+J76+L76+N76+P76+R76+T76+V76+X76+Z76+AB76+AD76+AF76+AH76+AJ76+AL76+AN76","v":60},0,0,{"$f":"IFERROR(VLOOKUP($A76,Filtro!$A$5:$AY$629,7,FALSE),0)","v":0},{"$f":"IFERROR(VLOOKUP($A76,Filtro!$A$5:$AY$629,8,FALSE),0)","v":0},{"$f":"IFERROR(VLOOKUP($A76,Filtro!$A$5:$AY$629,9,FALSE),0)","v":1},{"$f":"IFERROR(VLOOKUP($A76,Filtro!$A$5:$AY$629,10,FALSE),0)","v":11},{"$f":"IFERROR(VLOOKUP($A76,Filtro!$A$5:$AY$629,11,FALSE),0)","v":4},{"$f":"IFERROR(VLOOKUP($A76,Filtro!$A$5:$AY$629,12,FALSE),0)","v":24},{"$f":"IFERROR(VLOOKUP($A76,Filtro!$A$5:$AY$629,13,FALSE),0)","v":3},{"$f":"IFERROR(VLOOKUP($A76,Filtro!$A$5:$AY$629,14,FALSE),0)","v":6},{"$f":"IFERROR(VLOOKUP($A76,Filtro!$A$5:$AY$629,15,FALSE),0)","v":3},{"$f":"IFERROR(VLOOKUP($A76,Filtro!$A$5:$AY$629,16,FALSE),0)","v":1},{"$f":"IFERROR(VLOOKUP($A76,Filtro!$A$5:$AY$629,17,FALSE),0)","v":1},{"$f":"IFERROR(VLOOKUP($A76,Filtro!$A$5:$AY$629,18,FALSE),0)","v":5},{"$f":"IFERROR(VLOOKUP($A76,Filtro!$A$5:$AY$629,19,FALSE),0)","v":0},{"$f":"IFERROR(VLOOKUP($A76,Filtro!$A$5:$AY$629,20,FALSE),0)","v":1},{"$f":"IFERROR(VLOOKUP($A76,Filtro!$A$5:$AY$629,21,FALSE),0)","v":3},{"$f":"IFERROR(VLOOKUP($A76,Filtro!$A$5:$AY$629,22,FALSE),0)","v":4},{"$f":"IFERROR(VLOOKUP($A76,Filtro!$A$5:$AY$629,23,FALSE),0)","v":1},{"$f":"IFERROR(VLOOKUP($A76,Filtro!$A$5:$AY$629,24,FALSE),0)","v":1},{"$f":"IFERROR(VLOOKUP($A76,Filtro!$A$5:$AY$629,25,FALSE),0)","v":1},{"$f":"IFERROR(VLOOKUP($A76,Filtro!$A$5:$AY$629,26,FALSE),0)","v":4},{"$f":"IFERROR(VLOOKUP($A76,Filtro!$A$5:$AY$629,27,FALSE),0)","v":0},{"$f":"IFERROR(VLOOKUP($A76,Filtro!$A$5:$AY$629,28,FALSE),0)","v":1},{"$f":"IFERROR(VLOOKUP($A76,Filtro!$A$5:$AY$629,29,FALSE),0)","v":1},{"$f":"IFERROR(VLOOKUP($A76,Filtro!$A$5:$AY$629,30,FALSE),0)","v":1},{"$f":"IFERROR(VLOOKUP($A76,Filtro!$A$5:$AY$629,31,FALSE),0)","v":0},{"$f":"IFERROR(VLOOKUP($A76,Filtro!$A$5:$AY$629,32,FALSE),0)","v":0},{"$f":"IFERROR(VLOOKUP($A76,Filtro!$A$5:$AY$629,33,FALSE),0)","v":0},{"$f":"IFERROR(VLOOKUP($A76,Filtro!$A$5:$AY$629,34,FALSE),0)","v":1},{"$f":"IFERROR(VLOOKUP($A76,Filtro!$A$5:$AY$629,35,FALSE),0)","v":0},{"$f":"IFERROR(VLOOKUP($A76,Filtro!$A$5:$AY$629,36,FALSE),0)","v":0},{"$f":"IFERROR(VLOOKUP($A76,Filtro!$A$5:$AY$629,37,FALSE),0)","v":0},{"$f":"IFERROR(VLOOKUP($A76,Filtro!$A$5:$AY$629,38,FALSE),0)","v":0},{"$f":"IFERROR(VLOOKUP($A76,Filtro!$A$5:$AY$629,39,FALSE),0)","v":0},{"$f":"IFERROR(VLOOKUP($A76,Filtro!$A$5:$AY$629,40,FALSE),0)","v":2},{"$f":"IFERROR(VLOOKUP($A76,Filtro!$A$5:$AY$629,41,FALSE),0)","v":0},{"$f":"IFERROR(VLOOKUP($A76,Filtro!$A$5:$AY$629,42,FALSE),0)","v":0},{"$f":"IFERROR(VLOOKUP($A76,Filtro!$A$5:$AY$629,43,FALSE),0)","v":0},{"$f":"IFERROR(VLOOKUP($A76,Filtro!$A$5:$AY$629,44,FALSE),0)","v":0},{"$f":"IFERROR(VLOOKUP($A76,Filtro!$A$5:$AY$629,45,FALSE),0)","v":0},{"$f":"IFERROR(VLOOKUP($A76,Filtro!$A$5:$AY$629,46,FALSE),0)","v":5},{"$f":"IFERROR(VLOOKUP($A76,Filtro!$A$5:$AY$629,47,FALSE),0)","v":53},{"$f":"IFERROR(VLOOKUP($A76,Filtro!$A$5:$AY$629,48,FALSE),0)","v":1},{"$f":"IFERROR(VLOOKUP($A76,Filtro!$A$5:$AY$629,49,FALSE),0)","v":0},{"$nulls":35},"",{"$f":"IF($AP76>$F76,\"* La celda 'Madres de Hijos menor de 5 años' debe ser menor o igual al Total de Mujeres en control. \",\"\")","v":""},"",{"$f":"IF($AR76>$F76,\"* La celda 'Pueblos Originarios / Mujeres' debe ser menor o igual al Total de Mujeres en control. \",\"\")","v":""},"",{"$f":"IF($AT76>$F76,\"* La celda 'Población Migrantes / Mujeres' debe ser menor o igual al Total de Mujeres en control. \",\"\")","v":""},"","",{"$f":"IF(AND($D76<>0,$AP76=\"\"),\"* No olvide escribir en la celda de 'Madres de Hijos menor de 5 años' (Digite CERO si no tiene). \",\"\")","v":""},null,"","","",null,"","",{"$nulls":4},0,{"$f":"IF($AP76>$F76,1,0)","v":0},0,{"$f":"IF($AR76>$F76,1,0)","v":0},0,{"$f":"IF($AT76>$F76,1,0)","v":0},0,0,0,null,0,0,0,null,0,0]
["P6223170","PERSONAS CON DIAGNOSTICOS DE TRASTORNOS MENTALES ",null,2602,1031,1571,{"$f":"IFERROR(VLOOKUP($A77,Filtro!$A$5:$AY$629,5,FALSE),0)","v":0},{"$f":"IFERROR(VLOOKUP($A77,Filtro!$A$5:$AY$629,6,FALSE),0)","v":1},{"$f":"IFERROR(VLOOKUP($A77,Filtro!$A$5:$AY$629,7,FALSE),0)","v":17},{"$f":"IFERROR(VLOOKUP($A77,Filtro!$A$5:$AY$629,8,FALSE),0)","v":14},{"$f":"IFERROR(VLOOKUP($A77,Filtro!$A$5:$AY$629,9,FALSE),0)","v":63},{"$f":"IFERROR(VLOOKUP($A77,Filtro!$A$5:$AY$629,10,FALSE),0)","v":57},{"$f":"IFERROR(VLOOKUP($A77,Filtro!$A$5:$AY$629,11,FALSE),0)","v":74},{"$f":"IFERROR(VLOOKUP($A77,Filtro!$A$5:$AY$629,12,FALSE),0)","v":160},{"$f":"IFERROR(VLOOKUP($A77,Filtro!$A$5:$AY$629,13,FALSE),0)","v":113},{"$f":"IFERROR(VLOOKUP($A77,Filtro!$A$5:$AY$629,14,FALSE),0)","v":107},{"$f":"IFERROR(VLOOKUP($A77,Filtro!$A$5:$AY$629,15,FALSE),0)","v":120},{"$f":"IFERROR(VLOOKUP($A77,Filtro!$A$5:$AY$629,16,FALSE),0)","v":112},{"$f":"IFERROR(VLOOKUP($A77,Filtro!$A$5:$AY$629,17,FALSE),0)","v":122},{"$f":"IFERROR(VLOOKUP($A77,Filtro!$A$5:$AY$629,18,FALSE),0)","v":123},{"$f":"IFERROR(VLOOKUP($A77,Filtro!$A$5:$AY$629,19,FALSE),0)","v":82},{"$f":"IFERROR(VLOOKUP($A77,Filtro!$A$5:$AY$629,20,FALSE),0)","v":107},{"$f":"IFERROR(VLOOKUP($A77,Filtro!$A$5:$AY$629,21,FALSE),0)","v":80},{"$f":"IFERROR(VLOOKUP($A77,Filtro!$A$5:$AY$629,22,FALSE),0)","v":119},{"$f":"IFERROR(VLOOKUP($A77,Filtro!$A$5:$AY$629,23,FALSE),0)","v":84},{"$f":"IFERROR(VLOOKUP($A77,Filtro!$A$5:$AY$629,24,FALSE),0)","v":119},{"$f":"IFERROR(VLOOKUP($A77,Filtro!$A$5:$AY$629,25,FALSE),0)","v":75},{"$f":"IFERROR(VLOOKUP($A77,Filtro!$A$5:$AY$629,26,FALSE),0)","v":145},{"$f":"IFERROR(VLOOKUP($A77,Filtro!$A$5:$AY$629,27,FALSE),0)","v":72},{"$f":"IFERROR(VLOOKUP($A77,Filtro!$A$5:$AY$629,28,FALSE),0)","v":155},{"$f":"IFERROR(VLOOKUP($A77,Filtro!$A$5:$AY$629,29,FALSE),0)","v":52},{"$f":"IFERROR(VLOOKUP($A77,Filtro!$A$5:$AY$629,30,FALSE),0)","v":124},{"$f":"IFERROR(VLOOKUP($A77,Filtro!$A$5:$AY$629,31,FALSE),0)","v":38},{"$f":"IFERROR(VLOOKUP($A77,Filtro!$A$5:$AY$629,32,FALSE),0)","v":97},{"$f":"IFERROR(VLOOKUP($A77,Filtro!$A$5:$AY$629,33,FALSE),0)","v":20},{"$f":"IFERROR(VLOOKUP($A77,Filtro!$A$5:$AY$629,34,FALSE),0)","v":62},{"$f":"IFERROR(VLOOKUP($A77,Filtro!$A$5:$AY$629,35,FALSE),0)","v":13},{"$f":"IFERROR(VLOOKUP($A77,Filtro!$A$5:$AY$629,36,FALSE),0)","v":42},{"$f":"IFERROR(VLOOKUP($A77,Filtro!$A$5:$AY$629,37,FALSE),0)","v":6},{"$f":"IFERROR(VLOOKUP($A77,Filtro!$A$5:$AY$629,38,FALSE),0)","v":27},{"$f":"IFERROR(VLOOKUP($A77,Filtro!$A$5:$AY$629,39,FALSE),0)","v":3},{"$f":"IFERROR(VLOOKUP($A77,Filtro!$A$5:$AY$629,40,FALSE),0)","v":19},{"$f":"IFERROR(VLOOKUP($A77,Filtro!$A$5:$AY$629,41,FALSE),0)","v":8},{"$f":"IFERROR(VLOOKUP($A77,Filtro!$A$5:$AY$629,42,FALSE),0)","v":12},{"$f":"IFERROR(VLOOKUP($A77,Filtro!$A$5:$AY$629,43,FALSE),0)","v":3},{"$f":"IFERROR(VLOOKUP($A77,Filtro!$A$5:$AY$629,44,FALSE),0)","v":1},{"$f":"IFERROR(VLOOKUP($A77,Filtro!$A$5:$AY$629,45,FALSE),0)","v":3},{"$f":"IFERROR(VLOOKUP($A77,Filtro!$A$5:$AY$629,46,FALSE),0)","v":30},{"$f":"IFERROR(VLOOKUP($A77,Filtro!$A$5:$AY$629,47,FALSE),0)","v":989},{"$f":"IFERROR(VLOOKUP($A77,Filtro!$A$5:$AY$629,48,FALSE),0)","v":3},{"$f":"IFERROR(VLOOKUP($A77,Filtro!$A$5:$AY$629,49,FALSE),0)","v":5},{"$nulls":35},"",{"$f":"IF($AP77>$F77,\"* La celda 'Madres de Hijos menor de 5 años' debe ser menor o igual al Total de Mujeres en control. \",\"\")","v":""},"",{"$f":"IF($AR77>$F77,\"* La celda 'Pueblos Originarios / Mujeres' debe ser menor o igual al Total de Mujeres en control. \",\"\")","v":""},"",{"$f":"IF($AT77>$F77,\"* La celda 'Población Migrantes / Mujeres' debe ser menor o igual al Total de Mujeres en control. \",\"\")","v":""},"","",{"$f":"IF(AND($D77<>0,$AP77=\"\"),\"* No olvide escribir en la celda de 'Madres de Hijos menor de 5 años' (Digite CERO si no tiene). \",\"\")","v":""},null,"","","",null,"","",{"$nulls":4},0,{"$f":"IF($AP77>$F77,1,0)","v":0},0,{"$f":"IF($AR77>$F77,1,0)","v":0},0,{"$f":"IF($AT77>$F77,1,0)","v":0},0,0,0,null,0,0,0,null,0,0]
["P6223180","TRASTORNOS DEL HUMOR\n(AFECTIVOS)","DEPRESIÓN REFRACTARIA",{"$f":"SUM(E78:F78)","v":252},45,207,{"$f":"IFERROR(VLOOKUP($A78,Filtro!$A$5:$AY$629,5,FALSE),0)","v":0},{"$f":"IFERROR(VLOOKUP($A78,Filtro!$A$5:$AY$629,6,FALSE),0)","v":1},{"$f":"IFERROR(VLOOKUP($A78,Filtro!$A$5:$AY$629,7,FALSE),0)","v":0},{"$f":"IFERROR(VLOOKUP($A78,Filtro!$A$5:$AY$629,8,FALSE),0)","v":0},{"$f":"IFERROR(VLOOKUP($A78,Filtro!$A$5:$AY$629,9,FALSE),0)","v":4},{"$f":"IFERROR(VLOOKUP($A78,Filtro!$A$5:$AY$629,10,FALSE),0)","v":4},{"$f":"IFERROR(VLOOKUP($A78,Filtro!$A$5:$AY$629,11,FALSE),0)","v":0},{"$f":"IFERROR(VLOOKUP($A78,Filtro!$A$5:$AY$629,12,FALSE),0)","v":12},{"$f":"IFERROR(VLOOKUP($A78,Filtro!$A$5:$AY$629,13,FALSE),0)","v":2},{"$f":"IFERROR(VLOOKUP($A78,Filtro!$A$5:$AY$629,14,FALSE),0)","v":4},{"$f":"IFERROR(VLOOKUP($A78,Filtro!$A$5:$AY$629,15,FALSE),0)","v":3},{"$f":"IFERROR(VLOOKUP($A78,Filtro!$A$5:$AY$629,16,FALSE),0)","v":10},{"$f":"IFERROR(VLOOKUP($A78,Filtro!$A$5:$AY$629,17,FALSE),0)","v":2},{"$f":"IFERROR(VLOOKUP($A78,Filtro!$A$5:$AY$629,18,FALSE),0)","v":12},{"$f":"IFERROR(VLOOKUP($A78,Filtro!$A$5:$AY$629,19,FALSE),0)","v":2},{"$f":"IFERROR(VLOOKUP($A78,Filtro!$A$5:$AY$629,20,FALSE),0)","v":14},{"$f":"IFERROR(VLOOKUP($A78,Filtro!$A$5:$AY$629,21,FALSE),0)","v":2},{"$f":"IFERROR(VLOOKUP($A78,Filtro!$A$5:$AY$629,22,FALSE),0)","v":9},{"$f":"IFERROR(VLOOKUP($A78,Filtro!$A$5:$AY$629,23,FALSE),0)","v":3},{"$f":"IFERROR(VLOOKUP($A78,Filtro!$A$5:$AY$629,24,FALSE),0)","v":16},{"$f":"IFERROR(VLOOKUP($A78,Filtro!$A$5:$AY$629,25,FALSE),0)","v":0},{"$f":"IFERROR(VLOOKUP($A78,Filtro!$A$5:$AY$629,26,FALSE),0)","v":26},{"$f":"IFERROR(VLOOKUP($A78,Filtro!$A$5:$AY$629,27,FALSE),0)","v":9},{"$f":"IFERROR(VLOOKUP($A78,Filtro!$A$5:$AY$629,28,FALSE),0)","v":26},{"$f":"IFERROR(VLOOKUP($A78,Filtro!$A$5:$AY$629,29,FALSE),0)","v":4},{"$f":"IFERROR(VLOOKUP($A78,Filtro!$A$5:$AY$629,30,FALSE),0)","v":21},{"$f":"IFERROR(VLOOKUP($A78,Filtro!$A$5:$AY$629,31,FALSE),0)","v":4},{"$f":"IFERROR(VLOOKUP($A78,Filtro!$A$5:$AY$629,32,FALSE),0)","v":22},{"$f":"IFERROR(VLOOKUP($A78,Filtro!$A$5:$AY$629,33,FALSE),0)","v":8},{"$f":"IFERROR(VLOOKUP($A78,Filtro!$A$5:$AY$629,34,FALSE),0)","v":17},{"$f":"IFERROR(VLOOKUP($A78,Filtro!$A$5:$AY$629,35,FALSE),0)","v":1},{"$f":"IFERROR(VLOOKUP($A78,Filtro!$A$5:$AY$629,36,FALSE),0)","v":7},{"$f":"IFERROR(VLOOKUP($A78,Filtro!$A$5:$AY$629,37,FALSE),0)","v":1},{"$f":"IFERROR(VLOOKUP($A78,Filtro!$A$5:$AY$629,38,FALSE),0)","v":6},{"$f":"IFERROR(VLOOKUP($A78,Filtro!$A$5:$AY$629,39,FALSE),0)","v":0},{"$f":"IFERROR(VLOOKUP($A78,Filtro!$A$5:$AY$629,40,FALSE),0)","v":0},{"$f":"IFERROR(VLOOKUP($A78,Filtro!$A$5:$AY$629,41,FALSE),0)","v":0},{"$f":"IFERROR(VLOOKUP($A78,Filtro!$A$5:$AY$629,42,FALSE),0)","v":0},{"$f":"IFERROR(VLOOKUP($A78,Filtro!$A$5:$AY$629,43,FALSE),0)","v":0},{"$f":"IFERROR(VLOOKUP($A78,Filtro!$A$5:$AY$629,44,FALSE),0)","v":0},{"$f":"IFERROR(VLOOKUP($A78,Filtro!$A$5:$AY$629,45,FALSE),0)","v":0},{"$f":"IFERROR(VLOOKUP($A78,Filtro!$A$5:$AY$629,46,FALSE),0)","v":0},{"$f":"IFERROR(VLOOKUP($A78,Filtro!$A$5:$AY$629,47,FALSE),0)","v":91},{"$f":"IFERROR(VLOOKUP($A78,Filtro!$A$5:$AY$629,48,FALSE),0)","v":0},{"$f":"IFERROR(VLOOKUP($A78,Filtro!$A$5:$AY$629,49,FALSE),0)","v":0},{"$nulls":35},"","","","","","","","","",null,"","","",null,"","",{"$nulls":4},0,0,0,0,0,0,0,0,0,null,0,0,0,null,0,0]
["P6223190",null,"DEPRESIÓN GRAVE CON PSICOSIS",125,27,98,{"$f":"IFERROR(VLOOKUP($A79,Filtro!$A$5:$AY$629,5,FALSE),0)","v":0},{"$f":"IFERROR(VLOOKUP($A79,Filtro!$A$5:$AY$629,6,FALSE),0)","v":0},{"$f":"IFERROR(VLOOKUP($A79,Filtro!$A$5:$AY$629,7,FALSE),0)","v":0},{"$f":"IFERROR(VLOOKUP($A79,Filtro!$A$5:$AY$629,8,FALSE),0)","v":0},{"$f":"IFERROR(VLOOKUP($A79,Filtro!$A$5:$AY$629,9,FALSE),0)","v":2},{"$f":"IFERROR(VLOOKUP($A79,Filtro!$A$5:$AY$629,10,FALSE),0)","v":3},{"$f":"IFERROR(VLOOKUP($A79,Filtro!$A$5:$AY$629,11,FALSE),0)","v":3},{"$f":"IFERROR(VLOOKUP($A79,Filtro!$A$5:$AY$629,12,FALSE),0)","v":10},{"$f":"IFERROR(VLOOKUP($A79,Filtro!$A$5:$AY$629,13,FALSE),0)","v":1},{"$f":"IFERROR(VLOOKUP($A79,Filtro!$A$5:$AY$629,14,FALSE),0)","v":7},{"$f":"IFERROR(VLOOKUP($A79,Filtro!$A$5:$AY$629,15,FALSE),0)","v":3},{"$f":"IFERROR(VLOOKUP($A79,Filtro!$A$5:$AY$629,16,FALSE),0)","v":5},{"$f":"IFERROR(VLOOKUP($A79,Filtro!$A$5:$AY$629,17,FALSE),0)","v":1},{"$f":"IFERROR(VLOOKUP($A79,Filtro!$A$5:$AY$629,18,FALSE),0)","v":6},{"$f":"IFERROR(VLOOKUP($A79,Filtro!$A$5:$AY$629,19,FALSE),0)","v":0},{"$f":"IFERROR(VLOOKUP($A79,Filtro!$A$5:$AY$629,20,FALSE),0)","v":9},{"$f":"IFERROR(VLOOKUP($A79,Filtro!$A$5:$AY$629,21,FALSE),0)","v":3},{"$f":"IFERROR(VLOOKUP($A79,Filtro!$A$5:$AY$629,22,FALSE),0)","v":15},{"$f":"IFERROR(VLOOKUP($A79,Filtro!$A$5:$AY$629,23,FALSE),0)","v":3},{"$f":"IFERROR(VLOOKUP($A79,Filtro!$A$5:$AY$629,24,FALSE),0)","v":8},{"$f":"IFERROR(VLOOKUP($A79,Filtro!$A$5:$AY$629,25,FALSE),0)","v":3},{"$f":"IFERROR(VLOOKUP($A79,Filtro!$A$5:$AY$629,26,FALSE),0)","v":8},{"$f":"IFERROR(VLOOKUP($A79,Filtro!$A$5:$AY$629,27,FALSE),0)","v":0},{"$f":"IFERROR(VLOOKUP($A79,Filtro!$A$5:$AY$629,28,FALSE),0)","v":7},{"$f":"IFERROR(VLOOKUP($A79,Filtro!$A$5:$AY$629,29,FALSE),0)","v":2},{"$f":"IFERROR(VLOOKUP($A79,Filtro!$A$5:$AY$629,30,FALSE),0)","v":7},{"$f":"IFERROR(VLOOKUP($A79,Filtro!$A$5:$AY$629,31,FALSE),0)","v":4},{"$f":"IFERROR(VLOOKUP($A79,Filtro!$A$5:$AY$629,32,FALSE),0)","v":7},{"$f":"IFERROR(VLOOKUP($A79,Filtro!$A$5:$AY$629,33,FALSE),0)","v":0},{"$f":"IFERROR(VLOOKUP($A79,Filtro!$A$5:$AY$629,34,FALSE),0)","v":1},{"$f":"IFERROR(VLOOKUP($A79,Filtro!$A$5:$AY$629,35,FALSE),0)","v":1},{"$f":"IFERROR(VLOOKUP($A79,Filtro!$A$5:$AY$629,36,FALSE),0)","v":0},{"$f":"IFERROR(VLOOKUP($A79,Filtro!$A$5:$AY$629,37,FALSE),0)","v":1},{"$f":"IFERROR(VLOOKUP($A79,Filtro!$A$5:$AY$629,38,FALSE),0)","v":5},{"$f":"IFERROR(VLOOKUP($A79,Filtro!$A$5:$AY$629,39,FALSE),0)","v":0},{"$f":"IFERROR(VLOOKUP($A79,Filtro!$A$5:$AY$629,40,FALSE),0)","v":1},{"$f":"IFERROR(VLOOKUP($A79,Filtro!$A$5:$AY$629,41,FALSE),0)","v":0},{"$f":"IFERROR(VLOOKUP($A79,Filtro!$A$5:$AY$629,42,FALSE),0)","v":0},{"$f":"IFERROR(VLOOKUP($A79,Filtro!$A$5:$AY$629,43,FALSE),0)","v":0},{"$f":"IFERROR(VLOOKUP($A79,Filtro!$A$5:$AY$629,44,FALSE),0)","v":0},{"$f":"IFERROR(VLOOKUP($A79,Filtro!$A$5:$AY$629,45,FALSE),0)","v":0},{"$f":"IFERROR(VLOOKUP($A79,Filtro!$A$5:$AY$629,46,FALSE),0)","v":0},{"$f":"IFERROR(VLOOKUP($A79,Filtro!$A$5:$AY$629,47,FALSE),0)","v":16},{"$f":"IFERROR(VLOOKUP($A79,Filtro!$A$5:$AY$629,48,FALSE),0)","v":0},{"$f":"IFERROR(VLOOKUP($A79,Filtro!$A$5:$AY$629,49,FALSE),0)","v":2},{"$nulls":35},"","","","","","","","","",null,"","","",null,"","",{"$nulls":4},0,0,0,0,0,0,0,0,0,null,0,0,0,null,0,0]
["P6223200",null,"DEPRESIÓN CON ALTO RIESGO SUICIDA",200,44,156,{"$f":"IFERROR(VLOOKUP($A80,Filtro!$A$5:$AY$629,5,FALSE),0)","v":0},{"$f":"IFERROR(VLOOKUP($A80,Filtro!$A$5:$AY$629,6,FALSE),0)","v":0},{"$f":"IFERROR(VLOOKUP($A80,Filtro!$A$5:$AY$629,7,FALSE),0)","v":0},{"$f":"IFERROR(VLOOKUP($A80,Filtro!$A$5:$AY$629,8,FALSE),0)","v":0},{"$f":"IFERROR(VLOOKUP($A80,Filtro!$A$5:$AY$629,9,FALSE),0)","v":1},{"$f":"IFERROR(VLOOKUP($A80,Filtro!$A$5:$AY$629,10,FALSE),0)","v":26},{"$f":"IFERROR(VLOOKUP($A80,Filtro!$A$5:$AY$629,11,FALSE),0)","v":12},{"$f":"IFERROR(VLOOKUP($A80,Filtro!$A$5:$AY$629,12,FALSE),0)","v":37},{"$f":"IFERROR(VLOOKUP($A80,Filtro!$A$5:$AY$629,13,FALSE),0)","v":2},{"$f":"IFERROR(VLOOKUP($A80,Filtro!$A$5:$AY$629,14,FALSE),0)","v":17},{"$f":"IFERROR(VLOOKUP($A80,Filtro!$A$5:$AY$629,15,FALSE),0)","v":5},{"$f":"IFERROR(VLOOKUP($A80,Filtro!$A$5:$AY$629,16,FALSE),0)","v":5},{"$f":"IFERROR(VLOOKUP($A80,Filtro!$A$5:$AY$629,17,FALSE),0)","v":4},{"$f":"IFERROR(VLOOKUP($A80,Filtro!$A$5:$AY$629,18,FALSE),0)","v":11},{"$f":"IFERROR(VLOOKUP($A80,Filtro!$A$5:$AY$629,19,FALSE),0)","v":3},{"$f":"IFERROR(VLOOKUP($A80,Filtro!$A$5:$AY$629,20,FALSE),0)","v":9},{"$f":"IFERROR(VLOOKUP($A80,Filtro!$A$5:$AY$629,21,FALSE),0)","v":4},{"$f":"IFERROR(VLOOKUP($A80,Filtro!$A$5:$AY$629,22,FALSE),0)","v":11},{"$f":"IFERROR(VLOOKUP($A80,Filtro!$A$5:$AY$629,23,FALSE),0)","v":2},{"$f":"IFERROR(VLOOKUP($A80,Filtro!$A$5:$AY$629,24,FALSE),0)","v":8},{"$f":"IFERROR(VLOOKUP($A80,Filtro!$A$5:$AY$629,25,FALSE),0)","v":5},{"$f":"IFERROR(VLOOKUP($A80,Filtro!$A$5:$AY$629,26,FALSE),0)","v":10},{"$f":"IFERROR(VLOOKUP($A80,Filtro!$A$5:$AY$629,27,FALSE),0)","v":1},{"$f":"IFERROR(VLOOKUP($A80,Filtro!$A$5:$AY$629,28,FALSE),0)","v":9},{"$f":"IFERROR(VLOOKUP($A80,Filtro!$A$5:$AY$629,29,FALSE),0)","v":2},{"$f":"IFERROR(VLOOKUP($A80,Filtro!$A$5:$AY$629,30,FALSE),0)","v":5},{"$f":"IFERROR(VLOOKUP($A80,Filtro!$A$5:$AY$629,31,FALSE),0)","v":1},{"$f":"IFERROR(VLOOKUP($A80,Filtro!$A$5:$AY$629,32,FALSE),0)","v":6},{"$f":"IFERROR(VLOOKUP($A80,Filtro!$A$5:$AY$629,33,FALSE),0)","v":1},{"$f":"IFERROR(VLOOKUP($A80,Filtro!$A$5:$AY$629,34,FALSE),0)","v":1},{"$f":"IFERROR(VLOOKUP($A80,Filtro!$A$5:$AY$629,35,FALSE),0)","v":0},{"$f":"IFERROR(VLOOKUP($A80,Filtro!$A$5:$AY$629,36,FALSE),0)","v":0},{"$f":"IFERROR(VLOOKUP($A80,Filtro!$A$5:$AY$629,37,FALSE),0)","v":1},{"$f":"IFERROR(VLOOKUP($A80,Filtro!$A$5:$AY$629,38,FALSE),0)","v":1},{"$f":"IFERROR(VLOOKUP($A80,Filtro!$A$5:$AY$629,39,FALSE),0)","v":0},{"$f":"IFERROR(VLOOKUP($A80,Filtro!$A$5:$AY$629,40,FALSE),0)","v":3},{"$f":"IFERROR(VLOOKUP($A80,Filtro!$A$5:$AY$629,41,FALSE),0)","v":1},{"$f":"IFERROR(VLOOKUP($A80,Filtro!$A$5:$AY$629,42,FALSE),0)","v":5},{"$f":"IFERROR(VLOOKUP($A80,Filtro!$A$5:$AY$629,43,FALSE),0)","v":0},{"$f":"IFERROR(VLOOKUP($A80,Filtro!$A$5:$AY$629,44,FALSE),0)","v":0},{"$f":"IFERROR(VLOOKUP($A80,Filtro!$A$5:$AY$629,45,FALSE),0)","v":2},{"$f":"IFERROR(VLOOKUP($A80,Filtro!$A$5:$AY$629,46,FALSE),0)","v":9},{"$f":"IFERROR(VLOOKUP($A80,Filtro!$A$5:$AY$629,47,FALSE),0)","v":72},{"$f":"IFERROR(VLOOKUP($A80,Filtro!$A$5:$AY$629,48,FALSE),0)","v":1},{"$f":"IFERROR(VLOOKUP($A80,Filtro!$A$5:$AY$629,49,FALSE),0)","v":1},{"$nulls":35},"","","","","","","","","",null,"","","",null,"","",{"$nulls":4},0,0,0,0,0,0,0,0,0,null,0,0,0,null,0,0]
["P6223210",null,"DEPRESIÓN POST PARTO",{"$f":"SUM(E81:F81)","v":0},0,{"$f":"L81+N81+P81+R81+T81+V81+X81+Z81+AB81+AD81","v":0},0,0,0,0,0,{"$f":"IFERROR(VLOOKUP($A81,Filtro!$A$5:$AY$629,10,FALSE),0)","v":0},0,{"$f":"IFERROR(VLOOKUP($A81,Filtro!$A$5:$AY$629,10,FALSE),0)","v":0},0,{"$f":"IFERROR(VLOOKUP($A81,Filtro!$A$5:$AY$629,10,FALSE),0)","v":0},0,{"$f":"IFERROR(VLOOKUP($A81,Filtro!$A$5:$AY$629,10,FALSE),0)","v":0},0,{"$f":"IFERROR(VLOOKUP($A81,Filtro!$A$5:$AY$629,10,FALSE),0)","v":0},0,{"$f":"IFERROR(VLOOKUP($A81,Filtro!$A$5:$AY$629,10,FALSE),0)","v":0},0,{"$f":"IFERROR(VLOOKUP($A81,Filtro!$A$5:$AY$629,10,FALSE),0)","v":0},0,{"$f":"IFERROR(VLOOKUP($A81,Filtro!$A$5:$AY$629,10,FALSE),0)","v":0},0,{"$f":"IFERROR(VLOOKUP($A81,Filtro!$A$5:$AY$629,10,FALSE),0)","v":0},0,{"$f":"IFERROR(VLOOKUP($A81,Filtro!$A$5:$AY$629,10,FALSE),0)","v":0},0,0,0,0,0,0,0,0,0,0,0,{"$f":"IFERROR(VLOOKUP($A81,Filtro!$A$5:$AY$629,10,FALSE),0)","v":0},0,{"$f":"IFERROR(VLOOKUP($A81,Filtro!$A$5:$AY$629,10,FALSE),0)","v":0},0,{"$f":"IFERROR(VLOOKUP($A81,Filtro!$A$5:$AY$629,44,FALSE),0)","v":0},{"$f":"IFERROR(VLOOKUP($A81,Filtro!$A$5:$AY$629,45,FALSE),0)","v":0},{"$f":"IFERROR(VLOOKUP($A81,Filtro!$A$5:$AY$629,46,FALSE),0)","v":0},{"$f":"IFERROR(VLOOKUP($A81,Filtro!$A$5:$AY$629,47,FALSE),0)","v":0},{"$f":"IFERROR(VLOOKUP($A81,Filtro!$A$5:$AY$629,48,FALSE),0)","v":0},{"$f":"IFERROR(VLOOKUP($A81,Filtro!$A$5:$AY$629,49,FALSE),0)","v":0},{"$nulls":36},"",null,"",null,"",{"$f":"IF($AV81>$F81,\"* La celda 'Población SENAME' debe ser menor o igual al Total de Mujeres en control. \",\"\")","v":""},null,"",null,{"$f":"IF(AND($F81<>0,$AR81=\"\"),\"* No olvide escribir en las celdas de 'Pueblos Originarios / Mujeres' (Digite CERO si no tiene). \",\"\")","v":""},{"$f":"IF(AND($F81<>0,$AT81=\"\"),\"* No olvide escribir en las celdas de ''Población Migrantes / Mujeres' (Digite CERO si no tiene). \",\"\")","v":""},{"$f":"IF(AND($F81<>0,$AV81=\"\"),\"* No olvide escribir en las celdas de 'Población SENAME' (Digite CERO si no tiene). \",\"\")","v":""},null,"","",{"$nulls":5},0,null,0,null,0,{"$f":"IF($AV81>$F81,1,0)","v":0},null,{"$f":"IF(AND($F81<>0,$AP81=\"\"),1,0)","v":0},null,{"$f":"IF(AND($F81<>0,$AR81=\"\"),1,0)","v":0},{"$f":"IF(AND($F81<>0,$AT81=\"\"),1,0)","v":0},0,null,0,0]
["P6223220",null,"TRASTORNO BIPOLAR",{"$f":"SUM(E82:F82)","v":524},{"$f":"+G82+I82+K82+M82+O82+Q82+S82+U82+W82+Y82+AA82+AC82+AE82+AG82+AI82+AK82+AM82","v":138},386,{"$f":"IFERROR(VLOOKUP($A82,Filtro!$A$5:$AY$629,5,FALSE),0)","v":0},{"$f":"IFERROR(VLOOKUP($A82,Filtro!$A$5:$AY$629,6,FALSE),0)","v":1},{"$f":"IFERROR(VLOOKUP($A82,Filtro!$A$5:$AY$629,7,FALSE),0)","v":0},{"$f":"IFERROR(VLOOKUP($A82,Filtro!$A$5:$AY$629,8,FALSE),0)","v":0},{"$f":"IFERROR(VLOOKUP($A82,Filtro!$A$5:$AY$629,9,FALSE),0)","v":1},{"$f":"IFERROR(VLOOKUP($A82,Filtro!$A$5:$AY$629,10,FALSE),0)","v":2},{"$f":"IFERROR(VLOOKUP($A82,Filtro!$A$5:$AY$629,11,FALSE),0)","v":7},{"$f":"IFERROR(VLOOKUP($A82,Filtro!$A$5:$AY$629,12,FALSE),0)","v":13},{"$f":"IFERROR(VLOOKUP($A82,Filtro!$A$5:$AY$629,13,FALSE),0)","v":16},{"$f":"IFERROR(VLOOKUP($A82,Filtro!$A$5:$AY$629,14,FALSE),0)","v":22},{"$f":"IFERROR(VLOOKUP($A82,Filtro!$A$5:$AY$629,15,FALSE),0)","v":15},{"$f":"IFERROR(VLOOKUP($A82,Filtro!$A$5:$AY$629,16,FALSE),0)","v":21},{"$f":"IFERROR(VLOOKUP($A82,Filtro!$A$5:$AY$629,17,FALSE),0)","v":18},{"$f":"IFERROR(VLOOKUP($A82,Filtro!$A$5:$AY$629,18,FALSE),0)","v":36},{"$f":"IFERROR(VLOOKUP($A82,Filtro!$A$5:$AY$629,19,FALSE),0)","v":13},{"$f":"IFERROR(VLOOKUP($A82,Filtro!$A$5:$AY$629,20,FALSE),0)","v":38},{"$f":"IFERROR(VLOOKUP($A82,Filtro!$A$5:$AY$629,21,FALSE),0)","v":14},{"$f":"IFERROR(VLOOKUP($A82,Filtro!$A$5:$AY$629,22,FALSE),0)","v":35},{"$f":"IFERROR(VLOOKUP($A82,Filtro!$A$5:$AY$629,23,FALSE),0)","v":12},{"$f":"IFERROR(VLOOKUP($A82,Filtro!$A$5:$AY$629,24,FALSE),0)","v":40},{"$f":"IFERROR(VLOOKUP($A82,Filtro!$A$5:$AY$629,25,FALSE),0)","v":12},{"$f":"IFERROR(VLOOKUP($A82,Filtro!$A$5:$AY$629,26,FALSE),0)","v":43},{"$f":"IFERROR(VLOOKUP($A82,Filtro!$A$5:$AY$629,27,FALSE),0)","v":10},{"$f":"IFERROR(VLOOKUP($A82,Filtro!$A$5:$AY$629,28,FALSE),0)","v":50},{"$f":"IFERROR(VLOOKUP($A82,Filtro!$A$5:$AY$629,29,FALSE),0)","v":9},{"$f":"IFERROR(VLOOKUP($A82,Filtro!$A$5:$AY$629,30,FALSE),0)","v":33},{"$f":"IFERROR(VLOOKUP($A82,Filtro!$A$5:$AY$629,31,FALSE),0)","v":8},{"$f":"IFERROR(VLOOKUP($A82,Filtro!$A$5:$AY$629,32,FALSE),0)","v":20},{"$f":"IFERROR(VLOOKUP($A82,Filtro!$A$5:$AY$629,33,FALSE),0)","v":2},{"$f":"IFERROR(VLOOKUP($A82,Filtro!$A$5:$AY$629,34,FALSE),0)","v":17},{"$f":"IFERROR(VLOOKUP($A82,Filtro!$A$5:$AY$629,35,FALSE),0)","v":0},{"$f":"IFERROR(VLOOKUP($A82,Filtro!$A$5:$AY$629,36,FALSE),0)","v":9},{"$f":"IFERROR(VLOOKUP($A82,Filtro!$A$5:$AY$629,37,FALSE),0)","v":1},{"$f":"IFERROR(VLOOKUP($A82,Filtro!$A$5:$AY$629,38,FALSE),0)","v":6},{"$f":"IFERROR(VLOOKUP($A82,Filtro!$A$5:$AY$629,39,FALSE),0)","v":2},{"$f":"IFERROR(VLOOKUP($A82,Filtro!$A$5:$AY$629,40,FALSE),0)","v":3},{"$f":"IFERROR(VLOOKUP($A82,Filtro!$A$5:$AY$629,41,FALSE),0)","v":0},{"$f":"IFERROR(VLOOKUP($A82,Filtro!$A$5:$AY$629,42,FALSE),0)","v":1},{"$f":"IFERROR(VLOOKUP($A82,Filtro!$A$5:$AY$629,43,FALSE),0)","v":0},{"$f":"IFERROR(VLOOKUP($A82,Filtro!$A$5:$AY$629,44,FALSE),0)","v":1},{"$f":"IFERROR(VLOOKUP($A82,Filtro!$A$5:$AY$629,45,FALSE),0)","v":0},{"$f":"IFERROR(VLOOKUP($A82,Filtro!$A$5:$AY$629,46,FALSE),0)","v":0},{"$f":"IFERROR(VLOOKUP($A82,Filtro!$A$5:$AY$629,47,FALSE),0)","v":146},{"$f":"IFERROR(VLOOKUP($A82,Filtro!$A$5:$AY$629,48,FALSE),0)","v":0},{"$f":"IFERROR(VLOOKUP($A82,Filtro!$A$5:$AY$629,49,FALSE),0)","v":0},{"$nulls":35},{"$f":"IF($AO82>$F82,\"* La celda 'Gestantes' debe ser menor o igual al Total de Mujeres en control. \",\"\")","v":""},"",{"$f":"IF(($AQ82)>$E82,\"* La celda 'Pueblos Originarios / Hombres' debe ser menor o igual al Total de Hombres en control. \",\"\")","v":""},"",{"$f":"IF(($AS82)>$E82,\"* La celda 'Población Migrantes / Hombres' debe ser menor o igual al Total de Hombres en control. \",\"\")","v":""},"",{"$f":"IF($AV82>$D82,\"* La celda 'Población SENAME' debe ser menor o igual al Total de Personas en control. \",\"\")","v":""},{"$f":"IF(AND($D82<>0,$AO82=\"\"),\"* No olvide escribir en la celda de 'Gestantes' (Digite CERO si no tiene). \",\"\")","v":""},"",null,{"$f":"IF(AND($E82<>0,$AQ82=\"\"),\"* No olvide escribir en las celdas de 'Pueblos Originarios' (Digite CERO si no tiene). \",IF(AND($F82<>0,$AR82=\"\"),\"* No olvide escribir en las celdas de 'Pueblos Originarios' (Digite CERO si no tiene). \",\"\"))","v":""},{"$f":"IF(AND($E82<>0,$AS82=\"\"),\"* No olvide escribir en las celdas de 'Población Migrantes' (Digite CERO si no tiene). \",IF(AND($F82<>0,$AT82=\"\"),\"* No olvide escribir en las celdas de 'Población Migrantes' (Digite CERO si no tiene). \",\"\"))","v":""},{"$f":"IF(AND($D82<>0,$AV82=\"\"),\"* No olvide escribir en las celdas de 'Población SENAME' (Digite CERO si no tiene). \",\"\")","v":""},null,"","",{"$nulls":4},{"$f":"IF($AO82>$F82,1,0)","v":0},0,{"$f":"IF(($AQ82)>$E82,1,0)","v":0},0,{"$f":"IF(($AS82)>$E82,1,0)","v":0},0,{"$f":"IF($AV82>$D82,1,0)","v":0},{"$f":"IF(AND($D82<>0,$AO82=\"\"),1,0)","v":0},{"$f":"IF(AND($D82<>0,$AP82=\"\"),1,0)","v":0},null,{"$f":"IF(AND($E82<>0,$AQ82=\"\"),1,IF(AND($F82<>0,$AR82=\"\"),1,0))","v":0},{"$f":"IF(AND($E82<>0,$AS82=\"\"),1,IF(AND($F82<>0,$AT82=\"\"),1,0))","v":0},0,null,0,0]
["P6241117","TRASTORNOS MENTALES Y DEL COMPORTAMIENTO DEBIDO A CONSUMO SUSTANCIAS PSICOTROPICAS","CONSUMO PERJUDICIAL DE ALCOHOL ",11,5,6,{"$f":"IFERROR(VLOOKUP($A83,Filtro!$A$5:$AY$629,5,FALSE),0)","v":0},{"$f":"IFERROR(VLOOKUP($A83,Filtro!$A$5:$AY$629,6,FALSE),0)","v":0},{"$f":"IFERROR(VLOOKUP($A83,Filtro!$A$5:$AY$629,7,FALSE),0)","v":0},{"$f":"IFERROR(VLOOKUP($A83,Filtro!$A$5:$AY$629,8,FALSE),0)","v":0},{"$f":"IFERROR(VLOOKUP($A83,Filtro!$A$5:$AY$629,9,FALSE),0)","v":0},{"$f":"IFERROR(VLOOKUP($A83,Filtro!$A$5:$AY$629,10,FALSE),0)","v":0},{"$f":"IFERROR(VLOOKUP($A83,Filtro!$A$5:$AY$629,11,FALSE),0)","v":0},{"$f":"IFERROR(VLOOKUP($A83,Filtro!$A$5:$AY$629,12,FALSE),0)","v":0},{"$f":"IFERROR(VLOOKUP($A83,Filtro!$A$5:$AY$629,13,FALSE),0)","v":0},{"$f":"IFERROR(VLOOKUP($A83,Filtro!$A$5:$AY$629,14,FALSE),0)","v":0},{"$f":"IFERROR(VLOOKUP($A83,Filtro!$A$5:$AY$629,15,FALSE),0)","v":0},{"$f":"IFERROR(VLOOKUP($A83,Filtro!$A$5:$AY$629,16,FALSE),0)","v":0},{"$f":"IFERROR(VLOOKUP($A83,Filtro!$A$5:$AY$629,17,FALSE),0)","v":0},{"$f":"IFERROR(VLOOKUP($A83,Filtro!$A$5:$AY$629,18,FALSE),0)","v":1},{"$f":"IFERROR(VLOOKUP($A83,Filtro!$A$5:$AY$629,19,FALSE),0)","v":0},{"$f":"IFERROR(VLOOKUP($A83,Filtro!$A$5:$AY$629,20,FALSE),0)","v":1},{"$f":"IFERROR(VLOOKUP($A83,Filtro!$A$5:$AY$629,21,FALSE),0)","v":3},{"$f":"IFERROR(VLOOKUP($A83,Filtro!$A$5:$AY$629,22,FALSE),0)","v":1},{"$f":"IFERROR(VLOOKUP($A83,Filtro!$A$5:$AY$629,23,FALSE),0)","v":1},{"$f":"IFERROR(VLOOKUP($A83,Filtro!$A$5:$AY$629,24,FALSE),0)","v":0},{"$f":"IFERROR(VLOOKUP($A83,Filtro!$A$5:$AY$629,25,FALSE),0)","v":1},{"$f":"IFERROR(VLOOKUP($A83,Filtro!$A$5:$AY$629,26,FALSE),0)","v":0},{"$f":"IFERROR(VLOOKUP($A83,Filtro!$A$5:$AY$629,27,FALSE),0)","v":0},{"$f":"IFERROR(VLOOKUP($A83,Filtro!$A$5:$AY$629,28,FALSE),0)","v":1},{"$f":"IFERROR(VLOOKUP($A83,Filtro!$A$5:$AY$629,29,FALSE),0)","v":0},{"$f":"IFERROR(VLOOKUP($A83,Filtro!$A$5:$AY$629,30,FALSE),0)","v":1},{"$f":"IFERROR(VLOOKUP($A83,Filtro!$A$5:$AY$629,31,FALSE),0)","v":0},{"$f":"IFERROR(VLOOKUP($A83,Filtro!$A$5:$AY$629,32,FALSE),0)","v":1},{"$f":"IFERROR(VLOOKUP($A83,Filtro!$A$5:$AY$629,33,FALSE),0)","v":0},{"$f":"IFERROR(VLOOKUP($A83,Filtro!$A$5:$AY$629,34,FALSE),0)","v":0},{"$f":"IFERROR(VLOOKUP($A83,Filtro!$A$5:$AY$629,35,FALSE),0)","v":0},{"$f":"IFERROR(VLOOKUP($A83,Filtro!$A$5:$AY$629,36,FALSE),0)","v":0},{"$f":"IFERROR(VLOOKUP($A83,Filtro!$A$5:$AY$629,37,FALSE),0)","v":0},{"$f":"IFERROR(VLOOKUP($A83,Filtro!$A$5:$AY$629,38,FALSE),0)","v":0},{"$f":"IFERROR(VLOOKUP($A83,Filtro!$A$5:$AY$629,39,FALSE),0)","v":0},{"$f":"IFERROR(VLOOKUP($A83,Filtro!$A$5:$AY$629,40,FALSE),0)","v":0},{"$f":"IFERROR(VLOOKUP($A83,Filtro!$A$5:$AY$629,41,FALSE),0)","v":0},{"$f":"IFERROR(VLOOKUP($A83,Filtro!$A$5:$AY$629,42,FALSE),0)","v":0},{"$f":"IFERROR(VLOOKUP($A83,Filtro!$A$5:$AY$629,43,FALSE),0)","v":0},{"$f":"IFERROR(VLOOKUP($A83,Filtro!$A$5:$AY$629,44,FALSE),0)","v":0},{"$f":"IFERROR(VLOOKUP($A83,Filtro!$A$5:$AY$629,45,FALSE),0)","v":0},{"$f":"IFERROR(VLOOKUP($A83,Filtro!$A$5:$AY$629,46,FALSE),0)","v":0},{"$f":"IFERROR(VLOOKUP($A83,Filtro!$A$5:$AY$629,47,FALSE),0)","v":5},{"$f":"IFERROR(VLOOKUP($A83,Filtro!$A$5:$AY$629,48,FALSE),0)","v":0},{"$f":"IFERROR(VLOOKUP($A83,Filtro!$A$5:$AY$629,49,FALSE),0)","v":0},{"$nulls":35},{"$f":"IF($AO83>$F83,\"* La celda 'Gestantes' debe ser menor o igual al Total de Mujeres en control. \",\"\")","v":""},"","","","","",{"$f":"IF($AV83>$D83,\"* La celda 'Población SENAME' debe ser menor o igual al Total de Personas en control. \",\"\")","v":""},{"$f":"IF(AND($D83<>0,$AO83=\"\"),\"* No olvide escribir en la celda de 'Gestantes' (Digite CERO si no tiene). \",\"\")","v":""},"",null,"","",{"$f":"IF(AND($D83<>0,$AV83=\"\"),\"* No olvide escribir en las celdas de 'Población SENAME' (Digite CERO si no tiene). \",\"\")","v":""},null,"","",{"$nulls":4},{"$f":"IF($AO83>$F83,1,0)","v":0},0,0,0,0,0,{"$f":"IF($AV83>$D83,1,0)","v":0},{"$f":"IF(AND($D83<>0,$AO83=\"\"),1,0)","v":0},{"$f":"IF(AND($D83<>0,$AP83=\"\"),1,0)","v":0},null,0,0,0,null,0,0]
["P6241118",null,"CONSUMO DEPENDIENTE DEL ALCOHOL ",9,6,3,{"$f":"IFERROR(VLOOKUP($A84,Filtro!$A$5:$AY$629,5,FALSE),0)","v":0},{"$f":"IFERROR(VLOOKUP($A84,Filtro!$A$5:$AY$629,6,FALSE),0)","v":0},{"$f":"IFERROR(VLOOKUP($A84,Filtro!$A$5:$AY$629,7,FALSE),0)","v":0},{"$f":"IFERROR(VLOOKUP($A84,Filtro!$A$5:$AY$629,8,FALSE),0)","v":0},{"$f":"IFERROR(VLOOKUP($A84,Filtro!$A$5:$AY$629,9,FALSE),0)","v":0},{"$f":"IFERROR(VLOOKUP($A84,Filtro!$A$5:$AY$629,10,FALSE),0)","v":0},{"$f":"IFERROR(VLOOKUP($A84,Filtro!$A$5:$AY$629,11,FALSE),0)","v":0},{"$f":"IFERROR(VLOOKUP($A84,Filtro!$A$5:$AY$629,12,FALSE),0)","v":0},{"$f":"IFERROR(VLOOKUP($A84,Filtro!$A$5:$AY$629,13,FALSE),0)","v":0},{"$f":"IFERROR(VLOOKUP($A84,Filtro!$A$5:$AY$629,14,FALSE),0)","v":0},{"$f":"IFERROR(VLOOKUP($A84,Filtro!$A$5:$AY$629,15,FALSE),0)","v":0},{"$f":"IFERROR(VLOOKUP($A84,Filtro!$A$5:$AY$629,16,FALSE),0)","v":0},{"$f":"IFERROR(VLOOKUP($A84,Filtro!$A$5:$AY$629,17,FALSE),0)","v":0},{"$f":"IFERROR(VLOOKUP($A84,Filtro!$A$5:$AY$629,18,FALSE),0)","v":1},{"$f":"IFERROR(VLOOKUP($A84,Filtro!$A$5:$AY$629,19,FALSE),0)","v":0},{"$f":"IFERROR(VLOOKUP($A84,Filtro!$A$5:$AY$629,20,FALSE),0)","v":1},{"$f":"IFERROR(VLOOKUP($A84,Filtro!$A$5:$AY$629,21,FALSE),0)","v":1},{"$f":"IFERROR(VLOOKUP($A84,Filtro!$A$5:$AY$629,22,FALSE),0)","v":1},{"$f":"IFERROR(VLOOKUP($A84,Filtro!$A$5:$AY$629,23,FALSE),0)","v":2},{"$f":"IFERROR(VLOOKUP($A84,Filtro!$A$5:$AY$629,24,FALSE),0)","v":0},{"$f":"IFERROR(VLOOKUP($A84,Filtro!$A$5:$AY$629,25,FALSE),0)","v":1},{"$f":"IFERROR(VLOOKUP($A84,Filtro!$A$5:$AY$629,26,FALSE),0)","v":0},{"$f":"IFERROR(VLOOKUP($A84,Filtro!$A$5:$AY$629,27,FALSE),0)","v":1},{"$f":"IFERROR(VLOOKUP($A84,Filtro!$A$5:$AY$629,28,FALSE),0)","v":0},{"$f":"IFERROR(VLOOKUP($A84,Filtro!$A$5:$AY$629,29,FALSE),0)","v":0},{"$f":"IFERROR(VLOOKUP($A84,Filtro!$A$5:$AY$629,30,FALSE),0)","v":0},{"$f":"IFERROR(VLOOKUP($A84,Filtro!$A$5:$AY$629,31,FALSE),0)","v":0},{"$f":"IFERROR(VLOOKUP($A84,Filtro!$A$5:$AY$629,32,FALSE),0)","v":0},{"$f":"IFERROR(VLOOKUP($A84,Filtro!$A$5:$AY$629,33,FALSE),0)","v":1},{"$f":"IFERROR(VLOOKUP($A84,Filtro!$A$5:$AY$629,34,FALSE),0)","v":0},{"$f":"IFERROR(VLOOKUP($A84,Filtro!$A$5:$AY$629,35,FALSE),0)","v":0},{"$f":"IFERROR(VLOOKUP($A84,Filtro!$A$5:$AY$629,36,FALSE),0)","v":0},{"$f":"IFERROR(VLOOKUP($A84,Filtro!$A$5:$AY$629,37,FALSE),0)","v":0},{"$f":"IFERROR(VLOOKUP($A84,Filtro!$A$5:$AY$629,38,FALSE),0)","v":0},{"$f":"IFERROR(VLOOKUP($A84,Filtro!$A$5:$AY$629,39,FALSE),0)","v":0},{"$f":"IFERROR(VLOOKUP($A84,Filtro!$A$5:$AY$629,40,FALSE),0)","v":0},{"$f":"IFERROR(VLOOKUP($A84,Filtro!$A$5:$AY$629,41,FALSE),0)","v":0},{"$f":"IFERROR(VLOOKUP($A84,Filtro!$A$5:$AY$629,42,FALSE),0)","v":0},{"$f":"IFERROR(VLOOKUP($A84,Filtro!$A$5:$AY$629,43,FALSE),0)","v":0},{"$f":"IFERROR(VLOOKUP($A84,Filtro!$A$5:$AY$629,44,FALSE),0)","v":0},{"$f":"IFERROR(VLOOKUP($A84,Filtro!$A$5:$AY$629,45,FALSE),0)","v":0},{"$f":"IFERROR(VLOOKUP($A84,Filtro!$A$5:$AY$629,46,FALSE),0)","v":0},{"$f":"IFERROR(VLOOKUP($A84,Filtro!$A$5:$AY$629,47,FALSE),0)","v":1},{"$f":"IFERROR(VLOOKUP($A84,Filtro!$A$5:$AY$629,48,FALSE),0)","v":0},{"$f":"IFERROR(VLOOKUP($A84,Filtro!$A$5:$AY$629,49,FALSE),0)","v":0},{"$nulls":35},{"$f":"IF($AO84>$F84,\"* La celda 'Gestantes' debe ser menor o igual al Total de Mujeres en control. \",\"\")","v":""},"","","","","",{"$f":"IF($AV84>$D84,\"* La celda 'Población SENAME' debe ser menor o igual al Total de Personas en control. \",\"\")","v":""},{"$f":"IF(AND($D84<>0,$AO84=\"\"),\"* No olvide escribir en la celda de 'Gestantes' (Digite CERO si no tiene). \",\"\")","v":""},"",null,"","",{"$f":"IF(AND($D84<>0,$AV84=\"\"),\"* No olvide escribir en las celdas de 'Población SENAME' (Digite CERO si no tiene). \",\"\")","v":""},null,"","",{"$nulls":4},{"$f":"IF($AO84>$F84,1,0)","v":0},0,0,0,0,0,{"$f":"IF($AV84>$D84,1,0)","v":0},{"$f":"IF(AND($D84<>0,$AO84=\"\"),1,0)","v":0},{"$f":"IF(AND($D84<>0,$AP84=\"\"),1,0)","v":0},null,0,0,0,null,0,0]
["P6241119",null,"CONSUMO PERJUDICIAL DE DROGAS",43,{"$f":"+G85+I85+K85+M85+O85+Q85+S85+U85+W85+Y85+AA85+AC85+AE85+AG85+AI85+AK85+AM85","v":27},16,{"$f":"IFERROR(VLOOKUP($A85,Filtro!$A$5:$AY$629,5,FALSE),0)","v":0},{"$f":"IFERROR(VLOOKUP($A85,Filtro!$A$5:$AY$629,6,FALSE),0)","v":0},{"$f":"IFERROR(VLOOKUP($A85,Filtro!$A$5:$AY$629,7,FALSE),0)","v":0},{"$f":"IFERROR(VLOOKUP($A85,Filtro!$A$5:$AY$629,8,FALSE),0)","v":0},{"$f":"IFERROR(VLOOKUP($A85,Filtro!$A$5:$AY$629,9,FALSE),0)","v":0},{"$f":"IFERROR(VLOOKUP($A85,Filtro!$A$5:$AY$629,10,FALSE),0)","v":0},{"$f":"IFERROR(VLOOKUP($A85,Filtro!$A$5:$AY$629,11,FALSE),0)","v":2},{"$f":"IFERROR(VLOOKUP($A85,Filtro!$A$5:$AY$629,12,FALSE),0)","v":3},{"$f":"IFERROR(VLOOKUP($A85,Filtro!$A$5:$AY$629,13,FALSE),0)","v":4},{"$f":"IFERROR(VLOOKUP($A85,Filtro!$A$5:$AY$629,14,FALSE),0)","v":4},{"$f":"IFERROR(VLOOKUP($A85,Filtro!$A$5:$AY$629,15,FALSE),0)","v":11},{"$f":"IFERROR(VLOOKUP($A85,Filtro!$A$5:$AY$629,16,FALSE),0)","v":1},{"$f":"IFERROR(VLOOKUP($A85,Filtro!$A$5:$AY$629,17,FALSE),0)","v":1},{"$f":"IFERROR(VLOOKUP($A85,Filtro!$A$5:$AY$629,18,FALSE),0)","v":1},{"$f":"IFERROR(VLOOKUP($A85,Filtro!$A$5:$AY$629,19,FALSE),0)","v":3},{"$f":"IFERROR(VLOOKUP($A85,Filtro!$A$5:$AY$629,20,FALSE),0)","v":0},{"$f":"IFERROR(VLOOKUP($A85,Filtro!$A$5:$AY$629,21,FALSE),0)","v":2},{"$f":"IFERROR(VLOOKUP($A85,Filtro!$A$5:$AY$629,22,FALSE),0)","v":4},{"$f":"IFERROR(VLOOKUP($A85,Filtro!$A$5:$AY$629,23,FALSE),0)","v":1},{"$f":"IFERROR(VLOOKUP($A85,Filtro!$A$5:$AY$629,24,FALSE),0)","v":1},{"$f":"IFERROR(VLOOKUP($A85,Filtro!$A$5:$AY$629,25,FALSE),0)","v":0},{"$f":"IFERROR(VLOOKUP($A85,Filtro!$A$5:$AY$629,26,FALSE),0)","v":1},{"$f":"IFERROR(VLOOKUP($A85,Filtro!$A$5:$AY$629,27,FALSE),0)","v":2},{"$f":"IFERROR(VLOOKUP($A85,Filtro!$A$5:$AY$629,28,FALSE),0)","v":1},{"$f":"IFERROR(VLOOKUP($A85,Filtro!$A$5:$AY$629,29,FALSE),0)","v":0},{"$f":"IFERROR(VLOOKUP($A85,Filtro!$A$5:$AY$629,30,FALSE),0)","v":0},{"$f":"IFERROR(VLOOKUP($A85,Filtro!$A$5:$AY$629,31,FALSE),0)","v":1},{"$f":"IFERROR(VLOOKUP($A85,Filtro!$A$5:$AY$629,32,FALSE),0)","v":0},{"$f":"IFERROR(VLOOKUP($A85,Filtro!$A$5:$AY$629,33,FALSE),0)","v":0},{"$f":"IFERROR(VLOOKUP($A85,Filtro!$A$5:$AY$629,34,FALSE),0)","v":0},{"$f":"IFERROR(VLOOKUP($A85,Filtro!$A$5:$AY$629,35,FALSE),0)","v":0},{"$f":"IFERROR(VLOOKUP($A85,Filtro!$A$5:$AY$629,36,FALSE),0)","v":0},{"$f":"IFERROR(VLOOKUP($A85,Filtro!$A$5:$AY$629,37,FALSE),0)","v":0},{"$f":"IFERROR(VLOOKUP($A85,Filtro!$A$5:$AY$629,38,FALSE),0)","v":0},{"$f":"IFERROR(VLOOKUP($A85,Filtro!$A$5:$AY$629,39,FALSE),0)","v":0},{"$f":"IFERROR(VLOOKUP($A85,Filtro!$A$5:$AY$629,40,FALSE),0)","v":0},{"$f":"IFERROR(VLOOKUP($A85,Filtro!$A$5:$AY$629,41,FALSE),0)","v":0},{"$f":"IFERROR(VLOOKUP($A85,Filtro!$A$5:$AY$629,42,FALSE),0)","v":0},{"$f":"IFERROR(VLOOKUP($A85,Filtro!$A$5:$AY$629,43,FALSE),0)","v":0},{"$f":"IFERROR(VLOOKUP($A85,Filtro!$A$5:$AY$629,44,FALSE),0)","v":0},{"$f":"IFERROR(VLOOKUP($A85,Filtro!$A$5:$AY$629,45,FALSE),0)","v":0},{"$f":"IFERROR(VLOOKUP($A85,Filtro!$A$5:$AY$629,46,FALSE),0)","v":0},{"$f":"IFERROR(VLOOKUP($A85,Filtro!$A$5:$AY$629,47,FALSE),0)","v":16},{"$f":"IFERROR(VLOOKUP($A85,Filtro!$A$5:$AY$629,48,FALSE),0)","v":0},{"$f":"IFERROR(VLOOKUP($A85,Filtro!$A$5:$AY$629,49,FALSE),0)","v":0}]
["P6241120",null,"CONSUMO DEPENDIENTE DE DROGAS ",25,15,10,{"$f":"IFERROR(VLOOKUP($A86,Filtro!$A$5:$AY$629,5,FALSE),0)","v":0},{"$f":"IFERROR(VLOOKUP($A86,Filtro!$A$5:$AY$629,6,FALSE),0)","v":0},{"$f":"IFERROR(VLOOKUP($A86,Filtro!$A$5:$AY$629,7,FALSE),0)","v":0},{"$f":"IFERROR(VLOOKUP($A86,Filtro!$A$5:$AY$629,8,FALSE),0)","v":0},{"$f":"IFERROR(VLOOKUP($A86,Filtro!$A$5:$AY$629,9,FALSE),0)","v":0},{"$f":"IFERROR(VLOOKUP($A86,Filtro!$A$5:$AY$629,10,FALSE),0)","v":0},{"$f":"IFERROR(VLOOKUP($A86,Filtro!$A$5:$AY$629,11,FALSE),0)","v":1},{"$f":"IFERROR(VLOOKUP($A86,Filtro!$A$5:$AY$629,12,FALSE),0)","v":0},{"$f":"IFERROR(VLOOKUP($A86,Filtro!$A$5:$AY$629,13,FALSE),0)","v":3},{"$f":"IFERROR(VLOOKUP($A86,Filtro!$A$5:$AY$629,14,FALSE),0)","v":1},{"$f":"IFERROR(VLOOKUP($A86,Filtro!$A$5:$AY$629,15,FALSE),0)","v":3},{"$f":"IFERROR(VLOOKUP($A86,Filtro!$A$5:$AY$629,16,FALSE),0)","v":2},{"$f":"IFERROR(VLOOKUP($A86,Filtro!$A$5:$AY$629,17,FALSE),0)","v":4},{"$f":"IFERROR(VLOOKUP($A86,Filtro!$A$5:$AY$629,18,FALSE),0)","v":0},{"$f":"IFERROR(VLOOKUP($A86,Filtro!$A$5:$AY$629,19,FALSE),0)","v":3},{"$f":"IFERROR(VLOOKUP($A86,Filtro!$A$5:$AY$629,20,FALSE),0)","v":3},{"$f":"IFERROR(VLOOKUP($A86,Filtro!$A$5:$AY$629,21,FALSE),0)","v":1},{"$f":"IFERROR(VLOOKUP($A86,Filtro!$A$5:$AY$629,22,FALSE),0)","v":3},{"$f":"IFERROR(VLOOKUP($A86,Filtro!$A$5:$AY$629,23,FALSE),0)","v":0},{"$f":"IFERROR(VLOOKUP($A86,Filtro!$A$5:$AY$629,24,FALSE),0)","v":0},{"$f":"IFERROR(VLOOKUP($A86,Filtro!$A$5:$AY$629,25,FALSE),0)","v":0},{"$f":"IFERROR(VLOOKUP($A86,Filtro!$A$5:$AY$629,26,FALSE),0)","v":1},{"$f":"IFERROR(VLOOKUP($A86,Filtro!$A$5:$AY$629,27,FALSE),0)","v":0},{"$f":"IFERROR(VLOOKUP($A86,Filtro!$A$5:$AY$629,28,FALSE),0)","v":0},{"$f":"IFERROR(VLOOKUP($A86,Filtro!$A$5:$AY$629,29,FALSE),0)","v":0},{"$f":"IFERROR(VLOOKUP($A86,Filtro!$A$5:$AY$629,30,FALSE),0)","v":0},{"$f":"IFERROR(VLOOKUP($A86,Filtro!$A$5:$AY$629,31,FALSE),0)","v":0},{"$f":"IFERROR(VLOOKUP($A86,Filtro!$A$5:$AY$629,32,FALSE),0)","v":0},{"$f":"IFERROR(VLOOKUP($A86,Filtro!$A$5:$AY$629,33,FALSE),0)","v":0},{"$f":"IFERROR(VLOOKUP($A86,Filtro!$A$5:$AY$629,34,FALSE),0)","v":0},{"$f":"IFERROR(VLOOKUP($A86,Filtro!$A$5:$AY$629,35,FALSE),0)","v":0},{"$f":"IFERROR(VLOOKUP($A86,Filtro!$A$5:$AY$629,36,FALSE),0)","v":0},{"$f":"IFERROR(VLOOKUP($A86,Filtro!$A$5:$AY$629,37,FALSE),0)","v":0},{"$f":"IFERROR(VLOOKUP($A86,Filtro!$A$5:$AY$629,38,FALSE),0)","v":0},{"$f":"IFERROR(VLOOKUP($A86,Filtro!$A$5:$AY$629,39,FALSE),0)","v":0},{"$f":"IFERROR(VLOOKUP($A86,Filtro!$A$5:$AY$629,40,FALSE),0)","v":1},{"$f":"IFERROR(VLOOKUP($A86,Filtro!$A$5:$AY$629,41,FALSE),0)","v":0},{"$f":"IFERROR(VLOOKUP($A86,Filtro!$A$5:$AY$629,42,FALSE),0)","v":0},{"$f":"IFERROR(VLOOKUP($A86,Filtro!$A$5:$AY$629,43,FALSE),0)","v":0},{"$f":"IFERROR(VLOOKUP($A86,Filtro!$A$5:$AY$629,44,FALSE),0)","v":0},{"$f":"IFERROR(VLOOKUP($A86,Filtro!$A$5:$AY$629,45,FALSE),0)","v":0},{"$f":"IFERROR(VLOOKUP($A86,Filtro!$A$5:$AY$629,46,FALSE),0)","v":0},{"$f":"IFERROR(VLOOKUP($A86,Filtro!$A$5:$AY$629,47,FALSE),0)","v":8},{"$f":"IFERROR(VLOOKUP($A86,Filtro!$A$5:$AY$629,48,FALSE),0)","v":0},{"$f":"IFERROR(VLOOKUP($A86,Filtro!$A$5:$AY$629,49,FALSE),0)","v":0}]
["P6241121",null,"CONSUMO DE DROGAS Y ALCOHOL ",23,16,7,{"$f":"IFERROR(VLOOKUP($A87,Filtro!$A$5:$AY$629,5,FALSE),0)","v":0},{"$f":"IFERROR(VLOOKUP($A87,Filtro!$A$5:$AY$629,6,FALSE),0)","v":0},{"$f":"IFERROR(VLOOKUP($A87,Filtro!$A$5:$AY$629,7,FALSE),0)","v":0},{"$f":"IFERROR(VLOOKUP($A87,Filtro!$A$5:$AY$629,8,FALSE),0)","v":0},{"$f":"IFERROR(VLOOKUP($A87,Filtro!$A$5:$AY$629,9,FALSE),0)","v":0},{"$f":"IFERROR(VLOOKUP($A87,Filtro!$A$5:$AY$629,10,FALSE),0)","v":0},{"$f":"IFERROR(VLOOKUP($A87,Filtro!$A$5:$AY$629,11,FALSE),0)","v":0},{"$f":"IFERROR(VLOOKUP($A87,Filtro!$A$5:$AY$629,12,FALSE),0)","v":0},{"$f":"IFERROR(VLOOKUP($A87,Filtro!$A$5:$AY$629,13,FALSE),0)","v":5},{"$f":"IFERROR(VLOOKUP($A87,Filtro!$A$5:$AY$629,14,FALSE),0)","v":0},{"$f":"IFERROR(VLOOKUP($A87,Filtro!$A$5:$AY$629,15,FALSE),0)","v":1},{"$f":"IFERROR(VLOOKUP($A87,Filtro!$A$5:$AY$629,16,FALSE),0)","v":2},{"$f":"IFERROR(VLOOKUP($A87,Filtro!$A$5:$AY$629,17,FALSE),0)","v":2},{"$f":"IFERROR(VLOOKUP($A87,Filtro!$A$5:$AY$629,18,FALSE),0)","v":0},{"$f":"IFERROR(VLOOKUP($A87,Filtro!$A$5:$AY$629,19,FALSE),0)","v":2},{"$f":"IFERROR(VLOOKUP($A87,Filtro!$A$5:$AY$629,20,FALSE),0)","v":0},{"$f":"IFERROR(VLOOKUP($A87,Filtro!$A$5:$AY$629,21,FALSE),0)","v":0},{"$f":"IFERROR(VLOOKUP($A87,Filtro!$A$5:$AY$629,22,FALSE),0)","v":2},{"$f":"IFERROR(VLOOKUP($A87,Filtro!$A$5:$AY$629,23,FALSE),0)","v":2},{"$f":"IFERROR(VLOOKUP($A87,Filtro!$A$5:$AY$629,24,FALSE),0)","v":0},{"$f":"IFERROR(VLOOKUP($A87,Filtro!$A$5:$AY$629,25,FALSE),0)","v":4},{"$f":"IFERROR(VLOOKUP($A87,Filtro!$A$5:$AY$629,26,FALSE),0)","v":0},{"$f":"IFERROR(VLOOKUP($A87,Filtro!$A$5:$AY$629,27,FALSE),0)","v":0},{"$f":"IFERROR(VLOOKUP($A87,Filtro!$A$5:$AY$629,28,FALSE),0)","v":3},{"$f":"IFERROR(VLOOKUP($A87,Filtro!$A$5:$AY$629,29,FALSE),0)","v":0},{"$f":"IFERROR(VLOOKUP($A87,Filtro!$A$5:$AY$629,30,FALSE),0)","v":0},{"$f":"IFERROR(VLOOKUP($A87,Filtro!$A$5:$AY$629,31,FALSE),0)","v":0},{"$f":"IFERROR(VLOOKUP($A87,Filtro!$A$5:$AY$629,32,FALSE),0)","v":0},{"$f":"IFERROR(VLOOKUP($A87,Filtro!$A$5:$AY$629,33,FALSE),0)","v":0},{"$f":"IFERROR(VLOOKUP($A87,Filtro!$A$5:$AY$629,34,FALSE),0)","v":0},{"$f":"IFERROR(VLOOKUP($A87,Filtro!$A$5:$AY$629,35,FALSE),0)","v":0},{"$f":"IFERROR(VLOOKUP($A87,Filtro!$A$5:$AY$629,36,FALSE),0)","v":0},{"$f":"IFERROR(VLOOKUP($A87,Filtro!$A$5:$AY$629,37,FALSE),0)","v":0},{"$f":"IFERROR(VLOOKUP($A87,Filtro!$A$5:$AY$629,38,FALSE),0)","v":0},{"$f":"IFERROR(VLOOKUP($A87,Filtro!$A$5:$AY$629,39,FALSE),0)","v":0},{"$f":"IFERROR(VLOOKUP($A87,Filtro!$A$5:$AY$629,40,FALSE),0)","v":0},{"$f":"IFERROR(VLOOKUP($A87,Filtro!$A$5:$AY$629,41,FALSE),0)","v":0},{"$f":"IFERROR(VLOOKUP($A87,Filtro!$A$5:$AY$629,42,FALSE),0)","v":0},{"$f":"IFERROR(VLOOKUP($A87,Filtro!$A$5:$AY$629,43,FALSE),0)","v":0},{"$f":"IFERROR(VLOOKUP($A87,Filtro!$A$5:$AY$629,44,FALSE),0)","v":0},{"$f":"IFERROR(VLOOKUP($A87,Filtro!$A$5:$AY$629,45,FALSE),0)","v":0},{"$f":"IFERROR(VLOOKUP($A87,Filtro!$A$5:$AY$629,46,FALSE),0)","v":0},{"$f":"IFERROR(VLOOKUP($A87,Filtro!$A$5:$AY$629,47,FALSE),0)","v":3},{"$f":"IFERROR(VLOOKUP($A87,Filtro!$A$5:$AY$629,48,FALSE),0)","v":0},{"$f":"IFERROR(VLOOKUP($A87,Filtro!$A$5:$AY$629,49,FALSE),0)","v":0},{"$nulls":35},{"$f":"IF($AO87>$F87,\"* La celda 'Gestantes' debe ser menor o igual al Total de Mujeres en control. \",\"\")","v":""},"","","","","",{"$f":"IF($AV87>$D87,\"* La celda 'Población SENAME' debe ser menor o igual al Total de Personas en control. \",\"\")","v":""},{"$f":"IF(AND($D87<>0,$AO87=\"\"),\"* No olvide escribir en la celda de 'Gestantes' (Digite CERO si no tiene). \",\"\")","v":""},"",null,"","",{"$f":"IF(AND($D87<>0,$AV87=\"\"),\"* No olvide escribir en las celdas de 'Población SENAME' (Digite CERO si no tiene). \",\"\")","v":""},null,{"$f":"IF($AW87>$D87,\"* La celda 'Plan Cuidado Integral Elaborado' debe ser menor o igual al Total de Personas en control. \",\"\")","v":""},{"$f":"IF(AND($D87<>0,$AW87=\"\"),\"* No olvide escribir en las celdas de 'Plan Cuidado Integral Elaborado' (Digite CERO si no tiene). \",\"\")","v":""},{"$nulls":4},{"$f":"IF($AO87>$F87,1,0)","v":0},0,0,0,0,0,{"$f":"IF($AV87>$D87,1,0)","v":0},{"$f":"IF(AND($D87<>0,$AO87=\"\"),1,0)","v":0},{"$f":"IF(AND($D87<>0,$AP87=\"\"),1,0)","v":0},null,0,0,{"$f":"IF(AND($D87<>0,$AV87=\"\"),1,0)","v":0},null,{"$f":"IF($AW87>$D87,1,0)","v":0},{"$f":"IF(AND($D87<>0,$AW87=\"\"),1,0)","v":0}]
["P6223260","TRASTORNOS DEL COMPORTAMIENTO Y DE LAS EMOCIONES DE COMIENZO HABITUAL EN LA INFANCIA Y ADOLESCENCIA","TRASTORNO HIPERCINÉTICO",42,38,4,{"$f":"IFERROR(VLOOKUP($A88,Filtro!$A$5:$AY$629,5,FALSE),0)","v":0},{"$f":"IFERROR(VLOOKUP($A88,Filtro!$A$5:$AY$629,6,FALSE),0)","v":0},{"$f":"IFERROR(VLOOKUP($A88,Filtro!$A$5:$AY$629,7,FALSE),0)","v":10},{"$f":"IFERROR(VLOOKUP($A88,Filtro!$A$5:$AY$629,8,FALSE),0)","v":1},{"$f":"IFERROR(VLOOKUP($A88,Filtro!$A$5:$AY$629,9,FALSE),0)","v":19},{"$f":"IFERROR(VLOOKUP($A88,Filtro!$A$5:$AY$629,10,FALSE),0)","v":1},{"$f":"IFERROR(VLOOKUP($A88,Filtro!$A$5:$AY$629,11,FALSE),0)","v":8},{"$f":"IFERROR(VLOOKUP($A88,Filtro!$A$5:$AY$629,12,FALSE),0)","v":1},{"$f":"IFERROR(VLOOKUP($A88,Filtro!$A$5:$AY$629,13,FALSE),0)","v":1},{"$f":"IFERROR(VLOOKUP($A88,Filtro!$A$5:$AY$629,14,FALSE),0)","v":0},{"$f":"IFERROR(VLOOKUP($A88,Filtro!$A$5:$AY$629,15,FALSE),0)","v":0},{"$f":"IFERROR(VLOOKUP($A88,Filtro!$A$5:$AY$629,16,FALSE),0)","v":0},{"$f":"IFERROR(VLOOKUP($A88,Filtro!$A$5:$AY$629,17,FALSE),0)","v":0},{"$f":"IFERROR(VLOOKUP($A88,Filtro!$A$5:$AY$629,18,FALSE),0)","v":0},{"$f":"IFERROR(VLOOKUP($A88,Filtro!$A$5:$AY$629,19,FALSE),0)","v":0},{"$f":"IFERROR(VLOOKUP($A88,Filtro!$A$5:$AY$629,20,FALSE),0)","v":0},{"$f":"IFERROR(VLOOKUP($A88,Filtro!$A$5:$AY$629,21,FALSE),0)","v":0},{"$f":"IFERROR(VLOOKUP($A88,Filtro!$A$5:$AY$629,22,FALSE),0)","v":0},{"$f":"IFERROR(VLOOKUP($A88,Filtro!$A$5:$AY$629,23,FALSE),0)","v":0},{"$f":"IFERROR(VLOOKUP($A88,Filtro!$A$5:$AY$629,24,FALSE),0)","v":0},{"$f":"IFERROR(VLOOKUP($A88,Filtro!$A$5:$AY$629,25,FALSE),0)","v":0},{"$f":"IFERROR(VLOOKUP($A88,Filtro!$A$5:$AY$629,26,FALSE),0)","v":0},{"$f":"IFERROR(VLOOKUP($A88,Filtro!$A$5:$AY$629,27,FALSE),0)","v":0},{"$f":"IFERROR(VLOOKUP($A88,Filtro!$A$5:$AY$629,28,FALSE),0)","v":1},{"$f":"IFERROR(VLOOKUP($A88,Filtro!$A$5:$AY$629,29,FALSE),0)","v":0},{"$f":"IFERROR(VLOOKUP($A88,Filtro!$A$5:$AY$629,30,FALSE),0)","v":0},{"$f":"IFERROR(VLOOKUP($A88,Filtro!$A$5:$AY$629,31,FALSE),0)","v":0},{"$f":"IFERROR(VLOOKUP($A88,Filtro!$A$5:$AY$629,32,FALSE),0)","v":0},{"$f":"IFERROR(VLOOKUP($A88,Filtro!$A$5:$AY$629,33,FALSE),0)","v":0},{"$f":"IFERROR(VLOOKUP($A88,Filtro!$A$5:$AY$629,34,FALSE),0)","v":0},{"$f":"IFERROR(VLOOKUP($A88,Filtro!$A$5:$AY$629,35,FALSE),0)","v":0},{"$f":"IFERROR(VLOOKUP($A88,Filtro!$A$5:$AY$629,36,FALSE),0)","v":0},{"$f":"IFERROR(VLOOKUP($A88,Filtro!$A$5:$AY$629,37,FALSE),0)","v":0},{"$f":"IFERROR(VLOOKUP($A88,Filtro!$A$5:$AY$629,38,FALSE),0)","v":0},{"$f":"IFERROR(VLOOKUP($A88,Filtro!$A$5:$AY$629,39,FALSE),0)","v":0},0,{"$f":"IFERROR(VLOOKUP($A88,Filtro!$A$5:$AY$629,41,FALSE),0)","v":2},{"$f":"IFERROR(VLOOKUP($A88,Filtro!$A$5:$AY$629,42,FALSE),0)","v":0},{"$f":"IFERROR(VLOOKUP($A88,Filtro!$A$5:$AY$629,43,FALSE),0)","v":1},{"$f":"IFERROR(VLOOKUP($A88,Filtro!$A$5:$AY$629,44,FALSE),0)","v":0},{"$f":"IFERROR(VLOOKUP($A88,Filtro!$A$5:$AY$629,45,FALSE),0)","v":1},{"$f":"IFERROR(VLOOKUP($A88,Filtro!$A$5:$AY$629,46,FALSE),0)","v":2},{"$f":"IFERROR(VLOOKUP($A88,Filtro!$A$5:$AY$629,47,FALSE),0)","v":23},{"$f":"IFERROR(VLOOKUP($A88,Filtro!$A$5:$AY$629,48,FALSE),0)","v":0},{"$f":"IFERROR(VLOOKUP($A88,Filtro!$A$5:$AY$629,49,FALSE),0)","v":0},{"$nulls":37},"","","","","",{"$nulls":3},"","","",null,"","",{"$nulls":6},0,0,0,0,0,{"$nulls":3},0,0,0,null,0,0]
["P6223270",null,"TRASTORNO DISOCIAL DESAFIANTE Y OPOSICIONISTA",6,6,0,{"$f":"IFERROR(VLOOKUP($A89,Filtro!$A$5:$AY$629,5,FALSE),0)","v":0},{"$f":"IFERROR(VLOOKUP($A89,Filtro!$A$5:$AY$629,6,FALSE),0)","v":0},{"$f":"IFERROR(VLOOKUP($A89,Filtro!$A$5:$AY$629,7,FALSE),0)","v":3},{"$f":"IFERROR(VLOOKUP($A89,Filtro!$A$5:$AY$629,8,FALSE),0)","v":0},{"$f":"IFERROR(VLOOKUP($A89,Filtro!$A$5:$AY$629,9,FALSE),0)","v":1},{"$f":"IFERROR(VLOOKUP($A89,Filtro!$A$5:$AY$629,10,FALSE),0)","v":0},{"$f":"IFERROR(VLOOKUP($A89,Filtro!$A$5:$AY$629,11,FALSE),0)","v":2},{"$f":"IFERROR(VLOOKUP($A89,Filtro!$A$5:$AY$629,12,FALSE),0)","v":0},{"$f":"IFERROR(VLOOKUP($A89,Filtro!$A$5:$AY$629,13,FALSE),0)","v":0},{"$f":"IFERROR(VLOOKUP($A89,Filtro!$A$5:$AY$629,14,FALSE),0)","v":0},{"$f":"IFERROR(VLOOKUP($A89,Filtro!$A$5:$AY$629,15,FALSE),0)","v":0},{"$f":"IFERROR(VLOOKUP($A89,Filtro!$A$5:$AY$629,16,FALSE),0)","v":0},{"$f":"IFERROR(VLOOKUP($A89,Filtro!$A$5:$AY$629,17,FALSE),0)","v":0},{"$f":"IFERROR(VLOOKUP($A89,Filtro!$A$5:$AY$629,18,FALSE),0)","v":0},{"$f":"IFERROR(VLOOKUP($A89,Filtro!$A$5:$AY$629,19,FALSE),0)","v":0},{"$f":"IFERROR(VLOOKUP($A89,Filtro!$A$5:$AY$629,20,FALSE),0)","v":0},{"$f":"IFERROR(VLOOKUP($A89,Filtro!$A$5:$AY$629,21,FALSE),0)","v":0},{"$f":"IFERROR(VLOOKUP($A89,Filtro!$A$5:$AY$629,22,FALSE),0)","v":0},{"$f":"IFERROR(VLOOKUP($A89,Filtro!$A$5:$AY$629,23,FALSE),0)","v":0},{"$f":"IFERROR(VLOOKUP($A89,Filtro!$A$5:$AY$629,24,FALSE),0)","v":0},{"$f":"IFERROR(VLOOKUP($A89,Filtro!$A$5:$AY$629,25,FALSE),0)","v":0},{"$f":"IFERROR(VLOOKUP($A89,Filtro!$A$5:$AY$629,26,FALSE),0)","v":0},{"$f":"IFERROR(VLOOKUP($A89,Filtro!$A$5:$AY$629,27,FALSE),0)","v":0},{"$f":"IFERROR(VLOOKUP($A89,Filtro!$A$5:$AY$629,28,FALSE),0)","v":0},{"$f":"IFERROR(VLOOKUP($A89,Filtro!$A$5:$AY$629,29,FALSE),0)","v":0},{"$f":"IFERROR(VLOOKUP($A89,Filtro!$A$5:$AY$629,30,FALSE),0)","v":0},{"$f":"IFERROR(VLOOKUP($A89,Filtro!$A$5:$AY$629,31,FALSE),0)","v":0},{"$f":"IFERROR(VLOOKUP($A89,Filtro!$A$5:$AY$629,32,FALSE),0)","v":0},{"$f":"IFERROR(VLOOKUP($A89,Filtro!$A$5:$AY$629,33,FALSE),0)","v":0},{"$f":"IFERROR(VLOOKUP($A89,Filtro!$A$5:$AY$629,34,FALSE),0)","v":0},{"$f":"IFERROR(VLOOKUP($A89,Filtro!$A$5:$AY$629,35,FALSE),0)","v":0},{"$f":"IFERROR(VLOOKUP($A89,Filtro!$A$5:$AY$629,36,FALSE),0)","v":0},{"$f":"IFERROR(VLOOKUP($A89,Filtro!$A$5:$AY$629,37,FALSE),0)","v":0},{"$f":"IFERROR(VLOOKUP($A89,Filtro!$A$5:$AY$629,38,FALSE),0)","v":0},{"$f":"IFERROR(VLOOKUP($A89,Filtro!$A$5:$AY$629,39,FALSE),0)","v":0},0,{"$f":"IFERROR(VLOOKUP($A89,Filtro!$A$5:$AY$629,41,FALSE),0)","v":0},{"$f":"IFERROR(VLOOKUP($A89,Filtro!$A$5:$AY$629,42,FALSE),0)","v":0},{"$f":"IFERROR(VLOOKUP($A89,Filtro!$A$5:$AY$629,43,FALSE),0)","v":0},{"$f":"IFERROR(VLOOKUP($A89,Filtro!$A$5:$AY$629,44,FALSE),0)","v":0},{"$f":"IFERROR(VLOOKUP($A89,Filtro!$A$5:$AY$629,45,FALSE),0)","v":0},{"$f":"IFERROR(VLOOKUP($A89,Filtro!$A$5:$AY$629,46,FALSE),0)","v":0},{"$f":"IFERROR(VLOOKUP($A89,Filtro!$A$5:$AY$629,47,FALSE),0)","v":4},{"$f":"IFERROR(VLOOKUP($A89,Filtro!$A$5:$AY$629,48,FALSE),0)","v":0},{"$f":"IFERROR(VLOOKUP($A89,Filtro!$A$5:$AY$629,49,FALSE),0)","v":0},{"$nulls":37},"","","","","",{"$nulls":3},"","","",null,"","",{"$nulls":6},0,0,0,0,0,{"$nulls":3},0,0,0,null,0,0]
["P6223280",null,"TRASTORNO DE ANSIEDAD DE SEPARACIÓN EN LA INFANCIA",0,{"$f":"+G90+I90+K90","v":0},{"$f":"+H90+J90+L90","v":0},{"$f":"IFERROR(VLOOKUP($A90,Filtro!$A$5:$AY$629,5,FALSE),0)","v":0},{"$f":"IFERROR(VLOOKUP($A90,Filtro!$A$5:$AY$629,6,FALSE),0)","v":0},{"$f":"IFERROR(VLOOKUP($A90,Filtro!$A$5:$AY$629,7,FALSE),0)","v":0},{"$f":"IFERROR(VLOOKUP($A90,Filtro!$A$5:$AY$629,8,FALSE),0)","v":0},{"$f":"IFERROR(VLOOKUP($A90,Filtro!$A$5:$AY$629,9,FALSE),0)","v":0},{"$f":"IFERROR(VLOOKUP($A90,Filtro!$A$5:$AY$629,10,FALSE),0)","v":0},0,0,0,0,0,0,0,0,0,0,0,0,0,0,0,0,0,0,0,0,0,0,0,0,0,0,0,0,{"$f":"IFERROR(VLOOKUP($A90,Filtro!$A$5:$AY$629,39,FALSE),0)","v":0},0,{"$f":"IFERROR(VLOOKUP($A90,Filtro!$A$5:$AY$629,41,FALSE),0)","v":0},{"$f":"IFERROR(VLOOKUP($A90,Filtro!$A$5:$AY$629,42,FALSE),0)","v":0},{"$f":"IFERROR(VLOOKUP($A90,Filtro!$A$5:$AY$629,43,FALSE),0)","v":0},{"$f":"IFERROR(VLOOKUP($A90,Filtro!$A$5:$AY$629,44,FALSE),0)","v":0},{"$f":"IFERROR(VLOOKUP($A90,Filtro!$A$5:$AY$629,45,FALSE),0)","v":0},{"$f":"IFERROR(VLOOKUP($A90,Filtro!$A$5:$AY$629,46,FALSE),0)","v":0},{"$f":"IFERROR(VLOOKUP($A90,Filtro!$A$5:$AY$629,47,FALSE),0)","v":0},{"$f":"IFERROR(VLOOKUP($A90,Filtro!$A$5:$AY$629,48,FALSE),0)","v":0},{"$f":"IFERROR(VLOOKUP($A90,Filtro!$A$5:$AY$629,49,FALSE),0)","v":0},{"$nulls":37},"","","","","",{"$nulls":3},"","","",null,"","",{"$nulls":6},0,0,0,0,0,{"$nulls":3},0,0,0,null,0,0]
["P6223290",null,"OTROS TRASTORNOS DEL COMPORTAMIENTO Y DE LAS EMOCIONES DE COMIENZO HABITUAL EN LA INFANCIA Y ADOLESCENCIA",{"$f":"SUM(E91:F91)","v":97},{"$f":"+G91+I91+K91+M91+O91","v":49},{"$f":"+H91+J91+L91+N91+P91","v":48},{"$f":"IFERROR(VLOOKUP($A91,Filtro!$A$5:$AY$629,5,FALSE),0)","v":0},{"$f":"IFERROR(VLOOKUP($A91,Filtro!$A$5:$AY$629,6,FALSE),0)","v":0},{"$f":"IFERROR(VLOOKUP($A91,Filtro!$A$5:$AY$629,7,FALSE),0)","v":6},{"$f":"IFERROR(VLOOKUP($A91,Filtro!$A$5:$AY$629,8,FALSE),0)","v":3},{"$f":"IFERROR(VLOOKUP($A91,Filtro!$A$5:$AY$629,9,FALSE),0)","v":25},{"$f":"IFERROR(VLOOKUP($A91,Filtro!$A$5:$AY$629,10,FALSE),0)","v":17},{"$f":"IFERROR(VLOOKUP($A91,Filtro!$A$5:$AY$629,11,FALSE),0)","v":18},{"$f":"IFERROR(VLOOKUP($A91,Filtro!$A$5:$AY$629,12,FALSE),0)","v":28},{"$f":"IFERROR(VLOOKUP($A91,Filtro!$A$5:$AY$629,13,FALSE),0)","v":0},{"$f":"IFERROR(VLOOKUP($A91,Filtro!$A$5:$AY$629,14,FALSE),0)","v":0},0,0,0,0,0,0,0,0,0,0,0,0,0,0,0,0,0,0,0,0,0,0,0,0,{"$f":"IFERROR(VLOOKUP($A91,Filtro!$A$5:$AY$629,39,FALSE),0)","v":0},0,{"$f":"IFERROR(VLOOKUP($A91,Filtro!$A$5:$AY$629,41,FALSE),0)","v":2},{"$f":"IFERROR(VLOOKUP($A91,Filtro!$A$5:$AY$629,42,FALSE),0)","v":0},{"$f":"IFERROR(VLOOKUP($A91,Filtro!$A$5:$AY$629,43,FALSE),0)","v":0},{"$f":"IFERROR(VLOOKUP($A91,Filtro!$A$5:$AY$629,44,FALSE),0)","v":0},{"$f":"IFERROR(VLOOKUP($A91,Filtro!$A$5:$AY$629,45,FALSE),0)","v":1},{"$f":"IFERROR(VLOOKUP($A91,Filtro!$A$5:$AY$629,46,FALSE),0)","v":8},{"$f":"IFERROR(VLOOKUP($A91,Filtro!$A$5:$AY$629,47,FALSE),0)","v":29},{"$f":"IFERROR(VLOOKUP($A91,Filtro!$A$5:$AY$629,48,FALSE),0)","v":0},{"$f":"IFERROR(VLOOKUP($A91,Filtro!$A$5:$AY$629,49,FALSE),0)","v":1},{"$nulls":37},"","","","","",{"$nulls":3},"","","",null,"","",{"$nulls":6},0,0,0,0,0,{"$nulls":3},0,0,0,null,0,0]
["P6232100","TRASTORNOS DE ANSIEDAD","TRASTORNO DE ESTRÉS POST TRAUMATICO",99,{"$f":"SUM(G92+I92+K92+M92+O92+Q92+S92+U92+W92+Y92+AA92+AC92+AE92+AG92+AI92+AK92+AM92)","v":14},85,{"$f":"IFERROR(VLOOKUP($A92,Filtro!$A$5:$AY$629,5,FALSE),0)","v":0},{"$f":"IFERROR(VLOOKUP($A92,Filtro!$A$5:$AY$629,6,FALSE),0)","v":1},{"$f":"IFERROR(VLOOKUP($A92,Filtro!$A$5:$AY$629,7,FALSE),0)","v":2},{"$f":"IFERROR(VLOOKUP($A92,Filtro!$A$5:$AY$629,8,FALSE),0)","v":1},{"$f":"IFERROR(VLOOKUP($A92,Filtro!$A$5:$AY$629,9,FALSE),0)","v":0},{"$f":"IFERROR(VLOOKUP($A92,Filtro!$A$5:$AY$629,10,FALSE),0)","v":6},{"$f":"IFERROR(VLOOKUP($A92,Filtro!$A$5:$AY$629,11,FALSE),0)","v":3},{"$f":"IFERROR(VLOOKUP($A92,Filtro!$A$5:$AY$629,12,FALSE),0)","v":16},{"$f":"IFERROR(VLOOKUP($A92,Filtro!$A$5:$AY$629,13,FALSE),0)","v":0},{"$f":"IFERROR(VLOOKUP($A92,Filtro!$A$5:$AY$629,14,FALSE),0)","v":5},{"$f":"IFERROR(VLOOKUP($A92,Filtro!$A$5:$AY$629,15,FALSE),0)","v":3},{"$f":"IFERROR(VLOOKUP($A92,Filtro!$A$5:$AY$629,16,FALSE),0)","v":8},{"$f":"IFERROR(VLOOKUP($A92,Filtro!$A$5:$AY$629,17,FALSE),0)","v":0},{"$f":"IFERROR(VLOOKUP($A92,Filtro!$A$5:$AY$629,18,FALSE),0)","v":12},{"$f":"IFERROR(VLOOKUP($A92,Filtro!$A$5:$AY$629,19,FALSE),0)","v":0},{"$f":"IFERROR(VLOOKUP($A92,Filtro!$A$5:$AY$629,20,FALSE),0)","v":5},{"$f":"IFERROR(VLOOKUP($A92,Filtro!$A$5:$AY$629,21,FALSE),0)","v":2},{"$f":"IFERROR(VLOOKUP($A92,Filtro!$A$5:$AY$629,22,FALSE),0)","v":7},{"$f":"IFERROR(VLOOKUP($A92,Filtro!$A$5:$AY$629,23,FALSE),0)","v":1},{"$f":"IFERROR(VLOOKUP($A92,Filtro!$A$5:$AY$629,24,FALSE),0)","v":6},{"$f":"IFERROR(VLOOKUP($A92,Filtro!$A$5:$AY$629,25,FALSE),0)","v":0},{"$f":"IFERROR(VLOOKUP($A92,Filtro!$A$5:$AY$629,26,FALSE),0)","v":4},{"$f":"IFERROR(VLOOKUP($A92,Filtro!$A$5:$AY$629,27,FALSE),0)","v":1},{"$f":"IFERROR(VLOOKUP($A92,Filtro!$A$5:$AY$629,28,FALSE),0)","v":7},{"$f":"IFERROR(VLOOKUP($A92,Filtro!$A$5:$AY$629,29,FALSE),0)","v":1},{"$f":"IFERROR(VLOOKUP($A92,Filtro!$A$5:$AY$629,30,FALSE),0)","v":4},{"$f":"IFERROR(VLOOKUP($A92,Filtro!$A$5:$AY$629,31,FALSE),0)","v":0},{"$f":"IFERROR(VLOOKUP($A92,Filtro!$A$5:$AY$629,32,FALSE),0)","v":1},{"$f":"IFERROR(VLOOKUP($A92,Filtro!$A$5:$AY$629,33,FALSE),0)","v":1},{"$f":"IFERROR(VLOOKUP($A92,Filtro!$A$5:$AY$629,34,FALSE),0)","v":1},{"$f":"IFERROR(VLOOKUP($A92,Filtro!$A$5:$AY$629,35,FALSE),0)","v":0},{"$f":"IFERROR(VLOOKUP($A92,Filtro!$A$5:$AY$629,36,FALSE),0)","v":0},{"$f":"IFERROR(VLOOKUP($A92,Filtro!$A$5:$AY$629,37,FALSE),0)","v":0},{"$f":"IFERROR(VLOOKUP($A92,Filtro!$A$5:$AY$629,38,FALSE),0)","v":1},{"$f":"IFERROR(VLOOKUP($A92,Filtro!$A$5:$AY$629,39,FALSE),0)","v":0},{"$f":"IFERROR(VLOOKUP($A92,Filtro!$A$5:$AY$629,40,FALSE),0)","v":0},{"$f":"IFERROR(VLOOKUP($A92,Filtro!$A$5:$AY$629,41,FALSE),0)","v":0},{"$f":"IFERROR(VLOOKUP($A92,Filtro!$A$5:$AY$629,42,FALSE),0)","v":0},{"$f":"IFERROR(VLOOKUP($A92,Filtro!$A$5:$AY$629,43,FALSE),0)","v":0},{"$f":"IFERROR(VLOOKUP($A92,Filtro!$A$5:$AY$629,44,FALSE),0)","v":0},{"$f":"IFERROR(VLOOKUP($A92,Filtro!$A$5:$AY$629,45,FALSE),0)","v":0},{"$f":"IFERROR(VLOOKUP($A92,Filtro!$A$5:$AY$629,46,FALSE),0)","v":0},{"$f":"IFERROR(VLOOKUP($A92,Filtro!$A$5:$AY$629,47,FALSE),0)","v":28},{"$f":"IFERROR(VLOOKUP($A92,Filtro!$A$5:$AY$629,48,FALSE),0)","v":0},{"$f":"IFERROR(VLOOKUP($A92,Filtro!$A$5:$AY$629,49,FALSE),0)","v":0},{"$nulls":35},{"$f":"IF($AO92>$F92,\"* La celda 'Gestantes' debe ser menor o igual al Total de Mujeres en control. \",\"\")","v":""},{"$f":"IF($AP92>$F92,\"* La celda 'Madres de Hijos menor de 5 años' debe ser menor o igual al Total de Mujeres en control. \",\"\")","v":""},"","","","","",{"$f":"IF(AND($D92<>0,$AO92=\"\"),\"* No olvide escribir en la celda de 'Gestantes' (Digite CERO si no tiene). \",\"\")","v":""},{"$f":"IF(AND($D92<>0,$AP92=\"\"),\"* No olvide escribir en la celda de 'Madres de Hijos menor de 5 años' (Digite CERO si no tiene). \",\"\")","v":""},null,"","","",null,"","",{"$nulls":4},{"$f":"IF($AO92>$F92,1,0)","v":0},{"$f":"IF($AP92>$F92,1,0)","v":0},0,0,0,0,0,{"$f":"IF(AND($D92<>0,$AO92=\"\"),1,0)","v":0},{"$f":"IF(AND($D92<>0,$AP92=\"\"),1,0)","v":0},null,0,0,0,null,0,0]
["P6241122",null,"TRASTORNO DE PÁNICO  ",11,1,10,{"$f":"IFERROR(VLOOKUP($A93,Filtro!$A$5:$AY$629,5,FALSE),0)","v":0},{"$f":"IFERROR(VLOOKUP($A93,Filtro!$A$5:$AY$629,6,FALSE),0)","v":0},{"$f":"IFERROR(VLOOKUP($A93,Filtro!$A$5:$AY$629,7,FALSE),0)","v":0},{"$f":"IFERROR(VLOOKUP($A93,Filtro!$A$5:$AY$629,8,FALSE),0)","v":0},{"$f":"IFERROR(VLOOKUP($A93,Filtro!$A$5:$AY$629,9,FALSE),0)","v":0},{"$f":"IFERROR(VLOOKUP($A93,Filtro!$A$5:$AY$629,10,FALSE),0)","v":0},{"$f":"IFERROR(VLOOKUP($A93,Filtro!$A$5:$AY$629,11,FALSE),0)","v":0},{"$f":"IFERROR(VLOOKUP($A93,Filtro!$A$5:$AY$629,12,FALSE),0)","v":1},{"$f":"IFERROR(VLOOKUP($A93,Filtro!$A$5:$AY$629,13,FALSE),0)","v":0},{"$f":"IFERROR(VLOOKUP($A93,Filtro!$A$5:$AY$629,14,FALSE),0)","v":1},{"$f":"IFERROR(VLOOKUP($A93,Filtro!$A$5:$AY$629,15,FALSE),0)","v":0},{"$f":"IFERROR(VLOOKUP($A93,Filtro!$A$5:$AY$629,16,FALSE),0)","v":0},{"$f":"IFERROR(VLOOKUP($A93,Filtro!$A$5:$AY$629,17,FALSE),0)","v":1},{"$f":"IFERROR(VLOOKUP($A93,Filtro!$A$5:$AY$629,18,FALSE),0)","v":1},{"$f":"IFERROR(VLOOKUP($A93,Filtro!$A$5:$AY$629,19,FALSE),0)","v":0},{"$f":"IFERROR(VLOOKUP($A93,Filtro!$A$5:$AY$629,20,FALSE),0)","v":0},{"$f":"IFERROR(VLOOKUP($A93,Filtro!$A$5:$AY$629,21,FALSE),0)","v":0},{"$f":"IFERROR(VLOOKUP($A93,Filtro!$A$5:$AY$629,22,FALSE),0)","v":4},{"$f":"IFERROR(VLOOKUP($A93,Filtro!$A$5:$AY$629,23,FALSE),0)","v":0},{"$f":"IFERROR(VLOOKUP($A93,Filtro!$A$5:$AY$629,24,FALSE),0)","v":0},{"$f":"IFERROR(VLOOKUP($A93,Filtro!$A$5:$AY$629,25,FALSE),0)","v":0},{"$f":"IFERROR(VLOOKUP($A93,Filtro!$A$5:$AY$629,26,FALSE),0)","v":0},{"$f":"IFERROR(VLOOKUP($A93,Filtro!$A$5:$AY$629,27,FALSE),0)","v":0},{"$f":"IFERROR(VLOOKUP($A93,Filtro!$A$5:$AY$629,28,FALSE),0)","v":1},{"$f":"IFERROR(VLOOKUP($A93,Filtro!$A$5:$AY$629,29,FALSE),0)","v":0},{"$f":"IFERROR(VLOOKUP($A93,Filtro!$A$5:$AY$629,30,FALSE),0)","v":0},{"$f":"IFERROR(VLOOKUP($A93,Filtro!$A$5:$AY$629,31,FALSE),0)","v":0},{"$f":"IFERROR(VLOOKUP($A93,Filtro!$A$5:$AY$629,32,FALSE),0)","v":2},{"$f":"IFERROR(VLOOKUP($A93,Filtro!$A$5:$AY$629,33,FALSE),0)","v":0},{"$f":"IFERROR(VLOOKUP($A93,Filtro!$A$5:$AY$629,34,FALSE),0)","v":0},{"$f":"IFERROR(VLOOKUP($A93,Filtro!$A$5:$AY$629,35,FALSE),0)","v":0},{"$f":"IFERROR(VLOOKUP($A93,Filtro!$A$5:$AY$629,36,FALSE),0)","v":0},{"$f":"IFERROR(VLOOKUP($A93,Filtro!$A$5:$AY$629,37,FALSE),0)","v":0},{"$f":"IFERROR(VLOOKUP($A93,Filtro!$A$5:$AY$629,38,FALSE),0)","v":0},{"$f":"IFERROR(VLOOKUP($A93,Filtro!$A$5:$AY$629,39,FALSE),0)","v":0},{"$f":"IFERROR(VLOOKUP($A93,Filtro!$A$5:$AY$629,40,FALSE),0)","v":0},{"$f":"IFERROR(VLOOKUP($A93,Filtro!$A$5:$AY$629,41,FALSE),0)","v":0},{"$f":"IFERROR(VLOOKUP($A93,Filtro!$A$5:$AY$629,42,FALSE),0)","v":0},{"$f":"IFERROR(VLOOKUP($A93,Filtro!$A$5:$AY$629,43,FALSE),0)","v":0},{"$f":"IFERROR(VLOOKUP($A93,Filtro!$A$5:$AY$629,44,FALSE),0)","v":0},{"$f":"IFERROR(VLOOKUP($A93,Filtro!$A$5:$AY$629,45,FALSE),0)","v":0},{"$f":"IFERROR(VLOOKUP($A93,Filtro!$A$5:$AY$629,46,FALSE),0)","v":0},{"$f":"IFERROR(VLOOKUP($A93,Filtro!$A$5:$AY$629,47,FALSE),0)","v":3},{"$f":"IFERROR(VLOOKUP($A93,Filtro!$A$5:$AY$629,48,FALSE),0)","v":0},{"$f":"IFERROR(VLOOKUP($A93,Filtro!$A$5:$AY$629,49,FALSE),0)","v":0},{"$nulls":35},"","","","","","","","","",null,"","","",null,"","",{"$nulls":4},0,0,0,0,0,0,0,0,0,null,0,0,0,null,0,0]
["P6232400",null,"FOBIAS SOCIALES",5,4,1,{"$f":"IFERROR(VLOOKUP($A94,Filtro!$A$5:$AY$629,5,FALSE),0)","v":0},{"$f":"IFERROR(VLOOKUP($A94,Filtro!$A$5:$AY$629,6,FALSE),0)","v":0},{"$f":"IFERROR(VLOOKUP($A94,Filtro!$A$5:$AY$629,7,FALSE),0)","v":0},{"$f":"IFERROR(VLOOKUP($A94,Filtro!$A$5:$AY$629,8,FALSE),0)","v":0},{"$f":"IFERROR(VLOOKUP($A94,Filtro!$A$5:$AY$629,9,FALSE),0)","v":1},{"$f":"IFERROR(VLOOKUP($A94,Filtro!$A$5:$AY$629,10,FALSE),0)","v":0},{"$f":"IFERROR(VLOOKUP($A94,Filtro!$A$5:$AY$629,11,FALSE),0)","v":0},{"$f":"IFERROR(VLOOKUP($A94,Filtro!$A$5:$AY$629,12,FALSE),0)","v":0},{"$f":"IFERROR(VLOOKUP($A94,Filtro!$A$5:$AY$629,13,FALSE),0)","v":1},{"$f":"IFERROR(VLOOKUP($A94,Filtro!$A$5:$AY$629,14,FALSE),0)","v":1},{"$f":"IFERROR(VLOOKUP($A94,Filtro!$A$5:$AY$629,15,FALSE),0)","v":1},{"$f":"IFERROR(VLOOKUP($A94,Filtro!$A$5:$AY$629,16,FALSE),0)","v":0},{"$f":"IFERROR(VLOOKUP($A94,Filtro!$A$5:$AY$629,17,FALSE),0)","v":1},{"$f":"IFERROR(VLOOKUP($A94,Filtro!$A$5:$AY$629,18,FALSE),0)","v":0},{"$f":"IFERROR(VLOOKUP($A94,Filtro!$A$5:$AY$629,19,FALSE),0)","v":0},{"$f":"IFERROR(VLOOKUP($A94,Filtro!$A$5:$AY$629,20,FALSE),0)","v":0},{"$f":"IFERROR(VLOOKUP($A94,Filtro!$A$5:$AY$629,21,FALSE),0)","v":0},{"$f":"IFERROR(VLOOKUP($A94,Filtro!$A$5:$AY$629,22,FALSE),0)","v":0},{"$f":"IFERROR(VLOOKUP($A94,Filtro!$A$5:$AY$629,23,FALSE),0)","v":0},{"$f":"IFERROR(VLOOKUP($A94,Filtro!$A$5:$AY$629,24,FALSE),0)","v":0},{"$f":"IFERROR(VLOOKUP($A94,Filtro!$A$5:$AY$629,25,FALSE),0)","v":0},{"$f":"IFERROR(VLOOKUP($A94,Filtro!$A$5:$AY$629,26,FALSE),0)","v":0},{"$f":"IFERROR(VLOOKUP($A94,Filtro!$A$5:$AY$629,27,FALSE),0)","v":0},{"$f":"IFERROR(VLOOKUP($A94,Filtro!$A$5:$AY$629,28,FALSE),0)","v":0},{"$f":"IFERROR(VLOOKUP($A94,Filtro!$A$5:$AY$629,29,FALSE),0)","v":0},{"$f":"IFERROR(VLOOKUP($A94,Filtro!$A$5:$AY$629,30,FALSE),0)","v":0},{"$f":"IFERROR(VLOOKUP($A94,Filtro!$A$5:$AY$629,31,FALSE),0)","v":0},{"$f":"IFERROR(VLOOKUP($A94,Filtro!$A$5:$AY$629,32,FALSE),0)","v":0},{"$f":"IFERROR(VLOOKUP($A94,Filtro!$A$5:$AY$629,33,FALSE),0)","v":0},{"$f":"IFERROR(VLOOKUP($A94,Filtro!$A$5:$AY$629,34,FALSE),0)","v":0},{"$f":"IFERROR(VLOOKUP($A94,Filtro!$A$5:$AY$629,35,FALSE),0)","v":0},{"$f":"IFERROR(VLOOKUP($A94,Filtro!$A$5:$AY$629,36,FALSE),0)","v":0},{"$f":"IFERROR(VLOOKUP($A94,Filtro!$A$5:$AY$629,37,FALSE),0)","v":0},{"$f":"IFERROR(VLOOKUP($A94,Filtro!$A$5:$AY$629,38,FALSE),0)","v":0},{"$f":"IFERROR(VLOOKUP($A94,Filtro!$A$5:$AY$629,39,FALSE),0)","v":0},{"$f":"IFERROR(VLOOKUP($A94,Filtro!$A$5:$AY$629,40,FALSE),0)","v":0},{"$f":"IFERROR(VLOOKUP($A94,Filtro!$A$5:$AY$629,41,FALSE),0)","v":0},{"$f":"IFERROR(VLOOKUP($A94,Filtro!$A$5:$AY$629,42,FALSE),0)","v":0},{"$f":"IFERROR(VLOOKUP($A94,Filtro!$A$5:$AY$629,43,FALSE),0)","v":0},{"$f":"IFERROR(VLOOKUP($A94,Filtro!$A$5:$AY$629,44,FALSE),0)","v":0},{"$f":"IFERROR(VLOOKUP($A94,Filtro!$A$5:$AY$629,45,FALSE),0)","v":0},{"$f":"IFERROR(VLOOKUP($A94,Filtro!$A$5:$AY$629,46,FALSE),0)","v":1},{"$f":"IFERROR(VLOOKUP($A94,Filtro!$A$5:$AY$629,47,FALSE),0)","v":4},{"$f":"IFERROR(VLOOKUP($A94,Filtro!$A$5:$AY$629,48,FALSE),0)","v":0},{"$f":"IFERROR(VLOOKUP($A94,Filtro!$A$5:$AY$629,49,FALSE),0)","v":0},{"$nulls":35},"","","","","","","","","",null,"","","",null,"","",{"$nulls":4},0,0,0,0,0,0,0,0,0,null,0,0,0,null,0,0]
["P6232500",null,"TRASTORNOS DE ANSIEDAD GENERALIZADA",33,8,25,{"$f":"IFERROR(VLOOKUP($A95,Filtro!$A$5:$AY$629,5,FALSE),0)","v":0},{"$f":"IFERROR(VLOOKUP($A95,Filtro!$A$5:$AY$629,6,FALSE),0)","v":0},{"$f":"IFERROR(VLOOKUP($A95,Filtro!$A$5:$AY$629,7,FALSE),0)","v":0},{"$f":"IFERROR(VLOOKUP($A95,Filtro!$A$5:$AY$629,8,FALSE),0)","v":0},{"$f":"IFERROR(VLOOKUP($A95,Filtro!$A$5:$AY$629,9,FALSE),0)","v":1},{"$f":"IFERROR(VLOOKUP($A95,Filtro!$A$5:$AY$629,10,FALSE),0)","v":2},{"$f":"IFERROR(VLOOKUP($A95,Filtro!$A$5:$AY$629,11,FALSE),0)","v":2},{"$f":"IFERROR(VLOOKUP($A95,Filtro!$A$5:$AY$629,12,FALSE),0)","v":6},{"$f":"IFERROR(VLOOKUP($A95,Filtro!$A$5:$AY$629,13,FALSE),0)","v":1},{"$f":"IFERROR(VLOOKUP($A95,Filtro!$A$5:$AY$629,14,FALSE),0)","v":3},{"$f":"IFERROR(VLOOKUP($A95,Filtro!$A$5:$AY$629,15,FALSE),0)","v":2},{"$f":"IFERROR(VLOOKUP($A95,Filtro!$A$5:$AY$629,16,FALSE),0)","v":3},{"$f":"IFERROR(VLOOKUP($A95,Filtro!$A$5:$AY$629,17,FALSE),0)","v":0},{"$f":"IFERROR(VLOOKUP($A95,Filtro!$A$5:$AY$629,18,FALSE),0)","v":2},{"$f":"IFERROR(VLOOKUP($A95,Filtro!$A$5:$AY$629,19,FALSE),0)","v":0},{"$f":"IFERROR(VLOOKUP($A95,Filtro!$A$5:$AY$629,20,FALSE),0)","v":1},{"$f":"IFERROR(VLOOKUP($A95,Filtro!$A$5:$AY$629,21,FALSE),0)","v":1},{"$f":"IFERROR(VLOOKUP($A95,Filtro!$A$5:$AY$629,22,FALSE),0)","v":0},{"$f":"IFERROR(VLOOKUP($A95,Filtro!$A$5:$AY$629,23,FALSE),0)","v":0},{"$f":"IFERROR(VLOOKUP($A95,Filtro!$A$5:$AY$629,24,FALSE),0)","v":1},{"$f":"IFERROR(VLOOKUP($A95,Filtro!$A$5:$AY$629,25,FALSE),0)","v":0},{"$f":"IFERROR(VLOOKUP($A95,Filtro!$A$5:$AY$629,26,FALSE),0)","v":1},{"$f":"IFERROR(VLOOKUP($A95,Filtro!$A$5:$AY$629,27,FALSE),0)","v":0},{"$f":"IFERROR(VLOOKUP($A95,Filtro!$A$5:$AY$629,28,FALSE),0)","v":3},{"$f":"IFERROR(VLOOKUP($A95,Filtro!$A$5:$AY$629,29,FALSE),0)","v":0},{"$f":"IFERROR(VLOOKUP($A95,Filtro!$A$5:$AY$629,30,FALSE),0)","v":1},{"$f":"IFERROR(VLOOKUP($A95,Filtro!$A$5:$AY$629,31,FALSE),0)","v":0},{"$f":"IFERROR(VLOOKUP($A95,Filtro!$A$5:$AY$629,32,FALSE),0)","v":0},{"$f":"IFERROR(VLOOKUP($A95,Filtro!$A$5:$AY$629,33,FALSE),0)","v":0},{"$f":"IFERROR(VLOOKUP($A95,Filtro!$A$5:$AY$629,34,FALSE),0)","v":2},{"$f":"IFERROR(VLOOKUP($A95,Filtro!$A$5:$AY$629,35,FALSE),0)","v":0},{"$f":"IFERROR(VLOOKUP($A95,Filtro!$A$5:$AY$629,36,FALSE),0)","v":0},{"$f":"IFERROR(VLOOKUP($A95,Filtro!$A$5:$AY$629,37,FALSE),0)","v":1},{"$f":"IFERROR(VLOOKUP($A95,Filtro!$A$5:$AY$629,38,FALSE),0)","v":0},{"$f":"IFERROR(VLOOKUP($A95,Filtro!$A$5:$AY$629,39,FALSE),0)","v":0},{"$f":"IFERROR(VLOOKUP($A95,Filtro!$A$5:$AY$629,40,FALSE),0)","v":0},{"$f":"IFERROR(VLOOKUP($A95,Filtro!$A$5:$AY$629,41,FALSE),0)","v":0},{"$f":"IFERROR(VLOOKUP($A95,Filtro!$A$5:$AY$629,42,FALSE),0)","v":0},{"$f":"IFERROR(VLOOKUP($A95,Filtro!$A$5:$AY$629,43,FALSE),0)","v":0},{"$f":"IFERROR(VLOOKUP($A95,Filtro!$A$5:$AY$629,44,FALSE),0)","v":0},{"$f":"IFERROR(VLOOKUP($A95,Filtro!$A$5:$AY$629,45,FALSE),0)","v":0},{"$f":"IFERROR(VLOOKUP($A95,Filtro!$A$5:$AY$629,46,FALSE),0)","v":0},{"$f":"IFERROR(VLOOKUP($A95,Filtro!$A$5:$AY$629,47,FALSE),0)","v":6},{"$f":"IFERROR(VLOOKUP($A95,Filtro!$A$5:$AY$629,48,FALSE),0)","v":0},{"$f":"IFERROR(VLOOKUP($A95,Filtro!$A$5:$AY$629,49,FALSE),0)","v":0},{"$nulls":35},"","","","","","","","","",null,"","","",null,"","",{"$nulls":4},0,0,0,0,0,0,0,0,0,null,0,0,0,null,0,0]
["P6232600",null,"OTROS TRASTORNOS DE ANSIEDAD",85,22,63,{"$f":"IFERROR(VLOOKUP($A96,Filtro!$A$5:$AY$629,5,FALSE),0)","v":0},{"$f":"IFERROR(VLOOKUP($A96,Filtro!$A$5:$AY$629,6,FALSE),0)","v":0},{"$f":"IFERROR(VLOOKUP($A96,Filtro!$A$5:$AY$629,7,FALSE),0)","v":0},{"$f":"IFERROR(VLOOKUP($A96,Filtro!$A$5:$AY$629,8,FALSE),0)","v":3},{"$f":"IFERROR(VLOOKUP($A96,Filtro!$A$5:$AY$629,9,FALSE),0)","v":4},{"$f":"IFERROR(VLOOKUP($A96,Filtro!$A$5:$AY$629,10,FALSE),0)","v":5},{"$f":"IFERROR(VLOOKUP($A96,Filtro!$A$5:$AY$629,11,FALSE),0)","v":4},{"$f":"IFERROR(VLOOKUP($A96,Filtro!$A$5:$AY$629,12,FALSE),0)","v":8},{"$f":"IFERROR(VLOOKUP($A96,Filtro!$A$5:$AY$629,13,FALSE),0)","v":0},{"$f":"IFERROR(VLOOKUP($A96,Filtro!$A$5:$AY$629,14,FALSE),0)","v":3},{"$f":"IFERROR(VLOOKUP($A96,Filtro!$A$5:$AY$629,15,FALSE),0)","v":5},{"$f":"IFERROR(VLOOKUP($A96,Filtro!$A$5:$AY$629,16,FALSE),0)","v":8},{"$f":"IFERROR(VLOOKUP($A96,Filtro!$A$5:$AY$629,17,FALSE),0)","v":2},{"$f":"IFERROR(VLOOKUP($A96,Filtro!$A$5:$AY$629,18,FALSE),0)","v":7},{"$f":"IFERROR(VLOOKUP($A96,Filtro!$A$5:$AY$629,19,FALSE),0)","v":1},{"$f":"IFERROR(VLOOKUP($A96,Filtro!$A$5:$AY$629,20,FALSE),0)","v":4},{"$f":"IFERROR(VLOOKUP($A96,Filtro!$A$5:$AY$629,21,FALSE),0)","v":1},{"$f":"IFERROR(VLOOKUP($A96,Filtro!$A$5:$AY$629,22,FALSE),0)","v":2},{"$f":"IFERROR(VLOOKUP($A96,Filtro!$A$5:$AY$629,23,FALSE),0)","v":2},{"$f":"IFERROR(VLOOKUP($A96,Filtro!$A$5:$AY$629,24,FALSE),0)","v":5},{"$f":"IFERROR(VLOOKUP($A96,Filtro!$A$5:$AY$629,25,FALSE),0)","v":1},{"$f":"IFERROR(VLOOKUP($A96,Filtro!$A$5:$AY$629,26,FALSE),0)","v":3},{"$f":"IFERROR(VLOOKUP($A96,Filtro!$A$5:$AY$629,27,FALSE),0)","v":0},{"$f":"IFERROR(VLOOKUP($A96,Filtro!$A$5:$AY$629,28,FALSE),0)","v":7},{"$f":"IFERROR(VLOOKUP($A96,Filtro!$A$5:$AY$629,29,FALSE),0)","v":1},{"$f":"IFERROR(VLOOKUP($A96,Filtro!$A$5:$AY$629,30,FALSE),0)","v":4},{"$f":"IFERROR(VLOOKUP($A96,Filtro!$A$5:$AY$629,31,FALSE),0)","v":1},{"$f":"IFERROR(VLOOKUP($A96,Filtro!$A$5:$AY$629,32,FALSE),0)","v":1},{"$f":"IFERROR(VLOOKUP($A96,Filtro!$A$5:$AY$629,33,FALSE),0)","v":0},{"$f":"IFERROR(VLOOKUP($A96,Filtro!$A$5:$AY$629,34,FALSE),0)","v":3},{"$f":"IFERROR(VLOOKUP($A96,Filtro!$A$5:$AY$629,35,FALSE),0)","v":0},{"$f":"IFERROR(VLOOKUP($A96,Filtro!$A$5:$AY$629,36,FALSE),0)","v":0},{"$f":"IFERROR(VLOOKUP($A96,Filtro!$A$5:$AY$629,37,FALSE),0)","v":0},{"$f":"IFERROR(VLOOKUP($A96,Filtro!$A$5:$AY$629,38,FALSE),0)","v":0},{"$f":"IFERROR(VLOOKUP($A96,Filtro!$A$5:$AY$629,39,FALSE),0)","v":0},{"$f":"IFERROR(VLOOKUP($A96,Filtro!$A$5:$AY$629,40,FALSE),0)","v":0},{"$f":"IFERROR(VLOOKUP($A96,Filtro!$A$5:$AY$629,41,FALSE),0)","v":1},{"$f":"IFERROR(VLOOKUP($A96,Filtro!$A$5:$AY$629,42,FALSE),0)","v":0},{"$f":"IFERROR(VLOOKUP($A96,Filtro!$A$5:$AY$629,43,FALSE),0)","v":0},{"$f":"IFERROR(VLOOKUP($A96,Filtro!$A$5:$AY$629,44,FALSE),0)","v":0},{"$f":"IFERROR(VLOOKUP($A96,Filtro!$A$5:$AY$629,45,FALSE),0)","v":0},{"$f":"IFERROR(VLOOKUP($A96,Filtro!$A$5:$AY$629,46,FALSE),0)","v":0},{"$f":"IFERROR(VLOOKUP($A96,Filtro!$A$5:$AY$629,47,FALSE),0)","v":30},{"$f":"IFERROR(VLOOKUP($A96,Filtro!$A$5:$AY$629,48,FALSE),0)","v":0},{"$f":"IFERROR(VLOOKUP($A96,Filtro!$A$5:$AY$629,49,FALSE),0)","v":0},{"$nulls":35},"","","","","","","","","",null,"","","",null,"","",{"$nulls":4},0,0,0,0,0,0,0,0,0,null,0,0,0,null,0,0]
["P6223310","DEMENCIAS (INCLUYE ALZHEIMER)","LEVE",{"$f":"SUM(E97:F97)","v":25},{"$f":"+G97+I97+K97+M97+O97+Q97+S97+U97+W97+Y97+AA97+AC97+AE97+AG97+AI97+AK97+AM97","v":8},{"$f":"+H97+J97+L97+N97+P97+R97+T97+V97+X97+Z97+AB97+AD97+AF97+AH97+AJ97+AL97+AN97","v":17},{"$f":"IFERROR(VLOOKUP($A97,Filtro!$A$5:$AY$629,5,FALSE),0)","v":0},{"$f":"IFERROR(VLOOKUP($A97,Filtro!$A$5:$AY$629,6,FALSE),0)","v":0},{"$f":"IFERROR(VLOOKUP($A97,Filtro!$A$5:$AY$629,7,FALSE),0)","v":0},{"$f":"IFERROR(VLOOKUP($A97,Filtro!$A$5:$AY$629,8,FALSE),0)","v":0},{"$f":"IFERROR(VLOOKUP($A97,Filtro!$A$5:$AY$629,9,FALSE),0)","v":0},{"$f":"IFERROR(VLOOKUP($A97,Filtro!$A$5:$AY$629,10,FALSE),0)","v":0},{"$f":"IFERROR(VLOOKUP($A97,Filtro!$A$5:$AY$629,11,FALSE),0)","v":0},{"$f":"IFERROR(VLOOKUP($A97,Filtro!$A$5:$AY$629,12,FALSE),0)","v":0},{"$f":"IFERROR(VLOOKUP($A97,Filtro!$A$5:$AY$629,13,FALSE),0)","v":0},{"$f":"IFERROR(VLOOKUP($A97,Filtro!$A$5:$AY$629,14,FALSE),0)","v":0},{"$f":"IFERROR(VLOOKUP($A97,Filtro!$A$5:$AY$629,15,FALSE),0)","v":0},{"$f":"IFERROR(VLOOKUP($A97,Filtro!$A$5:$AY$629,16,FALSE),0)","v":0},{"$f":"IFERROR(VLOOKUP($A97,Filtro!$A$5:$AY$629,17,FALSE),0)","v":0},{"$f":"IFERROR(VLOOKUP($A97,Filtro!$A$5:$AY$629,18,FALSE),0)","v":0},{"$f":"IFERROR(VLOOKUP($A97,Filtro!$A$5:$AY$629,19,FALSE),0)","v":0},{"$f":"IFERROR(VLOOKUP($A97,Filtro!$A$5:$AY$629,20,FALSE),0)","v":0},{"$f":"IFERROR(VLOOKUP($A97,Filtro!$A$5:$AY$629,21,FALSE),0)","v":0},{"$f":"IFERROR(VLOOKUP($A97,Filtro!$A$5:$AY$629,22,FALSE),0)","v":0},{"$f":"IFERROR(VLOOKUP($A97,Filtro!$A$5:$AY$629,23,FALSE),0)","v":1},{"$f":"IFERROR(VLOOKUP($A97,Filtro!$A$5:$AY$629,24,FALSE),0)","v":0},{"$f":"IFERROR(VLOOKUP($A97,Filtro!$A$5:$AY$629,25,FALSE),0)","v":0},{"$f":"IFERROR(VLOOKUP($A97,Filtro!$A$5:$AY$629,26,FALSE),0)","v":1},{"$f":"IFERROR(VLOOKUP($A97,Filtro!$A$5:$AY$629,27,FALSE),0)","v":0},{"$f":"IFERROR(VLOOKUP($A97,Filtro!$A$5:$AY$629,28,FALSE),0)","v":1},{"$f":"IFERROR(VLOOKUP($A97,Filtro!$A$5:$AY$629,29,FALSE),0)","v":0},{"$f":"IFERROR(VLOOKUP($A97,Filtro!$A$5:$AY$629,30,FALSE),0)","v":1},{"$f":"IFERROR(VLOOKUP($A97,Filtro!$A$5:$AY$629,31,FALSE),0)","v":1},{"$f":"IFERROR(VLOOKUP($A97,Filtro!$A$5:$AY$629,32,FALSE),0)","v":1},{"$f":"IFERROR(VLOOKUP($A97,Filtro!$A$5:$AY$629,33,FALSE),0)","v":1},{"$f":"IFERROR(VLOOKUP($A97,Filtro!$A$5:$AY$629,34,FALSE),0)","v":1},{"$f":"IFERROR(VLOOKUP($A97,Filtro!$A$5:$AY$629,35,FALSE),0)","v":2},{"$f":"IFERROR(VLOOKUP($A97,Filtro!$A$5:$AY$629,36,FALSE),0)","v":4},{"$f":"IFERROR(VLOOKUP($A97,Filtro!$A$5:$AY$629,37,FALSE),0)","v":3},{"$f":"IFERROR(VLOOKUP($A97,Filtro!$A$5:$AY$629,38,FALSE),0)","v":8},0,0,{"$f":"IFERROR(VLOOKUP($A97,Filtro!$A$5:$AY$629,41,FALSE),0)","v":0},{"$f":"IFERROR(VLOOKUP($A97,Filtro!$A$5:$AY$629,42,FALSE),0)","v":0},{"$f":"IFERROR(VLOOKUP($A97,Filtro!$A$5:$AY$629,43,FALSE),0)","v":0},{"$f":"IFERROR(VLOOKUP($A97,Filtro!$A$5:$AY$629,44,FALSE),0)","v":0},{"$f":"IFERROR(VLOOKUP($A97,Filtro!$A$5:$AY$629,45,FALSE),0)","v":0},{"$f":"IFERROR(VLOOKUP($A97,Filtro!$A$5:$AY$629,46,FALSE),0)","v":0},{"$f":"IFERROR(VLOOKUP($A97,Filtro!$A$5:$AY$629,47,FALSE),0)","v":2},{"$f":"IFERROR(VLOOKUP($A97,Filtro!$A$5:$AY$629,48,FALSE),0)","v":0},{"$f":"IFERROR(VLOOKUP($A97,Filtro!$A$5:$AY$629,49,FALSE),0)","v":0},{"$nulls":35},"","","","","","","",{"$nulls":13},0,0,0,0,0,0,0,{"$nulls":3},0,0,0,null,0,0]
["P6230400",null,"MODERADO",25,9,16,{"$f":"IFERROR(VLOOKUP($A98,Filtro!$A$5:$AY$629,5,FALSE),0)","v":0},{"$f":"IFERROR(VLOOKUP($A98,Filtro!$A$5:$AY$629,6,FALSE),0)","v":0},{"$f":"IFERROR(VLOOKUP($A98,Filtro!$A$5:$AY$629,7,FALSE),0)","v":0},{"$f":"IFERROR(VLOOKUP($A98,Filtro!$A$5:$AY$629,8,FALSE),0)","v":0},{"$f":"IFERROR(VLOOKUP($A98,Filtro!$A$5:$AY$629,9,FALSE),0)","v":0},{"$f":"IFERROR(VLOOKUP($A98,Filtro!$A$5:$AY$629,10,FALSE),0)","v":0},{"$f":"IFERROR(VLOOKUP($A98,Filtro!$A$5:$AY$629,11,FALSE),0)","v":0},{"$f":"IFERROR(VLOOKUP($A98,Filtro!$A$5:$AY$629,12,FALSE),0)","v":0},{"$f":"IFERROR(VLOOKUP($A98,Filtro!$A$5:$AY$629,13,FALSE),0)","v":0},{"$f":"IFERROR(VLOOKUP($A98,Filtro!$A$5:$AY$629,14,FALSE),0)","v":0},{"$f":"IFERROR(VLOOKUP($A98,Filtro!$A$5:$AY$629,15,FALSE),0)","v":1},{"$f":"IFERROR(VLOOKUP($A98,Filtro!$A$5:$AY$629,16,FALSE),0)","v":0},{"$f":"IFERROR(VLOOKUP($A98,Filtro!$A$5:$AY$629,17,FALSE),0)","v":0},{"$f":"IFERROR(VLOOKUP($A98,Filtro!$A$5:$AY$629,18,FALSE),0)","v":0},{"$f":"IFERROR(VLOOKUP($A98,Filtro!$A$5:$AY$629,19,FALSE),0)","v":0},{"$f":"IFERROR(VLOOKUP($A98,Filtro!$A$5:$AY$629,20,FALSE),0)","v":0},{"$f":"IFERROR(VLOOKUP($A98,Filtro!$A$5:$AY$629,21,FALSE),0)","v":0},{"$f":"IFERROR(VLOOKUP($A98,Filtro!$A$5:$AY$629,22,FALSE),0)","v":0},{"$f":"IFERROR(VLOOKUP($A98,Filtro!$A$5:$AY$629,23,FALSE),0)","v":0},{"$f":"IFERROR(VLOOKUP($A98,Filtro!$A$5:$AY$629,24,FALSE),0)","v":0},{"$f":"IFERROR(VLOOKUP($A98,Filtro!$A$5:$AY$629,25,FALSE),0)","v":0},{"$f":"IFERROR(VLOOKUP($A98,Filtro!$A$5:$AY$629,26,FALSE),0)","v":0},{"$f":"IFERROR(VLOOKUP($A98,Filtro!$A$5:$AY$629,27,FALSE),0)","v":0},{"$f":"IFERROR(VLOOKUP($A98,Filtro!$A$5:$AY$629,28,FALSE),0)","v":0},{"$f":"IFERROR(VLOOKUP($A98,Filtro!$A$5:$AY$629,29,FALSE),0)","v":1},{"$f":"IFERROR(VLOOKUP($A98,Filtro!$A$5:$AY$629,30,FALSE),0)","v":0},{"$f":"IFERROR(VLOOKUP($A98,Filtro!$A$5:$AY$629,31,FALSE),0)","v":0},{"$f":"IFERROR(VLOOKUP($A98,Filtro!$A$5:$AY$629,32,FALSE),0)","v":2},{"$f":"IFERROR(VLOOKUP($A98,Filtro!$A$5:$AY$629,33,FALSE),0)","v":3},{"$f":"IFERROR(VLOOKUP($A98,Filtro!$A$5:$AY$629,34,FALSE),0)","v":1},{"$f":"IFERROR(VLOOKUP($A98,Filtro!$A$5:$AY$629,35,FALSE),0)","v":2},{"$f":"IFERROR(VLOOKUP($A98,Filtro!$A$5:$AY$629,36,FALSE),0)","v":3},{"$f":"IFERROR(VLOOKUP($A98,Filtro!$A$5:$AY$629,37,FALSE),0)","v":2},{"$f":"IFERROR(VLOOKUP($A98,Filtro!$A$5:$AY$629,38,FALSE),0)","v":10},0,0,{"$f":"IFERROR(VLOOKUP($A98,Filtro!$A$5:$AY$629,41,FALSE),0)","v":0},{"$f":"IFERROR(VLOOKUP($A98,Filtro!$A$5:$AY$629,42,FALSE),0)","v":0},{"$f":"IFERROR(VLOOKUP($A98,Filtro!$A$5:$AY$629,43,FALSE),0)","v":0},{"$f":"IFERROR(VLOOKUP($A98,Filtro!$A$5:$AY$629,44,FALSE),0)","v":0},{"$f":"IFERROR(VLOOKUP($A98,Filtro!$A$5:$AY$629,45,FALSE),0)","v":0},{"$f":"IFERROR(VLOOKUP($A98,Filtro!$A$5:$AY$629,46,FALSE),0)","v":0},{"$f":"IFERROR(VLOOKUP($A98,Filtro!$A$5:$AY$629,47,FALSE),0)","v":1},{"$f":"IFERROR(VLOOKUP($A98,Filtro!$A$5:$AY$629,48,FALSE),0)","v":0},{"$f":"IFERROR(VLOOKUP($A98,Filtro!$A$5:$AY$629,49,FALSE),0)","v":0},{"$nulls":35},"","","","","","","",{"$nulls":7},{"$f":"IF($AW98>$D98,\"* La celda 'Plan Cuidado Integral Elaborado' debe ser menor o igual al Total de Personas en control. \",\"\")","v":""},{"$f":"IF(AND($D98<>0,$AW98=\"\"),\"* No olvide escribir en las celdas de 'Plan Cuidado Integral Elaborado' (Digite CERO si no tiene). \",\"\")","v":""},{"$nulls":4},0,0,0,0,0,0,0,{"$nulls":3},0,0,0,null,0,0]
["P6230500",null,"AVANZADO",16,5,11,{"$f":"IFERROR(VLOOKUP($A99,Filtro!$A$5:$AY$629,5,FALSE),0)","v":0},{"$f":"IFERROR(VLOOKUP($A99,Filtro!$A$5:$AY$629,6,FALSE),0)","v":0},{"$f":"IFERROR(VLOOKUP($A99,Filtro!$A$5:$AY$629,7,FALSE),0)","v":0},{"$f":"IFERROR(VLOOKUP($A99,Filtro!$A$5:$AY$629,8,FALSE),0)","v":0},{"$f":"IFERROR(VLOOKUP($A99,Filtro!$A$5:$AY$629,9,FALSE),0)","v":0},{"$f":"IFERROR(VLOOKUP($A99,Filtro!$A$5:$AY$629,10,FALSE),0)","v":0},{"$f":"IFERROR(VLOOKUP($A99,Filtro!$A$5:$AY$629,11,FALSE),0)","v":0},{"$f":"IFERROR(VLOOKUP($A99,Filtro!$A$5:$AY$629,12,FALSE),0)","v":0},{"$f":"IFERROR(VLOOKUP($A99,Filtro!$A$5:$AY$629,13,FALSE),0)","v":0},{"$f":"IFERROR(VLOOKUP($A99,Filtro!$A$5:$AY$629,14,FALSE),0)","v":0},{"$f":"IFERROR(VLOOKUP($A99,Filtro!$A$5:$AY$629,15,FALSE),0)","v":0},{"$f":"IFERROR(VLOOKUP($A99,Filtro!$A$5:$AY$629,16,FALSE),0)","v":0},{"$f":"IFERROR(VLOOKUP($A99,Filtro!$A$5:$AY$629,17,FALSE),0)","v":0},{"$f":"IFERROR(VLOOKUP($A99,Filtro!$A$5:$AY$629,18,FALSE),0)","v":0},{"$f":"IFERROR(VLOOKUP($A99,Filtro!$A$5:$AY$629,19,FALSE),0)","v":0},{"$f":"IFERROR(VLOOKUP($A99,Filtro!$A$5:$AY$629,20,FALSE),0)","v":0},{"$f":"IFERROR(VLOOKUP($A99,Filtro!$A$5:$AY$629,21,FALSE),0)","v":0},{"$f":"IFERROR(VLOOKUP($A99,Filtro!$A$5:$AY$629,22,FALSE),0)","v":0},{"$f":"IFERROR(VLOOKUP($A99,Filtro!$A$5:$AY$629,23,FALSE),0)","v":0},{"$f":"IFERROR(VLOOKUP($A99,Filtro!$A$5:$AY$629,24,FALSE),0)","v":1},{"$f":"IFERROR(VLOOKUP($A99,Filtro!$A$5:$AY$629,25,FALSE),0)","v":0},{"$f":"IFERROR(VLOOKUP($A99,Filtro!$A$5:$AY$629,26,FALSE),0)","v":0},{"$f":"IFERROR(VLOOKUP($A99,Filtro!$A$5:$AY$629,27,FALSE),0)","v":0},{"$f":"IFERROR(VLOOKUP($A99,Filtro!$A$5:$AY$629,28,FALSE),0)","v":0},{"$f":"IFERROR(VLOOKUP($A99,Filtro!$A$5:$AY$629,29,FALSE),0)","v":0},{"$f":"IFERROR(VLOOKUP($A99,Filtro!$A$5:$AY$629,30,FALSE),0)","v":0},{"$f":"IFERROR(VLOOKUP($A99,Filtro!$A$5:$AY$629,31,FALSE),0)","v":0},{"$f":"IFERROR(VLOOKUP($A99,Filtro!$A$5:$AY$629,32,FALSE),0)","v":1},{"$f":"IFERROR(VLOOKUP($A99,Filtro!$A$5:$AY$629,33,FALSE),0)","v":0},{"$f":"IFERROR(VLOOKUP($A99,Filtro!$A$5:$AY$629,34,FALSE),0)","v":0},{"$f":"IFERROR(VLOOKUP($A99,Filtro!$A$5:$AY$629,35,FALSE),0)","v":2},{"$f":"IFERROR(VLOOKUP($A99,Filtro!$A$5:$AY$629,36,FALSE),0)","v":6},{"$f":"IFERROR(VLOOKUP($A99,Filtro!$A$5:$AY$629,37,FALSE),0)","v":3},{"$f":"IFERROR(VLOOKUP($A99,Filtro!$A$5:$AY$629,38,FALSE),0)","v":3},0,0,{"$f":"IFERROR(VLOOKUP($A99,Filtro!$A$5:$AY$629,41,FALSE),0)","v":0},{"$f":"IFERROR(VLOOKUP($A99,Filtro!$A$5:$AY$629,42,FALSE),0)","v":0},{"$f":"IFERROR(VLOOKUP($A99,Filtro!$A$5:$AY$629,43,FALSE),0)","v":0},{"$f":"IFERROR(VLOOKUP($A99,Filtro!$A$5:$AY$629,44,FALSE),0)","v":0},{"$f":"IFERROR(VLOOKUP($A99,Filtro!$A$5:$AY$629,45,FALSE),0)","v":0},{"$f":"IFERROR(VLOOKUP($A99,Filtro!$A$5:$AY$629,46,FALSE),0)","v":0},{"$f":"IFERROR(VLOOKUP($A99,Filtro!$A$5:$AY$629,47,FALSE),0)","v":0},{"$f":"IFERROR(VLOOKUP($A99,Filtro!$A$5:$AY$629,48,FALSE),0)","v":0},{"$f":"IFERROR(VLOOKUP($A99,Filtro!$A$5:$AY$629,49,FALSE),0)","v":0},{"$nulls":35},"","","","","","","",{"$nulls":7},{"$f":"IF($AW99>$D99,\"* La celda 'Plan Cuidado Integral Elaborado' debe ser menor o igual al Total de Personas en control. \",\"\")","v":""},{"$f":"IF(AND($D99<>0,$AW99=\"\"),\"* No olvide escribir en las celdas de 'Plan Cuidado Integral Elaborado' (Digite CERO si no tiene). \",\"\")","v":""},{"$nulls":4},0,0,0,0,0,0,0,{"$nulls":3},0,0,0,null,0,0]
["P6223330","ESQUIZOFRENIA",null,{"$f":"SUM(E100:F100)","v":755},511,244,{"$f":"IFERROR(VLOOKUP($A100,Filtro!$A$5:$AY$629,5,FALSE),0)","v":0},{"$f":"IFERROR(VLOOKUP($A100,Filtro!$A$5:$AY$629,6,FALSE),0)","v":0},{"$f":"IFERROR(VLOOKUP($A100,Filtro!$A$5:$AY$629,7,FALSE),0)","v":0},{"$f":"IFERROR(VLOOKUP($A100,Filtro!$A$5:$AY$629,8,FALSE),0)","v":0},{"$f":"IFERROR(VLOOKUP($A100,Filtro!$A$5:$AY$629,9,FALSE),0)","v":0},{"$f":"IFERROR(VLOOKUP($A100,Filtro!$A$5:$AY$629,10,FALSE),0)","v":1},{"$f":"IFERROR(VLOOKUP($A100,Filtro!$A$5:$AY$629,11,FALSE),0)","v":12},{"$f":"IFERROR(VLOOKUP($A100,Filtro!$A$5:$AY$629,12,FALSE),0)","v":2},{"$f":"IFERROR(VLOOKUP($A100,Filtro!$A$5:$AY$629,13,FALSE),0)","v":51},{"$f":"IFERROR(VLOOKUP($A100,Filtro!$A$5:$AY$629,14,FALSE),0)","v":13},{"$f":"IFERROR(VLOOKUP($A100,Filtro!$A$5:$AY$629,15,FALSE),0)","v":75},{"$f":"IFERROR(VLOOKUP($A100,Filtro!$A$5:$AY$629,16,FALSE),0)","v":23},{"$f":"IFERROR(VLOOKUP($A100,Filtro!$A$5:$AY$629,17,FALSE),0)","v":81},{"$f":"IFERROR(VLOOKUP($A100,Filtro!$A$5:$AY$629,18,FALSE),0)","v":18},{"$f":"IFERROR(VLOOKUP($A100,Filtro!$A$5:$AY$629,19,FALSE),0)","v":55},{"$f":"IFERROR(VLOOKUP($A100,Filtro!$A$5:$AY$629,20,FALSE),0)","v":24},{"$f":"IFERROR(VLOOKUP($A100,Filtro!$A$5:$AY$629,21,FALSE),0)","v":55},{"$f":"IFERROR(VLOOKUP($A100,Filtro!$A$5:$AY$629,22,FALSE),0)","v":20},{"$f":"IFERROR(VLOOKUP($A100,Filtro!$A$5:$AY$629,23,FALSE),0)","v":55},{"$f":"IFERROR(VLOOKUP($A100,Filtro!$A$5:$AY$629,24,FALSE),0)","v":22},{"$f":"IFERROR(VLOOKUP($A100,Filtro!$A$5:$AY$629,25,FALSE),0)","v":43},{"$f":"IFERROR(VLOOKUP($A100,Filtro!$A$5:$AY$629,26,FALSE),0)","v":27},{"$f":"IFERROR(VLOOKUP($A100,Filtro!$A$5:$AY$629,27,FALSE),0)","v":42},{"$f":"IFERROR(VLOOKUP($A100,Filtro!$A$5:$AY$629,28,FALSE),0)","v":30},{"$f":"IFERROR(VLOOKUP($A100,Filtro!$A$5:$AY$629,29,FALSE),0)","v":20},{"$f":"IFERROR(VLOOKUP($A100,Filtro!$A$5:$AY$629,30,FALSE),0)","v":27},{"$f":"IFERROR(VLOOKUP($A100,Filtro!$A$5:$AY$629,31,FALSE),0)","v":9},{"$f":"IFERROR(VLOOKUP($A100,Filtro!$A$5:$AY$629,32,FALSE),0)","v":16},{"$f":"IFERROR(VLOOKUP($A100,Filtro!$A$5:$AY$629,33,FALSE),0)","v":7},{"$f":"IFERROR(VLOOKUP($A100,Filtro!$A$5:$AY$629,34,FALSE),0)","v":8},{"$f":"IFERROR(VLOOKUP($A100,Filtro!$A$5:$AY$629,35,FALSE),0)","v":4},{"$f":"IFERROR(VLOOKUP($A100,Filtro!$A$5:$AY$629,36,FALSE),0)","v":9},{"$f":"IFERROR(VLOOKUP($A100,Filtro!$A$5:$AY$629,37,FALSE),0)","v":2},{"$f":"IFERROR(VLOOKUP($A100,Filtro!$A$5:$AY$629,38,FALSE),0)","v":4},{"$f":"IFERROR(VLOOKUP($A100,Filtro!$A$5:$AY$629,39,FALSE),0)","v":0},{"$f":"IFERROR(VLOOKUP($A100,Filtro!$A$5:$AY$629,40,FALSE),0)","v":0},{"$f":"IFERROR(VLOOKUP($A100,Filtro!$A$5:$AY$629,41,FALSE),0)","v":2},{"$f":"IFERROR(VLOOKUP($A100,Filtro!$A$5:$AY$629,42,FALSE),0)","v":4},{"$f":"IFERROR(VLOOKUP($A100,Filtro!$A$5:$AY$629,43,FALSE),0)","v":1},{"$f":"IFERROR(VLOOKUP($A100,Filtro!$A$5:$AY$629,44,FALSE),0)","v":0},{"$f":"IFERROR(VLOOKUP($A100,Filtro!$A$5:$AY$629,45,FALSE),0)","v":0},{"$f":"IFERROR(VLOOKUP($A100,Filtro!$A$5:$AY$629,46,FALSE),0)","v":1},{"$f":"IFERROR(VLOOKUP($A100,Filtro!$A$5:$AY$629,47,FALSE),0)","v":217},{"$f":"IFERROR(VLOOKUP($A100,Filtro!$A$5:$AY$629,48,FALSE),0)","v":0},{"$f":"IFERROR(VLOOKUP($A100,Filtro!$A$5:$AY$629,49,FALSE),0)","v":0}]
["P6241123","TRASTORNO ADAPTATIVO",null,17,7,10,{"$f":"IFERROR(VLOOKUP($A101,Filtro!$A$5:$AY$629,5,FALSE),0)","v":0},{"$f":"IFERROR(VLOOKUP($A101,Filtro!$A$5:$AY$629,6,FALSE),0)","v":0},{"$f":"IFERROR(VLOOKUP($A101,Filtro!$A$5:$AY$629,7,FALSE),0)","v":0},{"$f":"IFERROR(VLOOKUP($A101,Filtro!$A$5:$AY$629,8,FALSE),0)","v":1},{"$f":"IFERROR(VLOOKUP($A101,Filtro!$A$5:$AY$629,9,FALSE),0)","v":1},{"$f":"IFERROR(VLOOKUP($A101,Filtro!$A$5:$AY$629,10,FALSE),0)","v":1},{"$f":"IFERROR(VLOOKUP($A101,Filtro!$A$5:$AY$629,11,FALSE),0)","v":2},{"$f":"IFERROR(VLOOKUP($A101,Filtro!$A$5:$AY$629,12,FALSE),0)","v":1},{"$f":"IFERROR(VLOOKUP($A101,Filtro!$A$5:$AY$629,13,FALSE),0)","v":0},{"$f":"IFERROR(VLOOKUP($A101,Filtro!$A$5:$AY$629,14,FALSE),0)","v":1},{"$f":"IFERROR(VLOOKUP($A101,Filtro!$A$5:$AY$629,15,FALSE),0)","v":1},{"$f":"IFERROR(VLOOKUP($A101,Filtro!$A$5:$AY$629,16,FALSE),0)","v":1},{"$f":"IFERROR(VLOOKUP($A101,Filtro!$A$5:$AY$629,17,FALSE),0)","v":1},{"$f":"IFERROR(VLOOKUP($A101,Filtro!$A$5:$AY$629,18,FALSE),0)","v":1},{"$f":"IFERROR(VLOOKUP($A101,Filtro!$A$5:$AY$629,19,FALSE),0)","v":0},{"$f":"IFERROR(VLOOKUP($A101,Filtro!$A$5:$AY$629,20,FALSE),0)","v":0},{"$f":"IFERROR(VLOOKUP($A101,Filtro!$A$5:$AY$629,21,FALSE),0)","v":0},{"$f":"IFERROR(VLOOKUP($A101,Filtro!$A$5:$AY$629,22,FALSE),0)","v":0},{"$f":"IFERROR(VLOOKUP($A101,Filtro!$A$5:$AY$629,23,FALSE),0)","v":0},{"$f":"IFERROR(VLOOKUP($A101,Filtro!$A$5:$AY$629,24,FALSE),0)","v":0},{"$f":"IFERROR(VLOOKUP($A101,Filtro!$A$5:$AY$629,25,FALSE),0)","v":1},{"$f":"IFERROR(VLOOKUP($A101,Filtro!$A$5:$AY$629,26,FALSE),0)","v":1},{"$f":"IFERROR(VLOOKUP($A101,Filtro!$A$5:$AY$629,27,FALSE),0)","v":0},{"$f":"IFERROR(VLOOKUP($A101,Filtro!$A$5:$AY$629,28,FALSE),0)","v":1},{"$f":"IFERROR(VLOOKUP($A101,Filtro!$A$5:$AY$629,29,FALSE),0)","v":0},{"$f":"IFERROR(VLOOKUP($A101,Filtro!$A$5:$AY$629,30,FALSE),0)","v":0},{"$f":"IFERROR(VLOOKUP($A101,Filtro!$A$5:$AY$629,31,FALSE),0)","v":1},{"$f":"IFERROR(VLOOKUP($A101,Filtro!$A$5:$AY$629,32,FALSE),0)","v":0},{"$f":"IFERROR(VLOOKUP($A101,Filtro!$A$5:$AY$629,33,FALSE),0)","v":0},{"$f":"IFERROR(VLOOKUP($A101,Filtro!$A$5:$AY$629,34,FALSE),0)","v":0},{"$f":"IFERROR(VLOOKUP($A101,Filtro!$A$5:$AY$629,35,FALSE),0)","v":0},{"$f":"IFERROR(VLOOKUP($A101,Filtro!$A$5:$AY$629,36,FALSE),0)","v":2},{"$f":"IFERROR(VLOOKUP($A101,Filtro!$A$5:$AY$629,37,FALSE),0)","v":0},{"$f":"IFERROR(VLOOKUP($A101,Filtro!$A$5:$AY$629,38,FALSE),0)","v":0},{"$f":"IFERROR(VLOOKUP($A101,Filtro!$A$5:$AY$629,39,FALSE),0)","v":0},{"$f":"IFERROR(VLOOKUP($A101,Filtro!$A$5:$AY$629,40,FALSE),0)","v":0},{"$f":"IFERROR(VLOOKUP($A101,Filtro!$A$5:$AY$629,41,FALSE),0)","v":0},{"$f":"IFERROR(VLOOKUP($A101,Filtro!$A$5:$AY$629,42,FALSE),0)","v":0},{"$f":"IFERROR(VLOOKUP($A101,Filtro!$A$5:$AY$629,43,FALSE),0)","v":1},{"$f":"IFERROR(VLOOKUP($A101,Filtro!$A$5:$AY$629,44,FALSE),0)","v":0},{"$f":"IFERROR(VLOOKUP($A101,Filtro!$A$5:$AY$629,45,FALSE),0)","v":0},{"$f":"IFERROR(VLOOKUP($A101,Filtro!$A$5:$AY$629,46,FALSE),0)","v":0},{"$f":"IFERROR(VLOOKUP($A101,Filtro!$A$5:$AY$629,47,FALSE),0)","v":6},{"$f":"IFERROR(VLOOKUP($A101,Filtro!$A$5:$AY$629,48,FALSE),0)","v":0},{"$f":"IFERROR(VLOOKUP($A101,Filtro!$A$5:$AY$629,49,FALSE),0)","v":0}]
["P6223350","TRASTORNOS DE LA CONDUCTA ALIMENTARIA",null,78,5,73,{"$f":"IFERROR(VLOOKUP($A102,Filtro!$A$5:$AY$629,5,FALSE),0)","v":0},{"$f":"IFERROR(VLOOKUP($A102,Filtro!$A$5:$AY$629,6,FALSE),0)","v":0},{"$f":"IFERROR(VLOOKUP($A102,Filtro!$A$5:$AY$629,7,FALSE),0)","v":0},{"$f":"IFERROR(VLOOKUP($A102,Filtro!$A$5:$AY$629,8,FALSE),0)","v":0},{"$f":"IFERROR(VLOOKUP($A102,Filtro!$A$5:$AY$629,9,FALSE),0)","v":2},{"$f":"IFERROR(VLOOKUP($A102,Filtro!$A$5:$AY$629,10,FALSE),0)","v":16},{"$f":"IFERROR(VLOOKUP($A102,Filtro!$A$5:$AY$629,11,FALSE),0)","v":3},{"$f":"IFERROR(VLOOKUP($A102,Filtro!$A$5:$AY$629,12,FALSE),0)","v":41},{"$f":"IFERROR(VLOOKUP($A102,Filtro!$A$5:$AY$629,13,FALSE),0)","v":0},{"$f":"IFERROR(VLOOKUP($A102,Filtro!$A$5:$AY$629,14,FALSE),0)","v":7},{"$f":"IFERROR(VLOOKUP($A102,Filtro!$A$5:$AY$629,15,FALSE),0)","v":0},{"$f":"IFERROR(VLOOKUP($A102,Filtro!$A$5:$AY$629,16,FALSE),0)","v":1},{"$f":"IFERROR(VLOOKUP($A102,Filtro!$A$5:$AY$629,17,FALSE),0)","v":0},{"$f":"IFERROR(VLOOKUP($A102,Filtro!$A$5:$AY$629,18,FALSE),0)","v":2},{"$f":"IFERROR(VLOOKUP($A102,Filtro!$A$5:$AY$629,19,FALSE),0)","v":0},{"$f":"IFERROR(VLOOKUP($A102,Filtro!$A$5:$AY$629,20,FALSE),0)","v":3},{"$f":"IFERROR(VLOOKUP($A102,Filtro!$A$5:$AY$629,21,FALSE),0)","v":0},{"$f":"IFERROR(VLOOKUP($A102,Filtro!$A$5:$AY$629,22,FALSE),0)","v":2},{"$f":"IFERROR(VLOOKUP($A102,Filtro!$A$5:$AY$629,23,FALSE),0)","v":0},{"$f":"IFERROR(VLOOKUP($A102,Filtro!$A$5:$AY$629,24,FALSE),0)","v":1},{"$f":"IFERROR(VLOOKUP($A102,Filtro!$A$5:$AY$629,25,FALSE),0)","v":0},{"$f":"IFERROR(VLOOKUP($A102,Filtro!$A$5:$AY$629,26,FALSE),0)","v":0},{"$f":"IFERROR(VLOOKUP($A102,Filtro!$A$5:$AY$629,27,FALSE),0)","v":0},{"$f":"IFERROR(VLOOKUP($A102,Filtro!$A$5:$AY$629,28,FALSE),0)","v":0},{"$f":"IFERROR(VLOOKUP($A102,Filtro!$A$5:$AY$629,29,FALSE),0)","v":0},{"$f":"IFERROR(VLOOKUP($A102,Filtro!$A$5:$AY$629,30,FALSE),0)","v":0},{"$f":"IFERROR(VLOOKUP($A102,Filtro!$A$5:$AY$629,31,FALSE),0)","v":0},{"$f":"IFERROR(VLOOKUP($A102,Filtro!$A$5:$AY$629,32,FALSE),0)","v":0},{"$f":"IFERROR(VLOOKUP($A102,Filtro!$A$5:$AY$629,33,FALSE),0)","v":0},{"$f":"IFERROR(VLOOKUP($A102,Filtro!$A$5:$AY$629,34,FALSE),0)","v":0},{"$f":"IFERROR(VLOOKUP($A102,Filtro!$A$5:$AY$629,35,FALSE),0)","v":0},{"$f":"IFERROR(VLOOKUP($A102,Filtro!$A$5:$AY$629,36,FALSE),0)","v":0},{"$f":"IFERROR(VLOOKUP($A102,Filtro!$A$5:$AY$629,37,FALSE),0)","v":0},{"$f":"IFERROR(VLOOKUP($A102,Filtro!$A$5:$AY$629,38,FALSE),0)","v":0},{"$f":"IFERROR(VLOOKUP($A102,Filtro!$A$5:$AY$629,39,FALSE),0)","v":1},{"$f":"IFERROR(VLOOKUP($A102,Filtro!$A$5:$AY$629,40,FALSE),0)","v":2},{"$f":"IFERROR(VLOOKUP($A102,Filtro!$A$5:$AY$629,41,FALSE),0)","v":0},{"$f":"IFERROR(VLOOKUP($A102,Filtro!$A$5:$AY$629,42,FALSE),0)","v":0},{"$f":"IFERROR(VLOOKUP($A102,Filtro!$A$5:$AY$629,43,FALSE),0)","v":0},{"$f":"IFERROR(VLOOKUP($A102,Filtro!$A$5:$AY$629,44,FALSE),0)","v":0},{"$f":"IFERROR(VLOOKUP($A102,Filtro!$A$5:$AY$629,45,FALSE),0)","v":0},{"$f":"IFERROR(VLOOKUP($A102,Filtro!$A$5:$AY$629,46,FALSE),0)","v":3},{"$f":"IFERROR(VLOOKUP($A102,Filtro!$A$5:$AY$629,47,FALSE),0)","v":36},{"$f":"IFERROR(VLOOKUP($A102,Filtro!$A$5:$AY$629,48,FALSE),0)","v":0},{"$f":"IFERROR(VLOOKUP($A102,Filtro!$A$5:$AY$629,49,FALSE),0)","v":0},{"$nulls":35},"","","","","","",{"$f":"IF($AV102>$D102,\"* La celda 'Población SENAME' debe ser menor o igual al Total de Personas en control. \",\"\")","v":""},"","",null,"","",{"$f":"IF(AND($D102<>0,$AV102=\"\"),\"* No olvide escribir en las celdas de 'Población SENAME' (Digite CERO si no tiene). \",\"\")","v":""},null,{"$f":"IF($AW102>$D102,\"* La celda 'Plan Cuidado Integral Elaborado' debe ser menor o igual al Total de Personas en control. \",\"\")","v":""},{"$f":"IF(AND($D102<>0,$AW102=\"\"),\"* No olvide escribir en las celdas de 'Plan Cuidado Integral Elaborado' (Digite CERO si no tiene). \",\"\")","v":""},{"$nulls":4},0,0,0,0,0,0,{"$f":"IF($AV102>$D102,1,0)","v":0},0,0,null,0,0,{"$f":"IF(AND($D102<>0,$AV102=\"\"),1,0)","v":0},null,{"$f":"IF($AW102>$D102,1,0)","v":0},{"$f":"IF(AND($D102<>0,$AW102=\"\"),1,0)","v":0}]
["P6223360","RETRASO MENTAL",null,109,65,44,{"$f":"IFERROR(VLOOKUP($A103,Filtro!$A$5:$AY$629,5,FALSE),0)","v":0},{"$f":"IFERROR(VLOOKUP($A103,Filtro!$A$5:$AY$629,6,FALSE),0)","v":0},{"$f":"IFERROR(VLOOKUP($A103,Filtro!$A$5:$AY$629,7,FALSE),0)","v":1},{"$f":"IFERROR(VLOOKUP($A103,Filtro!$A$5:$AY$629,8,FALSE),0)","v":0},{"$f":"IFERROR(VLOOKUP($A103,Filtro!$A$5:$AY$629,9,FALSE),0)","v":7},{"$f":"IFERROR(VLOOKUP($A103,Filtro!$A$5:$AY$629,10,FALSE),0)","v":3},{"$f":"IFERROR(VLOOKUP($A103,Filtro!$A$5:$AY$629,11,FALSE),0)","v":6},{"$f":"IFERROR(VLOOKUP($A103,Filtro!$A$5:$AY$629,12,FALSE),0)","v":6},{"$f":"IFERROR(VLOOKUP($A103,Filtro!$A$5:$AY$629,13,FALSE),0)","v":11},{"$f":"IFERROR(VLOOKUP($A103,Filtro!$A$5:$AY$629,14,FALSE),0)","v":6},{"$f":"IFERROR(VLOOKUP($A103,Filtro!$A$5:$AY$629,15,FALSE),0)","v":4},{"$f":"IFERROR(VLOOKUP($A103,Filtro!$A$5:$AY$629,16,FALSE),0)","v":1},{"$f":"IFERROR(VLOOKUP($A103,Filtro!$A$5:$AY$629,17,FALSE),0)","v":9},{"$f":"IFERROR(VLOOKUP($A103,Filtro!$A$5:$AY$629,18,FALSE),0)","v":3},{"$f":"IFERROR(VLOOKUP($A103,Filtro!$A$5:$AY$629,19,FALSE),0)","v":11},{"$f":"IFERROR(VLOOKUP($A103,Filtro!$A$5:$AY$629,20,FALSE),0)","v":1},{"$f":"IFERROR(VLOOKUP($A103,Filtro!$A$5:$AY$629,21,FALSE),0)","v":4},{"$f":"IFERROR(VLOOKUP($A103,Filtro!$A$5:$AY$629,22,FALSE),0)","v":1},{"$f":"IFERROR(VLOOKUP($A103,Filtro!$A$5:$AY$629,23,FALSE),0)","v":4},{"$f":"IFERROR(VLOOKUP($A103,Filtro!$A$5:$AY$629,24,FALSE),0)","v":7},{"$f":"IFERROR(VLOOKUP($A103,Filtro!$A$5:$AY$629,25,FALSE),0)","v":3},{"$f":"IFERROR(VLOOKUP($A103,Filtro!$A$5:$AY$629,26,FALSE),0)","v":4},{"$f":"IFERROR(VLOOKUP($A103,Filtro!$A$5:$AY$629,27,FALSE),0)","v":2},{"$f":"IFERROR(VLOOKUP($A103,Filtro!$A$5:$AY$629,28,FALSE),0)","v":3},{"$f":"IFERROR(VLOOKUP($A103,Filtro!$A$5:$AY$629,29,FALSE),0)","v":3},{"$f":"IFERROR(VLOOKUP($A103,Filtro!$A$5:$AY$629,30,FALSE),0)","v":1},{"$f":"IFERROR(VLOOKUP($A103,Filtro!$A$5:$AY$629,31,FALSE),0)","v":0},{"$f":"IFERROR(VLOOKUP($A103,Filtro!$A$5:$AY$629,32,FALSE),0)","v":6},{"$f":"IFERROR(VLOOKUP($A103,Filtro!$A$5:$AY$629,33,FALSE),0)","v":0},{"$f":"IFERROR(VLOOKUP($A103,Filtro!$A$5:$AY$629,34,FALSE),0)","v":2},{"$f":"IFERROR(VLOOKUP($A103,Filtro!$A$5:$AY$629,35,FALSE),0)","v":0},{"$f":"IFERROR(VLOOKUP($A103,Filtro!$A$5:$AY$629,36,FALSE),0)","v":0},{"$f":"IFERROR(VLOOKUP($A103,Filtro!$A$5:$AY$629,37,FALSE),0)","v":0},{"$f":"IFERROR(VLOOKUP($A103,Filtro!$A$5:$AY$629,38,FALSE),0)","v":0},{"$f":"IFERROR(VLOOKUP($A103,Filtro!$A$5:$AY$629,39,FALSE),0)","v":0},{"$f":"IFERROR(VLOOKUP($A103,Filtro!$A$5:$AY$629,40,FALSE),0)","v":0},{"$f":"IFERROR(VLOOKUP($A103,Filtro!$A$5:$AY$629,41,FALSE),0)","v":0},{"$f":"IFERROR(VLOOKUP($A103,Filtro!$A$5:$AY$629,42,FALSE),0)","v":0},{"$f":"IFERROR(VLOOKUP($A103,Filtro!$A$5:$AY$629,43,FALSE),0)","v":0},{"$f":"IFERROR(VLOOKUP($A103,Filtro!$A$5:$AY$629,44,FALSE),0)","v":0},{"$f":"IFERROR(VLOOKUP($A103,Filtro!$A$5:$AY$629,45,FALSE),0)","v":0},{"$f":"IFERROR(VLOOKUP($A103,Filtro!$A$5:$AY$629,46,FALSE),0)","v":1},{"$f":"IFERROR(VLOOKUP($A103,Filtro!$A$5:$AY$629,47,FALSE),0)","v":26},{"$f":"IFERROR(VLOOKUP($A103,Filtro!$A$5:$AY$629,48,FALSE),0)","v":0},{"$f":"IFERROR(VLOOKUP($A103,Filtro!$A$5:$AY$629,49,FALSE),0)","v":0},{"$nulls":35},"","","","","","",{"$f":"IF($AV103>$D103,\"* La celda 'Población SENAME' debe ser menor o igual al Total de Personas en control. \",\"\")","v":""},"","",null,"","",{"$f":"IF(AND($D103<>0,$AV103=\"\"),\"* No olvide escribir en las celdas de 'Población SENAME' (Digite CERO si no tiene). \",\"\")","v":""},null,{"$f":"IF($AW103>$D103,\"* La celda 'Plan Cuidado Integral Elaborado' debe ser menor o igual al Total de Personas en control. \",\"\")","v":""},{"$f":"IF(AND($D103<>0,$AW103=\"\"),\"* No olvide escribir en las celdas de 'Plan Cuidado Integral Elaborado' (Digite CERO si no tiene). \",\"\")","v":""},{"$nulls":4},0,0,0,0,0,0,{"$f":"IF($AV103>$D103,1,0)","v":0},0,0,null,0,0,{"$f":"IF(AND($D103<>0,$AV103=\"\"),1,0)","v":0},null,{"$f":"IF($AW103>$D103,1,0)","v":0},{"$f":"IF(AND($D103<>0,$AW103=\"\"),1,0)","v":0}]
["P6223370","TRASTORNO DE PERSONALIDAD",null,421,72,349,{"$f":"IFERROR(VLOOKUP($A104,Filtro!$A$5:$AY$629,5,FALSE),0)","v":0},{"$f":"IFERROR(VLOOKUP($A104,Filtro!$A$5:$AY$629,6,FALSE),0)","v":0},{"$f":"IFERROR(VLOOKUP($A104,Filtro!$A$5:$AY$629,7,FALSE),0)","v":0},{"$f":"IFERROR(VLOOKUP($A104,Filtro!$A$5:$AY$629,8,FALSE),0)","v":0},{"$f":"IFERROR(VLOOKUP($A104,Filtro!$A$5:$AY$629,9,FALSE),0)","v":5},{"$f":"IFERROR(VLOOKUP($A104,Filtro!$A$5:$AY$629,10,FALSE),0)","v":6},{"$f":"IFERROR(VLOOKUP($A104,Filtro!$A$5:$AY$629,11,FALSE),0)","v":2},{"$f":"IFERROR(VLOOKUP($A104,Filtro!$A$5:$AY$629,12,FALSE),0)","v":49},{"$f":"IFERROR(VLOOKUP($A104,Filtro!$A$5:$AY$629,13,FALSE),0)","v":5},{"$f":"IFERROR(VLOOKUP($A104,Filtro!$A$5:$AY$629,14,FALSE),0)","v":31},{"$f":"IFERROR(VLOOKUP($A104,Filtro!$A$5:$AY$629,15,FALSE),0)","v":8},{"$f":"IFERROR(VLOOKUP($A104,Filtro!$A$5:$AY$629,16,FALSE),0)","v":33},{"$f":"IFERROR(VLOOKUP($A104,Filtro!$A$5:$AY$629,17,FALSE),0)","v":9},{"$f":"IFERROR(VLOOKUP($A104,Filtro!$A$5:$AY$629,18,FALSE),0)","v":35},{"$f":"IFERROR(VLOOKUP($A104,Filtro!$A$5:$AY$629,19,FALSE),0)","v":7},{"$f":"IFERROR(VLOOKUP($A104,Filtro!$A$5:$AY$629,20,FALSE),0)","v":20},{"$f":"IFERROR(VLOOKUP($A104,Filtro!$A$5:$AY$629,21,FALSE),0)","v":4},{"$f":"IFERROR(VLOOKUP($A104,Filtro!$A$5:$AY$629,22,FALSE),0)","v":25},{"$f":"IFERROR(VLOOKUP($A104,Filtro!$A$5:$AY$629,23,FALSE),0)","v":6},{"$f":"IFERROR(VLOOKUP($A104,Filtro!$A$5:$AY$629,24,FALSE),0)","v":21},{"$f":"IFERROR(VLOOKUP($A104,Filtro!$A$5:$AY$629,25,FALSE),0)","v":12},{"$f":"IFERROR(VLOOKUP($A104,Filtro!$A$5:$AY$629,26,FALSE),0)","v":26},{"$f":"IFERROR(VLOOKUP($A104,Filtro!$A$5:$AY$629,27,FALSE),0)","v":5},{"$f":"IFERROR(VLOOKUP($A104,Filtro!$A$5:$AY$629,28,FALSE),0)","v":38},{"$f":"IFERROR(VLOOKUP($A104,Filtro!$A$5:$AY$629,29,FALSE),0)","v":5},{"$f":"IFERROR(VLOOKUP($A104,Filtro!$A$5:$AY$629,30,FALSE),0)","v":26},{"$f":"IFERROR(VLOOKUP($A104,Filtro!$A$5:$AY$629,31,FALSE),0)","v":2},{"$f":"IFERROR(VLOOKUP($A104,Filtro!$A$5:$AY$629,32,FALSE),0)","v":20},{"$f":"IFERROR(VLOOKUP($A104,Filtro!$A$5:$AY$629,33,FALSE),0)","v":0},{"$f":"IFERROR(VLOOKUP($A104,Filtro!$A$5:$AY$629,34,FALSE),0)","v":12},{"$f":"IFERROR(VLOOKUP($A104,Filtro!$A$5:$AY$629,35,FALSE),0)","v":2},{"$f":"IFERROR(VLOOKUP($A104,Filtro!$A$5:$AY$629,36,FALSE),0)","v":6},{"$f":"IFERROR(VLOOKUP($A104,Filtro!$A$5:$AY$629,37,FALSE),0)","v":0},{"$f":"IFERROR(VLOOKUP($A104,Filtro!$A$5:$AY$629,38,FALSE),0)","v":1},{"$f":"IFERROR(VLOOKUP($A104,Filtro!$A$5:$AY$629,39,FALSE),0)","v":1},{"$f":"IFERROR(VLOOKUP($A104,Filtro!$A$5:$AY$629,40,FALSE),0)","v":2},{"$f":"IFERROR(VLOOKUP($A104,Filtro!$A$5:$AY$629,41,FALSE),0)","v":0},{"$f":"IFERROR(VLOOKUP($A104,Filtro!$A$5:$AY$629,42,FALSE),0)","v":3},{"$f":"IFERROR(VLOOKUP($A104,Filtro!$A$5:$AY$629,43,FALSE),0)","v":0},{"$f":"IFERROR(VLOOKUP($A104,Filtro!$A$5:$AY$629,44,FALSE),0)","v":0},{"$f":"IFERROR(VLOOKUP($A104,Filtro!$A$5:$AY$629,45,FALSE),0)","v":0},{"$f":"IFERROR(VLOOKUP($A104,Filtro!$A$5:$AY$629,46,FALSE),0)","v":1},{"$f":"IFERROR(VLOOKUP($A104,Filtro!$A$5:$AY$629,47,FALSE),0)","v":132},{"$f":"IFERROR(VLOOKUP($A104,Filtro!$A$5:$AY$629,48,FALSE),0)","v":2},{"$f":"IFERROR(VLOOKUP($A104,Filtro!$A$5:$AY$629,49,FALSE),0)","v":1},{"$nulls":35},"","","","","","",{"$f":"IF($AV104>$D104,\"* La celda 'Población SENAME' debe ser menor o igual al Total de Personas en control. \",\"\")","v":""},"","",null,"","",{"$f":"IF(AND($D104<>0,$AV104=\"\"),\"* No olvide escribir en las celdas de 'Población SENAME' (Digite CERO si no tiene). \",\"\")","v":""},null,{"$f":"IF($AW104>$D104,\"* La celda 'Plan Cuidado Integral Elaborado' debe ser menor o igual al Total de Personas en control. \",\"\")","v":""},{"$f":"IF(AND($D104<>0,$AW104=\"\"),\"* No olvide escribir en las celdas de 'Plan Cuidado Integral Elaborado' (Digite CERO si no tiene). \",\"\")","v":""},{"$nulls":4},0,0,0,0,0,0,{"$f":"IF($AV104>$D104,1,0)","v":0},0,0,null,0,0,{"$f":"IF(AND($D104<>0,$AV104=\"\"),1,0)","v":0},null,{"$f":"IF($AW104>$D104,1,0)","v":0},{"$f":"IF(AND($D104<>0,$AW104=\"\"),1,0)","v":0}]
["P6241060","TRASTORNO GENERALIZADOS DEL DESARROLLO","AUTISMO",{"$f":"SUM(E105:F105)","v":113},87,26,{"$f":"IFERROR(VLOOKUP($A105,Filtro!$A$5:$AY$629,5,FALSE),0)","v":1},{"$f":"IFERROR(VLOOKUP($A105,Filtro!$A$5:$AY$629,6,FALSE),0)","v":1},{"$f":"IFERROR(VLOOKUP($A105,Filtro!$A$5:$AY$629,7,FALSE),0)","v":26},{"$f":"IFERROR(VLOOKUP($A105,Filtro!$A$5:$AY$629,8,FALSE),0)","v":3},{"$f":"IFERROR(VLOOKUP($A105,Filtro!$A$5:$AY$629,9,FALSE),0)","v":20},{"$f":"IFERROR(VLOOKUP($A105,Filtro!$A$5:$AY$629,10,FALSE),0)","v":7},{"$f":"IFERROR(VLOOKUP($A105,Filtro!$A$5:$AY$629,11,FALSE),0)","v":12},{"$f":"IFERROR(VLOOKUP($A105,Filtro!$A$5:$AY$629,12,FALSE),0)","v":8},{"$f":"IFERROR(VLOOKUP($A105,Filtro!$A$5:$AY$629,13,FALSE),0)","v":13},{"$f":"IFERROR(VLOOKUP($A105,Filtro!$A$5:$AY$629,14,FALSE),0)","v":1},{"$f":"IFERROR(VLOOKUP($A105,Filtro!$A$5:$AY$629,15,FALSE),0)","v":8},{"$f":"IFERROR(VLOOKUP($A105,Filtro!$A$5:$AY$629,16,FALSE),0)","v":5},{"$f":"IFERROR(VLOOKUP($A105,Filtro!$A$5:$AY$629,17,FALSE),0)","v":2},{"$f":"IFERROR(VLOOKUP($A105,Filtro!$A$5:$AY$629,18,FALSE),0)","v":1},{"$f":"IFERROR(VLOOKUP($A105,Filtro!$A$5:$AY$629,19,FALSE),0)","v":4},{"$f":"IFERROR(VLOOKUP($A105,Filtro!$A$5:$AY$629,20,FALSE),0)","v":0},{"$f":"IFERROR(VLOOKUP($A105,Filtro!$A$5:$AY$629,21,FALSE),0)","v":0},{"$f":"IFERROR(VLOOKUP($A105,Filtro!$A$5:$AY$629,22,FALSE),0)","v":0},{"$f":"IFERROR(VLOOKUP($A105,Filtro!$A$5:$AY$629,23,FALSE),0)","v":1},{"$f":"IFERROR(VLOOKUP($A105,Filtro!$A$5:$AY$629,24,FALSE),0)","v":0},{"$f":"IFERROR(VLOOKUP($A105,Filtro!$A$5:$AY$629,25,FALSE),0)","v":0},{"$f":"IFERROR(VLOOKUP($A105,Filtro!$A$5:$AY$629,26,FALSE),0)","v":0},{"$f":"IFERROR(VLOOKUP($A105,Filtro!$A$5:$AY$629,27,FALSE),0)","v":0},{"$f":"IFERROR(VLOOKUP($A105,Filtro!$A$5:$AY$629,28,FALSE),0)","v":0},{"$f":"IFERROR(VLOOKUP($A105,Filtro!$A$5:$AY$629,29,FALSE),0)","v":0},{"$f":"IFERROR(VLOOKUP($A105,Filtro!$A$5:$AY$629,30,FALSE),0)","v":0},{"$f":"IFERROR(VLOOKUP($A105,Filtro!$A$5:$AY$629,31,FALSE),0)","v":0},{"$f":"IFERROR(VLOOKUP($A105,Filtro!$A$5:$AY$629,32,FALSE),0)","v":0},{"$f":"IFERROR(VLOOKUP($A105,Filtro!$A$5:$AY$629,33,FALSE),0)","v":0},{"$f":"IFERROR(VLOOKUP($A105,Filtro!$A$5:$AY$629,34,FALSE),0)","v":0},{"$f":"IFERROR(VLOOKUP($A105,Filtro!$A$5:$AY$629,35,FALSE),0)","v":0},{"$f":"IFERROR(VLOOKUP($A105,Filtro!$A$5:$AY$629,36,FALSE),0)","v":0},{"$f":"IFERROR(VLOOKUP($A105,Filtro!$A$5:$AY$629,37,FALSE),0)","v":0},{"$f":"IFERROR(VLOOKUP($A105,Filtro!$A$5:$AY$629,38,FALSE),0)","v":0},{"$f":"IFERROR(VLOOKUP($A105,Filtro!$A$5:$AY$629,39,FALSE),0)","v":0},{"$f":"IFERROR(VLOOKUP($A105,Filtro!$A$5:$AY$629,40,FALSE),0)","v":0},{"$f":"IFERROR(VLOOKUP($A105,Filtro!$A$5:$AY$629,41,FALSE),0)","v":0},{"$f":"IFERROR(VLOOKUP($A105,Filtro!$A$5:$AY$629,42,FALSE),0)","v":0},{"$f":"IFERROR(VLOOKUP($A105,Filtro!$A$5:$AY$629,43,FALSE),0)","v":0},{"$f":"IFERROR(VLOOKUP($A105,Filtro!$A$5:$AY$629,44,FALSE),0)","v":0},{"$f":"IFERROR(VLOOKUP($A105,Filtro!$A$5:$AY$629,45,FALSE),0)","v":0},{"$f":"IFERROR(VLOOKUP($A105,Filtro!$A$5:$AY$629,46,FALSE),0)","v":0},{"$f":"IFERROR(VLOOKUP($A105,Filtro!$A$5:$AY$629,47,FALSE),0)","v":17},{"$f":"IFERROR(VLOOKUP($A105,Filtro!$A$5:$AY$629,48,FALSE),0)","v":0},{"$f":"IFERROR(VLOOKUP($A105,Filtro!$A$5:$AY$629,49,FALSE),0)","v":1}]
["P6241070",null,"ASPERGER",7,5,2,{"$f":"IFERROR(VLOOKUP($A106,Filtro!$A$5:$AY$629,5,FALSE),0)","v":0},{"$f":"IFERROR(VLOOKUP($A106,Filtro!$A$5:$AY$629,6,FALSE),0)","v":0},{"$f":"IFERROR(VLOOKUP($A106,Filtro!$A$5:$AY$629,7,FALSE),0)","v":1},{"$f":"IFERROR(VLOOKUP($A106,Filtro!$A$5:$AY$629,8,FALSE),0)","v":0},{"$f":"IFERROR(VLOOKUP($A106,Filtro!$A$5:$AY$629,9,FALSE),0)","v":2},{"$f":"IFERROR(VLOOKUP($A106,Filtro!$A$5:$AY$629,10,FALSE),0)","v":1},{"$f":"IFERROR(VLOOKUP($A106,Filtro!$A$5:$AY$629,11,FALSE),0)","v":0},{"$f":"IFERROR(VLOOKUP($A106,Filtro!$A$5:$AY$629,12,FALSE),0)","v":1},{"$f":"IFERROR(VLOOKUP($A106,Filtro!$A$5:$AY$629,13,FALSE),0)","v":1},{"$f":"IFERROR(VLOOKUP($A106,Filtro!$A$5:$AY$629,14,FALSE),0)","v":0},{"$f":"IFERROR(VLOOKUP($A106,Filtro!$A$5:$AY$629,15,FALSE),0)","v":0},{"$f":"IFERROR(VLOOKUP($A106,Filtro!$A$5:$AY$629,16,FALSE),0)","v":0},{"$f":"IFERROR(VLOOKUP($A106,Filtro!$A$5:$AY$629,17,FALSE),0)","v":0},{"$f":"IFERROR(VLOOKUP($A106,Filtro!$A$5:$AY$629,18,FALSE),0)","v":0},{"$f":"IFERROR(VLOOKUP($A106,Filtro!$A$5:$AY$629,19,FALSE),0)","v":1},{"$f":"IFERROR(VLOOKUP($A106,Filtro!$A$5:$AY$629,20,FALSE),0)","v":0},{"$f":"IFERROR(VLOOKUP($A106,Filtro!$A$5:$AY$629,21,FALSE),0)","v":0},{"$f":"IFERROR(VLOOKUP($A106,Filtro!$A$5:$AY$629,22,FALSE),0)","v":0},{"$f":"IFERROR(VLOOKUP($A106,Filtro!$A$5:$AY$629,23,FALSE),0)","v":0},{"$f":"IFERROR(VLOOKUP($A106,Filtro!$A$5:$AY$629,24,FALSE),0)","v":0},{"$f":"IFERROR(VLOOKUP($A106,Filtro!$A$5:$AY$629,25,FALSE),0)","v":0},{"$f":"IFERROR(VLOOKUP($A106,Filtro!$A$5:$AY$629,26,FALSE),0)","v":0},{"$f":"IFERROR(VLOOKUP($A106,Filtro!$A$5:$AY$629,27,FALSE),0)","v":0},{"$f":"IFERROR(VLOOKUP($A106,Filtro!$A$5:$AY$629,28,FALSE),0)","v":0},{"$f":"IFERROR(VLOOKUP($A106,Filtro!$A$5:$AY$629,29,FALSE),0)","v":0},{"$f":"IFERROR(VLOOKUP($A106,Filtro!$A$5:$AY$629,30,FALSE),0)","v":0},{"$f":"IFERROR(VLOOKUP($A106,Filtro!$A$5:$AY$629,31,FALSE),0)","v":0},{"$f":"IFERROR(VLOOKUP($A106,Filtro!$A$5:$AY$629,32,FALSE),0)","v":0},{"$f":"IFERROR(VLOOKUP($A106,Filtro!$A$5:$AY$629,33,FALSE),0)","v":0},{"$f":"IFERROR(VLOOKUP($A106,Filtro!$A$5:$AY$629,34,FALSE),0)","v":0},{"$f":"IFERROR(VLOOKUP($A106,Filtro!$A$5:$AY$629,35,FALSE),0)","v":0},{"$f":"IFERROR(VLOOKUP($A106,Filtro!$A$5:$AY$629,36,FALSE),0)","v":0},{"$f":"IFERROR(VLOOKUP($A106,Filtro!$A$5:$AY$629,37,FALSE),0)","v":0},{"$f":"IFERROR(VLOOKUP($A106,Filtro!$A$5:$AY$629,38,FALSE),0)","v":0},{"$f":"IFERROR(VLOOKUP($A106,Filtro!$A$5:$AY$629,39,FALSE),0)","v":0},{"$f":"IFERROR(VLOOKUP($A106,Filtro!$A$5:$AY$629,40,FALSE),0)","v":0},{"$f":"IFERROR(VLOOKUP($A106,Filtro!$A$5:$AY$629,41,FALSE),0)","v":0},{"$f":"IFERROR(VLOOKUP($A106,Filtro!$A$5:$AY$629,42,FALSE),0)","v":0},{"$f":"IFERROR(VLOOKUP($A106,Filtro!$A$5:$AY$629,43,FALSE),0)","v":0},{"$f":"IFERROR(VLOOKUP($A106,Filtro!$A$5:$AY$629,44,FALSE),0)","v":0},{"$f":"IFERROR(VLOOKUP($A106,Filtro!$A$5:$AY$629,45,FALSE),0)","v":0},{"$f":"IFERROR(VLOOKUP($A106,Filtro!$A$5:$AY$629,46,FALSE),0)","v":2},{"$f":"IFERROR(VLOOKUP($A106,Filtro!$A$5:$AY$629,47,FALSE),0)","v":1},{"$f":"IFERROR(VLOOKUP($A106,Filtro!$A$5:$AY$629,48,FALSE),0)","v":0},{"$f":"IFERROR(VLOOKUP($A106,Filtro!$A$5:$AY$629,49,FALSE),0)","v":0}]
["P6241080",null,"SÍNDROME DE RETT",0,0,0,{"$f":"IFERROR(VLOOKUP($A107,Filtro!$A$5:$AY$629,5,FALSE),0)","v":0},{"$f":"IFERROR(VLOOKUP($A107,Filtro!$A$5:$AY$629,6,FALSE),0)","v":0},{"$f":"IFERROR(VLOOKUP($A107,Filtro!$A$5:$AY$629,7,FALSE),0)","v":0},{"$f":"IFERROR(VLOOKUP($A107,Filtro!$A$5:$AY$629,8,FALSE),0)","v":0},{"$f":"IFERROR(VLOOKUP($A107,Filtro!$A$5:$AY$629,9,FALSE),0)","v":0},{"$f":"IFERROR(VLOOKUP($A107,Filtro!$A$5:$AY$629,10,FALSE),0)","v":0},{"$f":"IFERROR(VLOOKUP($A107,Filtro!$A$5:$AY$629,11,FALSE),0)","v":0},{"$f":"IFERROR(VLOOKUP($A107,Filtro!$A$5:$AY$629,12,FALSE),0)","v":0},{"$f":"IFERROR(VLOOKUP($A107,Filtro!$A$5:$AY$629,13,FALSE),0)","v":0},{"$f":"IFERROR(VLOOKUP($A107,Filtro!$A$5:$AY$629,14,FALSE),0)","v":0},{"$f":"IFERROR(VLOOKUP($A107,Filtro!$A$5:$AY$629,15,FALSE),0)","v":0},{"$f":"IFERROR(VLOOKUP($A107,Filtro!$A$5:$AY$629,16,FALSE),0)","v":0},{"$f":"IFERROR(VLOOKUP($A107,Filtro!$A$5:$AY$629,17,FALSE),0)","v":0},{"$f":"IFERROR(VLOOKUP($A107,Filtro!$A$5:$AY$629,18,FALSE),0)","v":0},{"$f":"IFERROR(VLOOKUP($A107,Filtro!$A$5:$AY$629,19,FALSE),0)","v":0},{"$f":"IFERROR(VLOOKUP($A107,Filtro!$A$5:$AY$629,20,FALSE),0)","v":0},{"$f":"IFERROR(VLOOKUP($A107,Filtro!$A$5:$AY$629,21,FALSE),0)","v":0},{"$f":"IFERROR(VLOOKUP($A107,Filtro!$A$5:$AY$629,22,FALSE),0)","v":0},{"$f":"IFERROR(VLOOKUP($A107,Filtro!$A$5:$AY$629,23,FALSE),0)","v":0},{"$f":"IFERROR(VLOOKUP($A107,Filtro!$A$5:$AY$629,24,FALSE),0)","v":0},{"$f":"IFERROR(VLOOKUP($A107,Filtro!$A$5:$AY$629,25,FALSE),0)","v":0},{"$f":"IFERROR(VLOOKUP($A107,Filtro!$A$5:$AY$629,26,FALSE),0)","v":0},{"$f":"IFERROR(VLOOKUP($A107,Filtro!$A$5:$AY$629,27,FALSE),0)","v":0},{"$f":"IFERROR(VLOOKUP($A107,Filtro!$A$5:$AY$629,28,FALSE),0)","v":0},{"$f":"IFERROR(VLOOKUP($A107,Filtro!$A$5:$AY$629,29,FALSE),0)","v":0},{"$f":"IFERROR(VLOOKUP($A107,Filtro!$A$5:$AY$629,30,FALSE),0)","v":0},{"$f":"IFERROR(VLOOKUP($A107,Filtro!$A$5:$AY$629,31,FALSE),0)","v":0},{"$f":"IFERROR(VLOOKUP($A107,Filtro!$A$5:$AY$629,32,FALSE),0)","v":0},{"$f":"IFERROR(VLOOKUP($A107,Filtro!$A$5:$AY$629,33,FALSE),0)","v":0},{"$f":"IFERROR(VLOOKUP($A107,Filtro!$A$5:$AY$629,34,FALSE),0)","v":0},{"$f":"IFERROR(VLOOKUP($A107,Filtro!$A$5:$AY$629,35,FALSE),0)","v":0},{"$f":"IFERROR(VLOOKUP($A107,Filtro!$A$5:$AY$629,36,FALSE),0)","v":0},{"$f":"IFERROR(VLOOKUP($A107,Filtro!$A$5:$AY$629,37,FALSE),0)","v":0},{"$f":"IFERROR(VLOOKUP($A107,Filtro!$A$5:$AY$629,38,FALSE),0)","v":0},{"$f":"IFERROR(VLOOKUP($A107,Filtro!$A$5:$AY$629,39,FALSE),0)","v":0},{"$f":"IFERROR(VLOOKUP($A107,Filtro!$A$5:$AY$629,40,FALSE),0)","v":0},{"$f":"IFERROR(VLOOKUP($A107,Filtro!$A$5:$AY$629,41,FALSE),0)","v":0},{"$f":"IFERROR(VLOOKUP($A107,Filtro!$A$5:$AY$629,42,FALSE),0)","v":0},{"$f":"IFERROR(VLOOKUP($A107,Filtro!$A$5:$AY$629,43,FALSE),0)","v":0},{"$f":"IFERROR(VLOOKUP($A107,Filtro!$A$5:$AY$629,44,FALSE),0)","v":0},{"$f":"IFERROR(VLOOKUP($A107,Filtro!$A$5:$AY$629,45,FALSE),0)","v":0},{"$f":"IFERROR(VLOOKUP($A107,Filtro!$A$5:$AY$629,46,FALSE),0)","v":0},{"$f":"IFERROR(VLOOKUP($A107,Filtro!$A$5:$AY$629,47,FALSE),0)","v":0},{"$f":"IFERROR(VLOOKUP($A107,Filtro!$A$5:$AY$629,48,FALSE),0)","v":0},{"$f":"IFERROR(VLOOKUP($A107,Filtro!$A$5:$AY$629,49,FALSE),0)","v":0}]
["P6241090",null,"TRASTORNO DESINTEGRATIVO DE LA INFANCIA",2,1,1,{"$f":"IFERROR(VLOOKUP($A108,Filtro!$A$5:$AY$629,5,FALSE),0)","v":0},{"$f":"IFERROR(VLOOKUP($A108,Filtro!$A$5:$AY$629,6,FALSE),0)","v":0},{"$f":"IFERROR(VLOOKUP($A108,Filtro!$A$5:$AY$629,7,FALSE),0)","v":0},{"$f":"IFERROR(VLOOKUP($A108,Filtro!$A$5:$AY$629,8,FALSE),0)","v":0},{"$f":"IFERROR(VLOOKUP($A108,Filtro!$A$5:$AY$629,9,FALSE),0)","v":1},{"$f":"IFERROR(VLOOKUP($A108,Filtro!$A$5:$AY$629,10,FALSE),0)","v":0},{"$f":"IFERROR(VLOOKUP($A108,Filtro!$A$5:$AY$629,11,FALSE),0)","v":0},{"$f":"IFERROR(VLOOKUP($A108,Filtro!$A$5:$AY$629,12,FALSE),0)","v":1},{"$f":"IFERROR(VLOOKUP($A108,Filtro!$A$5:$AY$629,13,FALSE),0)","v":0},{"$f":"IFERROR(VLOOKUP($A108,Filtro!$A$5:$AY$629,14,FALSE),0)","v":0},{"$f":"IFERROR(VLOOKUP($A108,Filtro!$A$5:$AY$629,15,FALSE),0)","v":0},{"$f":"IFERROR(VLOOKUP($A108,Filtro!$A$5:$AY$629,16,FALSE),0)","v":0},{"$f":"IFERROR(VLOOKUP($A108,Filtro!$A$5:$AY$629,17,FALSE),0)","v":0},{"$f":"IFERROR(VLOOKUP($A108,Filtro!$A$5:$AY$629,18,FALSE),0)","v":0},{"$f":"IFERROR(VLOOKUP($A108,Filtro!$A$5:$AY$629,19,FALSE),0)","v":0},{"$f":"IFERROR(VLOOKUP($A108,Filtro!$A$5:$AY$629,20,FALSE),0)","v":0},{"$f":"IFERROR(VLOOKUP($A108,Filtro!$A$5:$AY$629,21,FALSE),0)","v":0},{"$f":"IFERROR(VLOOKUP($A108,Filtro!$A$5:$AY$629,22,FALSE),0)","v":0},{"$f":"IFERROR(VLOOKUP($A108,Filtro!$A$5:$AY$629,23,FALSE),0)","v":0},{"$f":"IFERROR(VLOOKUP($A108,Filtro!$A$5:$AY$629,24,FALSE),0)","v":0},{"$f":"IFERROR(VLOOKUP($A108,Filtro!$A$5:$AY$629,25,FALSE),0)","v":0},{"$f":"IFERROR(VLOOKUP($A108,Filtro!$A$5:$AY$629,26,FALSE),0)","v":0},{"$f":"IFERROR(VLOOKUP($A108,Filtro!$A$5:$AY$629,27,FALSE),0)","v":0},{"$f":"IFERROR(VLOOKUP($A108,Filtro!$A$5:$AY$629,28,FALSE),0)","v":0},{"$f":"IFERROR(VLOOKUP($A108,Filtro!$A$5:$AY$629,29,FALSE),0)","v":0},{"$f":"IFERROR(VLOOKUP($A108,Filtro!$A$5:$AY$629,30,FALSE),0)","v":0},{"$f":"IFERROR(VLOOKUP($A108,Filtro!$A$5:$AY$629,31,FALSE),0)","v":0},{"$f":"IFERROR(VLOOKUP($A108,Filtro!$A$5:$AY$629,32,FALSE),0)","v":0},{"$f":"IFERROR(VLOOKUP($A108,Filtro!$A$5:$AY$629,33,FALSE),0)","v":0},{"$f":"IFERROR(VLOOKUP($A108,Filtro!$A$5:$AY$629,34,FALSE),0)","v":0},{"$f":"IFERROR(VLOOKUP($A108,Filtro!$A$5:$AY$629,35,FALSE),0)","v":0},{"$f":"IFERROR(VLOOKUP($A108,Filtro!$A$5:$AY$629,36,FALSE),0)","v":0},{"$f":"IFERROR(VLOOKUP($A108,Filtro!$A$5:$AY$629,37,FALSE),0)","v":0},{"$f":"IFERROR(VLOOKUP($A108,Filtro!$A$5:$AY$629,38,FALSE),0)","v":0},{"$f":"IFERROR(VLOOKUP($A108,Filtro!$A$5:$AY$629,39,FALSE),0)","v":0},{"$f":"IFERROR(VLOOKUP($A108,Filtro!$A$5:$AY$629,40,FALSE),0)","v":0},{"$f":"IFERROR(VLOOKUP($A108,Filtro!$A$5:$AY$629,41,FALSE),0)","v":0},{"$f":"IFERROR(VLOOKUP($A108,Filtro!$A$5:$AY$629,42,FALSE),0)","v":0},{"$f":"IFERROR(VLOOKUP($A108,Filtro!$A$5:$AY$629,43,FALSE),0)","v":0},{"$f":"IFERROR(VLOOKUP($A108,Filtro!$A$5:$AY$629,44,FALSE),0)","v":0},{"$f":"IFERROR(VLOOKUP($A108,Filtro!$A$5:$AY$629,45,FALSE),0)","v":0},{"$f":"IFERROR(VLOOKUP($A108,Filtro!$A$5:$AY$629,46,FALSE),0)","v":0},{"$f":"IFERROR(VLOOKUP($A108,Filtro!$A$5:$AY$629,47,FALSE),0)","v":0},{"$f":"IFERROR(VLOOKUP($A108,Filtro!$A$5:$AY$629,48,FALSE),0)","v":0},{"$f":"IFERROR(VLOOKUP($A108,Filtro!$A$5:$AY$629,49,FALSE),0)","v":0}]
["P6241100",null,"TRASTONO GENERALIZADO DEL DESARROLLO NO ESPECÍFICO",7,6,1,{"$f":"IFERROR(VLOOKUP($A109,Filtro!$A$5:$AY$629,5,FALSE),0)","v":0},{"$f":"IFERROR(VLOOKUP($A109,Filtro!$A$5:$AY$629,6,FALSE),0)","v":0},{"$f":"IFERROR(VLOOKUP($A109,Filtro!$A$5:$AY$629,7,FALSE),0)","v":0},{"$f":"IFERROR(VLOOKUP($A109,Filtro!$A$5:$AY$629,8,FALSE),0)","v":0},{"$f":"IFERROR(VLOOKUP($A109,Filtro!$A$5:$AY$629,9,FALSE),0)","v":2},{"$f":"IFERROR(VLOOKUP($A109,Filtro!$A$5:$AY$629,10,FALSE),0)","v":0},{"$f":"IFERROR(VLOOKUP($A109,Filtro!$A$5:$AY$629,11,FALSE),0)","v":1},{"$f":"IFERROR(VLOOKUP($A109,Filtro!$A$5:$AY$629,12,FALSE),0)","v":1},{"$f":"IFERROR(VLOOKUP($A109,Filtro!$A$5:$AY$629,13,FALSE),0)","v":2},{"$f":"IFERROR(VLOOKUP($A109,Filtro!$A$5:$AY$629,14,FALSE),0)","v":0},{"$f":"IFERROR(VLOOKUP($A109,Filtro!$A$5:$AY$629,15,FALSE),0)","v":1},{"$f":"IFERROR(VLOOKUP($A109,Filtro!$A$5:$AY$629,16,FALSE),0)","v":0},{"$f":"IFERROR(VLOOKUP($A109,Filtro!$A$5:$AY$629,17,FALSE),0)","v":0},{"$f":"IFERROR(VLOOKUP($A109,Filtro!$A$5:$AY$629,18,FALSE),0)","v":0},{"$f":"IFERROR(VLOOKUP($A109,Filtro!$A$5:$AY$629,19,FALSE),0)","v":0},{"$f":"IFERROR(VLOOKUP($A109,Filtro!$A$5:$AY$629,20,FALSE),0)","v":0},{"$f":"IFERROR(VLOOKUP($A109,Filtro!$A$5:$AY$629,21,FALSE),0)","v":0},{"$f":"IFERROR(VLOOKUP($A109,Filtro!$A$5:$AY$629,22,FALSE),0)","v":0},{"$f":"IFERROR(VLOOKUP($A109,Filtro!$A$5:$AY$629,23,FALSE),0)","v":0},{"$f":"IFERROR(VLOOKUP($A109,Filtro!$A$5:$AY$629,24,FALSE),0)","v":0},{"$f":"IFERROR(VLOOKUP($A109,Filtro!$A$5:$AY$629,25,FALSE),0)","v":0},{"$f":"IFERROR(VLOOKUP($A109,Filtro!$A$5:$AY$629,26,FALSE),0)","v":0},{"$f":"IFERROR(VLOOKUP($A109,Filtro!$A$5:$AY$629,27,FALSE),0)","v":0},{"$f":"IFERROR(VLOOKUP($A109,Filtro!$A$5:$AY$629,28,FALSE),0)","v":0},{"$f":"IFERROR(VLOOKUP($A109,Filtro!$A$5:$AY$629,29,FALSE),0)","v":0},{"$f":"IFERROR(VLOOKUP($A109,Filtro!$A$5:$AY$629,30,FALSE),0)","v":0},{"$f":"IFERROR(VLOOKUP($A109,Filtro!$A$5:$AY$629,31,FALSE),0)","v":0},{"$f":"IFERROR(VLOOKUP($A109,Filtro!$A$5:$AY$629,32,FALSE),0)","v":0},{"$f":"IFERROR(VLOOKUP($A109,Filtro!$A$5:$AY$629,33,FALSE),0)","v":0},{"$f":"IFERROR(VLOOKUP($A109,Filtro!$A$5:$AY$629,34,FALSE),0)","v":0},{"$f":"IFERROR(VLOOKUP($A109,Filtro!$A$5:$AY$629,35,FALSE),0)","v":0},{"$f":"IFERROR(VLOOKUP($A109,Filtro!$A$5:$AY$629,36,FALSE),0)","v":0},{"$f":"IFERROR(VLOOKUP($A109,Filtro!$A$5:$AY$629,37,FALSE),0)","v":0},{"$f":"IFERROR(VLOOKUP($A109,Filtro!$A$5:$AY$629,38,FALSE),0)","v":0},{"$f":"IFERROR(VLOOKUP($A109,Filtro!$A$5:$AY$629,39,FALSE),0)","v":0},{"$f":"IFERROR(VLOOKUP($A109,Filtro!$A$5:$AY$629,40,FALSE),0)","v":0},{"$f":"IFERROR(VLOOKUP($A109,Filtro!$A$5:$AY$629,41,FALSE),0)","v":0},{"$f":"IFERROR(VLOOKUP($A109,Filtro!$A$5:$AY$629,42,FALSE),0)","v":0},{"$f":"IFERROR(VLOOKUP($A109,Filtro!$A$5:$AY$629,43,FALSE),0)","v":0},{"$f":"IFERROR(VLOOKUP($A109,Filtro!$A$5:$AY$629,44,FALSE),0)","v":0},{"$f":"IFERROR(VLOOKUP($A109,Filtro!$A$5:$AY$629,45,FALSE),0)","v":0},{"$f":"IFERROR(VLOOKUP($A109,Filtro!$A$5:$AY$629,46,FALSE),0)","v":1},{"$f":"IFERROR(VLOOKUP($A109,Filtro!$A$5:$AY$629,47,FALSE),0)","v":3},{"$f":"IFERROR(VLOOKUP($A109,Filtro!$A$5:$AY$629,48,FALSE),0)","v":0},{"$f":"IFERROR(VLOOKUP($A109,Filtro!$A$5:$AY$629,49,FALSE),0)","v":0},{"$nulls":35},"","","","","","",{"$f":"IF($AV109>$D109,\"* La celda 'Población SENAME' debe ser menor o igual al Total de Personas en control. \",\"\")","v":""},"","",null,"","",{"$f":"IF(AND($D109<>0,$AV109=\"\"),\"* No olvide escribir en las celdas de 'Población SENAME' (Digite CERO si no tiene). \",\"\")","v":""},null,{"$f":"IF($AW109>$D109,\"* La celda 'Plan Cuidado Integral Elaborado' debe ser menor o igual al Total de Personas en control. \",\"\")","v":""},{"$f":"IF(AND($D109<>0,$AW109=\"\"),\"* No olvide escribir en las celdas de 'Plan Cuidado Integral Elaborado' (Digite CERO si no tiene). \",\"\")","v":""},{"$nulls":4},0,0,0,0,0,0,{"$f":"IF($AV109>$D109,1,0)","v":0},0,0,null,0,0,{"$f":"IF(AND($D109<>0,$AV109=\"\"),1,0)","v":0},null,{"$f":"IF($AW109>$D109,1,0)","v":0},{"$f":"IF(AND($D109<>0,$AW109=\"\"),1,0)","v":0}]
["P6232700","EPILEPSIA",null,{"$f":"SUM(E110+F110)","v":8},{"$f":"SUM(G110+I110+K110+M110+O110+Q110+S110+U110+W110+Y110+AA110+AC110+AE110+AG110+AI110+AK110+AM110)","v":4},{"$f":"SUM(H110+J110+L110+N110+P110+R110+T110+V110+X110+Z110+AB110+AD110+AF110+AH110+AJ110+AL110+AN110)","v":4},{"$f":"IFERROR(VLOOKUP($A110,Filtro!$A$5:$AY$629,5,FALSE),0)","v":0},{"$f":"IFERROR(VLOOKUP($A110,Filtro!$A$5:$AY$629,6,FALSE),0)","v":0},{"$f":"IFERROR(VLOOKUP($A110,Filtro!$A$5:$AY$629,7,FALSE),0)","v":0},{"$f":"IFERROR(VLOOKUP($A110,Filtro!$A$5:$AY$629,8,FALSE),0)","v":0},{"$f":"IFERROR(VLOOKUP($A110,Filtro!$A$5:$AY$629,9,FALSE),0)","v":0},{"$f":"IFERROR(VLOOKUP($A110,Filtro!$A$5:$AY$629,10,FALSE),0)","v":0},{"$f":"IFERROR(VLOOKUP($A110,Filtro!$A$5:$AY$629,11,FALSE),0)","v":1},{"$f":"IFERROR(VLOOKUP($A110,Filtro!$A$5:$AY$629,12,FALSE),0)","v":0},{"$f":"IFERROR(VLOOKUP($A110,Filtro!$A$5:$AY$629,13,FALSE),0)","v":0},{"$f":"IFERROR(VLOOKUP($A110,Filtro!$A$5:$AY$629,14,FALSE),0)","v":0},{"$f":"IFERROR(VLOOKUP($A110,Filtro!$A$5:$AY$629,15,FALSE),0)","v":1},{"$f":"IFERROR(VLOOKUP($A110,Filtro!$A$5:$AY$629,16,FALSE),0)","v":0},{"$f":"IFERROR(VLOOKUP($A110,Filtro!$A$5:$AY$629,17,FALSE),0)","v":1},{"$f":"IFERROR(VLOOKUP($A110,Filtro!$A$5:$AY$629,18,FALSE),0)","v":0},{"$f":"IFERROR(VLOOKUP($A110,Filtro!$A$5:$AY$629,19,FALSE),0)","v":1},{"$f":"IFERROR(VLOOKUP($A110,Filtro!$A$5:$AY$629,20,FALSE),0)","v":1},{"$f":"IFERROR(VLOOKUP($A110,Filtro!$A$5:$AY$629,21,FALSE),0)","v":0},{"$f":"IFERROR(VLOOKUP($A110,Filtro!$A$5:$AY$629,22,FALSE),0)","v":1},{"$f":"IFERROR(VLOOKUP($A110,Filtro!$A$5:$AY$629,23,FALSE),0)","v":0},{"$f":"IFERROR(VLOOKUP($A110,Filtro!$A$5:$AY$629,24,FALSE),0)","v":0},{"$f":"IFERROR(VLOOKUP($A110,Filtro!$A$5:$AY$629,25,FALSE),0)","v":0},{"$f":"IFERROR(VLOOKUP($A110,Filtro!$A$5:$AY$629,26,FALSE),0)","v":1},{"$f":"IFERROR(VLOOKUP($A110,Filtro!$A$5:$AY$629,27,FALSE),0)","v":0},{"$f":"IFERROR(VLOOKUP($A110,Filtro!$A$5:$AY$629,28,FALSE),0)","v":0},{"$f":"IFERROR(VLOOKUP($A110,Filtro!$A$5:$AY$629,29,FALSE),0)","v":0},{"$f":"IFERROR(VLOOKUP($A110,Filtro!$A$5:$AY$629,30,FALSE),0)","v":0},{"$f":"IFERROR(VLOOKUP($A110,Filtro!$A$5:$AY$629,31,FALSE),0)","v":0},{"$f":"IFERROR(VLOOKUP($A110,Filtro!$A$5:$AY$629,32,FALSE),0)","v":0},{"$f":"IFERROR(VLOOKUP($A110,Filtro!$A$5:$AY$629,33,FALSE),0)","v":0},{"$f":"IFERROR(VLOOKUP($A110,Filtro!$A$5:$AY$629,34,FALSE),0)","v":1},{"$f":"IFERROR(VLOOKUP($A110,Filtro!$A$5:$AY$629,35,FALSE),0)","v":0},{"$f":"IFERROR(VLOOKUP($A110,Filtro!$A$5:$AY$629,36,FALSE),0)","v":0},{"$f":"IFERROR(VLOOKUP($A110,Filtro!$A$5:$AY$629,37,FALSE),0)","v":0},{"$f":"IFERROR(VLOOKUP($A110,Filtro!$A$5:$AY$629,38,FALSE),0)","v":0},{"$f":"IFERROR(VLOOKUP($A110,Filtro!$A$5:$AY$629,39,FALSE),0)","v":0},{"$f":"IFERROR(VLOOKUP($A110,Filtro!$A$5:$AY$629,40,FALSE),0)","v":0},{"$f":"IFERROR(VLOOKUP($A110,Filtro!$A$5:$AY$629,41,FALSE),0)","v":0},{"$f":"IFERROR(VLOOKUP($A110,Filtro!$A$5:$AY$629,42,FALSE),0)","v":0},{"$f":"IFERROR(VLOOKUP($A110,Filtro!$A$5:$AY$629,43,FALSE),0)","v":0},{"$f":"IFERROR(VLOOKUP($A110,Filtro!$A$5:$AY$629,44,FALSE),0)","v":0},{"$f":"IFERROR(VLOOKUP($A110,Filtro!$A$5:$AY$629,45,FALSE),0)","v":0},{"$f":"IFERROR(VLOOKUP($A110,Filtro!$A$5:$AY$629,46,FALSE),0)","v":0},{"$f":"IFERROR(VLOOKUP($A110,Filtro!$A$5:$AY$629,47,FALSE),0)","v":1},{"$f":"IFERROR(VLOOKUP($A110,Filtro!$A$5:$AY$629,48,FALSE),0)","v":0},{"$f":"IFERROR(VLOOKUP($A110,Filtro!$A$5:$AY$629,49,FALSE),0)","v":0},{"$nulls":35},"","","","","","",{"$f":"IF($AV110>$D110,\"* La celda 'Población SENAME' debe ser menor o igual al Total de Personas en control. \",\"\")","v":""},"","",null,"","",{"$f":"IF(AND($D110<>0,$AV110=\"\"),\"* No olvide escribir en las celdas de 'Población SENAME' (Digite CERO si no tiene). \",\"\")","v":""},null,{"$f":"IF($AW110>$D110,\"* La celda 'Plan Cuidado Integral Elaborado' debe ser menor o igual al Total de Personas en control. \",\"\")","v":""},{"$f":"IF(AND($D110<>0,$AW110=\"\"),\"* No olvide escribir en las celdas de 'Plan Cuidado Integral Elaborado' (Digite CERO si no tiene). \",\"\")","v":""},{"$nulls":4},0,0,0,0,0,0,{"$f":"IF($AV110>$D110,1,0)","v":0},0,0,null,0,0,{"$f":"IF(AND($D110<>0,$AV110=\"\"),1,0)","v":0},null,{"$f":"IF($AW110>$D110,1,0)","v":0},{"$f":"IF(AND($D110<>0,$AW110=\"\"),1,0)","v":0}]
["P6227603","OTRAS",null,213,{"$f":"+G111+I111+K111+M111+O111+Q111+S111+U111+W111+Y111+AA111+AC111+AE111+AG111+AI111+AK111+AM111","v":100},{"$f":"+H111+J111+L111+N111+P111+R111+T111+V111+X111+Z111+AB111+AD111+AF111+AH111+AJ111+AL111+AN111","v":113},{"$f":"IFERROR(VLOOKUP($A111,Filtro!$A$5:$AY$629,5,FALSE),0)","v":0},{"$f":"IFERROR(VLOOKUP($A111,Filtro!$A$5:$AY$629,6,FALSE),0)","v":0},{"$f":"IFERROR(VLOOKUP($A111,Filtro!$A$5:$AY$629,7,FALSE),0)","v":1},{"$f":"IFERROR(VLOOKUP($A111,Filtro!$A$5:$AY$629,8,FALSE),0)","v":1},{"$f":"IFERROR(VLOOKUP($A111,Filtro!$A$5:$AY$629,9,FALSE),0)","v":6},{"$f":"IFERROR(VLOOKUP($A111,Filtro!$A$5:$AY$629,10,FALSE),0)","v":5},{"$f":"IFERROR(VLOOKUP($A111,Filtro!$A$5:$AY$629,11,FALSE),0)","v":5},{"$f":"IFERROR(VLOOKUP($A111,Filtro!$A$5:$AY$629,12,FALSE),0)","v":17},{"$f":"IFERROR(VLOOKUP($A111,Filtro!$A$5:$AY$629,13,FALSE),0)","v":23},{"$f":"IFERROR(VLOOKUP($A111,Filtro!$A$5:$AY$629,14,FALSE),0)","v":8},{"$f":"IFERROR(VLOOKUP($A111,Filtro!$A$5:$AY$629,15,FALSE),0)","v":9},{"$f":"IFERROR(VLOOKUP($A111,Filtro!$A$5:$AY$629,16,FALSE),0)","v":9},{"$f":"IFERROR(VLOOKUP($A111,Filtro!$A$5:$AY$629,17,FALSE),0)","v":11},{"$f":"IFERROR(VLOOKUP($A111,Filtro!$A$5:$AY$629,18,FALSE),0)","v":7},{"$f":"IFERROR(VLOOKUP($A111,Filtro!$A$5:$AY$629,19,FALSE),0)","v":4},{"$f":"IFERROR(VLOOKUP($A111,Filtro!$A$5:$AY$629,20,FALSE),0)","v":8},{"$f":"IFERROR(VLOOKUP($A111,Filtro!$A$5:$AY$629,21,FALSE),0)","v":5},{"$f":"IFERROR(VLOOKUP($A111,Filtro!$A$5:$AY$629,22,FALSE),0)","v":7},{"$f":"IFERROR(VLOOKUP($A111,Filtro!$A$5:$AY$629,23,FALSE),0)","v":5},{"$f":"IFERROR(VLOOKUP($A111,Filtro!$A$5:$AY$629,24,FALSE),0)","v":6},{"$f":"IFERROR(VLOOKUP($A111,Filtro!$A$5:$AY$629,25,FALSE),0)","v":7},{"$f":"IFERROR(VLOOKUP($A111,Filtro!$A$5:$AY$629,26,FALSE),0)","v":12},{"$f":"IFERROR(VLOOKUP($A111,Filtro!$A$5:$AY$629,27,FALSE),0)","v":7},{"$f":"IFERROR(VLOOKUP($A111,Filtro!$A$5:$AY$629,28,FALSE),0)","v":10},{"$f":"IFERROR(VLOOKUP($A111,Filtro!$A$5:$AY$629,29,FALSE),0)","v":1},{"$f":"IFERROR(VLOOKUP($A111,Filtro!$A$5:$AY$629,30,FALSE),0)","v":11},{"$f":"IFERROR(VLOOKUP($A111,Filtro!$A$5:$AY$629,31,FALSE),0)","v":10},{"$f":"IFERROR(VLOOKUP($A111,Filtro!$A$5:$AY$629,32,FALSE),0)","v":6},{"$f":"IFERROR(VLOOKUP($A111,Filtro!$A$5:$AY$629,33,FALSE),0)","v":1},{"$f":"IFERROR(VLOOKUP($A111,Filtro!$A$5:$AY$629,34,FALSE),0)","v":3},{"$f":"IFERROR(VLOOKUP($A111,Filtro!$A$5:$AY$629,35,FALSE),0)","v":5},{"$f":"IFERROR(VLOOKUP($A111,Filtro!$A$5:$AY$629,36,FALSE),0)","v":2},{"$f":"IFERROR(VLOOKUP($A111,Filtro!$A$5:$AY$629,37,FALSE),0)","v":0},{"$f":"IFERROR(VLOOKUP($A111,Filtro!$A$5:$AY$629,38,FALSE),0)","v":1},{"$f":"IFERROR(VLOOKUP($A111,Filtro!$A$5:$AY$629,39,FALSE),0)","v":0},{"$f":"IFERROR(VLOOKUP($A111,Filtro!$A$5:$AY$629,40,FALSE),0)","v":0},{"$f":"IFERROR(VLOOKUP($A111,Filtro!$A$5:$AY$629,41,FALSE),0)","v":3},{"$f":"IFERROR(VLOOKUP($A111,Filtro!$A$5:$AY$629,42,FALSE),0)","v":1},{"$f":"IFERROR(VLOOKUP($A111,Filtro!$A$5:$AY$629,43,FALSE),0)","v":0},{"$f":"IFERROR(VLOOKUP($A111,Filtro!$A$5:$AY$629,44,FALSE),0)","v":0},{"$f":"IFERROR(VLOOKUP($A111,Filtro!$A$5:$AY$629,45,FALSE),0)","v":1},{"$f":"IFERROR(VLOOKUP($A111,Filtro!$A$5:$AY$629,46,FALSE),0)","v":2},{"$f":"IFERROR(VLOOKUP($A111,Filtro!$A$5:$AY$629,47,FALSE),0)","v":87},{"$f":"IFERROR(VLOOKUP($A111,Filtro!$A$5:$AY$629,48,FALSE),0)","v":0},{"$f":"IFERROR(VLOOKUP($A111,Filtro!$A$5:$AY$629,49,FALSE),0)","v":2},{"$nulls":37},"","","","",{"$f":"IF($AV111>$D111,\"* La celda 'Población SENAME' debe ser menor o igual al Total de Personas en control. \",\"\")","v":""},{"$nulls":3},"","",{"$f":"IF(AND($D111<>0,$AV111=\"\"),\"* No olvide escribir en las celdas de 'Población SENAME' (Digite CERO si no tiene). \",\"\")","v":""},null,{"$f":"IF($AW111>$D111,\"* La celda 'Plan Cuidado Integral Elaborado' debe ser menor o igual al Total de Personas en control. \",\"\")","v":""},{"$f":"IF(AND($D111<>0,$AW111=\"\"),\"* No olvide escribir en las celdas de 'Plan Cuidado Integral Elaborado' (Digite CERO si no tiene). \",\"\")","v":""},{"$nulls":6},0,0,0,0,{"$f":"IF($AV111>$D111,1,0)","v":0},{"$nulls":3},0,0,{"$f":"IF(AND($D111<>0,$AV111=\"\"),1,0)","v":0},null,{"$f":"IF($AW111>$D111,1,0)","v":0},{"$f":"IF(AND($D111<>0,$AW111=\"\"),1,0)","v":0}]
[null,"SECCION B.2: PROGRAMA DE REHABILITACIÓN EN ESPECIALIDAD (PERSONAS CON TRANSTORNOS PSIQUIÁTRICO)"]
[null,"TIPO","RUBRO","T O T A L",null,null,"GRUPO DE EDAD (en años)"]
[{"$nulls":6},"0 a 4 años",null,"5 a 9 años",null,"10 a 14 años",null,"15 a 19 años",null,"20 a 24 años",null,"25 a 29 años",null,"30 a 34 años",null,"35 a 39 años",null,"40 a 44 años",null,"45 a 49 años",null,"50 a 54 años",null,"55 a 59 años",null,"60 a 64 años",null,"65 a 69 años",null,"70 a 74 años",null,"75 a 79 años",null,"80 y más años"]
[{"$nulls":3},"Ambos\nsexos","Hombres","Mujeres","Hombres","Mujeres","Hombres","Mujeres","Hombres","Mujeres","Hombres","Mujeres","Hombres","Mujeres","Hombres","Mujeres","Hombres","Mujeres","Hombres","Mujeres","Hombres","Mujeres","Hombres","Mujeres","Hombres","Mujeres","Hombres","Mujeres","Hombres","Mujeres","Hombres","Mujeres","Hombres","Mujeres","Hombres","Mujeres","Hombres","Mujeres"]
["P6223390","PROGRAMA DE REHABILITACIÓN TIPO I","NÚMERO DE PERSONAS EN CONTROL EN EL PROGRAMA",0,{"$f":"+G116+I116+K116+M116+O116+Q116+S116+U116+W116+Y116+AA116+AC116+AE116+AG116+AI116+AK116+AM116","v":0},{"$f":"+H116+J116+L116+N116+P116+R116+T116+V116+X116+Z116+AB116+AD116+AF116+AH116+AJ116+AL116+AN116","v":0},{"$f":"IFERROR(VLOOKUP($A116,Filtro!$A$5:$AY$629,5,FALSE),0)","v":0},{"$f":"IFERROR(VLOOKUP($A116,Filtro!$A$5:$AY$629,6,FALSE),0)","v":0},{"$f":"IFERROR(VLOOKUP($A116,Filtro!$A$5:$AY$629,7,FALSE),0)","v":0},{"$f":"IFERROR(VLOOKUP($A116,Filtro!$A$5:$AY$629,8,FALSE),0)","v":0},{"$f":"IFERROR(VLOOKUP($A116,Filtro!$A$5:$AY$629,9,FALSE),0)","v":0},{"$f":"IFERROR(VLOOKUP($A116,Filtro!$A$5:$AY$629,10,FALSE),0)","v":0},{"$f":"IFERROR(VLOOKUP($A116,Filtro!$A$5:$AY$629,11,FALSE),0)","v":0},{"$f":"IFERROR(VLOOKUP($A116,Filtro!$A$5:$AY$629,12,FALSE),0)","v":0},{"$f":"IFERROR(VLOOKUP($A116,Filtro!$A$5:$AY$629,13,FALSE),0)","v":0},{"$f":"IFERROR(VLOOKUP($A116,Filtro!$A$5:$AY$629,14,FALSE),0)","v":0},{"$f":"IFERROR(VLOOKUP($A116,Filtro!$A$5:$AY$629,15,FALSE),0)","v":0},{"$f":"IFERROR(VLOOKUP($A116,Filtro!$A$5:$AY$629,16,FALSE),0)","v":0},{"$f":"IFERROR(VLOOKUP($A116,Filtro!$A$5:$AY$629,17,FALSE),0)","v":0},{"$f":"IFERROR(VLOOKUP($A116,Filtro!$A$5:$AY$629,18,FALSE),0)","v":0},{"$f":"IFERROR(VLOOKUP($A116,Filtro!$A$5:$AY$629,19,FALSE),0)","v":0},{"$f":"IFERROR(VLOOKUP($A116,Filtro!$A$5:$AY$629,20,FALSE),0)","v":0},{"$f":"IFERROR(VLOOKUP($A116,Filtro!$A$5:$AY$629,21,FALSE),0)","v":0},{"$f":"IFERROR(VLOOKUP($A116,Filtro!$A$5:$AY$629,22,FALSE),0)","v":0},{"$f":"IFERROR(VLOOKUP($A116,Filtro!$A$5:$AY$629,23,FALSE),0)","v":0},{"$f":"IFERROR(VLOOKUP($A116,Filtro!$A$5:$AY$629,24,FALSE),0)","v":0},{"$f":"IFERROR(VLOOKUP($A116,Filtro!$A$5:$AY$629,25,FALSE),0)","v":0},{"$f":"IFERROR(VLOOKUP($A116,Filtro!$A$5:$AY$629,26,FALSE),0)","v":0},{"$f":"IFERROR(VLOOKUP($A116,Filtro!$A$5:$AY$629,27,FALSE),0)","v":0},{"$f":"IFERROR(VLOOKUP($A116,Filtro!$A$5:$AY$629,28,FALSE),0)","v":0},{"$f":"IFERROR(VLOOKUP($A116,Filtro!$A$5:$AY$629,29,FALSE),0)","v":0},{"$f":"IFERROR(VLOOKUP($A116,Filtro!$A$5:$AY$629,30,FALSE),0)","v":0},{"$f":"IFERROR(VLOOKUP($A116,Filtro!$A$5:$AY$629,31,FALSE),0)","v":0},{"$f":"IFERROR(VLOOKUP($A116,Filtro!$A$5:$AY$629,32,FALSE),0)","v":0},{"$f":"IFERROR(VLOOKUP($A116,Filtro!$A$5:$AY$629,33,FALSE),0)","v":0},{"$f":"IFERROR(VLOOKUP($A116,Filtro!$A$5:$AY$629,34,FALSE),0)","v":0},{"$f":"IFERROR(VLOOKUP($A116,Filtro!$A$5:$AY$629,35,FALSE),0)","v":0},{"$f":"IFERROR(VLOOKUP($A116,Filtro!$A$5:$AY$629,36,FALSE),0)","v":0},{"$f":"IFERROR(VLOOKUP($A116,Filtro!$A$5:$AY$629,37,FALSE),0)","v":0},{"$f":"IFERROR(VLOOKUP($A116,Filtro!$A$5:$AY$629,38,FALSE),0)","v":0}]
["P6223400","PROGRAMA DE REHABILITACIÓN TIPO II","NÚMERO DE PERSONAS EN CONTROL EN EL PROGRAMA",0,{"$f":"+G117+I117+K117+M117+O117+Q117+S117+U117+W117+Y117+AA117+AC117+AE117+AG117+AI117+AK117+AM117","v":0},{"$f":"+H117+J117+L117+N117+P117+R117+T117+V117+X117+Z117+AB117+AD117+AF117+AH117+AJ117+AL117+AN117","v":0},{"$f":"IFERROR(VLOOKUP($A117,Filtro!$A$5:$AY$629,5,FALSE),0)","v":0},{"$f":"IFERROR(VLOOKUP($A117,Filtro!$A$5:$AY$629,6,FALSE),0)","v":0},{"$f":"IFERROR(VLOOKUP($A117,Filtro!$A$5:$AY$629,7,FALSE),0)","v":0},{"$f":"IFERROR(VLOOKUP($A117,Filtro!$A$5:$AY$629,8,FALSE),0)","v":0},{"$f":"IFERROR(VLOOKUP($A117,Filtro!$A$5:$AY$629,9,FALSE),0)","v":0},{"$f":"IFERROR(VLOOKUP($A117,Filtro!$A$5:$AY$629,10,FALSE),0)","v":0},{"$f":"IFERROR(VLOOKUP($A117,Filtro!$A$5:$AY$629,11,FALSE),0)","v":0},{"$f":"IFERROR(VLOOKUP($A117,Filtro!$A$5:$AY$629,12,FALSE),0)","v":0},{"$f":"IFERROR(VLOOKUP($A117,Filtro!$A$5:$AY$629,13,FALSE),0)","v":0},{"$f":"IFERROR(VLOOKUP($A117,Filtro!$A$5:$AY$629,14,FALSE),0)","v":0},{"$f":"IFERROR(VLOOKUP($A117,Filtro!$A$5:$AY$629,15,FALSE),0)","v":0},{"$f":"IFERROR(VLOOKUP($A117,Filtro!$A$5:$AY$629,16,FALSE),0)","v":0},{"$f":"IFERROR(VLOOKUP($A117,Filtro!$A$5:$AY$629,17,FALSE),0)","v":0},{"$f":"IFERROR(VLOOKUP($A117,Filtro!$A$5:$AY$629,18,FALSE),0)","v":0},{"$f":"IFERROR(VLOOKUP($A117,Filtro!$A$5:$AY$629,19,FALSE),0)","v":0},{"$f":"IFERROR(VLOOKUP($A117,Filtro!$A$5:$AY$629,20,FALSE),0)","v":0},{"$f":"IFERROR(VLOOKUP($A117,Filtro!$A$5:$AY$629,21,FALSE),0)","v":0},{"$f":"IFERROR(VLOOKUP($A117,Filtro!$A$5:$AY$629,22,FALSE),0)","v":0},{"$f":"IFERROR(VLOOKUP($A117,Filtro!$A$5:$AY$629,23,FALSE),0)","v":0},{"$f":"IFERROR(VLOOKUP($A117,Filtro!$A$5:$AY$629,24,FALSE),0)","v":0},{"$f":"IFERROR(VLOOKUP($A117,Filtro!$A$5:$AY$629,25,FALSE),0)","v":0},{"$f":"IFERROR(VLOOKUP($A117,Filtro!$A$5:$AY$629,26,FALSE),0)","v":0},{"$f":"IFERROR(VLOOKUP($A117,Filtro!$A$5:$AY$629,27,FALSE),0)","v":0},{"$f":"IFERROR(VLOOKUP($A117,Filtro!$A$5:$AY$629,28,FALSE),0)","v":0},{"$f":"IFERROR(VLOOKUP($A117,Filtro!$A$5:$AY$629,29,FALSE),0)","v":0},{"$f":"IFERROR(VLOOKUP($A117,Filtro!$A$5:$AY$629,30,FALSE),0)","v":0},{"$f":"IFERROR(VLOOKUP($A117,Filtro!$A$5:$AY$629,31,FALSE),0)","v":0},{"$f":"IFERROR(VLOOKUP($A117,Filtro!$A$5:$AY$629,32,FALSE),0)","v":0},{"$f":"IFERROR(VLOOKUP($A117,Filtro!$A$5:$AY$629,33,FALSE),0)","v":0},{"$f":"IFERROR(VLOOKUP($A117,Filtro!$A$5:$AY$629,34,FALSE),0)","v":0},{"$f":"IFERROR(VLOOKUP($A117,Filtro!$A$5:$AY$629,35,FALSE),0)","v":0},{"$f":"IFERROR(VLOOKUP($A117,Filtro!$A$5:$AY$629,36,FALSE),0)","v":0},{"$f":"IFERROR(VLOOKUP($A117,Filtro!$A$5:$AY$629,37,FALSE),0)","v":0},{"$f":"IFERROR(VLOOKUP($A117,Filtro!$A$5:$AY$629,38,FALSE),0)","v":0}]
[]
[]
["CODIGOS ELIMINADOS"]
["P6221900"]
["P6222000"]
["P6222100"]
["P6231100"]
["P6231200"]
["P6227400"]
["P6223230"]
["P6223240"]
["P6223250"]
["P6232200"]
["P6232300"]
["P6223340"]
[]
[]
["CODIGOS NUEVOS"]
[]
["CODIGOS NUEVOS",{"$f":"SUM(B13:AV117)","v":374560},"datos"]
["P6241110",{"$f":"SUM(CZ10:DQ117)","v":0},"errores"]
["P6241111"]
["P6241112"]
["P6241113"]
["P6241114"]
["P6241115"]
["P6241116"]
["P6241117"]
["P6241118"]
["P6241119"]
["P6241120"]
["P6241121"]
["P6241122"]
["P6241123"]

{"sheet":"P7","index":8,"n_rows":56,"n_cols":13,"rows_kept":56,"merged":[[6,1,6,10],[22,1,22,3],[23,1,23,3],[24,1,26,1],[24,2,24,3],[25,2,25,3],[26,2,26,3],[27,1,31,1],[27,2,27,3],[28,2,28,3],[29,2,29,3],[30,2,30,3],[31,2,31,3]]}
[null,"DATOS DEL ESTABLECIMIENTO"]
[null,{"$f":"CONCATENATE(\"COMUNA: \",NOMBRE!$B$2,\" - \",\"( \",NOMBRE!$C$2,NOMBRE!$D$2,NOMBRE!$E$2,NOMBRE!$F$2,NOMBRE!$G$2,\" )\")","v":"COMUNA:  - (  )"}]
[null,{"$f":"CONCATENATE(\"ESTABLECIMIENTO/ESTRATEGIA: \",NOMBRE!$B$3,\" - \",\"( \",NOMBRE!$C$3,NOMBRE!$D$3,NOMBRE!$E$3,NOMBRE!$F$3,NOMBRE!$G$3,NOMBRE!$H$3,\" )\")","v":"ESTABLECIMIENTO/ESTRATEGIA:  - (  )"}]
[null,{"$f":"CONCATENATE(\"MES: \",NOMBRE!$B$6,\" - \",\"( \",NOMBRE!$C$6,NOMBRE!$D$6,\" )\")","v":"MES:  - (  )"}]
[null,{"$f":"CONCATENATE(\"AÑO: \",NOMBRE!$B$7)","v":"AÑO: 2023"}]
[]
[null,"REM-P7. FAMILIAS EN CONTROL DE SALUD FAMILIAR"]
[null,"SECCIÓN A. CLASIFICACIÓN DE LAS FAMILIAS SECTOR URBANO"]
[null,"CLASIFICACIÓN DE LAS FAMILIAS POR SECTOR","TOTAL","SECTOR 1","SECTOR 2","SECTOR 3","SECTOR 4","SECTOR 5","SECTOR 6","SECTOR 7","SECTOR 8"]
["P7010100","N° FAMILIAS INSCRITAS ",{"$f":"SUM(D10:K10)","v":131147},{"$f":"IFERROR(VLOOKUP($A10,Filtro!$A$5:$AY$629,3,FALSE),0)","v":61296},{"$f":"IFERROR(VLOOKUP($A10,Filtro!$A$5:$AY$629,4,FALSE),0)","v":52601},{"$f":"IFERROR(VLOOKUP($A10,Filtro!$A$5:$AY$629,5,FALSE),0)","v":17250},{"$f":"IFERROR(VLOOKUP($A10,Filtro!$A$5:$AY$629,6,FALSE),0)","v":0},{"$f":"IFERROR(VLOOKUP($A10,Filtro!$A$5:$AY$629,7,FALSE),0)","v":0},{"$f":"IFERROR(VLOOKUP($A10,Filtro!$A$5:$AY$629,8,FALSE),0)","v":0},{"$f":"IFERROR(VLOOKUP($A10,Filtro!$A$5:$AY$629,9,FALSE),0)","v":0},{"$f":"IFERROR(VLOOKUP($A10,Filtro!$A$5:$AY$629,10,FALSE),0)","v":0}]
["P7010200","N° FAMILIAS EVALUADAS CON CARTOLA/ENCUESTA FAMILIAR",{"$f":"SUM(D11:K11)","v":19288},{"$f":"IFERROR(VLOOKUP($A11,Filtro!$A$5:$AY$629,3,FALSE),0)","v":10739},{"$f":"IFERROR(VLOOKUP($A11,Filtro!$A$5:$AY$629,4,FALSE),0)","v":6958},{"$f":"IFERROR(VLOOKUP($A11,Filtro!$A$5:$AY$629,5,FALSE),0)","v":1591},{"$f":"IFERROR(VLOOKUP($A11,Filtro!$A$5:$AY$629,6,FALSE),0)","v":0},{"$f":"IFERROR(VLOOKUP($A11,Filtro!$A$5:$AY$629,7,FALSE),0)","v":0},{"$f":"IFERROR(VLOOKUP($A11,Filtro!$A$5:$AY$629,8,FALSE),0)","v":0},{"$f":"IFERROR(VLOOKUP($A11,Filtro!$A$5:$AY$629,9,FALSE),0)","v":0},{"$f":"IFERROR(VLOOKUP($A11,Filtro!$A$5:$AY$629,10,FALSE),0)","v":0}]
["P7010300","N° DE FAMILIAS EN RIESGO BAJO",{"$f":"SUM(D12:K12)","v":12794},{"$f":"IFERROR(VLOOKUP($A12,Filtro!$A$5:$AY$629,3,FALSE),0)","v":7208},{"$f":"IFERROR(VLOOKUP($A12,Filtro!$A$5:$AY$629,4,FALSE),0)","v":4666},{"$f":"IFERROR(VLOOKUP($A12,Filtro!$A$5:$AY$629,5,FALSE),0)","v":920},{"$f":"IFERROR(VLOOKUP($A12,Filtro!$A$5:$AY$629,6,FALSE),0)","v":0},{"$f":"IFERROR(VLOOKUP($A12,Filtro!$A$5:$AY$629,7,FALSE),0)","v":0},{"$f":"IFERROR(VLOOKUP($A12,Filtro!$A$5:$AY$629,8,FALSE),0)","v":0},{"$f":"IFERROR(VLOOKUP($A12,Filtro!$A$5:$AY$629,9,FALSE),0)","v":0},{"$f":"IFERROR(VLOOKUP($A12,Filtro!$A$5:$AY$629,10,FALSE),0)","v":0}]
["P7200100","N° DE FAMILIAS EN RIESGO MEDIO",{"$f":"SUM(D13:K13)","v":3799},{"$f":"IFERROR(VLOOKUP($A13,Filtro!$A$5:$AY$629,3,FALSE),0)","v":2027},{"$f":"IFERROR(VLOOKUP($A13,Filtro!$A$5:$AY$629,4,FALSE),0)","v":1220},{"$f":"IFERROR(VLOOKUP($A13,Filtro!$A$5:$AY$629,5,FALSE),0)","v":552},{"$f":"IFERROR(VLOOKUP($A13,Filtro!$A$5:$AY$629,6,FALSE),0)","v":0},{"$f":"IFERROR(VLOOKUP($A13,Filtro!$A$5:$AY$629,7,FALSE),0)","v":0},{"$f":"IFERROR(VLOOKUP($A13,Filtro!$A$5:$AY$629,8,FALSE),0)","v":0},{"$f":"IFERROR(VLOOKUP($A13,Filtro!$A$5:$AY$629,9,FALSE),0)","v":0},{"$f":"IFERROR(VLOOKUP($A13,Filtro!$A$5:$AY$629,10,FALSE),0)","v":0}]
["P7200200","N° DE FAMILIAS EN RIESGO ALTO",{"$f":"SUM(D14:K14)","v":1265},{"$f":"IFERROR(VLOOKUP($A14,Filtro!$A$5:$AY$629,3,FALSE),0)","v":776},{"$f":"IFERROR(VLOOKUP($A14,Filtro!$A$5:$AY$629,4,FALSE),0)","v":365},{"$f":"IFERROR(VLOOKUP($A14,Filtro!$A$5:$AY$629,5,FALSE),0)","v":119},{"$f":"IFERROR(VLOOKUP($A14,Filtro!$A$5:$AY$629,6,FALSE),0)","v":0},{"$f":"IFERROR(VLOOKUP($A14,Filtro!$A$5:$AY$629,7,FALSE),0)","v":5},{"$f":"IFERROR(VLOOKUP($A14,Filtro!$A$5:$AY$629,8,FALSE),0)","v":0},{"$f":"IFERROR(VLOOKUP($A14,Filtro!$A$5:$AY$629,9,FALSE),0)","v":0},{"$f":"IFERROR(VLOOKUP($A14,Filtro!$A$5:$AY$629,10,FALSE),0)","v":0}]
[null,"SECCIÓN A.1 CLASIFICACIÓN DE LAS FAMILIAS SECTOR RURAL"]
[null,"CLASIFICACIÓN DE LAS FAMILIAS POR SECTOR","TOTAL","SECTOR 1","SECTOR 2","SECTOR 3","SECTOR 4","SECTOR 5","SECTOR 6","SECTOR 7","SECTOR 8"]
["P7010400","N° FAMILIAS INSCRITAS ",{"$f":"SUM(D17:K17)","v":44636},{"$f":"IFERROR(VLOOKUP($A17,Filtro!$A$5:$AY$629,3,FALSE),0)","v":39108},{"$f":"IFERROR(VLOOKUP($A17,Filtro!$A$5:$AY$629,4,FALSE),0)","v":4546},{"$f":"IFERROR(VLOOKUP($A17,Filtro!$A$5:$AY$629,5,FALSE),0)","v":982},{"$f":"IFERROR(VLOOKUP($A17,Filtro!$A$5:$AY$629,6,FALSE),0)","v":0},{"$f":"IFERROR(VLOOKUP($A17,Filtro!$A$5:$AY$629,7,FALSE),0)","v":0},{"$f":"IFERROR(VLOOKUP($A17,Filtro!$A$5:$AY$629,8,FALSE),0)","v":0},{"$f":"IFERROR(VLOOKUP($A17,Filtro!$A$5:$AY$629,9,FALSE),0)","v":0},{"$f":"IFERROR(VLOOKUP($A17,Filtro!$A$5:$AY$629,10,FALSE),0)","v":0}]
["P7010500","N° FAMILIAS EVALUADAS CON CARTOLA/ENCUESTA FAMILIAR",{"$f":"SUM(D18:K18)","v":11282},{"$f":"IFERROR(VLOOKUP($A18,Filtro!$A$5:$AY$629,3,FALSE),0)","v":8957},{"$f":"IFERROR(VLOOKUP($A18,Filtro!$A$5:$AY$629,4,FALSE),0)","v":1860},{"$f":"IFERROR(VLOOKUP($A18,Filtro!$A$5:$AY$629,5,FALSE),0)","v":465},{"$f":"IFERROR(VLOOKUP($A18,Filtro!$A$5:$AY$629,6,FALSE),0)","v":0},{"$f":"IFERROR(VLOOKUP($A18,Filtro!$A$5:$AY$629,7,FALSE),0)","v":0},{"$f":"IFERROR(VLOOKUP($A18,Filtro!$A$5:$AY$629,8,FALSE),0)","v":0},{"$f":"IFERROR(VLOOKUP($A18,Filtro!$A$5:$AY$629,9,FALSE),0)","v":0},{"$f":"IFERROR(VLOOKUP($A18,Filtro!$A$5:$AY$629,10,FALSE),0)","v":0}]
["P7010600","N° DE FAMILIAS EN RIESGO BAJO",{"$f":"SUM(D19:K19)","v":5890},{"$f":"IFERROR(VLOOKUP($A19,Filtro!$A$5:$AY$629,3,FALSE),0)","v":4964},{"$f":"IFERROR(VLOOKUP($A19,Filtro!$A$5:$AY$629,4,FALSE),0)","v":528},{"$f":"IFERROR(VLOOKUP($A19,Filtro!$A$5:$AY$629,5,FALSE),0)","v":398},{"$f":"IFERROR(VLOOKUP($A19,Filtro!$A$5:$AY$629,6,FALSE),0)","v":0},{"$f":"IFERROR(VLOOKUP($A19,Filtro!$A$5:$AY$629,7,FALSE),0)","v":0},{"$f":"IFERROR(VLOOKUP($A19,Filtro!$A$5:$AY$629,8,FALSE),0)","v":0},{"$f":"IFERROR(VLOOKUP($A19,Filtro!$A$5:$AY$629,9,FALSE),0)","v":0},{"$f":"IFERROR(VLOOKUP($A19,Filtro!$A$5:$AY$629,10,FALSE),0)","v":0}]
["P7200300","N° DE FAMILIAS EN RIESGO MEDIO",{"$f":"SUM(D20:K20)","v":1605},{"$f":"IFERROR(VLOOKUP($A20,Filtro!$A$5:$AY$629,3,FALSE),0)","v":1324},{"$f":"IFERROR(VLOOKUP($A20,Filtro!$A$5:$AY$629,4,FALSE),0)","v":233},{"$f":"IFERROR(VLOOKUP($A20,Filtro!$A$5:$AY$629,5,FALSE),0)","v":48},{"$f":"IFERROR(VLOOKUP($A20,Filtro!$A$5:$AY$629,6,FALSE),0)","v":0},{"$f":"IFERROR(VLOOKUP($A20,Filtro!$A$5:$AY$629,7,FALSE),0)","v":0},{"$f":"IFERROR(VLOOKUP($A20,Filtro!$A$5:$AY$629,8,FALSE),0)","v":0},{"$f":"IFERROR(VLOOKUP($A20,Filtro!$A$5:$AY$629,9,FALSE),0)","v":0},{"$f":"IFERROR(VLOOKUP($A20,Filtro!$A$5:$AY$629,10,FALSE),0)","v":0}]
["P7200400","N° DE FAMILIAS EN RIESGO ALTO",{"$f":"SUM(D21:K21)","v":637},{"$f":"IFERROR(VLOOKUP($A21,Filtro!$A$5:$AY$629,3,FALSE),0)","v":556},{"$f":"IFERROR(VLOOKUP($A21,Filtro!$A$5:$AY$629,4,FALSE),0)","v":62},{"$f":"IFERROR(VLOOKUP($A21,Filtro!$A$5:$AY$629,5,FALSE),0)","v":19},{"$f":"IFERROR(VLOOKUP($A21,Filtro!$A$5:$AY$629,6,FALSE),0)","v":0},{"$f":"IFERROR(VLOOKUP($A21,Filtro!$A$5:$AY$629,7,FALSE),0)","v":0},{"$f":"IFERROR(VLOOKUP($A21,Filtro!$A$5:$AY$629,8,FALSE),0)","v":0},{"$f":"IFERROR(VLOOKUP($A21,Filtro!$A$5:$AY$629,9,FALSE),0)","v":0},{"$f":"IFERROR(VLOOKUP($A21,Filtro!$A$5:$AY$629,10,FALSE),0)","v":0}]
[null,"SECCIÓN B. INTERVENCIÓN EN FAMILIAS SECTOR URBANO Y RURAL"]
[null,"INTERVENCIÓN EN FAMILIAS",null,null,"TOTAL","SECTOR 1","SECTOR 2","SECTOR 3","SECTOR 4","SECTOR 5","SECTOR 6","SECTOR 7","SECTOR 8"]
["P7200500","N° FAMILIAS CON PLAN DE INTERVENCIÓN",null,null,{"$f":"SUM(F24:M24)","v":8314},{"$f":"IFERROR(VLOOKUP($A24,Filtro!$A$5:$AY$629,3,FALSE),0)","v":4342},{"$f":"IFERROR(VLOOKUP($A24,Filtro!$A$5:$AY$629,4,FALSE),0)","v":2490},{"$f":"IFERROR(VLOOKUP($A24,Filtro!$A$5:$AY$629,5,FALSE),0)","v":1482},{"$f":"IFERROR(VLOOKUP($A24,Filtro!$A$5:$AY$629,6,FALSE),0)","v":0},{"$f":"IFERROR(VLOOKUP($A24,Filtro!$A$5:$AY$629,7,FALSE),0)","v":0},{"$f":"IFERROR(VLOOKUP($A24,Filtro!$A$5:$AY$629,8,FALSE),0)","v":0},{"$f":"IFERROR(VLOOKUP($A24,Filtro!$A$5:$AY$629,9,FALSE),0)","v":0},{"$f":"IFERROR(VLOOKUP($A24,Filtro!$A$5:$AY$629,10,FALSE),0)","v":0}]
["P7201300","N° FAMILIAS SIN PLAN DE INTERVENCIÓN","RIESGO BAJO",null,8384,{"$f":"IFERROR(VLOOKUP($A25,Filtro!$A$5:$AY$629,3,FALSE),0)","v":6089},{"$f":"IFERROR(VLOOKUP($A25,Filtro!$A$5:$AY$629,4,FALSE),0)","v":1881},{"$f":"IFERROR(VLOOKUP($A25,Filtro!$A$5:$AY$629,5,FALSE),0)","v":414},{"$f":"IFERROR(VLOOKUP($A25,Filtro!$A$5:$AY$629,6,FALSE),0)","v":0},{"$f":"IFERROR(VLOOKUP($A25,Filtro!$A$5:$AY$629,7,FALSE),0)","v":0},{"$f":"IFERROR(VLOOKUP($A25,Filtro!$A$5:$AY$629,8,FALSE),0)","v":0},{"$f":"IFERROR(VLOOKUP($A25,Filtro!$A$5:$AY$629,9,FALSE),0)","v":0},{"$f":"IFERROR(VLOOKUP($A25,Filtro!$A$5:$AY$629,10,FALSE),0)","v":0}]
["P7201400",null,"RIESGO MEDIO",null,1668,{"$f":"IFERROR(VLOOKUP($A26,Filtro!$A$5:$AY$629,3,FALSE),0)","v":1113},{"$f":"IFERROR(VLOOKUP($A26,Filtro!$A$5:$AY$629,4,FALSE),0)","v":426},{"$f":"IFERROR(VLOOKUP($A26,Filtro!$A$5:$AY$629,5,FALSE),0)","v":129},{"$f":"IFERROR(VLOOKUP($A26,Filtro!$A$5:$AY$629,6,FALSE),0)","v":0},{"$f":"IFERROR(VLOOKUP($A26,Filtro!$A$5:$AY$629,7,FALSE),0)","v":0},{"$f":"IFERROR(VLOOKUP($A26,Filtro!$A$5:$AY$629,8,FALSE),0)","v":0},{"$f":"IFERROR(VLOOKUP($A26,Filtro!$A$5:$AY$629,9,FALSE),0)","v":0},{"$f":"IFERROR(VLOOKUP($A26,Filtro!$A$5:$AY$629,10,FALSE),0)","v":0}]
["P7201500",null,"RIESGO ALTO",null,632,{"$f":"IFERROR(VLOOKUP($A27,Filtro!$A$5:$AY$629,3,FALSE),0)","v":389},{"$f":"IFERROR(VLOOKUP($A27,Filtro!$A$5:$AY$629,4,FALSE),0)","v":155},{"$f":"IFERROR(VLOOKUP($A27,Filtro!$A$5:$AY$629,5,FALSE),0)","v":88},{"$f":"IFERROR(VLOOKUP($A27,Filtro!$A$5:$AY$629,6,FALSE),0)","v":0},{"$f":"IFERROR(VLOOKUP($A27,Filtro!$A$5:$AY$629,7,FALSE),0)","v":0},{"$f":"IFERROR(VLOOKUP($A27,Filtro!$A$5:$AY$629,8,FALSE),0)","v":0},{"$f":"IFERROR(VLOOKUP($A27,Filtro!$A$5:$AY$629,9,FALSE),0)","v":0},{"$f":"IFERROR(VLOOKUP($A27,Filtro!$A$5:$AY$629,10,FALSE),0)","v":0}]
["P7200700","N° FAMILIAS EGRESADAS DE PLANES DE INTERVENCIÓN","TOTAL DE EGRESOS",null,1845,{"$f":"IFERROR(VLOOKUP($A28,Filtro!$A$5:$AY$629,3,FALSE),0)","v":731},{"$f":"IFERROR(VLOOKUP($A28,Filtro!$A$5:$AY$629,4,FALSE),0)","v":716},{"$f":"IFERROR(VLOOKUP($A28,Filtro!$A$5:$AY$629,5,FALSE),0)","v":398},{"$f":"IFERROR(VLOOKUP($A28,Filtro!$A$5:$AY$629,6,FALSE),0)","v":0},{"$f":"IFERROR(VLOOKUP($A28,Filtro!$A$5:$AY$629,7,FALSE),0)","v":0},{"$f":"IFERROR(VLOOKUP($A28,Filtro!$A$5:$AY$629,8,FALSE),0)","v":0},{"$f":"IFERROR(VLOOKUP($A28,Filtro!$A$5:$AY$629,9,FALSE),0)","v":0},{"$f":"IFERROR(VLOOKUP($A28,Filtro!$A$5:$AY$629,10,FALSE),0)","v":0}]
["P7200800",null,"ALTA POR CUMPLIR PLAN DE INTERVENCIÓN",null,869,{"$f":"IFERROR(VLOOKUP($A29,Filtro!$A$5:$AY$629,3,FALSE),0)","v":304},{"$f":"IFERROR(VLOOKUP($A29,Filtro!$A$5:$AY$629,4,FALSE),0)","v":421},{"$f":"IFERROR(VLOOKUP($A29,Filtro!$A$5:$AY$629,5,FALSE),0)","v":144},{"$f":"IFERROR(VLOOKUP($A29,Filtro!$A$5:$AY$629,6,FALSE),0)","v":0},{"$f":"IFERROR(VLOOKUP($A29,Filtro!$A$5:$AY$629,7,FALSE),0)","v":0},{"$f":"IFERROR(VLOOKUP($A29,Filtro!$A$5:$AY$629,8,FALSE),0)","v":0},{"$f":"IFERROR(VLOOKUP($A29,Filtro!$A$5:$AY$629,9,FALSE),0)","v":0},{"$f":"IFERROR(VLOOKUP($A29,Filtro!$A$5:$AY$629,10,FALSE),0)","v":0}]
["P7200900",null,"TRASLADO DE ESTABLECIMIENTO",null,574,{"$f":"IFERROR(VLOOKUP($A30,Filtro!$A$5:$AY$629,3,FALSE),0)","v":303},{"$f":"IFERROR(VLOOKUP($A30,Filtro!$A$5:$AY$629,4,FALSE),0)","v":126},{"$f":"IFERROR(VLOOKUP($A30,Filtro!$A$5:$AY$629,5,FALSE),0)","v":145},{"$f":"IFERROR(VLOOKUP($A30,Filtro!$A$5:$AY$629,6,FALSE),0)","v":0},{"$f":"IFERROR(VLOOKUP($A30,Filtro!$A$5:$AY$629,7,FALSE),0)","v":0},{"$f":"IFERROR(VLOOKUP($A30,Filtro!$A$5:$AY$629,8,FALSE),0)","v":0},{"$f":"IFERROR(VLOOKUP($A30,Filtro!$A$5:$AY$629,9,FALSE),0)","v":0},{"$f":"IFERROR(VLOOKUP($A30,Filtro!$A$5:$AY$629,10,FALSE),0)","v":0}]
["P7201000",null,"DERIVACIÓN POR COMPLEJIDAD DEL CASO",null,{"$f":"SUM(F31:M31)","v":135},{"$f":"IFERROR(VLOOKUP($A31,Filtro!$A$5:$AY$629,3,FALSE),0)","v":52},{"$f":"IFERROR(VLOOKUP($A31,Filtro!$A$5:$AY$629,4,FALSE),0)","v":54},{"$f":"IFERROR(VLOOKUP($A31,Filtro!$A$5:$AY$629,5,FALSE),0)","v":29},{"$f":"IFERROR(VLOOKUP($A31,Filtro!$A$5:$AY$629,6,FALSE),0)","v":0},{"$f":"IFERROR(VLOOKUP($A31,Filtro!$A$5:$AY$629,7,FALSE),0)","v":0},{"$f":"IFERROR(VLOOKUP($A31,Filtro!$A$5:$AY$629,8,FALSE),0)","v":0},{"$f":"IFERROR(VLOOKUP($A31,Filtro!$A$5:$AY$629,9,FALSE),0)","v":0},{"$f":"IFERROR(VLOOKUP($A31,Filtro!$A$5:$AY$629,10,FALSE),0)","v":0}]
["P7201100",null,"POR ABANDONO",null,{"$f":"SUM(F32:M32)","v":133},{"$f":"IFERROR(VLOOKUP($A32,Filtro!$A$5:$AY$629,3,FALSE),0)","v":51},{"$f":"IFERROR(VLOOKUP($A32,Filtro!$A$5:$AY$629,4,FALSE),0)","v":60},{"$f":"IFERROR(VLOOKUP($A32,Filtro!$A$5:$AY$629,5,FALSE),0)","v":22},{"$f":"IFERROR(VLOOKUP($A32,Filtro!$A$5:$AY$629,6,FALSE),0)","v":0},{"$f":"IFERROR(VLOOKUP($A32,Filtro!$A$5:$AY$629,7,FALSE),0)","v":0},{"$f":"IFERROR(VLOOKUP($A32,Filtro!$A$5:$AY$629,8,FALSE),0)","v":0},{"$f":"IFERROR(VLOOKUP($A32,Filtro!$A$5:$AY$629,9,FALSE),0)","v":0},{"$f":"IFERROR(VLOOKUP($A32,Filtro!$A$5:$AY$629,10,FALSE),0)","v":0}]
{"$rows_empty":16}
[null,{"$f":"SUM(C10:K14,C17:K21,E24:M32)","v":509794},"datos"]
[null,{"$f":"SUM(0)","v":0},"errores"]
[]
[]
[]
[]
[]
[null,{"$f":"SUM(B8:K29)","v":508110}]

{"sheet":"P9","index":9,"n_rows":126,"n_cols":52,"rows_kept":126,"merged":[[6,3,6,17],[9,1,10,2],[9,3,9,5],[9,6,9,8],[9,9,9,11],[9,12,9,14],[9,15,9,17],[11,1,11,2],[12,1,19,1],[20,1,26,1],[27,1,30,1],[31,1,39,1],[41,1,44,2],[41,3,43,5],[41,6,43,8],[41,9,43,11],[41,12,43,14],[41,15,43,17],[45,1,45,2],[46,1,46,2],[47,1,47,2],[48,1,48,2],[49,1,49,2],[50,1,50,2],[52,1,55,2],[52,3,54,5],[52,6,54,8],[52,9,54,11],[52,12,54,14],[52,15,54,17],[57,1,57,2],[62,1,62,2],[63,1,63,2],[64,1,64,2],[65,1,65,2],[67,1,70,2],[67,3,69,5],[67,6,69,8],[67,9,69,11],[67,12,69,14],[67,15,69,17],[71,1,71,2],[72,1,72,2],[73,1,73,2],[74,1,74,2],[75,1,75,2],[76,1,76,2],[77,1,77,2],[78,1,78,2],[79,1,79,2],[80,1,80,2],[82,1,84,1],[82,2,84,2],[82,3,83,5],[82,6,83,8],[82,9,83,11],[82,12,83,14],[85,1,86,1],[87,1,88,1],[89,1,90,1],[91,1,92,1],[93,1,94,1],[95,1,96,1],[97,1,98,1]]}
[null,"DATOS DEL ESTABLECIMIENTO"]
[null,{"$f":"CONCATENATE(\"COMUNA: \",NOMBRE!$B$2,\" - \",\"( \",NOMBRE!$C$2,NOMBRE!$D$2,NOMBRE!$E$2,NOMBRE!$F$2,NOMBRE!$G$2,\" )\")","v":"COMUNA:  - (  )"}]
[null,{"$f":"CONCATENATE(\"ESTABLECIMIENTO/ESTRATEGIA: \",NOMBRE!$B$3,\" - \",\"( \",NOMBRE!$C$3,NOMBRE!$D$3,NOMBRE!$E$3,NOMBRE!$F$3,NOMBRE!$G$3,NOMBRE!$H$3,\" )\")","v":"ESTABLECIMIENTO/ESTRATEGIA:  - (  )"}]
[null,{"$f":"CONCATENATE(\"MES: \",NOMBRE!$B$6,\" - \",\"( \",NOMBRE!$C$6,NOMBRE!$D$6,\" )\")","v":"MES:  - (  )"}]
[null,{"$f":"CONCATENATE(\"AÑO: \",NOMBRE!$B$7)","v":"AÑO: 2023"}]
[]
[{"$nulls":3},"REM-P9. POBLACIÓN EN CONTROL DEL ADOLESCENTE",{"$nulls":14},{"$f":"AL7 & AM7 & AN7 & AO7 & AL6 & AM6 & AN6 & AO6","v":""}]
[]
[null,"SECCION A: POBLACIÓN EN CONTROL DE SALUD INTEGRAL DE ADOLESCENTES, SEGÚN ESTADO NUTRICIONAL"]
[null,"INDICADOR NUTRICIONAL\nY\nPARÁMETROS DE MEDICIÓN",null,"TOTAL",null,null,"Adolescentes 10 a 14 años",null,null,"Adolescentes 15 a 19 años",null,null," Pueblos Originarios",null,null," Migrantes"]
[{"$nulls":3},"Ambos\nsexos","Hombres","Mujeres","Ambos\nsexos","Hombres","Mujeres","Ambos\nsexos","Hombres","Mujeres","Ambos\nsexos","Hombres","Mujeres","Ambos\nsexos","Hombres","Mujeres",{"$f":"AL11 & AM11 & AN11 & AO11","v":""}]
["P9100100","TOTAL ADOLESCENTES EN CONTROL",null,{"$f":"SUM(E12:F12)","v":8383},{"$f":"+H12+K12","v":3723},{"$f":"+I12+L12","v":4660},{"$f":"SUM(H12:I12)","v":6260},{"$f":"IFERROR(VLOOKUP($A12,Filtro!$A$5:$AY$629,6,FALSE),0)","v":2899},{"$f":"IFERROR(VLOOKUP($A12,Filtro!$A$5:$AY$629,7,FALSE),0)","v":3361},{"$f":"SUM(K12:L12)","v":2123},{"$f":"IFERROR(VLOOKUP($A12,Filtro!$A$5:$AY$629,9,FALSE),0)","v":824},{"$f":"IFERROR(VLOOKUP($A12,Filtro!$A$5:$AY$629,10,FALSE),0)","v":1299},{"$f":"SUM(N12:O12)","v":495},{"$f":"IFERROR(VLOOKUP($A12,Filtro!$A$5:$AY$629,12,FALSE),0)","v":204},{"$f":"IFERROR(VLOOKUP($A12,Filtro!$A$5:$AY$629,13,FALSE),0)","v":291},{"$f":"SUM(Q12:R12)","v":249},{"$f":"IFERROR(VLOOKUP($A12,Filtro!$A$5:$AY$629,15,FALSE),0)","v":97},{"$f":"IFERROR(VLOOKUP($A12,Filtro!$A$5:$AY$629,16,FALSE),0)","v":152},{"$f":"AL12 & AM12 & AN12 & AO12","v":""},{"$nulls":18},{"$f":"IF($D12<$M12, \"* El Total de 'Adolescentes de Pueblos Originarios' debe ser menor o igual al Total Adolecentes 'Ambos sexos'. \", \"\")","v":""},{"$f":"IF($D12<$P12, \"* El total de 'Adolescentes de Migrantes' debe ser menor o igual al Total Adolecentes 'Ambos sexos'. \", \"\")","v":""},{"$f":"IF(AND(E12<>0,N12=\"\"),\"* No olvide escribir en la celda de 'Pueblos Originarios' (Digite CERO si no tiene). \",IF(AND(F12<>0,O12=\"\"),\"* No olvide escribir en la celda de 'Pueblos Originarios' (Digite CERO si no tiene). \",\"\"))","v":""},{"$f":"IF(AND(E12<>0,Q12=\"\"),\"* No olvide escribir en la celda de 'Población Migrantes' (Digite CERO si no tiene). \",IF(AND(F12<>0,R12=\"\"),\"* No olvide escribir en la celda de 'Población Migrantes' (Digite CERO si no tiene). \",\"\"))","v":""},{"$nulls":7},{"$f":"IF($D12<$M12, 1,0)","v":0},{"$f":"IF($D12<$P12, 1,0)","v":0},{"$f":"IF(AND(E12<>0,N12=\"\"),1,IF(AND(F12<>0,O12=\"\"),1,0))","v":0},{"$f":"IF(AND(E12<>0,Q12=\"\"),1,IF(AND(F12<>0,R12=\"\"),1,0))","v":0}]
["P9100110","INDICADOR IMC / EDAD",">+ 3 D.E. (Obesidad Severa)",387,{"$f":"+H13+K13","v":206},{"$f":"+I13+L13","v":181},283,{"$f":"IFERROR(VLOOKUP($A13,Filtro!$A$5:$AY$629,6,FALSE),0)","v":163},{"$f":"IFERROR(VLOOKUP($A13,Filtro!$A$5:$AY$629,7,FALSE),0)","v":120},104,{"$f":"IFERROR(VLOOKUP($A13,Filtro!$A$5:$AY$629,9,FALSE),0)","v":43},{"$f":"IFERROR(VLOOKUP($A13,Filtro!$A$5:$AY$629,10,FALSE),0)","v":61},30,{"$f":"IFERROR(VLOOKUP($A13,Filtro!$A$5:$AY$629,12,FALSE),0)","v":15},{"$f":"IFERROR(VLOOKUP($A13,Filtro!$A$5:$AY$629,13,FALSE),0)","v":15},4,{"$f":"IFERROR(VLOOKUP($A13,Filtro!$A$5:$AY$629,15,FALSE),0)","v":1},{"$f":"IFERROR(VLOOKUP($A13,Filtro!$A$5:$AY$629,16,FALSE),0)","v":3},{"$f":"AL13 & AM13 & AN13 & AO13","v":""},{"$nulls":18},{"$f":"IF($D13<$M13, \"* El Total de 'Adolescentes de Pueblos Originarios' debe ser menor o igual al Total Adolecentes 'Ambos sexos'. \", \"\")","v":""},{"$f":"IF($D13<$P13, \"* El total de 'Adolescentes de Migrantes' debe ser menor o igual al Total Adolecentes 'Ambos sexos'. \", \"\")","v":""},{"$f":"IF(AND(E13<>0,N13=\"\"),\"* No olvide escribir en la celda de 'Pueblos Originarios' (Digite CERO si no tiene). \",IF(AND(F13<>0,O13=\"\"),\"* No olvide escribir en la celda de 'Pueblos Originarios' (Digite CERO si no tiene). \",\"\"))","v":""},{"$f":"IF(AND(E13<>0,Q13=\"\"),\"* No olvide escribir en la celda de 'Población Migrantes' (Digite CERO si no tiene). \",IF(AND(F13<>0,R13=\"\"),\"* No olvide escribir en la celda de 'Población Migrantes' (Digite CERO si no tiene). \",\"\"))","v":""},{"$nulls":7},{"$f":"IF($D13<$M13, 1,0)","v":0},{"$f":"IF($D13<$P13, 1,0)","v":0},{"$f":"IF(AND(E13<>0,N13=\"\"),1,IF(AND(F13<>0,O13=\"\"),1,0))","v":0},{"$f":"IF(AND(E13<>0,Q13=\"\"),1,IF(AND(F13<>0,R13=\"\"),1,0))","v":0}]
["P9100120",null,"≥ +2.0 a+2,9 D.E. (Obesidad)",1731,826,905,1326,{"$f":"IFERROR(VLOOKUP($A14,Filtro!$A$5:$AY$629,6,FALSE),0)","v":683},{"$f":"IFERROR(VLOOKUP($A14,Filtro!$A$5:$AY$629,7,FALSE),0)","v":643},405,{"$f":"IFERROR(VLOOKUP($A14,Filtro!$A$5:$AY$629,9,FALSE),0)","v":143},{"$f":"IFERROR(VLOOKUP($A14,Filtro!$A$5:$AY$629,10,FALSE),0)","v":262},108,{"$f":"IFERROR(VLOOKUP($A14,Filtro!$A$5:$AY$629,12,FALSE),0)","v":34},{"$f":"IFERROR(VLOOKUP($A14,Filtro!$A$5:$AY$629,13,FALSE),0)","v":74},25,{"$f":"IFERROR(VLOOKUP($A14,Filtro!$A$5:$AY$629,15,FALSE),0)","v":6},{"$f":"IFERROR(VLOOKUP($A14,Filtro!$A$5:$AY$629,16,FALSE),0)","v":19},{"$f":"AL14 & AM14 & AN14 & AO14","v":""},{"$nulls":18},{"$f":"IF($D14<$M14, \"* El Total de 'Adolescentes de Pueblos Originarios' debe ser menor o igual al Total Adolecentes 'Ambos sexos'. \", \"\")","v":""},{"$f":"IF($D14<$P14, \"* El total de 'Adolescentes de Migrantes' debe ser menor o igual al Total Adolecentes 'Ambos sexos'. \", \"\")","v":""},{"$f":"IF(AND(E14<>0,N14=\"\"),\"* No olvide escribir en la celda de 'Pueblos Originarios' (Digite CERO si no tiene). \",IF(AND(F14<>0,O14=\"\"),\"* No olvide escribir en la celda de 'Pueblos Originarios' (Digite CERO si no tiene). \",\"\"))","v":""},{"$f":"IF(AND(E14<>0,Q14=\"\"),\"* No olvide escribir en la celda de 'Población Migrantes' (Digite CERO si no tiene). \",IF(AND(F14<>0,R14=\"\"),\"* No olvide escribir en la celda de 'Población Migrantes' (Digite CERO si no tiene). \",\"\"))","v":""},{"$nulls":7},0,0,{"$f":"IF(AND(E14<>0,N14=\"\"),1,IF(AND(F14<>0,O14=\"\"),1,0))","v":0},{"$f":"IF(AND(E14<>0,Q14=\"\"),1,IF(AND(F14<>0,R14=\"\"),1,0))","v":0}]
["P9100130",null,"≥ +1.0 a+1,9 D.E.(Sobrepeso) ",2205,884,1321,1671,{"$f":"IFERROR(VLOOKUP($A15,Filtro!$A$5:$AY$629,6,FALSE),0)","v":701},{"$f":"IFERROR(VLOOKUP($A15,Filtro!$A$5:$AY$629,7,FALSE),0)","v":970},534,{"$f":"IFERROR(VLOOKUP($A15,Filtro!$A$5:$AY$629,9,FALSE),0)","v":183},{"$f":"IFERROR(VLOOKUP($A15,Filtro!$A$5:$AY$629,10,FALSE),0)","v":351},144,{"$f":"IFERROR(VLOOKUP($A15,Filtro!$A$5:$AY$629,12,FALSE),0)","v":58},{"$f":"IFERROR(VLOOKUP($A15,Filtro!$A$5:$AY$629,13,FALSE),0)","v":86},65,{"$f":"IFERROR(VLOOKUP($A15,Filtro!$A$5:$AY$629,15,FALSE),0)","v":28},{"$f":"IFERROR(VLOOKUP($A15,Filtro!$A$5:$AY$629,16,FALSE),0)","v":37},{"$nulls":19},{"$f":"IF($D15<$M15, \"* El Total de 'Adolescentes de Pueblos Originarios' debe ser menor o igual al Total Adolecentes 'Ambos sexos'. \", \"\")","v":""},{"$f":"IF($D15<$P15, \"* El total de 'Adolescentes de Migrantes' debe ser menor o igual al Total Adolecentes 'Ambos sexos'. \", \"\")","v":""},{"$f":"IF(AND(E15<>0,N15=\"\"),\"* No olvide escribir en la celda de 'Pueblos Originarios' (Digite CERO si no tiene). \",IF(AND(F15<>0,O15=\"\"),\"* No olvide escribir en la celda de 'Pueblos Originarios' (Digite CERO si no tiene). \",\"\"))","v":""},{"$f":"IF(AND(E15<>0,Q15=\"\"),\"* No olvide escribir en la celda de 'Población Migrantes' (Digite CERO si no tiene). \",IF(AND(F15<>0,R15=\"\"),\"* No olvide escribir en la celda de 'Población Migrantes' (Digite CERO si no tiene). \",\"\"))","v":""},{"$nulls":7},0,0,{"$f":"IF(AND(E15<>0,N15=\"\"),1,IF(AND(F15<>0,O15=\"\"),1,0))","v":0},{"$f":"IF(AND(E15<>0,Q15=\"\"),1,IF(AND(F15<>0,R15=\"\"),1,0))","v":0}]
[null,null,"SUBTOTAL",{"$f":"SUM(E16:F16)","v":4323},{"$f":"+H16+K16","v":1916},2407,{"$f":"SUM(G13:G15)","v":3280},{"$f":"SUM(H13:H15)","v":1547},{"$f":"SUM(I13:I15)","v":1733},{"$f":"SUM(J13:J15)","v":1043},{"$f":"SUM(K13:K15)","v":369},674,282,107,175,94,35,59,{"$f":"AL15 & AM15 & AN15 & AO15","v":""}]
["P9100140",null,"≤ -1.0 a-1,9 D.E.(Bajo peso)",439,{"$f":"+H17+K17","v":238},{"$f":"+I17+L17","v":201},{"$f":"SUM(H17:I17)","v":304},{"$f":"IFERROR(VLOOKUP($A17,Filtro!$A$5:$AY$629,6,FALSE),0)","v":161},{"$f":"IFERROR(VLOOKUP($A17,Filtro!$A$5:$AY$629,7,FALSE),0)","v":143},{"$f":"SUM(K17:L17)","v":135},{"$f":"IFERROR(VLOOKUP($A17,Filtro!$A$5:$AY$629,9,FALSE),0)","v":77},{"$f":"IFERROR(VLOOKUP($A17,Filtro!$A$5:$AY$629,10,FALSE),0)","v":58},{"$f":"SUM(N17:O17)","v":25},{"$f":"IFERROR(VLOOKUP($A17,Filtro!$A$5:$AY$629,12,FALSE),0)","v":14},{"$f":"IFERROR(VLOOKUP($A17,Filtro!$A$5:$AY$629,13,FALSE),0)","v":11},{"$f":"SUM(Q17:R17)","v":14},{"$f":"IFERROR(VLOOKUP($A17,Filtro!$A$5:$AY$629,15,FALSE),0)","v":6},{"$f":"IFERROR(VLOOKUP($A17,Filtro!$A$5:$AY$629,16,FALSE),0)","v":8},{"$f":"AL17 & AM17 & AN17 & AO17","v":""},{"$nulls":18},{"$f":"IF($D17<$M17, \"* El Total de 'Adolescentes de Pueblos Originarios' debe ser menor o igual al Total Adolecentes 'Ambos sexos'. \", \"\")","v":""},{"$f":"IF($D17<$P17, \"* El total de 'Adolescentes de Migrantes' debe ser menor o igual al Total Adolecentes 'Ambos sexos'. \", \"\")","v":""},{"$f":"IF(AND(E17<>0,N17=\"\"),\"* No olvide escribir en la celda de 'Pueblos Originarios' (Digite CERO si no tiene). \",IF(AND(F17<>0,O17=\"\"),\"* No olvide escribir en la celda de 'Pueblos Originarios' (Digite CERO si no tiene). \",\"\"))","v":""},{"$f":"IF(AND(E17<>0,Q17=\"\"),\"* No olvide escribir en la celda de 'Población Migrantes' (Digite CERO si no tiene). \",IF(AND(F17<>0,R17=\"\"),\"* No olvide escribir en la celda de 'Población Migrantes' (Digite CERO si no tiene). \",\"\"))","v":""},{"$nulls":7},0,0,{"$f":"IF(AND(E17<>0,N17=\"\"),1,IF(AND(F17<>0,O17=\"\"),1,0))","v":0},{"$f":"IF(AND(E17<>0,Q17=\"\"),1,IF(AND(F17<>0,R17=\"\"),1,0))","v":0}]
["P9100150",null,"≤ -2.0 D.E. (Desnutrición)",80,49,31,57,{"$f":"IFERROR(VLOOKUP($A18,Filtro!$A$5:$AY$629,6,FALSE),0)","v":34},{"$f":"IFERROR(VLOOKUP($A18,Filtro!$A$5:$AY$629,7,FALSE),0)","v":23},23,{"$f":"IFERROR(VLOOKUP($A18,Filtro!$A$5:$AY$629,9,FALSE),0)","v":15},{"$f":"IFERROR(VLOOKUP($A18,Filtro!$A$5:$AY$629,10,FALSE),0)","v":8},6,{"$f":"IFERROR(VLOOKUP($A18,Filtro!$A$5:$AY$629,12,FALSE),0)","v":3},{"$f":"IFERROR(VLOOKUP($A18,Filtro!$A$5:$AY$629,13,FALSE),0)","v":3},1,{"$f":"IFERROR(VLOOKUP($A18,Filtro!$A$5:$AY$629,15,FALSE),0)","v":1},{"$f":"IFERROR(VLOOKUP($A18,Filtro!$A$5:$AY$629,16,FALSE),0)","v":0},{"$f":"AL18 & AM18 & AN18 & AO18","v":""},{"$nulls":18},{"$f":"IF($D18<$M18, \"* El Total de 'Adolescentes de Pueblos Originarios' debe ser menor o igual al Total Adolecentes 'Ambos sexos'. \", \"\")","v":""},{"$f":"IF($D18<$P18, \"* El total de 'Adolescentes de Migrantes' debe ser menor o igual al Total Adolecentes 'Ambos sexos'. \", \"\")","v":""},{"$f":"IF(AND(E18<>0,N18=\"\"),\"* No olvide escribir en la celda de 'Pueblos Originarios' (Digite CERO si no tiene). \",IF(AND(F18<>0,O18=\"\"),\"* No olvide escribir en la celda de 'Pueblos Originarios' (Digite CERO si no tiene). \",\"\"))","v":""},{"$f":"IF(AND(E18<>0,Q18=\"\"),\"* No olvide escribir en la celda de 'Población Migrantes' (Digite CERO si no tiene). \",IF(AND(F18<>0,R18=\"\"),\"* No olvide escribir en la celda de 'Población Migrantes' (Digite CERO si no tiene). \",\"\"))","v":""},{"$nulls":7},0,0,{"$f":"IF(AND(E18<>0,N18=\"\"),1,IF(AND(F18<>0,O18=\"\"),1,0))","v":0},{"$f":"IF(AND(E18<>0,Q18=\"\"),1,IF(AND(F18<>0,R18=\"\"),1,0))","v":0}]
[null,null,"SUBTOTAL",519,{"$f":"SUM(E17:E18)","v":287},232,{"$f":"SUM(G16:G18)","v":3641},{"$f":"SUM(H16:H18)","v":1742},{"$f":"SUM(I16:I18)","v":1899},{"$f":"SUM(J16:J18)","v":1201},{"$f":"SUM(K16:K18)","v":461},740,313,124,189,109,42,67]
["P9100160",null," -0.9 a+ 0.9 D.E. (Peso Normal)",3386,{"$f":"+H20+K20","v":1424},{"$f":"+I20+L20","v":1962},0,{"$f":"IFERROR(VLOOKUP($A20,Filtro!$A$5:$AY$629,6,FALSE),0)","v":1070},{"$f":"IFERROR(VLOOKUP($A20,Filtro!$A$5:$AY$629,7,FALSE),0)","v":1423},{"$f":"SUM(K20:L20)","v":893},{"$f":"IFERROR(VLOOKUP($A20,Filtro!$A$5:$AY$629,9,FALSE),0)","v":354},{"$f":"IFERROR(VLOOKUP($A20,Filtro!$A$5:$AY$629,10,FALSE),0)","v":539},{"$f":"SUM(N20:O20)","v":186},{"$f":"IFERROR(VLOOKUP($A20,Filtro!$A$5:$AY$629,12,FALSE),0)","v":79},{"$f":"IFERROR(VLOOKUP($A20,Filtro!$A$5:$AY$629,13,FALSE),0)","v":107},{"$f":"SUM(Q20:R20)","v":152},{"$f":"IFERROR(VLOOKUP($A20,Filtro!$A$5:$AY$629,15,FALSE),0)","v":63},{"$f":"IFERROR(VLOOKUP($A20,Filtro!$A$5:$AY$629,16,FALSE),0)","v":89},{"$f":"AL20 & AM20 & AN20 & AO20","v":""},{"$nulls":18},{"$f":"IF($D20<$M20, \"* El Total de 'Adolescentes de Pueblos Originarios' debe ser menor o igual al Total Adolecentes 'Ambos sexos'. \", \"\")","v":""},{"$f":"IF($D20<$P20, \"* El total de 'Adolescentes de Migrantes' debe ser menor o igual al Total Adolecentes 'Ambos sexos'. \", \"\")","v":""},{"$f":"IF(AND(E20<>0,N20=\"\"),\"* No olvide escribir en la celda de 'Pueblos Originarios' (Digite CERO si no tiene). \",IF(AND(F20<>0,O20=\"\"),\"* No olvide escribir en la celda de 'Pueblos Originarios' (Digite CERO si no tiene). \",\"\"))","v":""},{"$f":"IF(AND(E20<>0,Q20=\"\"),\"* No olvide escribir en la celda de 'Población Migrantes' (Digite CERO si no tiene). \",IF(AND(F20<>0,R20=\"\"),\"* No olvide escribir en la celda de 'Población Migrantes' (Digite CERO si no tiene). \",\"\"))","v":""},{"$nulls":7},0,0,{"$f":"IF(AND(E20<>0,N20=\"\"),1,IF(AND(F20<>0,O20=\"\"),1,0))","v":0},{"$f":"IF(AND(E20<>0,Q20=\"\"),1,IF(AND(F20<>0,R20=\"\"),1,0))","v":0}]
["P9100170","INDICADOR TALLA/EDAD","≥+ 2.0 D.E.(Talla Alta)",{"$f":"SUM(E21:F21)","v":283},{"$f":"+H21+K21","v":174},{"$f":"+I21+L21","v":109},{"$f":"SUM(H21:I21)","v":259},{"$f":"IFERROR(VLOOKUP($A21,Filtro!$A$5:$AY$629,6,FALSE),0)","v":163},{"$f":"IFERROR(VLOOKUP($A21,Filtro!$A$5:$AY$629,7,FALSE),0)","v":96},{"$f":"SUM(K21:L21)","v":24},{"$f":"IFERROR(VLOOKUP($A21,Filtro!$A$5:$AY$629,9,FALSE),0)","v":11},{"$f":"IFERROR(VLOOKUP($A21,Filtro!$A$5:$AY$629,10,FALSE),0)","v":13},{"$f":"SUM(N21:O21)","v":13},{"$f":"IFERROR(VLOOKUP($A21,Filtro!$A$5:$AY$629,12,FALSE),0)","v":7},{"$f":"IFERROR(VLOOKUP($A21,Filtro!$A$5:$AY$629,13,FALSE),0)","v":6},{"$f":"SUM(Q21:R21)","v":6},{"$f":"IFERROR(VLOOKUP($A21,Filtro!$A$5:$AY$629,15,FALSE),0)","v":4},{"$f":"IFERROR(VLOOKUP($A21,Filtro!$A$5:$AY$629,16,FALSE),0)","v":2},{"$f":"AL21 & AM21 & AN21 & AO21","v":""},{"$nulls":18},{"$f":"IF($D21<$M21, \"* El Total de 'Adolescentes de Pueblos Originarios' debe ser menor o igual al Total Adolecentes 'Ambos sexos'. \", \"\")","v":""},{"$f":"IF($D21<$P21, \"* El total de 'Adolescentes de Migrantes' debe ser menor o igual al Total Adolecentes 'Ambos sexos'. \", \"\")","v":""},{"$f":"IF(AND(E21<>0,N21=\"\"),\"* No olvide escribir en la celda de 'Pueblos Originarios' (Digite CERO si no tiene). \",IF(AND(F21<>0,O21=\"\"),\"* No olvide escribir en la celda de 'Pueblos Originarios' (Digite CERO si no tiene). \",\"\"))","v":""},{"$f":"IF(AND(E21<>0,Q21=\"\"),\"* No olvide escribir en la celda de 'Población Migrantes' (Digite CERO si no tiene). \",IF(AND(F21<>0,R21=\"\"),\"* No olvide escribir en la celda de 'Población Migrantes' (Digite CERO si no tiene). \",\"\"))","v":""},{"$nulls":7},0,0,{"$f":"IF(AND(E21<>0,N21=\"\"),1,IF(AND(F21<>0,O21=\"\"),1,0))","v":0},{"$f":"IF(AND(E21<>0,Q21=\"\"),1,IF(AND(F21<>0,R21=\"\"),1,0))","v":0}]
["P9100180",null,"+ 1.0 a+ 1.9 D.E. (Talla Normal Alta)",1090,569,521,{"$f":"SUM(H22:I22)","v":962},{"$f":"IFERROR(VLOOKUP($A22,Filtro!$A$5:$AY$629,6,FALSE),0)","v":501},{"$f":"IFERROR(VLOOKUP($A22,Filtro!$A$5:$AY$629,7,FALSE),0)","v":461},{"$f":"SUM(K22:L22)","v":128},{"$f":"IFERROR(VLOOKUP($A22,Filtro!$A$5:$AY$629,9,FALSE),0)","v":68},{"$f":"IFERROR(VLOOKUP($A22,Filtro!$A$5:$AY$629,10,FALSE),0)","v":60},{"$f":"SUM(N22:O22)","v":57},{"$f":"IFERROR(VLOOKUP($A22,Filtro!$A$5:$AY$629,12,FALSE),0)","v":25},{"$f":"IFERROR(VLOOKUP($A22,Filtro!$A$5:$AY$629,13,FALSE),0)","v":32},{"$f":"SUM(Q22:R22)","v":27},{"$f":"IFERROR(VLOOKUP($A22,Filtro!$A$5:$AY$629,15,FALSE),0)","v":15},{"$f":"IFERROR(VLOOKUP($A22,Filtro!$A$5:$AY$629,16,FALSE),0)","v":12},{"$f":"AL22 & AM22 & AN22 & AO22","v":""},{"$nulls":18},{"$f":"IF($D22<$M22, \"* El Total de 'Adolescentes de Pueblos Originarios' debe ser menor o igual al Total Adolecentes 'Ambos sexos'. \", \"\")","v":""},{"$f":"IF($D22<$P22, \"* El total de 'Adolescentes de Migrantes' debe ser menor o igual al Total Adolecentes 'Ambos sexos'. \", \"\")","v":""},{"$f":"IF(AND(E22<>0,N22=\"\"),\"* No olvide escribir en la celda de 'Pueblos Originarios' (Digite CERO si no tiene). \",IF(AND(F22<>0,O22=\"\"),\"* No olvide escribir en la celda de 'Pueblos Originarios' (Digite CERO si no tiene). \",\"\"))","v":""},{"$f":"IF(AND(E22<>0,Q22=\"\"),\"* No olvide escribir en la celda de 'Población Migrantes' (Digite CERO si no tiene). \",IF(AND(F22<>0,R22=\"\"),\"* No olvide escribir en la celda de 'Población Migrantes' (Digite CERO si no tiene). \",\"\"))","v":""},{"$nulls":7},0,0,{"$f":"IF(AND(E22<>0,N22=\"\"),1,IF(AND(F22<>0,O22=\"\"),1,0))","v":0},{"$f":"IF(AND(E22<>0,Q22=\"\"),1,IF(AND(F22<>0,R22=\"\"),1,0))","v":0}]
[null,null,"SUBTOTAL",{"$f":"SUM(E23:F23)","v":1373},{"$f":"SUM(E21:E22)","v":743},630,{"$f":"SUM(G20:G22)","v":1221},{"$f":"SUM(H20:H22)","v":1734},{"$f":"SUM(I20:I22)","v":1980},{"$f":"SUM(J20:J22)","v":1045},{"$f":"SUM(K20:K22)","v":433},612,256,111,145,185,82,103]
["P9100190",null,"- 1.0 a -1.9 D.E. (Talla Normal Baja)",{"$f":"SUM(E24:F24)","v":1079},{"$f":"+H24+K24","v":373},{"$f":"+I24+L24","v":706},{"$f":"SUM(H24:I24)","v":676},{"$f":"IFERROR(VLOOKUP($A24,Filtro!$A$5:$AY$629,6,FALSE),0)","v":264},{"$f":"IFERROR(VLOOKUP($A24,Filtro!$A$5:$AY$629,7,FALSE),0)","v":412},{"$f":"SUM(K24:L24)","v":403},{"$f":"IFERROR(VLOOKUP($A24,Filtro!$A$5:$AY$629,9,FALSE),0)","v":109},{"$f":"IFERROR(VLOOKUP($A24,Filtro!$A$5:$AY$629,10,FALSE),0)","v":294},{"$f":"SUM(N24:O24)","v":52},{"$f":"IFERROR(VLOOKUP($A24,Filtro!$A$5:$AY$629,12,FALSE),0)","v":18},{"$f":"IFERROR(VLOOKUP($A24,Filtro!$A$5:$AY$629,13,FALSE),0)","v":34},{"$f":"SUM(Q24:R24)","v":37},{"$f":"IFERROR(VLOOKUP($A24,Filtro!$A$5:$AY$629,15,FALSE),0)","v":13},{"$f":"IFERROR(VLOOKUP($A24,Filtro!$A$5:$AY$629,16,FALSE),0)","v":24},{"$f":"AL24 & AM24 & AN24 & AO24","v":""},{"$nulls":18},{"$f":"IF($D24<$M24, \"* El Total de 'Adolescentes de Pueblos Originarios' debe ser menor o igual al Total Adolecentes 'Ambos sexos'. \", \"\")","v":""},{"$f":"IF($D24<$P24, \"* El total de 'Adolescentes de Migrantes' debe ser menor o igual al Total Adolecentes 'Ambos sexos'. \", \"\")","v":""},{"$f":"IF(AND(E24<>0,N24=\"\"),\"* No olvide escribir en la celda de 'Pueblos Originarios' (Digite CERO si no tiene). \",IF(AND(F24<>0,O24=\"\"),\"* No olvide escribir en la celda de 'Pueblos Originarios' (Digite CERO si no tiene). \",\"\"))","v":""},{"$f":"IF(AND(E24<>0,Q24=\"\"),\"* No olvide escribir en la celda de 'Población Migrantes' (Digite CERO si no tiene). \",IF(AND(F24<>0,R24=\"\"),\"* No olvide escribir en la celda de 'Población Migrantes' (Digite CERO si no tiene). \",\"\"))","v":""},{"$nulls":7},0,0,{"$f":"IF(AND(E24<>0,N24=\"\"),1,IF(AND(F24<>0,O24=\"\"),1,0))","v":0},{"$f":"IF(AND(E24<>0,Q24=\"\"),1,IF(AND(F24<>0,R24=\"\"),1,0))","v":0}]
["P9100200",null,"< 2 D.E. (Talla Baja)",198,72,126,{"$f":"SUM(H25:I25)","v":126},{"$f":"IFERROR(VLOOKUP($A25,Filtro!$A$5:$AY$629,6,FALSE),0)","v":57},{"$f":"IFERROR(VLOOKUP($A25,Filtro!$A$5:$AY$629,7,FALSE),0)","v":69},{"$f":"SUM(K25:L25)","v":72},{"$f":"IFERROR(VLOOKUP($A25,Filtro!$A$5:$AY$629,9,FALSE),0)","v":15},{"$f":"IFERROR(VLOOKUP($A25,Filtro!$A$5:$AY$629,10,FALSE),0)","v":57},{"$f":"SUM(N25:O25)","v":18},{"$f":"IFERROR(VLOOKUP($A25,Filtro!$A$5:$AY$629,12,FALSE),0)","v":7},{"$f":"IFERROR(VLOOKUP($A25,Filtro!$A$5:$AY$629,13,FALSE),0)","v":11},{"$f":"SUM(Q25:R25)","v":14},{"$f":"IFERROR(VLOOKUP($A25,Filtro!$A$5:$AY$629,15,FALSE),0)","v":7},{"$f":"IFERROR(VLOOKUP($A25,Filtro!$A$5:$AY$629,16,FALSE),0)","v":7},{"$f":"AL25 & AM25 & AN25 & AO25","v":""},{"$nulls":18},{"$f":"IF($D25<$M25, \"* El Total de 'Adolescentes de Pueblos Originarios' debe ser menor o igual al Total Adolecentes 'Ambos sexos'. \", \"\")","v":""},{"$f":"IF($D25<$P25, \"* El total de 'Adolescentes de Migrantes' debe ser menor o igual al Total Adolecentes 'Ambos sexos'. \", \"\")","v":""},{"$f":"IF(AND(E25<>0,N25=\"\"),\"* No olvide escribir en la celda de 'Pueblos Originarios' (Digite CERO si no tiene). \",IF(AND(F25<>0,O25=\"\"),\"* No olvide escribir en la celda de 'Pueblos Originarios' (Digite CERO si no tiene). \",\"\"))","v":""},{"$f":"IF(AND(E25<>0,Q25=\"\"),\"* No olvide escribir en la celda de 'Población Migrantes' (Digite CERO si no tiene). \",IF(AND(F25<>0,R25=\"\"),\"* No olvide escribir en la celda de 'Población Migrantes' (Digite CERO si no tiene). \",\"\"))","v":""},{"$nulls":7},0,0,{"$f":"IF(AND(E25<>0,N25=\"\"),1,IF(AND(F25<>0,O25=\"\"),1,0))","v":0},{"$f":"IF(AND(E25<>0,Q25=\"\"),1,IF(AND(F25<>0,R25=\"\"),1,0))","v":0}]
[null,null,"SUBTOTAL",{"$f":"SUM(E26:F26)","v":1277},{"$f":"SUM(E24:E25)","v":445},832,{"$f":"SUM(G23:G25)","v":2023},{"$f":"SUM(H23:H25)","v":2055},{"$f":"SUM(I23:I25)","v":2461},{"$f":"SUM(J23:J25)","v":1520},{"$f":"SUM(K23:K25)","v":557},963,326,136,190,236,102,134]
["P9100210",null,"-0.9 a+ 0.9 D.E. (Talla Normal)",{"$f":"SUM(E27:F27)","v":4871},{"$f":"+H27+K27","v":2175},{"$f":"+I27+L27","v":2696},{"$f":"SUM(H27:I27)","v":3574},{"$f":"IFERROR(VLOOKUP($A27,Filtro!$A$5:$AY$629,6,FALSE),0)","v":1607},{"$f":"IFERROR(VLOOKUP($A27,Filtro!$A$5:$AY$629,7,FALSE),0)","v":1967},{"$f":"SUM(K27:L27)","v":1297},{"$f":"IFERROR(VLOOKUP($A27,Filtro!$A$5:$AY$629,9,FALSE),0)","v":568},{"$f":"IFERROR(VLOOKUP($A27,Filtro!$A$5:$AY$629,10,FALSE),0)","v":729},{"$f":"SUM(N27:O27)","v":302},{"$f":"IFERROR(VLOOKUP($A27,Filtro!$A$5:$AY$629,12,FALSE),0)","v":123},{"$f":"IFERROR(VLOOKUP($A27,Filtro!$A$5:$AY$629,13,FALSE),0)","v":179},{"$f":"SUM(Q27:R27)","v":159},{"$f":"IFERROR(VLOOKUP($A27,Filtro!$A$5:$AY$629,15,FALSE),0)","v":59},{"$f":"IFERROR(VLOOKUP($A27,Filtro!$A$5:$AY$629,16,FALSE),0)","v":100},{"$f":"AL27 & AM27 & AN27 & AO27","v":""},{"$nulls":18},{"$f":"IF($D27<$M27, \"* El Total de 'Adolescentes de Pueblos Originarios' debe ser menor o igual al Total Adolecentes 'Ambos sexos'. \", \"\")","v":""},{"$f":"IF($D27<$P27, \"* El total de 'Adolescentes de Migrantes' debe ser menor o igual al Total Adolecentes 'Ambos sexos'. \", \"\")","v":""},{"$f":"IF(AND(E27<>0,N27=\"\"),\"* No olvide escribir en la celda de 'Pueblos Originarios' (Digite CERO si no tiene). \",IF(AND(F27<>0,O27=\"\"),\"* No olvide escribir en la celda de 'Pueblos Originarios' (Digite CERO si no tiene). \",\"\"))","v":""},{"$f":"IF(AND(E27<>0,Q27=\"\"),\"* No olvide escribir en la celda de 'Población Migrantes' (Digite CERO si no tiene). \",IF(AND(F27<>0,R27=\"\"),\"* No olvide escribir en la celda de 'Población Migrantes' (Digite CERO si no tiene). \",\"\"))","v":""},{"$nulls":7},0,0,{"$f":"IF(AND(E27<>0,N27=\"\"),1,IF(AND(F27<>0,O27=\"\"),1,0))","v":0},{"$f":"IF(AND(E27<>0,Q27=\"\"),1,IF(AND(F27<>0,R27=\"\"),1,0))","v":0}]
["P9100220","RANGOS PERCENTILARES PARA CIRCUNFERENCIA DE CINTURA","NORMAL (p<75)",3985,{"$f":"+H28+K28","v":1730},{"$f":"+I28+L28","v":2255},{"$f":"SUM(H28:I28)","v":2860},{"$f":"IFERROR(VLOOKUP($A28,Filtro!$A$5:$AY$629,6,FALSE),0)","v":1260},{"$f":"IFERROR(VLOOKUP($A28,Filtro!$A$5:$AY$629,7,FALSE),0)","v":1600},{"$f":"SUM(K28:L28)","v":1125},{"$f":"IFERROR(VLOOKUP($A28,Filtro!$A$5:$AY$629,9,FALSE),0)","v":470},{"$f":"IFERROR(VLOOKUP($A28,Filtro!$A$5:$AY$629,10,FALSE),0)","v":655},{"$f":"SUM(N28:O28)","v":238},{"$f":"IFERROR(VLOOKUP($A28,Filtro!$A$5:$AY$629,12,FALSE),0)","v":102},{"$f":"IFERROR(VLOOKUP($A28,Filtro!$A$5:$AY$629,13,FALSE),0)","v":136},{"$f":"SUM(Q28:R28)","v":182},{"$f":"IFERROR(VLOOKUP($A28,Filtro!$A$5:$AY$629,15,FALSE),0)","v":74},{"$f":"IFERROR(VLOOKUP($A28,Filtro!$A$5:$AY$629,16,FALSE),0)","v":108},{"$f":"AL28 & AM28 & AN28 & AO28","v":""},{"$nulls":18},{"$f":"IF($D28<$M28, \"* El Total de 'Adolescentes de Pueblos Originarios' debe ser menor o igual al Total Adolecentes 'Ambos sexos'. \", \"\")","v":""},{"$f":"IF($D28<$P28, \"* El total de 'Adolescentes de Migrantes' debe ser menor o igual al Total Adolecentes 'Ambos sexos'. \", \"\")","v":""},{"$f":"IF(AND(E28<>0,N28=\"\"),\"* No olvide escribir en la celda de 'Pueblos Originarios' (Digite CERO si no tiene). \",IF(AND(F28<>0,O28=\"\"),\"* No olvide escribir en la celda de 'Pueblos Originarios' (Digite CERO si no tiene). \",\"\"))","v":""},{"$f":"IF(AND(E28<>0,Q28=\"\"),\"* No olvide escribir en la celda de 'Población Migrantes' (Digite CERO si no tiene). \",IF(AND(F28<>0,R28=\"\"),\"* No olvide escribir en la celda de 'Población Migrantes' (Digite CERO si no tiene). \",\"\"))","v":""},{"$nulls":7},0,0,{"$f":"IF(AND(E28<>0,N28=\"\"),1,IF(AND(F28<>0,O28=\"\"),1,0))","v":0},{"$f":"IF(AND(E28<>0,Q28=\"\"),1,IF(AND(F28<>0,R28=\"\"),1,0))","v":0}]
["P9100230",null,"RIESGO DE OBESIDAD (p75<p<90)",1752,775,977,{"$f":"SUM(H29:I29)","v":1329},{"$f":"IFERROR(VLOOKUP($A29,Filtro!$A$5:$AY$629,6,FALSE),0)","v":621},{"$f":"IFERROR(VLOOKUP($A29,Filtro!$A$5:$AY$629,7,FALSE),0)","v":708},{"$f":"SUM(K29:L29)","v":423},{"$f":"IFERROR(VLOOKUP($A29,Filtro!$A$5:$AY$629,9,FALSE),0)","v":154},{"$f":"IFERROR(VLOOKUP($A29,Filtro!$A$5:$AY$629,10,FALSE),0)","v":269},{"$f":"SUM(N29:O29)","v":101},{"$f":"IFERROR(VLOOKUP($A29,Filtro!$A$5:$AY$629,12,FALSE),0)","v":38},{"$f":"IFERROR(VLOOKUP($A29,Filtro!$A$5:$AY$629,13,FALSE),0)","v":63},{"$f":"SUM(Q29:R29)","v":47},{"$f":"IFERROR(VLOOKUP($A29,Filtro!$A$5:$AY$629,15,FALSE),0)","v":22},{"$f":"IFERROR(VLOOKUP($A29,Filtro!$A$5:$AY$629,16,FALSE),0)","v":25},{"$f":"AL29 & AM29 & AN29 & AO29","v":""},{"$nulls":18},{"$f":"IF($D29<$M29, \"* El Total de 'Adolescentes de Pueblos Originarios' debe ser menor o igual al Total Adolecentes 'Ambos sexos'. \", \"\")","v":""},{"$f":"IF($D29<$P29, \"* El total de 'Adolescentes de Migrantes' debe ser menor o igual al Total Adolecentes 'Ambos sexos'. \", \"\")","v":""},{"$f":"IF(AND(E29<>0,N29=\"\"),\"* No olvide escribir en la celda de 'Pueblos Originarios' (Digite CERO si no tiene). \",IF(AND(F29<>0,O29=\"\"),\"* No olvide escribir en la celda de 'Pueblos Originarios' (Digite CERO si no tiene). \",\"\"))","v":""},{"$f":"IF(AND(E29<>0,Q29=\"\"),\"* No olvide escribir en la celda de 'Población Migrantes' (Digite CERO si no tiene). \",IF(AND(F29<>0,R29=\"\"),\"* No olvide escribir en la celda de 'Población Migrantes' (Digite CERO si no tiene). \",\"\"))","v":""},{"$nulls":7},0,0,{"$f":"IF(AND(E29<>0,N29=\"\"),1,IF(AND(F29<>0,O29=\"\"),1,0))","v":0},{"$f":"IF(AND(E29<>0,Q29=\"\"),1,IF(AND(F29<>0,R29=\"\"),1,0))","v":0}]
["P9100240",null,"OBESIDAD ABDOMINAL p>90)",1804,865,939,{"$f":"SUM(H30:I30)","v":1431},{"$f":"IFERROR(VLOOKUP($A30,Filtro!$A$5:$AY$629,6,FALSE),0)","v":721},{"$f":"IFERROR(VLOOKUP($A30,Filtro!$A$5:$AY$629,7,FALSE),0)","v":710},{"$f":"SUM(K30:L30)","v":373},{"$f":"IFERROR(VLOOKUP($A30,Filtro!$A$5:$AY$629,9,FALSE),0)","v":144},{"$f":"IFERROR(VLOOKUP($A30,Filtro!$A$5:$AY$629,10,FALSE),0)","v":229},{"$f":"SUM(N30:O30)","v":125},{"$f":"IFERROR(VLOOKUP($A30,Filtro!$A$5:$AY$629,12,FALSE),0)","v":45},{"$f":"IFERROR(VLOOKUP($A30,Filtro!$A$5:$AY$629,13,FALSE),0)","v":80},{"$f":"SUM(Q30:R30)","v":22},{"$f":"IFERROR(VLOOKUP($A30,Filtro!$A$5:$AY$629,15,FALSE),0)","v":9},{"$f":"IFERROR(VLOOKUP($A30,Filtro!$A$5:$AY$629,16,FALSE),0)","v":13},{"$f":"AL30 & AM30 & AN30 & AO30","v":""},{"$nulls":18},{"$f":"IF($D30<$M30, \"* El Total de 'Adolescentes de Pueblos Originarios' debe ser menor o igual al Total Adolecentes 'Ambos sexos'. \", \"\")","v":""},{"$f":"IF($D30<$P30, \"* El total de 'Adolescentes de Migrantes' debe ser menor o igual al Total Adolecentes 'Ambos sexos'. \", \"\")","v":""},{"$f":"IF(AND(E30<>0,N30=\"\"),\"* No olvide escribir en la celda de 'Pueblos Originarios' (Digite CERO si no tiene). \",IF(AND(F30<>0,O30=\"\"),\"* No olvide escribir en la celda de 'Pueblos Originarios' (Digite CERO si no tiene). \",\"\"))","v":""},{"$f":"IF(AND(E30<>0,Q30=\"\"),\"* No olvide escribir en la celda de 'Población Migrantes' (Digite CERO si no tiene). \",IF(AND(F30<>0,R30=\"\"),\"* No olvide escribir en la celda de 'Población Migrantes' (Digite CERO si no tiene). \",\"\"))","v":""},{"$nulls":7},0,0,{"$f":"IF(AND(E30<>0,N30=\"\"),1,IF(AND(F30<>0,O30=\"\"),1,0))","v":0},{"$f":"IF(AND(E30<>0,Q30=\"\"),1,IF(AND(F30<>0,R30=\"\"),1,0))","v":0}]
[null,null,"TOTAL",{"$f":"SUM(E31:F31)","v":3556},{"$f":"SUM(E29:E30)","v":1640},1916,{"$f":"SUM(G28:G30)","v":5620},{"$f":"SUM(H28:H30)","v":2602},{"$f":"SUM(I28:I30)","v":3018},{"$f":"SUM(J28:J30)","v":1921},{"$f":"SUM(K28:K30)","v":768},1153,464,185,279,251,105,146]
["P9100250","DIAGNOSTICO NUTRICIONAL INTEGRADO","DEFICIT PONDERADO BAJO PESO",{"$f":"SUM(E32:F32)","v":438},{"$f":"+H32+K32","v":237},{"$f":"+I32+L32","v":201},{"$f":"SUM(H32:I32)","v":302},{"$f":"IFERROR(VLOOKUP($A32,Filtro!$A$5:$AY$629,6,FALSE),0)","v":157},{"$f":"IFERROR(VLOOKUP($A32,Filtro!$A$5:$AY$629,7,FALSE),0)","v":145},{"$f":"SUM(K32:L32)","v":136},{"$f":"IFERROR(VLOOKUP($A32,Filtro!$A$5:$AY$629,9,FALSE),0)","v":80},{"$f":"IFERROR(VLOOKUP($A32,Filtro!$A$5:$AY$629,10,FALSE),0)","v":56},{"$f":"SUM(N32:O32)","v":23},{"$f":"IFERROR(VLOOKUP($A32,Filtro!$A$5:$AY$629,12,FALSE),0)","v":14},{"$f":"IFERROR(VLOOKUP($A32,Filtro!$A$5:$AY$629,13,FALSE),0)","v":9},{"$f":"SUM(Q32:R32)","v":13},{"$f":"IFERROR(VLOOKUP($A32,Filtro!$A$5:$AY$629,15,FALSE),0)","v":6},{"$f":"IFERROR(VLOOKUP($A32,Filtro!$A$5:$AY$629,16,FALSE),0)","v":7},{"$f":"AL32 & AM32 & AN32 & AO32","v":""},{"$nulls":18},{"$f":"IF($D32<$M32, \"* El Total de 'Adolescentes de Pueblos Originarios' debe ser menor o igual al Total Adolecentes 'Ambos sexos'. \", \"\")","v":""},{"$f":"IF($D32<$P32, \"* El total de 'Adolescentes de Migrantes' debe ser menor o igual al Total Adolecentes 'Ambos sexos'. \", \"\")","v":""},{"$f":"IF(AND(E32<>0,N32=\"\"),\"* No olvide escribir en la celda de 'Pueblos Originarios' (Digite CERO si no tiene). \",IF(AND(F32<>0,O32=\"\"),\"* No olvide escribir en la celda de 'Pueblos Originarios' (Digite CERO si no tiene). \",\"\"))","v":""},{"$f":"IF(AND(E32<>0,Q32=\"\"),\"* No olvide escribir en la celda de 'Población Migrantes' (Digite CERO si no tiene). \",IF(AND(F32<>0,R32=\"\"),\"* No olvide escribir en la celda de 'Población Migrantes' (Digite CERO si no tiene). \",\"\"))","v":""},{"$nulls":7},0,0,{"$f":"IF(AND(E32<>0,N32=\"\"),1,IF(AND(F32<>0,O32=\"\"),1,0))","v":0},{"$f":"IF(AND(E32<>0,Q32=\"\"),1,IF(AND(F32<>0,R32=\"\"),1,0))","v":0}]
["P9100260",null,"DESNUTRIDO",77,47,30,54,{"$f":"IFERROR(VLOOKUP($A33,Filtro!$A$5:$AY$629,6,FALSE),0)","v":32},{"$f":"IFERROR(VLOOKUP($A33,Filtro!$A$5:$AY$629,7,FALSE),0)","v":22},23,{"$f":"IFERROR(VLOOKUP($A33,Filtro!$A$5:$AY$629,9,FALSE),0)","v":15},{"$f":"IFERROR(VLOOKUP($A33,Filtro!$A$5:$AY$629,10,FALSE),0)","v":8},7,{"$f":"IFERROR(VLOOKUP($A33,Filtro!$A$5:$AY$629,12,FALSE),0)","v":3},{"$f":"IFERROR(VLOOKUP($A33,Filtro!$A$5:$AY$629,13,FALSE),0)","v":4},1,{"$f":"IFERROR(VLOOKUP($A33,Filtro!$A$5:$AY$629,15,FALSE),0)","v":1},{"$f":"IFERROR(VLOOKUP($A33,Filtro!$A$5:$AY$629,16,FALSE),0)","v":0},"",{"$nulls":18},"","","","",{"$nulls":7},0,0,0,0]
["P9100270",null,"SOBREPESO / RIESGO OBESIDAD",2223,889,1334,1690,{"$f":"IFERROR(VLOOKUP($A34,Filtro!$A$5:$AY$629,6,FALSE),0)","v":710},{"$f":"IFERROR(VLOOKUP($A34,Filtro!$A$5:$AY$629,7,FALSE),0)","v":980},533,{"$f":"IFERROR(VLOOKUP($A34,Filtro!$A$5:$AY$629,9,FALSE),0)","v":179},{"$f":"IFERROR(VLOOKUP($A34,Filtro!$A$5:$AY$629,10,FALSE),0)","v":354},135,{"$f":"IFERROR(VLOOKUP($A34,Filtro!$A$5:$AY$629,12,FALSE),0)","v":54},{"$f":"IFERROR(VLOOKUP($A34,Filtro!$A$5:$AY$629,13,FALSE),0)","v":81},70,{"$f":"IFERROR(VLOOKUP($A34,Filtro!$A$5:$AY$629,15,FALSE),0)","v":30},{"$f":"IFERROR(VLOOKUP($A34,Filtro!$A$5:$AY$629,16,FALSE),0)","v":40},"",{"$nulls":18},"","","","",{"$nulls":7},0,0,0,0]
["P9100280",null,"OBESO",1710,806,904,1308,{"$f":"IFERROR(VLOOKUP($A35,Filtro!$A$5:$AY$629,6,FALSE),0)","v":666},{"$f":"IFERROR(VLOOKUP($A35,Filtro!$A$5:$AY$629,7,FALSE),0)","v":642},402,{"$f":"IFERROR(VLOOKUP($A35,Filtro!$A$5:$AY$629,9,FALSE),0)","v":140},{"$f":"IFERROR(VLOOKUP($A35,Filtro!$A$5:$AY$629,10,FALSE),0)","v":262},113,{"$f":"IFERROR(VLOOKUP($A35,Filtro!$A$5:$AY$629,12,FALSE),0)","v":40},{"$f":"IFERROR(VLOOKUP($A35,Filtro!$A$5:$AY$629,13,FALSE),0)","v":73},25,{"$f":"IFERROR(VLOOKUP($A35,Filtro!$A$5:$AY$629,15,FALSE),0)","v":8},{"$f":"IFERROR(VLOOKUP($A35,Filtro!$A$5:$AY$629,16,FALSE),0)","v":17},"",{"$nulls":18},"","","","",{"$nulls":7},0,0,0,0]
["P9100290",null,"OBESO SEVERO",358,198,160,263,{"$f":"IFERROR(VLOOKUP($A36,Filtro!$A$5:$AY$629,6,FALSE),0)","v":161},{"$f":"IFERROR(VLOOKUP($A36,Filtro!$A$5:$AY$629,7,FALSE),0)","v":102},95,{"$f":"IFERROR(VLOOKUP($A36,Filtro!$A$5:$AY$629,9,FALSE),0)","v":37},{"$f":"IFERROR(VLOOKUP($A36,Filtro!$A$5:$AY$629,10,FALSE),0)","v":58},29,{"$f":"IFERROR(VLOOKUP($A36,Filtro!$A$5:$AY$629,12,FALSE),0)","v":15},{"$f":"IFERROR(VLOOKUP($A36,Filtro!$A$5:$AY$629,13,FALSE),0)","v":14},5,{"$f":"IFERROR(VLOOKUP($A36,Filtro!$A$5:$AY$629,15,FALSE),0)","v":2},{"$f":"IFERROR(VLOOKUP($A36,Filtro!$A$5:$AY$629,16,FALSE),0)","v":3},"",{"$nulls":18},"","","","",{"$nulls":7},0,0,0,0]
["P9100300",null,"NORMAL O EUTROFIA",3425,1463,1962,2557,{"$f":"IFERROR(VLOOKUP($A37,Filtro!$A$5:$AY$629,6,FALSE),0)","v":1118},{"$f":"IFERROR(VLOOKUP($A37,Filtro!$A$5:$AY$629,7,FALSE),0)","v":1439},868,{"$f":"IFERROR(VLOOKUP($A37,Filtro!$A$5:$AY$629,9,FALSE),0)","v":345},{"$f":"IFERROR(VLOOKUP($A37,Filtro!$A$5:$AY$629,10,FALSE),0)","v":523},193,{"$f":"IFERROR(VLOOKUP($A37,Filtro!$A$5:$AY$629,12,FALSE),0)","v":77},{"$f":"IFERROR(VLOOKUP($A37,Filtro!$A$5:$AY$629,13,FALSE),0)","v":116},157,{"$f":"IFERROR(VLOOKUP($A37,Filtro!$A$5:$AY$629,15,FALSE),0)","v":64},{"$f":"IFERROR(VLOOKUP($A37,Filtro!$A$5:$AY$629,16,FALSE),0)","v":93},"",{"$nulls":18},"","","","",{"$nulls":7},0,0,0,0]
[null,null,"SUBTOTAL",{"$f":"SUM(E38:F38)","v":3783},{"$f":"SUM(E36:E37)","v":1661},2122,{"$f":"SUM(G35:G37)","v":4128},{"$f":"SUM(H35:H37)","v":1945},{"$f":"SUM(I35:I37)","v":2183},{"$f":"SUM(J35:J37)","v":1365},{"$f":"SUM(K35:K37)","v":522},843,335,132,203,187,74,113]
["P9100310",null,"DESNUTRICIÓN \nSECUNDARIA",{"$f":"SUM(E39:F39)","v":4},{"$f":"+H39+K39","v":2},{"$f":"+I39+L39","v":2},{"$f":"SUM(H39:I39)","v":4},{"$f":"IFERROR(VLOOKUP($A39,Filtro!$A$5:$AY$629,6,FALSE),0)","v":2},{"$f":"IFERROR(VLOOKUP($A39,Filtro!$A$5:$AY$629,7,FALSE),0)","v":2},{"$f":"SUM(K39:L39)","v":0},{"$f":"IFERROR(VLOOKUP($A39,Filtro!$A$5:$AY$629,9,FALSE),0)","v":0},{"$f":"IFERROR(VLOOKUP($A39,Filtro!$A$5:$AY$629,10,FALSE),0)","v":0},{"$f":"SUM(N39:O39)","v":0},{"$f":"IFERROR(VLOOKUP($A39,Filtro!$A$5:$AY$629,12,FALSE),0)","v":0},{"$f":"IFERROR(VLOOKUP($A39,Filtro!$A$5:$AY$629,13,FALSE),0)","v":0},{"$f":"SUM(Q39:R39)","v":0},{"$f":"IFERROR(VLOOKUP($A39,Filtro!$A$5:$AY$629,15,FALSE),0)","v":0},{"$f":"IFERROR(VLOOKUP($A39,Filtro!$A$5:$AY$629,16,FALSE),0)","v":0},{"$f":"AL39 & AM39 & AN39 & AO39","v":""},{"$nulls":18},{"$f":"IF($D39<$M39, \"* El Total de 'Adolescentes de Pueblos Originarios' debe ser menor o igual al Total Adolecentes 'Ambos sexos'. \", \"\")","v":""},{"$f":"IF($D39<$P39, \"* El total de 'Adolescentes de Migrantes' debe ser menor o igual al Total Adolecentes 'Ambos sexos'. \", \"\")","v":""},{"$f":"IF(AND(E39<>0,N39=\"\"),\"* No olvide escribir en la celda de 'Pueblos Originarios' (Digite CERO si no tiene). \",IF(AND(F39<>0,O39=\"\"),\"* No olvide escribir en la celda de 'Pueblos Originarios' (Digite CERO si no tiene). \",\"\"))","v":""},{"$f":"IF(AND(E39<>0,Q39=\"\"),\"* No olvide escribir en la celda de 'Población Migrantes' (Digite CERO si no tiene). \",IF(AND(F39<>0,R39=\"\"),\"* No olvide escribir en la celda de 'Población Migrantes' (Digite CERO si no tiene). \",\"\"))","v":""},{"$nulls":7},0,0,{"$f":"IF(AND(E39<>0,N39=\"\"),1,IF(AND(F39<>0,O39=\"\"),1,0))","v":0},{"$f":"IF(AND(E39<>0,Q39=\"\"),1,IF(AND(F39<>0,R39=\"\"),1,0))","v":0}]
[null,null,"T O T A L",{"$f":"SUM(D32:D37)+D39","v":8235},{"$f":"SUM(E32:E37)+E39","v":3642},4593,6178,{"$f":"SUM(H32:H37)+H39","v":2846},3332,2057,{"$f":"SUM(K32:K37)+K39","v":796},1261,500,203,297,271,111,160]
[null,"SECCION B: POBLACIÓN EN CONTROL SALUD INTEGRAL DE ADOLESCENTES, SEGÚN EDUCACIÓN Y TRABAJO"]
[null,"Estudio/trabajo",null,"TOTAL",null,null,"Adolescentes 10-14 años",null,null,"Adolescentes 15 - 19 años",null,null," Pueblos Originarios",null,null," Migrantes"]
[]
[]
[{"$nulls":3},"Ambos sexos","Hombre","Mujer","Ambos sexos","Hombre","Mujer","Ambos sexos","Hombre","Mujer","Ambos sexos","Hombre","Mujer","Ambos sexos","Hombre","Mujer"]
["P9100320","ESTUDIA",null,{"$f":"SUM(E46:F46)","v":8161},{"$f":"+H46+K46","v":3637},{"$f":"+I46+L46","v":4524},{"$f":"SUM(H46:I46)","v":6174},{"$f":"IFERROR(VLOOKUP($A46,Filtro!$A$5:$AY$629,6,FALSE),0)","v":2852},{"$f":"IFERROR(VLOOKUP($A46,Filtro!$A$5:$AY$629,7,FALSE),0)","v":3322},{"$f":"SUM(K46:L46)","v":1987},{"$f":"IFERROR(VLOOKUP($A46,Filtro!$A$5:$AY$629,9,FALSE),0)","v":785},{"$f":"IFERROR(VLOOKUP($A46,Filtro!$A$5:$AY$629,10,FALSE),0)","v":1202},{"$f":"SUM(N46:O46)","v":484},{"$f":"IFERROR(VLOOKUP($A46,Filtro!$A$5:$AY$629,12,FALSE),0)","v":189},{"$f":"IFERROR(VLOOKUP($A46,Filtro!$A$5:$AY$629,13,FALSE),0)","v":295},{"$f":"SUM(Q46:R46)","v":279},{"$f":"IFERROR(VLOOKUP($A46,Filtro!$A$5:$AY$629,15,FALSE),0)","v":110},{"$f":"IFERROR(VLOOKUP($A46,Filtro!$A$5:$AY$629,16,FALSE),0)","v":169},{"$f":"AK46 & \" \" & AL46 & AM46 & AN46 & AO46","v":" "},{"$nulls":17},{"$f":"IF($D$12<$D46, \"* El total de Adolescentes según educacion y trabajono puede ser mayor al total de Adolescentes en control. \", \"\")","v":""},{"$f":"IF($D46<$M46, \"* El total de Adolescentes de Pueblos Originarios no puede ser mayor al total de Adolescentes. \", \"\")","v":""},{"$f":"IF($D46<$P46, \"* El total de Adolescentes de Migrantes no puede ser mayor al total de Adolescentes. \", \"\")","v":""},{"$f":"IF(AND(E46<>0,N46=\"\"),\"* No olvide escribir en la celda de Pueblos Originarios (Digite CERO si no tiene). \",IF(AND(F46<>0,O46=\"\"),\"* No olvide escribir en la celda de Pueblos Originarios (Digite CERO si no tiene). \",\"\"))","v":""},{"$f":"IF(AND(E46<>0,Q46=\"\"),\"* No olvide escribir en la celda de Población Migrantes (Digite CERO si no tiene). \",IF(AND(F46<>0,R46=\"\"),\"* No olvide escribir en la celda de Población Migrantes (Digite CERO si no tiene). \",\"\"))","v":""},{"$nulls":6},{"$f":"IF($D$12<$D46, 1,0)","v":0},{"$f":"IF($D46<$M46, 1,0)","v":0},{"$f":"IF($D46<$P46, 1,0)","v":0},{"$f":"IF(AND(E46<>0,N46=\"\"),1,IF(AND(F46<>0,O46=\"\"),1,0))","v":0},{"$f":"IF(AND(E46<>0,Q46=\"\"),1,IF(AND(F46<>0,R46=\"\"),1,0))","v":0}]
["P9100330","DESERCIÓN ESCOLAR",null,74,{"$f":"+H47+K47","v":40},{"$f":"+I47+L47","v":34},24,{"$f":"IFERROR(VLOOKUP($A47,Filtro!$A$5:$AY$629,6,FALSE),0)","v":14},{"$f":"IFERROR(VLOOKUP($A47,Filtro!$A$5:$AY$629,7,FALSE),0)","v":10},50,{"$f":"IFERROR(VLOOKUP($A47,Filtro!$A$5:$AY$629,9,FALSE),0)","v":26},{"$f":"IFERROR(VLOOKUP($A47,Filtro!$A$5:$AY$629,10,FALSE),0)","v":24},8,{"$f":"IFERROR(VLOOKUP($A47,Filtro!$A$5:$AY$629,12,FALSE),0)","v":6},{"$f":"IFERROR(VLOOKUP($A47,Filtro!$A$5:$AY$629,13,FALSE),0)","v":2},5,{"$f":"IFERROR(VLOOKUP($A47,Filtro!$A$5:$AY$629,15,FALSE),0)","v":2},{"$f":"IFERROR(VLOOKUP($A47,Filtro!$A$5:$AY$629,16,FALSE),0)","v":3}," ",{"$nulls":17},{"$f":"IF($D$12<$D47, \"* El total de Adolescentes según educacion y trabajo no puede ser mayor al total de Adolescentes en control. \", \"\")","v":""},"","","","",{"$nulls":6},{"$f":"IF($D$12<$D47, 1,0)","v":0},0,0,0,0]
["P9100340","TRABAJO INFANTIL",null,14,{"$f":"+H48","v":10},{"$f":"+I48","v":4},14,{"$f":"IFERROR(VLOOKUP($A48,Filtro!$A$5:$AY$629,6,FALSE),0)","v":10},{"$f":"IFERROR(VLOOKUP($A48,Filtro!$A$5:$AY$629,7,FALSE),0)","v":4},{"$f":"SUM(K48:L48)","v":0},0,0,1,{"$f":"IFERROR(VLOOKUP($A48,Filtro!$A$5:$AY$629,12,FALSE),0)","v":1},{"$f":"IFERROR(VLOOKUP($A48,Filtro!$A$5:$AY$629,13,FALSE),0)","v":0},1,{"$f":"IFERROR(VLOOKUP($A48,Filtro!$A$5:$AY$629,15,FALSE),0)","v":1},{"$f":"IFERROR(VLOOKUP($A48,Filtro!$A$5:$AY$629,16,FALSE),0)","v":0}," ",{"$nulls":17},{"$f":"IF($D$12<$D48, \"* El total de Adolescentes según educacion y trabajo no puede ser mayor al total de Adolescentes en control. \", \"\")","v":""},"","","","",{"$nulls":6},0,0,0,0,0]
["P9100350","TRABAJO JUVENIL",null,{"$f":"SUM(E49:F49)","v":124},{"$f":"+K49","v":66},{"$f":"+L49","v":58},{"$f":"SUM(H49:I49)","v":0},0,0,124,{"$f":"IFERROR(VLOOKUP($A49,Filtro!$A$5:$AY$629,9,FALSE),0)","v":66},{"$f":"IFERROR(VLOOKUP($A49,Filtro!$A$5:$AY$629,10,FALSE),0)","v":58},8,{"$f":"IFERROR(VLOOKUP($A49,Filtro!$A$5:$AY$629,12,FALSE),0)","v":5},{"$f":"IFERROR(VLOOKUP($A49,Filtro!$A$5:$AY$629,13,FALSE),0)","v":3},2,{"$f":"IFERROR(VLOOKUP($A49,Filtro!$A$5:$AY$629,15,FALSE),0)","v":0},{"$f":"IFERROR(VLOOKUP($A49,Filtro!$A$5:$AY$629,16,FALSE),0)","v":2}," ",{"$nulls":17},{"$f":"IF($D$12<$D49, \"* El total de Adolescentes según educacion y trabajo no puede ser mayor al total de Adolescentes en control. \", \"\")","v":""},"","","","",{"$nulls":6},0,0,0,0,0]
["P9100360","PEORES FORMAS DE TRABAJO INFANTIL",null,1,1,0,1,{"$f":"IFERROR(VLOOKUP($A50,Filtro!$A$5:$AY$629,6,FALSE),0)","v":1},{"$f":"IFERROR(VLOOKUP($A50,Filtro!$A$5:$AY$629,7,FALSE),0)","v":0},0,{"$f":"IFERROR(VLOOKUP($A50,Filtro!$A$5:$AY$629,9,FALSE),0)","v":0},{"$f":"IFERROR(VLOOKUP($A50,Filtro!$A$5:$AY$629,10,FALSE),0)","v":0},0,{"$f":"IFERROR(VLOOKUP($A50,Filtro!$A$5:$AY$629,12,FALSE),0)","v":0},{"$f":"IFERROR(VLOOKUP($A50,Filtro!$A$5:$AY$629,13,FALSE),0)","v":0},0,{"$f":"IFERROR(VLOOKUP($A50,Filtro!$A$5:$AY$629,15,FALSE),0)","v":0},{"$f":"IFERROR(VLOOKUP($A50,Filtro!$A$5:$AY$629,16,FALSE),0)","v":0}," ",{"$nulls":17},{"$f":"IF($D$12<$D50, \"* El total de Adolescentes según educacion y trabajo no puede ser mayor al total de Adolescentes en control. \", \"\")","v":""},"","","","",{"$nulls":6},0,0,0,0,0]
["P9100370","SERVICIO DOMESTICO NO REMUNERADO PELIGROSO",null,0,0,0,0,{"$f":"IFERROR(VLOOKUP($A51,Filtro!$A$5:$AY$629,6,FALSE),0)","v":0},{"$f":"IFERROR(VLOOKUP($A51,Filtro!$A$5:$AY$629,7,FALSE),0)","v":0},0,{"$f":"IFERROR(VLOOKUP($A51,Filtro!$A$5:$AY$629,9,FALSE),0)","v":0},{"$f":"IFERROR(VLOOKUP($A51,Filtro!$A$5:$AY$629,10,FALSE),0)","v":0},0,{"$f":"IFERROR(VLOOKUP($A51,Filtro!$A$5:$AY$629,12,FALSE),0)","v":0},{"$f":"IFERROR(VLOOKUP($A51,Filtro!$A$5:$AY$629,13,FALSE),0)","v":0},0,{"$f":"IFERROR(VLOOKUP($A51,Filtro!$A$5:$AY$629,15,FALSE),0)","v":0},{"$f":"IFERROR(VLOOKUP($A51,Filtro!$A$5:$AY$629,16,FALSE),0)","v":0}," ",{"$nulls":17},{"$f":"IF($D$12<$D51, \"* El total de Adolescentes según educacion y trabajo no puede ser mayor al total de Adolescentes en control. \", \"\")","v":""},"","","","",{"$nulls":6},0,0,0,0,0]
[null,"SECCION C: POBLACIÓN EN CONTROL SALUD INTEGRAL DE ADOLESCENTES, SEGÚN ÁREAS DE RIESGO"]
[null,"Áreas de Riesgo",null,"TOTAL",null,null,"Adolescentes 10-14 años",null,null,"Adolescentes 15 - 19 años",null,null,"Pueblos Originarios",null,null,"Migrantes"]
[]
[]
[{"$nulls":3},"Ambos sexos","Hombre","Mujer","Ambos sexos","Hombre","Mujer","Ambos sexos","Hombre","Mujer","Ambos sexos","Hombre","Mujer","Ambos sexos","Hombre","Mujer"]
["P9100710","RIESGO SSR",null,{"$f":"SUM(E57:F57)","v":700},{"$f":"+H57+K57","v":217},{"$f":"+I57+L57","v":483},{"$f":"SUM(H57:I57)","v":242},{"$f":"IFERROR(VLOOKUP($A57,Filtro!$A$5:$AY$629,6,FALSE),0)","v":62},{"$f":"IFERROR(VLOOKUP($A57,Filtro!$A$5:$AY$629,7,FALSE),0)","v":180},{"$f":"SUM(K57:L57)","v":458},{"$f":"IFERROR(VLOOKUP($A57,Filtro!$A$5:$AY$629,9,FALSE),0)","v":155},{"$f":"IFERROR(VLOOKUP($A57,Filtro!$A$5:$AY$629,10,FALSE),0)","v":303},{"$f":"SUM(N57:O57)","v":37},{"$f":"IFERROR(VLOOKUP($A57,Filtro!$A$5:$AY$629,12,FALSE),0)","v":6},{"$f":"IFERROR(VLOOKUP($A57,Filtro!$A$5:$AY$629,13,FALSE),0)","v":31},{"$f":"SUM(Q57:R57)","v":15},{"$f":"IFERROR(VLOOKUP($A57,Filtro!$A$5:$AY$629,15,FALSE),0)","v":3},{"$f":"IFERROR(VLOOKUP($A57,Filtro!$A$5:$AY$629,16,FALSE),0)","v":12}]
["P9100711","RIESGO SUICIDA",null,505,{"$f":"+H58+K58","v":112},{"$f":"+I58+L58","v":393},317,{"$f":"IFERROR(VLOOKUP($A58,Filtro!$A$5:$AY$629,6,FALSE),0)","v":58},{"$f":"IFERROR(VLOOKUP($A58,Filtro!$A$5:$AY$629,7,FALSE),0)","v":259},188,{"$f":"IFERROR(VLOOKUP($A58,Filtro!$A$5:$AY$629,9,FALSE),0)","v":54},{"$f":"IFERROR(VLOOKUP($A58,Filtro!$A$5:$AY$629,10,FALSE),0)","v":134},27,{"$f":"IFERROR(VLOOKUP($A58,Filtro!$A$5:$AY$629,12,FALSE),0)","v":4},{"$f":"IFERROR(VLOOKUP($A58,Filtro!$A$5:$AY$629,13,FALSE),0)","v":23},15,{"$f":"IFERROR(VLOOKUP($A58,Filtro!$A$5:$AY$629,15,FALSE),0)","v":2},{"$f":"IFERROR(VLOOKUP($A58,Filtro!$A$5:$AY$629,16,FALSE),0)","v":13},{"$f":"AK58 & \" \" & AL58 & AM58 & AN58 & AO58","v":" "},{"$nulls":17},{"$f":"IF($D$12<$D58, \"* El total de Adolescentes según areas de riesgo no puede ser mayor al total de Adolescentes en control. \", \"\")","v":""},{"$f":"IF($D58<$M58, \"* El total de Adolescentes de Pueblos Originarios no puede ser mayor al total de Adolescentes. \", \"\")","v":""},{"$f":"IF($D58<$P58, \"* El total de Adolescentes de Migrantes no puede ser mayor al total de Adolescentes. \", \"\")","v":""},{"$f":"IF(AND(E58<>0,N58=\"\"),\"* No olvide escribir en la celda de Pueblos Originarios (Digite CERO si no tiene). \",IF(AND(F58<>0,O58=\"\"),\"* No olvide escribir en la celda de Pueblos Originarios (Digite CERO si no tiene). \",\"\"))","v":""},{"$f":"IF(AND(E58<>0,Q58=\"\"),\"* No olvide escribir en la celda de Población Migrantes (Digite CERO si no tiene). \",IF(AND(F58<>0,R58=\"\"),\"* No olvide escribir en la celda de Población Migrantes (Digite CERO si no tiene). \",\"\"))","v":""},{"$nulls":6},0,{"$f":"IF($D58<$M58, 1,0)","v":0},{"$f":"IF($D58<$P58, 1,0)","v":0},{"$f":"IF(AND(E58<>0,N58=\"\"),1,IF(AND(F58<>0,O58=\"\"),1,0))","v":0},{"$f":"IF(AND(E58<>0,Q58=\"\"),1,IF(AND(F58<>0,R58=\"\"),1,0))","v":0}]
["P9100712","RIESGO SOCIAL",null,153,62,91,88,{"$f":"IFERROR(VLOOKUP($A59,Filtro!$A$5:$AY$629,6,FALSE),0)","v":34},{"$f":"IFERROR(VLOOKUP($A59,Filtro!$A$5:$AY$629,7,FALSE),0)","v":54},65,{"$f":"IFERROR(VLOOKUP($A59,Filtro!$A$5:$AY$629,9,FALSE),0)","v":28},{"$f":"IFERROR(VLOOKUP($A59,Filtro!$A$5:$AY$629,10,FALSE),0)","v":37},15,{"$f":"IFERROR(VLOOKUP($A59,Filtro!$A$5:$AY$629,12,FALSE),0)","v":6},{"$f":"IFERROR(VLOOKUP($A59,Filtro!$A$5:$AY$629,13,FALSE),0)","v":9},8,{"$f":"IFERROR(VLOOKUP($A59,Filtro!$A$5:$AY$629,15,FALSE),0)","v":4},{"$f":"IFERROR(VLOOKUP($A59,Filtro!$A$5:$AY$629,16,FALSE),0)","v":4}]
["P9100713","RIESGO PSICOEMOCIONAL",null,911,311,600,553,{"$f":"IFERROR(VLOOKUP($A60,Filtro!$A$5:$AY$629,6,FALSE),0)","v":195},{"$f":"IFERROR(VLOOKUP($A60,Filtro!$A$5:$AY$629,7,FALSE),0)","v":358},358,{"$f":"IFERROR(VLOOKUP($A60,Filtro!$A$5:$AY$629,9,FALSE),0)","v":116},{"$f":"IFERROR(VLOOKUP($A60,Filtro!$A$5:$AY$629,10,FALSE),0)","v":242},60,{"$f":"IFERROR(VLOOKUP($A60,Filtro!$A$5:$AY$629,12,FALSE),0)","v":17},{"$f":"IFERROR(VLOOKUP($A60,Filtro!$A$5:$AY$629,13,FALSE),0)","v":43},23,{"$f":"IFERROR(VLOOKUP($A60,Filtro!$A$5:$AY$629,15,FALSE),0)","v":4},{"$f":"IFERROR(VLOOKUP($A60,Filtro!$A$5:$AY$629,16,FALSE),0)","v":19}]
["P9100714","VIOLENCIA",null,{"$f":"SUM(E61:F61)","v":399},151,248,{"$f":"SUM(H61:I61)","v":307},{"$f":"IFERROR(VLOOKUP($A61,Filtro!$A$5:$AY$629,6,FALSE),0)","v":131},{"$f":"IFERROR(VLOOKUP($A61,Filtro!$A$5:$AY$629,7,FALSE),0)","v":176},{"$f":"SUM(K61:L61)","v":92},{"$f":"IFERROR(VLOOKUP($A61,Filtro!$A$5:$AY$629,9,FALSE),0)","v":20},{"$f":"IFERROR(VLOOKUP($A61,Filtro!$A$5:$AY$629,10,FALSE),0)","v":72},{"$f":"SUM(N61:O61)","v":41},{"$f":"IFERROR(VLOOKUP($A61,Filtro!$A$5:$AY$629,12,FALSE),0)","v":15},{"$f":"IFERROR(VLOOKUP($A61,Filtro!$A$5:$AY$629,13,FALSE),0)","v":26},{"$f":"SUM(Q61:R61)","v":7},{"$f":"IFERROR(VLOOKUP($A61,Filtro!$A$5:$AY$629,15,FALSE),0)","v":1},{"$f":"IFERROR(VLOOKUP($A61,Filtro!$A$5:$AY$629,16,FALSE),0)","v":6}]
["P9100715","RIESGO OH/DROGAS",null,322,127,195,92,{"$f":"IFERROR(VLOOKUP($A62,Filtro!$A$5:$AY$629,6,FALSE),0)","v":33},{"$f":"IFERROR(VLOOKUP($A62,Filtro!$A$5:$AY$629,7,FALSE),0)","v":59},230,{"$f":"IFERROR(VLOOKUP($A62,Filtro!$A$5:$AY$629,9,FALSE),0)","v":94},{"$f":"IFERROR(VLOOKUP($A62,Filtro!$A$5:$AY$629,10,FALSE),0)","v":136},14,{"$f":"IFERROR(VLOOKUP($A62,Filtro!$A$5:$AY$629,12,FALSE),0)","v":0},{"$f":"IFERROR(VLOOKUP($A62,Filtro!$A$5:$AY$629,13,FALSE),0)","v":14},10,{"$f":"IFERROR(VLOOKUP($A62,Filtro!$A$5:$AY$629,15,FALSE),0)","v":4},{"$f":"IFERROR(VLOOKUP($A62,Filtro!$A$5:$AY$629,16,FALSE),0)","v":6}]
["P9100716","MALNUTRICION POR DEFICIT",null,384,205,179,268,{"$f":"IFERROR(VLOOKUP($A63,Filtro!$A$5:$AY$629,6,FALSE),0)","v":140},{"$f":"IFERROR(VLOOKUP($A63,Filtro!$A$5:$AY$629,7,FALSE),0)","v":128},116,{"$f":"IFERROR(VLOOKUP($A63,Filtro!$A$5:$AY$629,9,FALSE),0)","v":65},{"$f":"IFERROR(VLOOKUP($A63,Filtro!$A$5:$AY$629,10,FALSE),0)","v":51},27,{"$f":"IFERROR(VLOOKUP($A63,Filtro!$A$5:$AY$629,12,FALSE),0)","v":14},{"$f":"IFERROR(VLOOKUP($A63,Filtro!$A$5:$AY$629,13,FALSE),0)","v":13},11,{"$f":"IFERROR(VLOOKUP($A63,Filtro!$A$5:$AY$629,15,FALSE),0)","v":6},{"$f":"IFERROR(VLOOKUP($A63,Filtro!$A$5:$AY$629,16,FALSE),0)","v":5},{"$f":"AK63 & \" \" & AL63 & AM63 & AN63 & AO63","v":" "},{"$nulls":17},{"$f":"IF($D$12<$D63, \"* El total de Adolescentes según areas de riesgo no puede ser mayor al total de Adolescentes en control. \", \"\")","v":""},{"$f":"IF($D63<$M63, \"* El total de Adolescentes de Pueblos Originarios no puede ser mayor al total de Adolescentes. \", \"\")","v":""},"","","",{"$nulls":6},0,0,0,0,0]
["P9100717","MALNUTRICION POR EXCESO",null,3481,1506,1975,2700,{"$f":"IFERROR(VLOOKUP($A64,Filtro!$A$5:$AY$629,6,FALSE),0)","v":1237},{"$f":"IFERROR(VLOOKUP($A64,Filtro!$A$5:$AY$629,7,FALSE),0)","v":1463},781,{"$f":"IFERROR(VLOOKUP($A64,Filtro!$A$5:$AY$629,9,FALSE),0)","v":269},{"$f":"IFERROR(VLOOKUP($A64,Filtro!$A$5:$AY$629,10,FALSE),0)","v":512},232,{"$f":"IFERROR(VLOOKUP($A64,Filtro!$A$5:$AY$629,12,FALSE),0)","v":84},{"$f":"IFERROR(VLOOKUP($A64,Filtro!$A$5:$AY$629,13,FALSE),0)","v":148},88,{"$f":"IFERROR(VLOOKUP($A64,Filtro!$A$5:$AY$629,15,FALSE),0)","v":37},{"$f":"IFERROR(VLOOKUP($A64,Filtro!$A$5:$AY$629,16,FALSE),0)","v":51}]
["P9100718","RIESGO DESERCIÓN ESCOLAR",null,46,{"$f":"+H65+K65","v":27},19,15,{"$f":"IFERROR(VLOOKUP($A65,Filtro!$A$5:$AY$629,6,FALSE),0)","v":11},{"$f":"IFERROR(VLOOKUP($A65,Filtro!$A$5:$AY$629,7,FALSE),0)","v":4},31,{"$f":"IFERROR(VLOOKUP($A65,Filtro!$A$5:$AY$629,9,FALSE),0)","v":16},{"$f":"IFERROR(VLOOKUP($A65,Filtro!$A$5:$AY$629,10,FALSE),0)","v":15},4,{"$f":"IFERROR(VLOOKUP($A65,Filtro!$A$5:$AY$629,12,FALSE),0)","v":3},{"$f":"IFERROR(VLOOKUP($A65,Filtro!$A$5:$AY$629,13,FALSE),0)","v":1},3,{"$f":"IFERROR(VLOOKUP($A65,Filtro!$A$5:$AY$629,15,FALSE),0)","v":2},{"$f":"IFERROR(VLOOKUP($A65,Filtro!$A$5:$AY$629,16,FALSE),0)","v":1}]
["P9100719","OTRO",null,1371,608,763,1013,{"$f":"IFERROR(VLOOKUP($A66,Filtro!$A$5:$AY$629,6,FALSE),0)","v":471},{"$f":"IFERROR(VLOOKUP($A66,Filtro!$A$5:$AY$629,7,FALSE),0)","v":542},358,{"$f":"IFERROR(VLOOKUP($A66,Filtro!$A$5:$AY$629,9,FALSE),0)","v":137},{"$f":"IFERROR(VLOOKUP($A66,Filtro!$A$5:$AY$629,10,FALSE),0)","v":221},76,{"$f":"IFERROR(VLOOKUP($A66,Filtro!$A$5:$AY$629,12,FALSE),0)","v":31},{"$f":"IFERROR(VLOOKUP($A66,Filtro!$A$5:$AY$629,13,FALSE),0)","v":45},46,{"$f":"IFERROR(VLOOKUP($A66,Filtro!$A$5:$AY$629,15,FALSE),0)","v":17},{"$f":"IFERROR(VLOOKUP($A66,Filtro!$A$5:$AY$629,16,FALSE),0)","v":29}," ",{"$nulls":17},{"$f":"IF($D$12<$D66, \"* El total de Adolescentes según areas de riesgo no puede ser mayor al total de Adolescentes en control. \", \"\")","v":""},"","","","",{"$nulls":6},0,0,0,0,0]
[null,"SECCION D:POBLACIÓN EN CONTROL SALUD INTEGRAL DE ADOLESCENTES, SEGÚN AMBITOS GINECO-UROLOGICO/SEXUALIDAD"]
[null,"Gineco/urologico/sexualidad",null,"TOTAL",null,null,"Adolescentes 10-14 años",null,null,"Adolescentes 15 - 19 años",null,null," Pueblos Originarios",null,null," Migrantes"]
[]
[]
[{"$nulls":3},"Ambos sexos","Hombre","Mujer","Ambos sexos","Hombre","Mujer","Ambos sexos","Hombre","Mujer","Ambos sexos","Hombre","Mujer","Ambos sexos","Hombre","Mujer"]
["P9100440","ADOLESCENTES CON CONDUCTA POSTERGADORA",null,{"$f":"SUM(E72:F72)","v":6994},{"$f":"+H72+K72","v":3147},{"$f":"+I72+L72","v":3847},{"$f":"SUM(H72:I72)","v":5821},{"$f":"IFERROR(VLOOKUP($A72,Filtro!$A$5:$AY$629,6,FALSE),0)","v":2692},{"$f":"IFERROR(VLOOKUP($A72,Filtro!$A$5:$AY$629,7,FALSE),0)","v":3129},{"$f":"SUM(K72:L72)","v":1173},{"$f":"IFERROR(VLOOKUP($A72,Filtro!$A$5:$AY$629,9,FALSE),0)","v":455},{"$f":"IFERROR(VLOOKUP($A72,Filtro!$A$5:$AY$629,10,FALSE),0)","v":718},{"$f":"SUM(N72:O72)","v":445},{"$f":"IFERROR(VLOOKUP($A72,Filtro!$A$5:$AY$629,12,FALSE),0)","v":176},{"$f":"IFERROR(VLOOKUP($A72,Filtro!$A$5:$AY$629,13,FALSE),0)","v":269},{"$f":"SUM(Q72:R72)","v":255},{"$f":"IFERROR(VLOOKUP($A72,Filtro!$A$5:$AY$629,15,FALSE),0)","v":101},{"$f":"IFERROR(VLOOKUP($A72,Filtro!$A$5:$AY$629,16,FALSE),0)","v":154},{"$f":"AK72 & \" \" & AL72 & AM72 & AN72 & AO72","v":" "},{"$nulls":17},{"$f":"IF($D$12<$D72, \"* El total de Adolescentes según ambitos no puede ser mayor al total de Adolescentes en control. \", \"\")","v":""},{"$f":"IF($D72<$M72, \"* El total de Adolescentes de Pueblos Originarios no puede ser mayor al total de Adolescentes. \", \"\")","v":""},{"$f":"IF($D72<$P72, \"* El total de Adolescentes de Migrantes no puede ser mayor al total de Adolescentes. \", \"\")","v":""},{"$f":"IF(AND(E72<>0,N72=\"\"),\"* No olvide escribir en la celda de Pueblos Originarios (Digite CERO si no tiene). \",IF(AND(F72<>0,O72=\"\"),\"* No olvide escribir en la celda de Pueblos Originarios (Digite CERO si no tiene). \",\"\"))","v":""},{"$f":"IF(AND(E72<>0,Q72=\"\"),\"* No olvide escribir en la celda de Población Migrantes (Digite CERO si no tiene). \",IF(AND(F72<>0,R72=\"\"),\"* No olvide escribir en la celda de Población Migrantes (Digite CERO si no tiene). \",\"\"))","v":""},{"$nulls":6},0,{"$f":"IF($D72<$M72, 1,0)","v":0},{"$f":"IF($D72<$P72, 1,0)","v":0},{"$f":"IF(AND(E72<>0,N72=\"\"),1,IF(AND(F72<>0,O72=\"\"),1,0))","v":0},{"$f":"IF(AND(E72<>0,Q72=\"\"),1,IF(AND(F72<>0,R72=\"\"),1,0))","v":0}]
["P9100450","ADOLESCENTES CON CONDUCTA ANTICIPADORA",null,{"$f":"SUM(E73:F73)","v":230},{"$f":"+H73+K73","v":74},156,{"$f":"SUM(H73:I73)","v":76},{"$f":"IFERROR(VLOOKUP($A73,Filtro!$A$5:$AY$629,6,FALSE),0)","v":31},{"$f":"IFERROR(VLOOKUP($A73,Filtro!$A$5:$AY$629,7,FALSE),0)","v":45},{"$f":"SUM(K73:L73)","v":154},{"$f":"IFERROR(VLOOKUP($A73,Filtro!$A$5:$AY$629,9,FALSE),0)","v":43},{"$f":"IFERROR(VLOOKUP($A73,Filtro!$A$5:$AY$629,10,FALSE),0)","v":111},{"$f":"SUM(N73:O73)","v":6},{"$f":"IFERROR(VLOOKUP($A73,Filtro!$A$5:$AY$629,12,FALSE),0)","v":2},{"$f":"IFERROR(VLOOKUP($A73,Filtro!$A$5:$AY$629,13,FALSE),0)","v":4},{"$f":"SUM(Q73:R73)","v":8},{"$f":"IFERROR(VLOOKUP($A73,Filtro!$A$5:$AY$629,15,FALSE),0)","v":2},{"$f":"IFERROR(VLOOKUP($A73,Filtro!$A$5:$AY$629,16,FALSE),0)","v":6}," ",{"$nulls":17},"","","","","",{"$nulls":6},0,0,0,0,0]
["P9100460","ADOLESCENTES CON CONDUCTA ACTIVA",null,842,299,543,113,{"$f":"IFERROR(VLOOKUP($A74,Filtro!$A$5:$AY$629,6,FALSE),0)","v":31},{"$f":"IFERROR(VLOOKUP($A74,Filtro!$A$5:$AY$629,7,FALSE),0)","v":82},729,{"$f":"IFERROR(VLOOKUP($A74,Filtro!$A$5:$AY$629,9,FALSE),0)","v":268},{"$f":"IFERROR(VLOOKUP($A74,Filtro!$A$5:$AY$629,10,FALSE),0)","v":461},53,{"$f":"IFERROR(VLOOKUP($A74,Filtro!$A$5:$AY$629,12,FALSE),0)","v":24},{"$f":"IFERROR(VLOOKUP($A74,Filtro!$A$5:$AY$629,13,FALSE),0)","v":29},24,{"$f":"IFERROR(VLOOKUP($A74,Filtro!$A$5:$AY$629,15,FALSE),0)","v":5},{"$f":"IFERROR(VLOOKUP($A74,Filtro!$A$5:$AY$629,16,FALSE),0)","v":19}," ",{"$nulls":17},"","","","","",{"$nulls":6},0,0,0,0,0]
["P9100470","USO ACTUAL DE METODO ANTICONCEPTIVO",null,693,162,531,96,{"$f":"IFERROR(VLOOKUP($A75,Filtro!$A$5:$AY$629,6,FALSE),0)","v":17},{"$f":"IFERROR(VLOOKUP($A75,Filtro!$A$5:$AY$629,7,FALSE),0)","v":79},597,{"$f":"IFERROR(VLOOKUP($A75,Filtro!$A$5:$AY$629,9,FALSE),0)","v":145},{"$f":"IFERROR(VLOOKUP($A75,Filtro!$A$5:$AY$629,10,FALSE),0)","v":452},38,{"$f":"IFERROR(VLOOKUP($A75,Filtro!$A$5:$AY$629,12,FALSE),0)","v":11},{"$f":"IFERROR(VLOOKUP($A75,Filtro!$A$5:$AY$629,13,FALSE),0)","v":27},13,{"$f":"IFERROR(VLOOKUP($A75,Filtro!$A$5:$AY$629,15,FALSE),0)","v":2},{"$f":"IFERROR(VLOOKUP($A75,Filtro!$A$5:$AY$629,16,FALSE),0)","v":11}," ",{"$nulls":17},"","","","","",{"$nulls":6},0,0,0,0,0]
["P9100480","USO ACTUAL DE DOBLE PROTECCIÓN",null,329,89,240,29,{"$f":"IFERROR(VLOOKUP($A76,Filtro!$A$5:$AY$629,6,FALSE),0)","v":6},{"$f":"IFERROR(VLOOKUP($A76,Filtro!$A$5:$AY$629,7,FALSE),0)","v":23},300,{"$f":"IFERROR(VLOOKUP($A76,Filtro!$A$5:$AY$629,9,FALSE),0)","v":83},{"$f":"IFERROR(VLOOKUP($A76,Filtro!$A$5:$AY$629,10,FALSE),0)","v":217},16,{"$f":"IFERROR(VLOOKUP($A76,Filtro!$A$5:$AY$629,12,FALSE),0)","v":6},{"$f":"IFERROR(VLOOKUP($A76,Filtro!$A$5:$AY$629,13,FALSE),0)","v":10},2,{"$f":"IFERROR(VLOOKUP($A76,Filtro!$A$5:$AY$629,15,FALSE),0)","v":0},{"$f":"IFERROR(VLOOKUP($A76,Filtro!$A$5:$AY$629,16,FALSE),0)","v":2}," ",{"$nulls":17},"","","","","",{"$nulls":6},0,0,0,0,0]
["P9100490","ADOLESCENTE CON ANTECEDENTE DE UN PRIMER EMBARAZO",null,{"$f":"SUM(E77:F77)","v":30},{"$f":"+H77+K77","v":2},28,1,{"$f":"IFERROR(VLOOKUP($A77,Filtro!$A$5:$AY$629,6,FALSE),0)","v":0},{"$f":"IFERROR(VLOOKUP($A77,Filtro!$A$5:$AY$629,7,FALSE),0)","v":1},29,{"$f":"IFERROR(VLOOKUP($A77,Filtro!$A$5:$AY$629,9,FALSE),0)","v":2},{"$f":"IFERROR(VLOOKUP($A77,Filtro!$A$5:$AY$629,10,FALSE),0)","v":27},0,{"$f":"IFERROR(VLOOKUP($A77,Filtro!$A$5:$AY$629,12,FALSE),0)","v":0},{"$f":"IFERROR(VLOOKUP($A77,Filtro!$A$5:$AY$629,13,FALSE),0)","v":0},2,{"$f":"IFERROR(VLOOKUP($A77,Filtro!$A$5:$AY$629,15,FALSE),0)","v":0},{"$f":"IFERROR(VLOOKUP($A77,Filtro!$A$5:$AY$629,16,FALSE),0)","v":2}," ",{"$nulls":17},"","","","","",{"$nulls":6},0,0,0,0,0]
["P9100500","ADOLESCENTE CON ANTECEDENTE DE MAS DE UN EMBARAZO",null,{"$f":"SUM(E78:F78)","v":2},{"$f":"+H78+K78","v":0},2,0,{"$f":"IFERROR(VLOOKUP($A78,Filtro!$A$5:$AY$629,6,FALSE),0)","v":0},{"$f":"IFERROR(VLOOKUP($A78,Filtro!$A$5:$AY$629,7,FALSE),0)","v":0},2,{"$f":"IFERROR(VLOOKUP($A78,Filtro!$A$5:$AY$629,9,FALSE),0)","v":0},{"$f":"IFERROR(VLOOKUP($A78,Filtro!$A$5:$AY$629,10,FALSE),0)","v":2},0,{"$f":"IFERROR(VLOOKUP($A78,Filtro!$A$5:$AY$629,12,FALSE),0)","v":0},{"$f":"IFERROR(VLOOKUP($A78,Filtro!$A$5:$AY$629,13,FALSE),0)","v":0},0,{"$f":"IFERROR(VLOOKUP($A78,Filtro!$A$5:$AY$629,15,FALSE),0)","v":0},{"$f":"IFERROR(VLOOKUP($A78,Filtro!$A$5:$AY$629,16,FALSE),0)","v":0}]
["P9100510","ADOLESCENTE CON ANTECEDENTE DE ABORTO",null,12,0,12,1,{"$f":"IFERROR(VLOOKUP($A79,Filtro!$A$5:$AY$629,6,FALSE),0)","v":0},{"$f":"IFERROR(VLOOKUP($A79,Filtro!$A$5:$AY$629,7,FALSE),0)","v":1},11,{"$f":"IFERROR(VLOOKUP($A79,Filtro!$A$5:$AY$629,9,FALSE),0)","v":0},{"$f":"IFERROR(VLOOKUP($A79,Filtro!$A$5:$AY$629,10,FALSE),0)","v":11},0,{"$f":"IFERROR(VLOOKUP($A79,Filtro!$A$5:$AY$629,12,FALSE),0)","v":0},{"$f":"IFERROR(VLOOKUP($A79,Filtro!$A$5:$AY$629,13,FALSE),0)","v":0},0,{"$f":"IFERROR(VLOOKUP($A79,Filtro!$A$5:$AY$629,15,FALSE),0)","v":0},{"$f":"IFERROR(VLOOKUP($A79,Filtro!$A$5:$AY$629,16,FALSE),0)","v":0}]
["P9100520","ADOLESCENTE QUE PRESENTA VIOLENCIA DE PAREJA/POLOLO",null,10,1,9,1,{"$f":"IFERROR(VLOOKUP($A80,Filtro!$A$5:$AY$629,6,FALSE),0)","v":0},{"$f":"IFERROR(VLOOKUP($A80,Filtro!$A$5:$AY$629,7,FALSE),0)","v":1},9,{"$f":"IFERROR(VLOOKUP($A80,Filtro!$A$5:$AY$629,9,FALSE),0)","v":1},{"$f":"IFERROR(VLOOKUP($A80,Filtro!$A$5:$AY$629,10,FALSE),0)","v":8},0,{"$f":"IFERROR(VLOOKUP($A80,Filtro!$A$5:$AY$629,12,FALSE),0)","v":0},{"$f":"IFERROR(VLOOKUP($A80,Filtro!$A$5:$AY$629,13,FALSE),0)","v":0},0,{"$f":"IFERROR(VLOOKUP($A80,Filtro!$A$5:$AY$629,15,FALSE),0)","v":0},{"$f":"IFERROR(VLOOKUP($A80,Filtro!$A$5:$AY$629,16,FALSE),0)","v":0}," ",{"$nulls":17},"","","","","",{"$nulls":6},0,0,0,0,0]
["P9100530","ADOLESCENTE QUE PRESENTA O HA SIDO VICTIMA DE VIOLENCIA SEXUAL",null,94,11,83,47,{"$f":"IFERROR(VLOOKUP($A81,Filtro!$A$5:$AY$629,6,FALSE),0)","v":6},{"$f":"IFERROR(VLOOKUP($A81,Filtro!$A$5:$AY$629,7,FALSE),0)","v":41},47,{"$f":"IFERROR(VLOOKUP($A81,Filtro!$A$5:$AY$629,9,FALSE),0)","v":5},{"$f":"IFERROR(VLOOKUP($A81,Filtro!$A$5:$AY$629,10,FALSE),0)","v":42},7,{"$f":"IFERROR(VLOOKUP($A81,Filtro!$A$5:$AY$629,12,FALSE),0)","v":2},{"$f":"IFERROR(VLOOKUP($A81,Filtro!$A$5:$AY$629,13,FALSE),0)","v":5},3,{"$f":"IFERROR(VLOOKUP($A81,Filtro!$A$5:$AY$629,15,FALSE),0)","v":0},{"$f":"IFERROR(VLOOKUP($A81,Filtro!$A$5:$AY$629,16,FALSE),0)","v":3}," ",{"$nulls":17},"","","","","",{"$nulls":6},0,0,0,0,0]
[null,"SECCION E:POBLACIÓN ADOLESCENTE QUE RECIBE CONSEJERÍA"]
[null,"ACTIVIDAD Y AREA TEMATICA","Grupos de Edad","Total de Adolescentes que reciben Consejería",null,null," Pueblos Originarios",null,null," Migrantes",null,null,"Espacios Amigables"]
[]
[{"$nulls":3},"Ambos sexos","Hombre","Mujer","Ambos sexos","Hombre","Mujer","Ambos sexos","Hombre","Mujer","Ambos sexos","Hombre","Mujer"]
["P9100570","ACTIVIDAD FÍSICA","10-14 años",{"$f":"SUM(E86:F86)","v":4715},{"$f":"IFERROR(VLOOKUP($A86,Filtro!$A$5:$AY$629,3,FALSE),0)","v":2232},{"$f":"IFERROR(VLOOKUP($A86,Filtro!$A$5:$AY$629,4,FALSE),0)","v":2483},{"$f":"SUM(H86:I86)","v":239},{"$f":"IFERROR(VLOOKUP($A86,Filtro!$A$5:$AY$629,6,FALSE),0)","v":101},{"$f":"IFERROR(VLOOKUP($A86,Filtro!$A$5:$AY$629,7,FALSE),0)","v":138},{"$f":"SUM(K86:L86)","v":152},{"$f":"IFERROR(VLOOKUP($A86,Filtro!$A$5:$AY$629,9,FALSE),0)","v":72},{"$f":"IFERROR(VLOOKUP($A86,Filtro!$A$5:$AY$629,10,FALSE),0)","v":80},{"$f":"SUM(N86:O86)","v":575},{"$f":"IFERROR(VLOOKUP($A86,Filtro!$A$5:$AY$629,12,FALSE),0)","v":255},{"$f":"IFERROR(VLOOKUP($A86,Filtro!$A$5:$AY$629,13,FALSE),0)","v":320},{"$f":"AJ86 & AK86 & AL86 & AM86 & AN86 & AO86","v":""},{"$nulls":19},{"$f":"IF($D86<$G86, \"* El total de Adolescentes de Pueblos Originarios no puede ser mayor al total de Adolescentes. \", \"\")","v":""},{"$f":"IF($D86<$J86, \"* El total de Adolescentes de Migrantes no puede ser mayor al total de Adolescentes. \", \"\")","v":""},{"$f":"IF($D86<$M86, \"* El total de Adolescentes de Espacios Amigables no puede ser mayor al total de Adolescentes. \", \"\")","v":""},{"$f":"IF(AND(E86<>0,H86=\"\"),\"* No olvide escribir en la celda de Pueblos Originarios (Digite CERO si no tiene). \",IF(AND(F86<>0,I86=\"\"),\"* No olvide escribir en la celda de Pueblos Originarios (Digite CERO si no tiene). \",\"\"))","v":""},{"$f":"IF(AND(E86<>0,K86=\"\"),\"* No olvide escribir en la celda de Población Migrantes (Digite CERO si no tiene). \",IF(AND(F86<>0,L86=\"\"),\"* No olvide escribir en la celda de Población Migrantes (Digite CERO si no tiene). \",\"\"))","v":""},{"$f":"IF(AND(E86<>0,N86=\"\"),\"* No olvide escribir en la celda de Espacios Amigables (Digite CERO si no tiene). \",IF(AND(F86<>0,O86=\"\"),\"* No olvide escribir en la celda de Espacios Amigables (Digite CERO si no tiene). \",\"\"))","v":""},{"$nulls":5},{"$f":"IF($D86<$G86, 1,0)","v":0},{"$f":"IF($D86<$J86, 1,0)","v":0},{"$f":"IF($D86<$M86, 1,0)","v":0},{"$f":"IF(AND(E86<>0,H86=\"\"),1,IF(AND(F86<>0,I86=\"\"),1,0))","v":0},{"$f":"IF(AND(E86<>0,K86=\"\"),1,IF(AND(F86<>0,L86=\"\"),1,0))","v":0},{"$f":"IF(AND(E86<>0,N86=\"\"),1,IF(AND(F86<>0,O86=\"\"),1,0))","v":0}]
["P9100580",null,"15 - 19 años",{"$f":"SUM(E87:F87)","v":1526},{"$f":"IFERROR(VLOOKUP($A87,Filtro!$A$5:$AY$629,3,FALSE),0)","v":558},{"$f":"IFERROR(VLOOKUP($A87,Filtro!$A$5:$AY$629,4,FALSE),0)","v":968},{"$f":"SUM(H87:I87)","v":81},{"$f":"IFERROR(VLOOKUP($A87,Filtro!$A$5:$AY$629,6,FALSE),0)","v":27},{"$f":"IFERROR(VLOOKUP($A87,Filtro!$A$5:$AY$629,7,FALSE),0)","v":54},{"$f":"SUM(K87:L87)","v":53},{"$f":"IFERROR(VLOOKUP($A87,Filtro!$A$5:$AY$629,9,FALSE),0)","v":13},{"$f":"IFERROR(VLOOKUP($A87,Filtro!$A$5:$AY$629,10,FALSE),0)","v":40},{"$f":"SUM(N87:O87)","v":237},{"$f":"IFERROR(VLOOKUP($A87,Filtro!$A$5:$AY$629,12,FALSE),0)","v":63},{"$f":"IFERROR(VLOOKUP($A87,Filtro!$A$5:$AY$629,13,FALSE),0)","v":174},{"$f":"AJ87 & AK87 & AL87 & AM87 & AN87 & AO87","v":""},{"$nulls":19},"","",{"$f":"IF($D87<$M87, \"* El total de Adolescentes de Espacios Amigables no puede ser mayor al total de Adolescentes. \", \"\")","v":""},"","",{"$f":"IF(AND(E87<>0,N87=\"\"),\"* No olvide escribir en la celda de Espacios Amigables (Digite CERO si no tiene). \",IF(AND(F87<>0,O87=\"\"),\"* No olvide escribir en la celda de Espacios Amigables (Digite CERO si no tiene). \",\"\"))","v":""},{"$nulls":5},{"$f":"IF($D87<$G87, 1,0)","v":0},{"$f":"IF($D87<$J87, 1,0)","v":0},{"$f":"IF($D87<$M87, 1,0)","v":0},0,0,{"$f":"IF(AND(E87<>0,N87=\"\"),1,IF(AND(F87<>0,O87=\"\"),1,0))","v":0}]
["P9100590","ALIMENTACION SALUDABLE","10-14 años",{"$f":"SUM(E88:F88)","v":4484},{"$f":"IFERROR(VLOOKUP($A88,Filtro!$A$5:$AY$629,3,FALSE),0)","v":2142},{"$f":"IFERROR(VLOOKUP($A88,Filtro!$A$5:$AY$629,4,FALSE),0)","v":2342},216,{"$f":"IFERROR(VLOOKUP($A88,Filtro!$A$5:$AY$629,6,FALSE),0)","v":91},{"$f":"IFERROR(VLOOKUP($A88,Filtro!$A$5:$AY$629,7,FALSE),0)","v":125},140,{"$f":"IFERROR(VLOOKUP($A88,Filtro!$A$5:$AY$629,9,FALSE),0)","v":57},{"$f":"IFERROR(VLOOKUP($A88,Filtro!$A$5:$AY$629,10,FALSE),0)","v":83},534,{"$f":"IFERROR(VLOOKUP($A88,Filtro!$A$5:$AY$629,12,FALSE),0)","v":247},{"$f":"IFERROR(VLOOKUP($A88,Filtro!$A$5:$AY$629,13,FALSE),0)","v":287},"",{"$nulls":19},"","","","","","",{"$nulls":5},0,0,0,0,0,0]
["P9100600",null,"15 - 19 años",1371,{"$f":"IFERROR(VLOOKUP($A89,Filtro!$A$5:$AY$629,3,FALSE),0)","v":559},{"$f":"IFERROR(VLOOKUP($A89,Filtro!$A$5:$AY$629,4,FALSE),0)","v":812},75,{"$f":"IFERROR(VLOOKUP($A89,Filtro!$A$5:$AY$629,6,FALSE),0)","v":27},{"$f":"IFERROR(VLOOKUP($A89,Filtro!$A$5:$AY$629,7,FALSE),0)","v":48},52,{"$f":"IFERROR(VLOOKUP($A89,Filtro!$A$5:$AY$629,9,FALSE),0)","v":18},{"$f":"IFERROR(VLOOKUP($A89,Filtro!$A$5:$AY$629,10,FALSE),0)","v":34},{"$f":"SUM(N89:O89)","v":250},{"$f":"IFERROR(VLOOKUP($A89,Filtro!$A$5:$AY$629,12,FALSE),0)","v":92},{"$f":"IFERROR(VLOOKUP($A89,Filtro!$A$5:$AY$629,13,FALSE),0)","v":158},"",{"$nulls":19},"","","","","","",{"$nulls":5},0,0,0,0,0,0]
["P9100610","TABAQUISMO","10-14 años",1495,{"$f":"IFERROR(VLOOKUP($A90,Filtro!$A$5:$AY$629,3,FALSE),0)","v":690},{"$f":"IFERROR(VLOOKUP($A90,Filtro!$A$5:$AY$629,4,FALSE),0)","v":805},57,{"$f":"IFERROR(VLOOKUP($A90,Filtro!$A$5:$AY$629,6,FALSE),0)","v":17},{"$f":"IFERROR(VLOOKUP($A90,Filtro!$A$5:$AY$629,7,FALSE),0)","v":40},62,{"$f":"IFERROR(VLOOKUP($A90,Filtro!$A$5:$AY$629,9,FALSE),0)","v":27},{"$f":"IFERROR(VLOOKUP($A90,Filtro!$A$5:$AY$629,10,FALSE),0)","v":35},278,{"$f":"IFERROR(VLOOKUP($A90,Filtro!$A$5:$AY$629,12,FALSE),0)","v":133},{"$f":"IFERROR(VLOOKUP($A90,Filtro!$A$5:$AY$629,13,FALSE),0)","v":145},"",{"$nulls":19},"","","","","","",{"$nulls":5},0,0,0,0,0,0]
["P9100620",null,"15 - 19 años",481,{"$f":"IFERROR(VLOOKUP($A91,Filtro!$A$5:$AY$629,3,FALSE),0)","v":200},{"$f":"IFERROR(VLOOKUP($A91,Filtro!$A$5:$AY$629,4,FALSE),0)","v":281},29,{"$f":"IFERROR(VLOOKUP($A91,Filtro!$A$5:$AY$629,6,FALSE),0)","v":13},{"$f":"IFERROR(VLOOKUP($A91,Filtro!$A$5:$AY$629,7,FALSE),0)","v":16},29,{"$f":"IFERROR(VLOOKUP($A91,Filtro!$A$5:$AY$629,9,FALSE),0)","v":7},{"$f":"IFERROR(VLOOKUP($A91,Filtro!$A$5:$AY$629,10,FALSE),0)","v":22},76,{"$f":"IFERROR(VLOOKUP($A91,Filtro!$A$5:$AY$629,12,FALSE),0)","v":28},{"$f":"IFERROR(VLOOKUP($A91,Filtro!$A$5:$AY$629,13,FALSE),0)","v":48},"",{"$nulls":19},"","","","","","",{"$nulls":5},0,0,0,0,0,0]
["P9100630","CONSUMO DE DROGAS","10-14 años",1212,{"$f":"IFERROR(VLOOKUP($A92,Filtro!$A$5:$AY$629,3,FALSE),0)","v":568},{"$f":"IFERROR(VLOOKUP($A92,Filtro!$A$5:$AY$629,4,FALSE),0)","v":644},40,{"$f":"IFERROR(VLOOKUP($A92,Filtro!$A$5:$AY$629,6,FALSE),0)","v":11},{"$f":"IFERROR(VLOOKUP($A92,Filtro!$A$5:$AY$629,7,FALSE),0)","v":29},52,{"$f":"IFERROR(VLOOKUP($A92,Filtro!$A$5:$AY$629,9,FALSE),0)","v":21},{"$f":"IFERROR(VLOOKUP($A92,Filtro!$A$5:$AY$629,10,FALSE),0)","v":31},285,{"$f":"IFERROR(VLOOKUP($A92,Filtro!$A$5:$AY$629,12,FALSE),0)","v":139},{"$f":"IFERROR(VLOOKUP($A92,Filtro!$A$5:$AY$629,13,FALSE),0)","v":146},"",{"$nulls":19},"","","","","","",{"$nulls":5},0,0,0,0,0,0]
["P9100640",null,"15 - 19 años",448,{"$f":"IFERROR(VLOOKUP($A93,Filtro!$A$5:$AY$629,3,FALSE),0)","v":175},{"$f":"IFERROR(VLOOKUP($A93,Filtro!$A$5:$AY$629,4,FALSE),0)","v":273},17,{"$f":"IFERROR(VLOOKUP($A93,Filtro!$A$5:$AY$629,6,FALSE),0)","v":6},{"$f":"IFERROR(VLOOKUP($A93,Filtro!$A$5:$AY$629,7,FALSE),0)","v":11},11,{"$f":"IFERROR(VLOOKUP($A93,Filtro!$A$5:$AY$629,9,FALSE),0)","v":2},{"$f":"IFERROR(VLOOKUP($A93,Filtro!$A$5:$AY$629,10,FALSE),0)","v":9},98,{"$f":"IFERROR(VLOOKUP($A93,Filtro!$A$5:$AY$629,12,FALSE),0)","v":38},{"$f":"IFERROR(VLOOKUP($A93,Filtro!$A$5:$AY$629,13,FALSE),0)","v":60},"",{"$nulls":19},"","","","","","",{"$nulls":5},0,0,0,0,0,0]
["P9100650","SALUD SEXUAL REPRODUCTIVA","10-14 años",2190,{"$f":"IFERROR(VLOOKUP($A94,Filtro!$A$5:$AY$629,3,FALSE),0)","v":903},{"$f":"IFERROR(VLOOKUP($A94,Filtro!$A$5:$AY$629,4,FALSE),0)","v":1287},65,{"$f":"IFERROR(VLOOKUP($A94,Filtro!$A$5:$AY$629,6,FALSE),0)","v":19},{"$f":"IFERROR(VLOOKUP($A94,Filtro!$A$5:$AY$629,7,FALSE),0)","v":46},66,{"$f":"IFERROR(VLOOKUP($A94,Filtro!$A$5:$AY$629,9,FALSE),0)","v":23},{"$f":"IFERROR(VLOOKUP($A94,Filtro!$A$5:$AY$629,10,FALSE),0)","v":43},488,{"$f":"IFERROR(VLOOKUP($A94,Filtro!$A$5:$AY$629,12,FALSE),0)","v":194},{"$f":"IFERROR(VLOOKUP($A94,Filtro!$A$5:$AY$629,13,FALSE),0)","v":294},"",{"$nulls":19},"","","","","","",{"$nulls":5},0,0,0,0,0,0]
["P9100660",null,"15 - 19 años",1348,{"$f":"IFERROR(VLOOKUP($A95,Filtro!$A$5:$AY$629,3,FALSE),0)","v":247},{"$f":"IFERROR(VLOOKUP($A95,Filtro!$A$5:$AY$629,4,FALSE),0)","v":1101},53,{"$f":"IFERROR(VLOOKUP($A95,Filtro!$A$5:$AY$629,6,FALSE),0)","v":12},{"$f":"IFERROR(VLOOKUP($A95,Filtro!$A$5:$AY$629,7,FALSE),0)","v":41},57,{"$f":"IFERROR(VLOOKUP($A95,Filtro!$A$5:$AY$629,9,FALSE),0)","v":8},{"$f":"IFERROR(VLOOKUP($A95,Filtro!$A$5:$AY$629,10,FALSE),0)","v":49},331,{"$f":"IFERROR(VLOOKUP($A95,Filtro!$A$5:$AY$629,12,FALSE),0)","v":67},{"$f":"IFERROR(VLOOKUP($A95,Filtro!$A$5:$AY$629,13,FALSE),0)","v":264},"",{"$nulls":19},"","","","","","",{"$nulls":5},0,0,0,0,0,0]
["P9100670","REGULACION DE FECUNDIDAD","10-14 años",1086,{"$f":"IFERROR(VLOOKUP($A96,Filtro!$A$5:$AY$629,3,FALSE),0)","v":387},{"$f":"IFERROR(VLOOKUP($A96,Filtro!$A$5:$AY$629,4,FALSE),0)","v":699},23,{"$f":"IFERROR(VLOOKUP($A96,Filtro!$A$5:$AY$629,6,FALSE),0)","v":2},{"$f":"IFERROR(VLOOKUP($A96,Filtro!$A$5:$AY$629,7,FALSE),0)","v":21},42,{"$f":"IFERROR(VLOOKUP($A96,Filtro!$A$5:$AY$629,9,FALSE),0)","v":15},{"$f":"IFERROR(VLOOKUP($A96,Filtro!$A$5:$AY$629,10,FALSE),0)","v":27},294,{"$f":"IFERROR(VLOOKUP($A96,Filtro!$A$5:$AY$629,12,FALSE),0)","v":112},{"$f":"IFERROR(VLOOKUP($A96,Filtro!$A$5:$AY$629,13,FALSE),0)","v":182},"",{"$nulls":19},"","","","","","",{"$nulls":5},0,0,0,0,0,0]
["P9100680",null,"15 - 19 años",1339,{"$f":"IFERROR(VLOOKUP($A97,Filtro!$A$5:$AY$629,3,FALSE),0)","v":136},{"$f":"IFERROR(VLOOKUP($A97,Filtro!$A$5:$AY$629,4,FALSE),0)","v":1203},30,{"$f":"IFERROR(VLOOKUP($A97,Filtro!$A$5:$AY$629,6,FALSE),0)","v":2},{"$f":"IFERROR(VLOOKUP($A97,Filtro!$A$5:$AY$629,7,FALSE),0)","v":28},40,{"$f":"IFERROR(VLOOKUP($A97,Filtro!$A$5:$AY$629,9,FALSE),0)","v":3},{"$f":"IFERROR(VLOOKUP($A97,Filtro!$A$5:$AY$629,10,FALSE),0)","v":37},332,{"$f":"IFERROR(VLOOKUP($A97,Filtro!$A$5:$AY$629,12,FALSE),0)","v":61},{"$f":"IFERROR(VLOOKUP($A97,Filtro!$A$5:$AY$629,13,FALSE),0)","v":271},"",{"$nulls":19},"","","","","","",{"$nulls":5},0,0,0,0,0,0]
["P9100690","PREVENCION VIH-ITS","10-14 años",1025,{"$f":"IFERROR(VLOOKUP($A98,Filtro!$A$5:$AY$629,3,FALSE),0)","v":453},{"$f":"IFERROR(VLOOKUP($A98,Filtro!$A$5:$AY$629,4,FALSE),0)","v":572},27,{"$f":"IFERROR(VLOOKUP($A98,Filtro!$A$5:$AY$629,6,FALSE),0)","v":7},{"$f":"IFERROR(VLOOKUP($A98,Filtro!$A$5:$AY$629,7,FALSE),0)","v":20},35,{"$f":"IFERROR(VLOOKUP($A98,Filtro!$A$5:$AY$629,9,FALSE),0)","v":14},{"$f":"IFERROR(VLOOKUP($A98,Filtro!$A$5:$AY$629,10,FALSE),0)","v":21},{"$f":"SUM(N98:O98)","v":313},{"$f":"IFERROR(VLOOKUP($A98,Filtro!$A$5:$AY$629,12,FALSE),0)","v":145},{"$f":"IFERROR(VLOOKUP($A98,Filtro!$A$5:$AY$629,13,FALSE),0)","v":168},"",{"$nulls":19},"","","","","","",{"$nulls":5},0,0,0,0,0,0]
["P9100700",null,"15 - 19 años",575,{"$f":"IFERROR(VLOOKUP($A99,Filtro!$A$5:$AY$629,3,FALSE),0)","v":108},{"$f":"IFERROR(VLOOKUP($A99,Filtro!$A$5:$AY$629,4,FALSE),0)","v":467},26,{"$f":"IFERROR(VLOOKUP($A99,Filtro!$A$5:$AY$629,6,FALSE),0)","v":2},{"$f":"IFERROR(VLOOKUP($A99,Filtro!$A$5:$AY$629,7,FALSE),0)","v":24},23,{"$f":"IFERROR(VLOOKUP($A99,Filtro!$A$5:$AY$629,9,FALSE),0)","v":1},{"$f":"IFERROR(VLOOKUP($A99,Filtro!$A$5:$AY$629,10,FALSE),0)","v":22},{"$f":"SUM(N99:O99)","v":190},{"$f":"IFERROR(VLOOKUP($A99,Filtro!$A$5:$AY$629,12,FALSE),0)","v":53},{"$f":"IFERROR(VLOOKUP($A99,Filtro!$A$5:$AY$629,13,FALSE),0)","v":137},"",{"$nulls":19},"","","","","","",{"$nulls":5},0,0,0,0,0,0]
[]
[]
[]
[]
[]
[null,{"$f":"SUM(D12:R40,D46:R51,D57:R66,D72:R81,D86:O99)","v":462813},"datos"]
[null,{"$f":"SUM(AU11:AZ100)","v":0},"errores"]
[]
["CODIGOS ELIMINADOS"]
["P9100380"]
["P9100390"]
["P9100400"]
["P9100410"]
["P9100420"]
["P9100430"]
[]
["CODIGOS NUEVOS"]
["P9100710"]
["P9100711"]
["P9100712"]
["P9100713"]
["P9100714"]
["P9100715"]
["P9100716"]
["P9100717"]
["P9100718"]
["P9100719"]

{"sheet":"P11","index":10,"n_rows":34,"n_cols":75,"rows_kept":34,"merged":[[6,1,6,17],[8,1,10,3],[8,4,9,6],[8,7,8,44],[8,45,9,46],[8,47,10,47],[8,48,10,48],[8,49,10,49],[8,50,10,50],[8,55,9,56],[8,57,10,57],[8,58,10,58],[8,59,10,59],[8,60,9,60],[8,61,9,61],[8,62,9,62],[8,63,9,63],[8,66,9,67],[8,68,10,68],[8,69,10,69],[8,70,10,70],[8,71,9,71],[8,72,9,72],[8,73,9,73],[8,74,9,74],[9,7,9,8],[9,9,9,10],[9,11,9,12],[9,13,9,14],[9,15,9,16],[9,17,9,18],[9,19,9,20],[9,21,9,22],[9,23,9,24],[9,25,9,26],[9,27,9,28],[9,29,9,30],[9,31,9,32],[9,33,9,34],[9,35,9,36],[9,37,9,38],[9,39,9,40],[9,41,9,42],[9,43,9,44],[11,1,14,1],[11,2,12,2],[13,2,14,2],[15,1,16,1],[18,1,20,1],[18,2,19,4],[18,5,18,32],[18,33,19,34],[18,35,20,35],[18,36,20,36],[18,56,19,57],[18,58,20,58],[18,59,20,59],[18,60,19,60],[18,61,19,61],[18,62,19,62],[18,67,19,68],[18,69,20,69],[18,70,20,70],[18,71,19,71],[18,72,19,72],[18,73,19,73],[19,5,19,6],[19,7,19,8],[19,9,19,10],[19,11,19,12],[19,13,19,14],[19,15,19,16],[19,17,19,18],[19,19,19,20],[19,21,19,22],[19,23,19,24],[19,25,19,26],[19,27,19,28],[19,29,19,30],[19,31,19,32]]}
[null,"DATOS DEL ESTABLECIMIENTO"]
[null,{"$f":"CONCATENATE(\"COMUNA: \",NOMBRE!$B$2,\" - \",\"( \",NOMBRE!$C$2,NOMBRE!$D$2,NOMBRE!$E$2,NOMBRE!$F$2,NOMBRE!$G$2,\" )\")","v":"COMUNA:  - (  )"}]
[null,{"$f":"CONCATENATE(\"ESTABLECIMIENTO/ESTRATEGIA: \",NOMBRE!$B$3,\" - \",\"( \",NOMBRE!$C$3,NOMBRE!$D$3,NOMBRE!$E$3,NOMBRE!$F$3,NOMBRE!$G$3,NOMBRE!$H$3,\" )\")","v":"ESTABLECIMIENTO/ESTRATEGIA:  - (  )"}]
[null,{"$f":"CONCATENATE(\"MES: \",NOMBRE!$B$6,\" - \",\"( \",NOMBRE!$C$6,NOMBRE!$D$6,\" )\")","v":"MES:  - (  )"}]
[null,{"$f":"CONCATENATE(\"AÑO: \",NOMBRE!$B$7)","v":"AÑO: 2023"}]
[]
[null,"REM-P11. POBLACIÓN EN CONTROL PROGRAMA DE INFECCIONES DE TRASMISIÓN SEXUAL - VIH / SIDA"]
[null,"SECCION A: POBLACIÓN EN CONTROL DEL PROGRAMA DE VIH/SIDA (Uso exclusivo Centros de Atención VIH-SIDA)"]
[null,"CONCEPTO",null,null,"TOTAL",null,null,"GRUPOS DE EDAD (en años)",{"$nulls":37},"TRANS",null,"Pueblos Originarios","Migrantes","Niños, Niñas, Adolescentes y Jóvenes SENAME","Niños, Niñas, Adolescentes y Jóvenes Mejor Niñez",{"$nulls":4},"TRANS",null,"Pueblos Originarios","Población Migrantes","Población SENAME","TRANS","Pueblos Originarios","Población Migrantes","Población SENAME",null,null,"TRANS",null,"Pueblos Originarios","Población Migrantes","Población SENAME","TRANS","Pueblos Originarios","Población Migrantes","Población SENAME"]
[{"$nulls":7},"Menor 1 Año",null,"1 año",null,"2 a 4 años",null,"5 a 9 años",null,"10 a 14 años",null,"15 a 19 años",null,"20 a 24 años",null,"25 a 29 años",null,"30 a 34 años",null,"35 a 39 años",null,"40 a 44 años",null,"45 a 49 años",null,"50 a 54 años",null,"55 a 59 años",null,"60 a 64 años",null,"65 a 69 años",null,"70 a 74 años",null,"75 a 79 años",null,"80 y más años"]
[{"$nulls":4},"Ambos\nsexos","Hombres","Mujeres","Hombres ","Mujeres","Hombres ","Mujeres","Hombres ","Mujeres","Hombres ","Mujeres","Hombres ","Mujeres","Hombres ","Mujeres","Hombres ","Mujeres","Hombres ","Mujeres","Hombres ","Mujeres","Hombres ","Mujeres","Hombres ","Mujeres","Hombres ","Mujeres","Hombres ","Mujeres","Hombres ","Mujeres","Hombres ","Mujeres","Hombres ","Mujeres","Hombres ","Mujeres","Hombres ","Mujeres","Hombres ","Mujeres","Masculino","Femenino",{"$nulls":8},"Masculino","Femenino (NO)",{"$nulls":3},"No Olvide","No Olvide","No Olvide","No Olvide",null,null,"Masculino","Femenino (NO)",{"$nulls":3},"No Olvide","No Olvide","No Olvide","No Olvide"]
["P11000150","Nº TOTAL DE PERSONAS CON VIH/SIDA","GESTANTES","Inicia TARV en este embarazo",{"$f":"SUM(G12)","v":4},null,{"$f":"+Q12+S12+U12+W12+Y12+AA12+AC12+AE12+AG12+AI12","v":4},0,0,0,0,0,0,0,0,0,{"$f":"IFERROR(VLOOKUP($A12,Filtro!$A$5:$AY$629,14,FALSE),0)","v":0},0,{"$f":"IFERROR(VLOOKUP($A12,Filtro!$A$5:$AY$629,16,FALSE),0)","v":0},0,{"$f":"IFERROR(VLOOKUP($A12,Filtro!$A$5:$AY$629,18,FALSE),0)","v":1},0,{"$f":"IFERROR(VLOOKUP($A12,Filtro!$A$5:$AY$629,20,FALSE),0)","v":0},0,{"$f":"IFERROR(VLOOKUP($A12,Filtro!$A$5:$AY$629,22,FALSE),0)","v":2},0,{"$f":"IFERROR(VLOOKUP($A12,Filtro!$A$5:$AY$629,24,FALSE),0)","v":1},0,{"$f":"IFERROR(VLOOKUP($A12,Filtro!$A$5:$AY$629,26,FALSE),0)","v":0},0,{"$f":"IFERROR(VLOOKUP($A12,Filtro!$A$5:$AY$629,28,FALSE),0)","v":0},0,{"$f":"IFERROR(VLOOKUP($A12,Filtro!$A$5:$AY$629,30,FALSE),0)","v":0},0,{"$f":"IFERROR(VLOOKUP($A12,Filtro!$A$5:$AY$629,32,FALSE),0)","v":0},0,0,0,0,0,0,0,0,0,0,{"$f":"IFERROR(VLOOKUP($A12,Filtro!$A$5:$AY$629,43,FALSE),0)","v":0},{"$f":"IFERROR(VLOOKUP($A12,Filtro!$A$5:$AY$629,44,FALSE),0)","v":0},{"$f":"IFERROR(VLOOKUP($A12,Filtro!$A$5:$AY$629,45,FALSE),0)","v":1},{"$f":"IFERROR(VLOOKUP($A12,Filtro!$A$5:$AY$629,46,FALSE),0)","v":1},{"$f":"IFERROR(VLOOKUP($A12,Filtro!$A$5:$AY$629,47,FALSE),0)","v":0},{"$f":"IFERROR(VLOOKUP($A12,Filtro!$A$5:$AY$629,48,FALSE),0)","v":0},{"$nulls":4},{"$f":"IF(($AT12+$AU12)<=$G12,\"\",\"* La suma de las celdas 'Trans' no debe ser mayor al Total de personas bajo control. \")","v":""},null,{"$f":"IF($AV12<=$G12,\"\",\"* La celda de 'Pueblos Originarios' no debe ser mayor al Total de personas bajo control. \")","v":""},{"$f":"IF($AW12<=$G12,\"\",\"* La celda de 'Población Migrantes' no debe ser mayor al Total de personas bajo control. \")","v":""},{"$f":"IF($AX12<=$G12,\"\",\"* La celda de 'Población SENAME' no debe ser mayor al Total de personas bajo control. \")","v":""},{"$f":"IF(AND($G12<>0,$AU12=\"\"),\"* No olvide escribir en la celda de Trans (Digite CERO si no tiene). \",IF(AND(E12<>0,AT12=\"\"),\"* No olvide escribir en la celda Trans (Digite CERO si no tiene). \",\"\"))","v":""},{"$f":"IF(AND($G12<>0,$AV12=\"\"),\"* No olvide escribir en la celda de Pueblos Originarios (Digite CERO si no tiene). \",\"\")","v":""},{"$f":"IF(AND($G12<>0,$AW12=\"\"),\"* No olvide escribir en la celda de Población Migrantes (Digite CERO si no tiene). \",\"\")","v":""},{"$f":"IF(AND($G12<>0,$AX12=\"\"),\"* No olvide escribir en la celda de Población SENAME (Digite CERO si no tiene). \",\"\")","v":""},null,null,{"$f":"IF(($AT12+$AU12)<=$G12,0,1)","v":0},null,{"$f":"IF($AV12<=$G12,0,1)","v":0},{"$f":"IF($AW12<=$G12,0,1)","v":0},{"$f":"IF($AX12<=$G12,0,1)","v":0},{"$f":"IF(AND($G12<>0,$AU12=\"\"),1,0)","v":0},{"$f":"IF(AND($G12<>0,$AV12=\"\"),1,0)","v":0},{"$f":"IF(AND($G12<>0,$AW12=\"\"),1,0)","v":0},{"$f":"IF(AND($G12<>0,$AX12=\"\"),1,0)","v":0}]
["P11000160",null,null,"en TARV previa",{"$f":"SUM(G13)","v":7},null,{"$f":"+Q13+S13+U13+W13+Y13+AA13+AC13+AE13+AG13+AI13","v":7},0,0,0,0,0,0,0,0,0,{"$f":"IFERROR(VLOOKUP($A13,Filtro!$A$5:$AY$629,14,FALSE),0)","v":0},0,{"$f":"IFERROR(VLOOKUP($A13,Filtro!$A$5:$AY$629,16,FALSE),0)","v":0},0,{"$f":"IFERROR(VLOOKUP($A13,Filtro!$A$5:$AY$629,18,FALSE),0)","v":0},0,{"$f":"IFERROR(VLOOKUP($A13,Filtro!$A$5:$AY$629,20,FALSE),0)","v":1},0,{"$f":"IFERROR(VLOOKUP($A13,Filtro!$A$5:$AY$629,22,FALSE),0)","v":1},0,{"$f":"IFERROR(VLOOKUP($A13,Filtro!$A$5:$AY$629,24,FALSE),0)","v":5},0,{"$f":"IFERROR(VLOOKUP($A13,Filtro!$A$5:$AY$629,26,FALSE),0)","v":0},0,{"$f":"IFERROR(VLOOKUP($A13,Filtro!$A$5:$AY$629,28,FALSE),0)","v":0},0,{"$f":"IFERROR(VLOOKUP($A13,Filtro!$A$5:$AY$629,30,FALSE),0)","v":0},0,{"$f":"IFERROR(VLOOKUP($A13,Filtro!$A$5:$AY$629,32,FALSE),0)","v":0},0,0,0,0,0,0,0,0,0,0,{"$f":"IFERROR(VLOOKUP($A13,Filtro!$A$5:$AY$629,43,FALSE),0)","v":0},{"$f":"IFERROR(VLOOKUP($A13,Filtro!$A$5:$AY$629,44,FALSE),0)","v":0},{"$f":"IFERROR(VLOOKUP($A13,Filtro!$A$5:$AY$629,45,FALSE),0)","v":0},{"$f":"IFERROR(VLOOKUP($A13,Filtro!$A$5:$AY$629,46,FALSE),0)","v":0},{"$f":"IFERROR(VLOOKUP($A13,Filtro!$A$5:$AY$629,47,FALSE),0)","v":0},{"$f":"IFERROR(VLOOKUP($A13,Filtro!$A$5:$AY$629,48,FALSE),0)","v":0},{"$nulls":4},{"$f":"IF(($AT13+$AU13)<=$G13,\"\",\"* La suma de las celdas 'Trans' no debe ser mayor al Total de personas bajo control. \")","v":""},null,{"$f":"IF($AV13<=$G13,\"\",\"* La celda de 'Pueblos Originarios' no debe ser mayor al Total de personas bajo control. \")","v":""},{"$f":"IF($AW13<=$G13,\"\",\"* La celda de 'Población Migrantes' no debe ser mayor al Total de personas bajo control. \")","v":""},{"$f":"IF($AX13<=$G13,\"\",\"* La celda de 'Población SENAME' no debe ser mayor al Total de personas bajo control. \")","v":""},{"$f":"IF(AND($G13<>0,$AU13=\"\"),\"* No olvide escribir en la celda de Trans (Digite CERO si no tiene). \",IF(AND(E13<>0,AT13=\"\"),\"* No olvide escribir en la celda Trans (Digite CERO si no tiene). \",\"\"))","v":""},{"$f":"IF(AND($G13<>0,$AV13=\"\"),\"* No olvide escribir en la celda de Pueblos Originarios (Digite CERO si no tiene). \",\"\")","v":""},{"$f":"IF(AND($G13<>0,$AW13=\"\"),\"* No olvide escribir en la celda de Población Migrantes (Digite CERO si no tiene). \",\"\")","v":""},{"$f":"IF(AND($G13<>0,$AX13=\"\"),\"* No olvide escribir en la celda de Población SENAME (Digite CERO si no tiene). \",\"\")","v":""},null,null,{"$f":"IF(($AT13+$AU13)<=$G13,0,1)","v":0},null,{"$f":"IF($AV13<=$G13,0,1)","v":0},{"$f":"IF($AW13<=$G13,0,1)","v":0},{"$f":"IF($AX13<=$G13,0,1)","v":0},{"$f":"IF(AND($G13<>0,$AU13=\"\"),1,0)","v":0},{"$f":"IF(AND($G13<>0,$AV13=\"\"),1,0)","v":0},{"$f":"IF(AND($G13<>0,$AW13=\"\"),1,0)","v":0},{"$f":"IF(AND($G13<>0,$AX13=\"\"),1,0)","v":0}]
["P11000170",null,"NO GESTANTES","Con TARV",{"$f":"SUM(F14:G14)","v":2228},{"$f":"+H14+J14+L14+N14+P14+R14+T14+V14+X14+Z14+AB14+AD14+AF14+AH14+AJ14+AL14+AN14+AP14+AR14","v":1805},{"$f":"+I14+K14+M14+O14+Q14+S14+U14+W14+Y14+AA14+AC14+AE14+AG14+AI14+AK14+AM14+AO14+AQ14+AS14","v":423},{"$f":"IFERROR(VLOOKUP($A14,Filtro!$A$5:$AY$629,5,FALSE),0)","v":0},{"$f":"IFERROR(VLOOKUP($A14,Filtro!$A$5:$AY$629,6,FALSE),0)","v":0},{"$f":"IFERROR(VLOOKUP($A14,Filtro!$A$5:$AY$629,7,FALSE),0)","v":0},{"$f":"IFERROR(VLOOKUP($A14,Filtro!$A$5:$AY$629,8,FALSE),0)","v":0},{"$f":"IFERROR(VLOOKUP($A14,Filtro!$A$5:$AY$629,9,FALSE),0)","v":1},{"$f":"IFERROR(VLOOKUP($A14,Filtro!$A$5:$AY$629,10,FALSE),0)","v":0},{"$f":"IFERROR(VLOOKUP($A14,Filtro!$A$5:$AY$629,11,FALSE),0)","v":1},{"$f":"IFERROR(VLOOKUP($A14,Filtro!$A$5:$AY$629,12,FALSE),0)","v":0},{"$f":"IFERROR(VLOOKUP($A14,Filtro!$A$5:$AY$629,13,FALSE),0)","v":2},{"$f":"IFERROR(VLOOKUP($A14,Filtro!$A$5:$AY$629,14,FALSE),0)","v":3},{"$f":"IFERROR(VLOOKUP($A14,Filtro!$A$5:$AY$629,15,FALSE),0)","v":6},{"$f":"IFERROR(VLOOKUP($A14,Filtro!$A$5:$AY$629,16,FALSE),0)","v":8},{"$f":"IFERROR(VLOOKUP($A14,Filtro!$A$5:$AY$629,17,FALSE),0)","v":86},{"$f":"IFERROR(VLOOKUP($A14,Filtro!$A$5:$AY$629,18,FALSE),0)","v":11},{"$f":"IFERROR(VLOOKUP($A14,Filtro!$A$5:$AY$629,19,FALSE),0)","v":261},{"$f":"IFERROR(VLOOKUP($A14,Filtro!$A$5:$AY$629,20,FALSE),0)","v":27},{"$f":"IFERROR(VLOOKUP($A14,Filtro!$A$5:$AY$629,21,FALSE),0)","v":378},{"$f":"IFERROR(VLOOKUP($A14,Filtro!$A$5:$AY$629,22,FALSE),0)","v":54},{"$f":"IFERROR(VLOOKUP($A14,Filtro!$A$5:$AY$629,23,FALSE),0)","v":267},{"$f":"IFERROR(VLOOKUP($A14,Filtro!$A$5:$AY$629,24,FALSE),0)","v":64},{"$f":"IFERROR(VLOOKUP($A14,Filtro!$A$5:$AY$629,25,FALSE),0)","v":236},{"$f":"IFERROR(VLOOKUP($A14,Filtro!$A$5:$AY$629,26,FALSE),0)","v":57},{"$f":"IFERROR(VLOOKUP($A14,Filtro!$A$5:$AY$629,27,FALSE),0)","v":150},{"$f":"IFERROR(VLOOKUP($A14,Filtro!$A$5:$AY$629,28,FALSE),0)","v":50},{"$f":"IFERROR(VLOOKUP($A14,Filtro!$A$5:$AY$629,29,FALSE),0)","v":158},{"$f":"IFERROR(VLOOKUP($A14,Filtro!$A$5:$AY$629,30,FALSE),0)","v":51},{"$f":"IFERROR(VLOOKUP($A14,Filtro!$A$5:$AY$629,31,FALSE),0)","v":108},{"$f":"IFERROR(VLOOKUP($A14,Filtro!$A$5:$AY$629,32,FALSE),0)","v":48},{"$f":"IFERROR(VLOOKUP($A14,Filtro!$A$5:$AY$629,33,FALSE),0)","v":86},{"$f":"IFERROR(VLOOKUP($A14,Filtro!$A$5:$AY$629,34,FALSE),0)","v":26},{"$f":"IFERROR(VLOOKUP($A14,Filtro!$A$5:$AY$629,35,FALSE),0)","v":26},{"$f":"IFERROR(VLOOKUP($A14,Filtro!$A$5:$AY$629,36,FALSE),0)","v":13},{"$f":"IFERROR(VLOOKUP($A14,Filtro!$A$5:$AY$629,37,FALSE),0)","v":21},{"$f":"IFERROR(VLOOKUP($A14,Filtro!$A$5:$AY$629,38,FALSE),0)","v":11},{"$f":"IFERROR(VLOOKUP($A14,Filtro!$A$5:$AY$629,39,FALSE),0)","v":12},{"$f":"IFERROR(VLOOKUP($A14,Filtro!$A$5:$AY$629,40,FALSE),0)","v":0},{"$f":"IFERROR(VLOOKUP($A14,Filtro!$A$5:$AY$629,41,FALSE),0)","v":6},{"$f":"IFERROR(VLOOKUP($A14,Filtro!$A$5:$AY$629,42,FALSE),0)","v":0},{"$f":"IFERROR(VLOOKUP($A14,Filtro!$A$5:$AY$629,43,FALSE),0)","v":16},{"$f":"IFERROR(VLOOKUP($A14,Filtro!$A$5:$AY$629,44,FALSE),0)","v":16},{"$f":"IFERROR(VLOOKUP($A14,Filtro!$A$5:$AY$629,45,FALSE),0)","v":5},{"$f":"IFERROR(VLOOKUP($A14,Filtro!$A$5:$AY$629,46,FALSE),0)","v":294},{"$f":"IFERROR(VLOOKUP($A14,Filtro!$A$5:$AY$629,47,FALSE),0)","v":0},{"$f":"IFERROR(VLOOKUP($A14,Filtro!$A$5:$AY$629,48,FALSE),0)","v":0},{"$nulls":4},{"$f":"IF(($AT14+$AU14)<=$E14,\"\",\"* La suma de las celdas 'Trans' no debe ser mayor al Total de personas bajo control. \")","v":""},null,{"$f":"IF($AV14<=$E14,\"\",\"* La celda de 'Pueblos Originarios' no debe ser mayor al Total de personas bajo control. \")","v":""},{"$f":"IF($AW14<=$E14,\"\",\"* La celda de 'Población Migrantes' no debe ser mayor al Total de personas bajo control. \")","v":""},{"$f":"IF($AX14<=$E14,\"\",\"* La celda de 'Población SENAME' no debe ser mayor al Total de personas bajo control. \")","v":""},{"$f":"IF(AND($E14<>0,$AU14=\"\"),\"* No olvide escribir en la celda de Trans (Digite CERO si no tiene). \",IF(AND(E14<>0,AT14=\"\"),\"* No olvide escribir en la celda Trans (Digite CERO si no tiene). \",\"\"))","v":""},{"$f":"IF(AND($E14<>0,$AV14=\"\"),\"* No olvide escribir en la celda de Pueblos Originarios (Digite CERO si no tiene). \",\"\")","v":""},{"$f":"IF(AND($E14<>0,$AW14=\"\"),\"* No olvide escribir en la celda de Población Migrantes (Digite CERO si no tiene). \",\"\")","v":""},{"$f":"IF(AND($E14<>0,$AX14=\"\"),\"* No olvide escribir en la celda de Población SENAME (Digite CERO si no tiene). \",\"\")","v":""},null,null,{"$f":"IF(($AT14+$AU14)<=$E14,0,1)","v":0},null,{"$f":"IF($AV14<=$E14,0,1)","v":0},{"$f":"IF($AW14<=$E14,0,1)","v":0},{"$f":"IF($AX14<=$E14,0,1)","v":0},{"$f":"IF(AND($E14<>0,$AU14=\"\"),1,0)","v":0},{"$f":"IF(AND($E14<>0,$AV14=\"\"),1,0)","v":0},{"$f":"IF(AND($E14<>0,$AW14=\"\"),1,0)","v":0},{"$f":"IF(AND($E14<>0,$AX14=\"\"),1,0)","v":0}]
["P11000180",null,null,"Sin TARV",{"$f":"SUM(F15:G15)","v":81},{"$f":"+H15+J15+L15+N15+P15+R15+T15+V15+X15+Z15+AB15+AD15+AF15+AH15+AJ15+AL15+AN15+AP15+AR15","v":60},{"$f":"+I15+K15+M15+O15+Q15+S15+U15+W15+Y15+AA15+AC15+AE15+AG15+AI15+AK15+AM15+AO15+AQ15+AS15","v":21},{"$f":"IFERROR(VLOOKUP($A15,Filtro!$A$5:$AY$629,5,FALSE),0)","v":0},{"$f":"IFERROR(VLOOKUP($A15,Filtro!$A$5:$AY$629,6,FALSE),0)","v":0},{"$f":"IFERROR(VLOOKUP($A15,Filtro!$A$5:$AY$629,7,FALSE),0)","v":0},{"$f":"IFERROR(VLOOKUP($A15,Filtro!$A$5:$AY$629,8,FALSE),0)","v":0},{"$f":"IFERROR(VLOOKUP($A15,Filtro!$A$5:$AY$629,9,FALSE),0)","v":0},{"$f":"IFERROR(VLOOKUP($A15,Filtro!$A$5:$AY$629,10,FALSE),0)","v":0},{"$f":"IFERROR(VLOOKUP($A15,Filtro!$A$5:$AY$629,11,FALSE),0)","v":0},{"$f":"IFERROR(VLOOKUP($A15,Filtro!$A$5:$AY$629,12,FALSE),0)","v":0},{"$f":"IFERROR(VLOOKUP($A15,Filtro!$A$5:$AY$629,13,FALSE),0)","v":0},{"$f":"IFERROR(VLOOKUP($A15,Filtro!$A$5:$AY$629,14,FALSE),0)","v":0},{"$f":"IFERROR(VLOOKUP($A15,Filtro!$A$5:$AY$629,15,FALSE),0)","v":0},{"$f":"IFERROR(VLOOKUP($A15,Filtro!$A$5:$AY$629,16,FALSE),0)","v":0},{"$f":"IFERROR(VLOOKUP($A15,Filtro!$A$5:$AY$629,17,FALSE),0)","v":6},{"$f":"IFERROR(VLOOKUP($A15,Filtro!$A$5:$AY$629,18,FALSE),0)","v":1},{"$f":"IFERROR(VLOOKUP($A15,Filtro!$A$5:$AY$629,19,FALSE),0)","v":13},{"$f":"IFERROR(VLOOKUP($A15,Filtro!$A$5:$AY$629,20,FALSE),0)","v":0},{"$f":"IFERROR(VLOOKUP($A15,Filtro!$A$5:$AY$629,21,FALSE),0)","v":12},{"$f":"IFERROR(VLOOKUP($A15,Filtro!$A$5:$AY$629,22,FALSE),0)","v":3},{"$f":"IFERROR(VLOOKUP($A15,Filtro!$A$5:$AY$629,23,FALSE),0)","v":13},{"$f":"IFERROR(VLOOKUP($A15,Filtro!$A$5:$AY$629,24,FALSE),0)","v":7},{"$f":"IFERROR(VLOOKUP($A15,Filtro!$A$5:$AY$629,25,FALSE),0)","v":11},{"$f":"IFERROR(VLOOKUP($A15,Filtro!$A$5:$AY$629,26,FALSE),0)","v":2},{"$f":"IFERROR(VLOOKUP($A15,Filtro!$A$5:$AY$629,27,FALSE),0)","v":1},{"$f":"IFERROR(VLOOKUP($A15,Filtro!$A$5:$AY$629,28,FALSE),0)","v":3},{"$f":"IFERROR(VLOOKUP($A15,Filtro!$A$5:$AY$629,29,FALSE),0)","v":4},{"$f":"IFERROR(VLOOKUP($A15,Filtro!$A$5:$AY$629,30,FALSE),0)","v":1},{"$f":"IFERROR(VLOOKUP($A15,Filtro!$A$5:$AY$629,31,FALSE),0)","v":0},{"$f":"IFERROR(VLOOKUP($A15,Filtro!$A$5:$AY$629,32,FALSE),0)","v":0},{"$f":"IFERROR(VLOOKUP($A15,Filtro!$A$5:$AY$629,33,FALSE),0)","v":0},{"$f":"IFERROR(VLOOKUP($A15,Filtro!$A$5:$AY$629,34,FALSE),0)","v":4},{"$f":"IFERROR(VLOOKUP($A15,Filtro!$A$5:$AY$629,35,FALSE),0)","v":0},{"$f":"IFERROR(VLOOKUP($A15,Filtro!$A$5:$AY$629,36,FALSE),0)","v":0},{"$f":"IFERROR(VLOOKUP($A15,Filtro!$A$5:$AY$629,37,FALSE),0)","v":0},{"$f":"IFERROR(VLOOKUP($A15,Filtro!$A$5:$AY$629,38,FALSE),0)","v":0},{"$f":"IFERROR(VLOOKUP($A15,Filtro!$A$5:$AY$629,39,FALSE),0)","v":0},{"$f":"IFERROR(VLOOKUP($A15,Filtro!$A$5:$AY$629,40,FALSE),0)","v":0},{"$f":"IFERROR(VLOOKUP($A15,Filtro!$A$5:$AY$629,41,FALSE),0)","v":0},{"$f":"IFERROR(VLOOKUP($A15,Filtro!$A$5:$AY$629,42,FALSE),0)","v":0},{"$f":"IFERROR(VLOOKUP($A15,Filtro!$A$5:$AY$629,43,FALSE),0)","v":0},{"$f":"IFERROR(VLOOKUP($A15,Filtro!$A$5:$AY$629,44,FALSE),0)","v":0},{"$f":"IFERROR(VLOOKUP($A15,Filtro!$A$5:$AY$629,45,FALSE),0)","v":0},{"$f":"IFERROR(VLOOKUP($A15,Filtro!$A$5:$AY$629,46,FALSE),0)","v":5},{"$f":"IFERROR(VLOOKUP($A15,Filtro!$A$5:$AY$629,47,FALSE),0)","v":0},{"$f":"IFERROR(VLOOKUP($A15,Filtro!$A$5:$AY$629,48,FALSE),0)","v":0},{"$nulls":4},{"$f":"IF(($AT15+$AU15)<=$E15,\"\",\"* La suma de las celdas 'Trans' no debe ser mayor al Total de personas bajo control. \")","v":""},null,{"$f":"IF($AV15<=$E15,\"\",\"* La celda de 'Pueblos Originarios' no debe ser mayor al Total de personas bajo control. \")","v":""},{"$f":"IF($AW15<=$E15,\"\",\"* La celda de 'Población Migrantes' no debe ser mayor al Total de personas bajo control. \")","v":""},{"$f":"IF($AX15<=$E15,\"\",\"* La celda de 'Población SENAME' no debe ser mayor al Total de personas bajo control. \")","v":""},{"$f":"IF(AND($E15<>0,$AU15=\"\"),\"* No olvide escribir en la celda de Trans (Digite CERO si no tiene). \",IF(AND(E15<>0,AT15=\"\"),\"* No olvide escribir en la celda Trans (Digite CERO si no tiene). \",\"\"))","v":""},{"$f":"IF(AND($E15<>0,$AV15=\"\"),\"* No olvide escribir en la celda de Pueblos Originarios (Digite CERO si no tiene). \",\"\")","v":""},{"$f":"IF(AND($E15<>0,$AW15=\"\"),\"* No olvide escribir en la celda de Población Migrantes (Digite CERO si no tiene). \",\"\")","v":""},{"$f":"IF(AND($E15<>0,$AX15=\"\"),\"* No olvide escribir en la celda de Población SENAME (Digite CERO si no tiene). \",\"\")","v":""},null,null,{"$f":"IF(($AT15+$AU15)<=$E15,0,1)","v":0},null,{"$f":"IF($AV15<=$E15,0,1)","v":0},{"$f":"IF($AW15<=$E15,0,1)","v":0},{"$f":"IF($AX15<=$E15,0,1)","v":0},{"$f":"IF(AND($E15<>0,$AU15=\"\"),1,0)","v":0},{"$f":"IF(AND($E15<>0,$AV15=\"\"),1,0)","v":0},{"$f":"IF(AND($E15<>0,$AW15=\"\"),1,0)","v":0},{"$f":"IF(AND($E15<>0,$AX15=\"\"),1,0)","v":0}]
["P11000190","N° DE PERSONAS EN TARV","GESTANTES","Con carga viral <a 1000 copias",{"$f":"SUM(G16)","v":5},null,{"$f":"+Q16+S16+U16+W16+Y16+AA16+AC16+AE16+AG16+AI16","v":5},0,0,0,0,0,0,0,0,0,{"$f":"IFERROR(VLOOKUP($A16,Filtro!$A$5:$AY$629,14,FALSE),0)","v":0},0,{"$f":"IFERROR(VLOOKUP($A16,Filtro!$A$5:$AY$629,16,FALSE),0)","v":0},0,{"$f":"IFERROR(VLOOKUP($A16,Filtro!$A$5:$AY$629,18,FALSE),0)","v":1},0,{"$f":"IFERROR(VLOOKUP($A16,Filtro!$A$5:$AY$629,20,FALSE),0)","v":0},0,{"$f":"IFERROR(VLOOKUP($A16,Filtro!$A$5:$AY$629,22,FALSE),0)","v":2},0,{"$f":"IFERROR(VLOOKUP($A16,Filtro!$A$5:$AY$629,24,FALSE),0)","v":2},0,{"$f":"IFERROR(VLOOKUP($A16,Filtro!$A$5:$AY$629,26,FALSE),0)","v":0},0,{"$f":"IFERROR(VLOOKUP($A16,Filtro!$A$5:$AY$629,28,FALSE),0)","v":0},0,{"$f":"IFERROR(VLOOKUP($A16,Filtro!$A$5:$AY$629,30,FALSE),0)","v":0},0,{"$f":"IFERROR(VLOOKUP($A16,Filtro!$A$5:$AY$629,32,FALSE),0)","v":0},0,0,0,0,0,0,0,0,0,0,{"$f":"IFERROR(VLOOKUP($A16,Filtro!$A$5:$AY$629,43,FALSE),0)","v":0},{"$f":"IFERROR(VLOOKUP($A16,Filtro!$A$5:$AY$629,44,FALSE),0)","v":0},{"$f":"IFERROR(VLOOKUP($A16,Filtro!$A$5:$AY$629,45,FALSE),0)","v":1},{"$f":"IFERROR(VLOOKUP($A16,Filtro!$A$5:$AY$629,46,FALSE),0)","v":1},{"$f":"IFERROR(VLOOKUP($A16,Filtro!$A$5:$AY$629,47,FALSE),0)","v":0},{"$f":"IFERROR(VLOOKUP($A16,Filtro!$A$5:$AY$629,48,FALSE),0)","v":0},{"$nulls":4},{"$f":"IF(($AT16+$AU16)<=$E16,\"\",\"* La suma de las celdas 'Trans' no debe ser mayor al Total de personas bajo control. \")","v":""},null,{"$f":"IF($AV16<=$E16,\"\",\"* La celda de 'Pueblos Originarios' no debe ser mayor al Total de personas bajo control. \")","v":""},{"$f":"IF($AW16<=$E16,\"\",\"* La celda de 'Población Migrantes' no debe ser mayor al Total de personas bajo control. \")","v":""},{"$f":"IF($AX16<=$E16,\"\",\"* La celda de 'Población SENAME' no debe ser mayor al Total de personas bajo control. \")","v":""},{"$f":"IF(AND($E16<>0,$AU16=\"\"),\"* No olvide escribir en la celda de Trans (Digite CERO si no tiene). \",IF(AND(E16<>0,AT16=\"\"),\"* No olvide escribir en la celda Trans (Digite CERO si no tiene). \",\"\"))","v":""},{"$f":"IF(AND($E16<>0,$AV16=\"\"),\"* No olvide escribir en la celda de Pueblos Originarios (Digite CERO si no tiene). \",\"\")","v":""},{"$f":"IF(AND($E16<>0,$AW16=\"\"),\"* No olvide escribir en la celda de Población Migrantes (Digite CERO si no tiene). \",\"\")","v":""},{"$f":"IF(AND($E16<>0,$AX16=\"\"),\"* No olvide escribir en la celda de Población SENAME (Digite CERO si no tiene). \",\"\")","v":""},null,null,{"$f":"IF(($AT16+$AU16)<=$E16,0,1)","v":0},null,{"$f":"IF($AV16<=$E16,0,1)","v":0},{"$f":"IF($AW16<=$E16,0,1)","v":0},{"$f":"IF($AX16<=$E16,0,1)","v":0},{"$f":"IF(AND($E16<>0,$AU16=\"\"),1,0)","v":0},{"$f":"IF(AND($E16<>0,$AV16=\"\"),1,0)","v":0},{"$f":"IF(AND($E16<>0,$AW16=\"\"),1,0)","v":0},{"$f":"IF(AND($E16<>0,$AX16=\"\"),1,0)","v":0}]
["P11000200",null,"NO GESTANTES","Con carga viral <a 1000 copias",{"$f":"SUM(F17:G17)","v":1934},{"$f":"+H17+J17+L17+N17+P17+R17+T17+V17+X17+Z17+AB17+AD17+AF17+AH17+AJ17+AL17+AN17+AP17+AR17","v":1577},{"$f":"+I17+K17+M17+O17+Q17+S17+U17+W17+Y17+AA17+AC17+AE17+AG17+AI17+AK17+AM17+AO17+AQ17+AS17","v":357},{"$f":"IFERROR(VLOOKUP($A17,Filtro!$A$5:$AY$629,5,FALSE),0)","v":0},{"$f":"IFERROR(VLOOKUP($A17,Filtro!$A$5:$AY$629,6,FALSE),0)","v":0},{"$f":"IFERROR(VLOOKUP($A17,Filtro!$A$5:$AY$629,7,FALSE),0)","v":0},{"$f":"IFERROR(VLOOKUP($A17,Filtro!$A$5:$AY$629,8,FALSE),0)","v":0},{"$f":"IFERROR(VLOOKUP($A17,Filtro!$A$5:$AY$629,9,FALSE),0)","v":1},{"$f":"IFERROR(VLOOKUP($A17,Filtro!$A$5:$AY$629,10,FALSE),0)","v":0},{"$f":"IFERROR(VLOOKUP($A17,Filtro!$A$5:$AY$629,11,FALSE),0)","v":0},{"$f":"IFERROR(VLOOKUP($A17,Filtro!$A$5:$AY$629,12,FALSE),0)","v":0},{"$f":"IFERROR(VLOOKUP($A17,Filtro!$A$5:$AY$629,13,FALSE),0)","v":2},{"$f":"IFERROR(VLOOKUP($A17,Filtro!$A$5:$AY$629,14,FALSE),0)","v":3},{"$f":"IFERROR(VLOOKUP($A17,Filtro!$A$5:$AY$629,15,FALSE),0)","v":5},{"$f":"IFERROR(VLOOKUP($A17,Filtro!$A$5:$AY$629,16,FALSE),0)","v":5},{"$f":"IFERROR(VLOOKUP($A17,Filtro!$A$5:$AY$629,17,FALSE),0)","v":68},{"$f":"IFERROR(VLOOKUP($A17,Filtro!$A$5:$AY$629,18,FALSE),0)","v":9},{"$f":"IFERROR(VLOOKUP($A17,Filtro!$A$5:$AY$629,19,FALSE),0)","v":212},{"$f":"IFERROR(VLOOKUP($A17,Filtro!$A$5:$AY$629,20,FALSE),0)","v":23},{"$f":"IFERROR(VLOOKUP($A17,Filtro!$A$5:$AY$629,21,FALSE),0)","v":327},{"$f":"IFERROR(VLOOKUP($A17,Filtro!$A$5:$AY$629,22,FALSE),0)","v":39},{"$f":"IFERROR(VLOOKUP($A17,Filtro!$A$5:$AY$629,23,FALSE),0)","v":231},{"$f":"IFERROR(VLOOKUP($A17,Filtro!$A$5:$AY$629,24,FALSE),0)","v":50},{"$f":"IFERROR(VLOOKUP($A17,Filtro!$A$5:$AY$629,25,FALSE),0)","v":219},{"$f":"IFERROR(VLOOKUP($A17,Filtro!$A$5:$AY$629,26,FALSE),0)","v":50},{"$f":"IFERROR(VLOOKUP($A17,Filtro!$A$5:$AY$629,27,FALSE),0)","v":136},{"$f":"IFERROR(VLOOKUP($A17,Filtro!$A$5:$AY$629,28,FALSE),0)","v":43},{"$f":"IFERROR(VLOOKUP($A17,Filtro!$A$5:$AY$629,29,FALSE),0)","v":139},{"$f":"IFERROR(VLOOKUP($A17,Filtro!$A$5:$AY$629,30,FALSE),0)","v":44},{"$f":"IFERROR(VLOOKUP($A17,Filtro!$A$5:$AY$629,31,FALSE),0)","v":96},{"$f":"IFERROR(VLOOKUP($A17,Filtro!$A$5:$AY$629,32,FALSE),0)","v":42},{"$f":"IFERROR(VLOOKUP($A17,Filtro!$A$5:$AY$629,33,FALSE),0)","v":76},{"$f":"IFERROR(VLOOKUP($A17,Filtro!$A$5:$AY$629,34,FALSE),0)","v":25},{"$f":"IFERROR(VLOOKUP($A17,Filtro!$A$5:$AY$629,35,FALSE),0)","v":26},{"$f":"IFERROR(VLOOKUP($A17,Filtro!$A$5:$AY$629,36,FALSE),0)","v":12},{"$f":"IFERROR(VLOOKUP($A17,Filtro!$A$5:$AY$629,37,FALSE),0)","v":21},{"$f":"IFERROR(VLOOKUP($A17,Filtro!$A$5:$AY$629,38,FALSE),0)","v":11},{"$f":"IFERROR(VLOOKUP($A17,Filtro!$A$5:$AY$629,39,FALSE),0)","v":12},{"$f":"IFERROR(VLOOKUP($A17,Filtro!$A$5:$AY$629,40,FALSE),0)","v":0},{"$f":"IFERROR(VLOOKUP($A17,Filtro!$A$5:$AY$629,41,FALSE),0)","v":6},{"$f":"IFERROR(VLOOKUP($A17,Filtro!$A$5:$AY$629,42,FALSE),0)","v":1},{"$f":"IFERROR(VLOOKUP($A17,Filtro!$A$5:$AY$629,43,FALSE),0)","v":12},{"$f":"IFERROR(VLOOKUP($A17,Filtro!$A$5:$AY$629,44,FALSE),0)","v":0},{"$f":"IFERROR(VLOOKUP($A17,Filtro!$A$5:$AY$629,45,FALSE),0)","v":4},{"$f":"IFERROR(VLOOKUP($A17,Filtro!$A$5:$AY$629,46,FALSE),0)","v":143},{"$f":"IFERROR(VLOOKUP($A17,Filtro!$A$5:$AY$629,47,FALSE),0)","v":0},{"$f":"IFERROR(VLOOKUP($A17,Filtro!$A$5:$AY$629,48,FALSE),0)","v":0},{"$nulls":4},"",null,"","","","","","","",null,null,0,null,0,0,0,0,0,0,0]
[null,"SECCION B: POBLACIÓN EN CONTROL POR COMERCIO SEXUAL (Uso exclusivo de Unidades Control Comercio Sexual)"]
[null,"CONCEPTO","TOTAL",null,null,"GRUPOS DE EDAD (en años)",{"$nulls":27},"TRANS",null,"Pueblos Originarios","Migrantes",{"$nulls":19},"TRANS",null,"Pueblos Originarios","Población Migrantes","TRANS","Pueblos Originarios","Población Migrantes",{"$nulls":4},"TRANS",null,"Pueblos Originarios","Población Migrantes","TRANS","Pueblos Originarios","Población Migrantes"]
[{"$nulls":5},"15 a 19 años",null,"20 a 24 años",null,"25 a 29 años",null,"30 a 34 años",null,"35 a 39 años",null,"40 a 44 años",null,"45 a 49 años",null,"50 a 54 años",null,"55 a 59 años",null,"60 a 64 años",null,"65 a 69 años",null,"70 a 74 años",null,"75 a 79 años",null,"80 y más años"]
[null,null,"Ambos\nsexos","Hombres","Mujeres","Hombres ","Mujeres","Hombres ","Mujeres","Hombres ","Mujeres","Hombres ","Mujeres","Hombres ","Mujeres","Hombres ","Mujeres","Hombres ","Mujeres","Hombres ","Mujeres","Hombres ","Mujeres","Hombres ","Mujeres","Hombres ","Mujeres","Hombres ","Mujeres","Hombres ","Mujeres","Hombres ","Mujeres","Masculino","Femenino",{"$nulls":21},"Masculino","Femenino (NO)",null,null,"No Olvide","No Olvide","No Olvide",{"$nulls":4},"Masculino","Femenino (NO)",null,null,"No Olvide","No Olvide","No Olvide"]
["P11000140","Nº DE PERSONAS / COMERCIO SEXUAL",{"$f":"SUM(D22:E22)","v":12},{"$f":"+F22+H22+J22+L22+N22+P22+R22+T22+V22+X22+Z22+AB22+AD22+AF22","v":2},{"$f":"+G22+I22+K22+M22+O22+Q22+S22+U22+W22+Y22+AA22+AC22+AE22+AG22","v":10},{"$f":"IFERROR(VLOOKUP($A22,Filtro!$A$5:$AY$629,5,FALSE),0)","v":0},{"$f":"IFERROR(VLOOKUP($A22,Filtro!$A$5:$AY$629,6,FALSE),0)","v":0},{"$f":"IFERROR(VLOOKUP($A22,Filtro!$A$5:$AY$629,7,FALSE),0)","v":0},{"$f":"IFERROR(VLOOKUP($A22,Filtro!$A$5:$AY$629,8,FALSE),0)","v":0},{"$f":"IFERROR(VLOOKUP($A22,Filtro!$A$5:$AY$629,9,FALSE),0)","v":1},{"$f":"IFERROR(VLOOKUP($A22,Filtro!$A$5:$AY$629,10,FALSE),0)","v":1},{"$f":"IFERROR(VLOOKUP($A22,Filtro!$A$5:$AY$629,11,FALSE),0)","v":0},{"$f":"IFERROR(VLOOKUP($A22,Filtro!$A$5:$AY$629,12,FALSE),0)","v":0},{"$f":"IFERROR(VLOOKUP($A22,Filtro!$A$5:$AY$629,13,FALSE),0)","v":1},{"$f":"IFERROR(VLOOKUP($A22,Filtro!$A$5:$AY$629,14,FALSE),0)","v":5},{"$f":"IFERROR(VLOOKUP($A22,Filtro!$A$5:$AY$629,15,FALSE),0)","v":0},{"$f":"IFERROR(VLOOKUP($A22,Filtro!$A$5:$AY$629,16,FALSE),0)","v":2},{"$f":"IFERROR(VLOOKUP($A22,Filtro!$A$5:$AY$629,17,FALSE),0)","v":0},{"$f":"IFERROR(VLOOKUP($A22,Filtro!$A$5:$AY$629,18,FALSE),0)","v":2},{"$f":"IFERROR(VLOOKUP($A22,Filtro!$A$5:$AY$629,19,FALSE),0)","v":0},{"$f":"IFERROR(VLOOKUP($A22,Filtro!$A$5:$AY$629,20,FALSE),0)","v":0},{"$f":"IFERROR(VLOOKUP($A22,Filtro!$A$5:$AY$629,21,FALSE),0)","v":0},{"$f":"IFERROR(VLOOKUP($A22,Filtro!$A$5:$AY$629,22,FALSE),0)","v":0},{"$f":"IFERROR(VLOOKUP($A22,Filtro!$A$5:$AY$629,23,FALSE),0)","v":0},{"$f":"IFERROR(VLOOKUP($A22,Filtro!$A$5:$AY$629,24,FALSE),0)","v":0},{"$f":"IFERROR(VLOOKUP($A22,Filtro!$A$5:$AY$629,25,FALSE),0)","v":0},{"$f":"IFERROR(VLOOKUP($A22,Filtro!$A$5:$AY$629,26,FALSE),0)","v":0},{"$f":"IFERROR(VLOOKUP($A22,Filtro!$A$5:$AY$629,27,FALSE),0)","v":0},{"$f":"IFERROR(VLOOKUP($A22,Filtro!$A$5:$AY$629,28,FALSE),0)","v":0},{"$f":"IFERROR(VLOOKUP($A22,Filtro!$A$5:$AY$629,29,FALSE),0)","v":0},{"$f":"IFERROR(VLOOKUP($A22,Filtro!$A$5:$AY$629,30,FALSE),0)","v":0},{"$f":"IFERROR(VLOOKUP($A22,Filtro!$A$5:$AY$629,31,FALSE),0)","v":0},{"$f":"IFERROR(VLOOKUP($A22,Filtro!$A$5:$AY$629,32,FALSE),0)","v":0},{"$f":"IFERROR(VLOOKUP($A22,Filtro!$A$5:$AY$629,33,FALSE),0)","v":0},{"$f":"IFERROR(VLOOKUP($A22,Filtro!$A$5:$AY$629,34,FALSE),0)","v":0},{"$f":"IFERROR(VLOOKUP($A22,Filtro!$A$5:$AY$629,35,FALSE),0)","v":0},{"$f":"IFERROR(VLOOKUP($A22,Filtro!$A$5:$AY$629,36,FALSE),0)","v":7},{"$f":" BE22 & BF22 & BG22 & BH22 & BI22 & BJ22 & BK22","v":""},{"$nulls":18},{"$f":"IF(($AH22+$AI22)<=$C22,\"\",\"* La suma de las celdas 'Trans' no debe ser mayor al Total de personas bajo control. \")","v":""},null,{"$f":"IF($AJ22<=$C22,\"\",\"* La celda de 'Pueblos Originarios' no debe ser mayor al Total de personas bajo control. \")","v":""},{"$f":"IF($AK22<=$C22,\"\",\"* La celda de 'Población Migrantes' no debe ser mayor al Total de personas bajo control. \")","v":""},{"$f":"IF(AND($C22<>0,$AH22=\"\"),\"* No olvide escribir en la celda de Trans (Digite CERO si no tiene). \",IF(AND($C22<>0,$AI22=\"\"),\"* No olvide escribir en la celda Trans (Digite CERO si no tiene). \",\"\"))","v":""},{"$f":"IF(AND($C22<>0,$AJ22=\"\"),\"* No olvide escribir en la celda de Pueblos Originarios (Digite CERO si no tiene). \",\"\")","v":""},{"$f":"IF(AND($C22<>0,$AK22=\"\"),\"* No olvide escribir en la celda de Población Migrantes (Digite CERO si no tiene). \",\"\")","v":""},{"$nulls":4},{"$f":"IF(($AH22+$AI22)<=$C22,0,1)","v":0},{"$f":"IF($AI22<=$E22,0,0)","v":0},{"$f":"IF($AJ22<=$C22,0,1)","v":0},{"$f":"IF($AK22<=$C22,0,1)","v":0},{"$f":"IF(AND($C22<>0,$AH22=\"\"),1,IF(AND($C22<>0,$AI22=\"\"),1,0))","v":0},{"$f":"IF(AND($C22<>0,$AJ22=\"\"),1,0)","v":0},{"$f":"IF(AND($C22<>0,$AK22=\"\"),1,0)","v":0}]
{"$rows_empty":10}
[null,{"$f":"SUM(E12:AW14,C22:AK22)","v":7093},"datos"]
[null,{"$f":"SUM(BO12:BW22)","v":0},"errores"]

{"sheet":"P12","index":11,"n_rows":200,"n_cols":13,"rows_kept":200,"merged":[[4,14,4,15],[6,1,6,11],[23,1,23,3],[24,1,24,11],[25,1,27,1],[25,2,25,12],[26,2,27,2],[26,3,27,3],[26,4,26,5],[26,6,26,11],[26,12,27,12],[42,1,42,3],[43,1,43,11],[44,1,46,1],[44,2,44,12],[45,2,46,2],[45,3,46,3],[45,4,45,5],[45,6,45,11],[45,12,46,12],[98,1,98,11],[99,1,101,1],[99,2,99,7],[100,2,101,2],[100,3,101,3],[100,4,100,6],[100,7,101,7],[115,1,115,11],[116,1,118,1],[116,2,116,7],[117,2,118,2],[117,3,118,3],[117,4,117,6],[117,7,118,7]]}
[null,"DATOS DEL ESTABLECIMIENTO"]
[null,{"$f":"CONCATENATE(\"COMUNA: \",NOMBRE!$B$2,\" - \",\"( \",NOMBRE!$C$2,NOMBRE!$D$2,NOMBRE!$E$2,NOMBRE!$F$2,NOMBRE!$G$2,\" )\")","v":"COMUNA:  - (  )"}]
[null,{"$f":"CONCATENATE(\"ESTABLECIMIENTO/ESTRATEGIA: \",NOMBRE!$B$3,\" - \",\"( \",NOMBRE!$C$3,NOMBRE!$D$3,NOMBRE!$E$3,NOMBRE!$F$3,NOMBRE!$G$3,NOMBRE!$H$3,\" )\")","v":"ESTABLECIMIENTO/ESTRATEGIA:  - (  )"}]
[null,{"$f":"CONCATENATE(\"MES: \",NOMBRE!$B$6,\" - \",\"( \",NOMBRE!$C$6,NOMBRE!$D$6,\" )\")","v":"MES:  - (  )"}]
[null,{"$f":"CONCATENATE(\"AÑO: \",NOMBRE!$B$7)","v":"AÑO: 2023"}]
[]
[null,"REM-P12. PERSONAS CON TAMIZAJE PARA LA DETECCIÓN PRECOZ DE CÁNCER DE CUELLO UTERINO – \nMAMOGRAFIA - EXAMEN FISICO DE MAMA VIGENTES Y PRODUCCION DE PAP Y VPH (SEMESTRAL)"]
[null,"SECCION A: PROGRAMA DE CANCER DE CUELLO UTERINO: POBLACIÓN CON TAMIZAJE VIGENTE \nPARA LA DETECCIÓN PRECOZ DEL CÁNCER DE CUELLO UTERINO"]
[null,"GRUPOS DE EDAD (en años)","Mujeres\ncon Tamizaje Vigente \npara la Detección Precoz de Cáncer de Cuello Uterino","Trans Masculino\ncon Tamizaje Vigente \npara la Detección Precoz de Cáncer de Cuello Uterino"]
["P1207150","Menor de 25 años",{"$f":"IFERROR(VLOOKUP($A10,Filtro!$A$5:$AY$629,2,FALSE),0)","v":5844},{"$f":"IFERROR(VLOOKUP($A10,Filtro!$A$5:$AY$629,3,FALSE),0)","v":0}]
["P1206010","25 a 29 años ",{"$f":"IFERROR(VLOOKUP($A11,Filtro!$A$5:$AY$629,2,FALSE),0)","v":9159},{"$f":"IFERROR(VLOOKUP($A11,Filtro!$A$5:$AY$629,3,FALSE),0)","v":0}]
["P1206020","30 a 34 años",{"$f":"IFERROR(VLOOKUP($A12,Filtro!$A$5:$AY$629,2,FALSE),0)","v":9600},{"$f":"IFERROR(VLOOKUP($A12,Filtro!$A$5:$AY$629,3,FALSE),0)","v":0}]
["P1206030","35 a 39 años",{"$f":"IFERROR(VLOOKUP($A13,Filtro!$A$5:$AY$629,2,FALSE),0)","v":8490},{"$f":"IFERROR(VLOOKUP($A13,Filtro!$A$5:$AY$629,3,FALSE),0)","v":0}]
["P1206040","40 a 44 años",{"$f":"IFERROR(VLOOKUP($A14,Filtro!$A$5:$AY$629,2,FALSE),0)","v":7797},{"$f":"IFERROR(VLOOKUP($A14,Filtro!$A$5:$AY$629,3,FALSE),0)","v":0}]
["P1206050","45 a 49 años",{"$f":"IFERROR(VLOOKUP($A15,Filtro!$A$5:$AY$629,2,FALSE),0)","v":7612},{"$f":"IFERROR(VLOOKUP($A15,Filtro!$A$5:$AY$629,3,FALSE),0)","v":0}]
["P1206060","50 a 54 años",{"$f":"IFERROR(VLOOKUP($A16,Filtro!$A$5:$AY$629,2,FALSE),0)","v":7449},{"$f":"IFERROR(VLOOKUP($A16,Filtro!$A$5:$AY$629,3,FALSE),0)","v":0}]
["P1206070","55 a 59 años",{"$f":"IFERROR(VLOOKUP($A17,Filtro!$A$5:$AY$629,2,FALSE),0)","v":7027},{"$f":"IFERROR(VLOOKUP($A17,Filtro!$A$5:$AY$629,3,FALSE),0)","v":0}]
["P1206080","60 a 64 años",{"$f":"IFERROR(VLOOKUP($A18,Filtro!$A$5:$AY$629,2,FALSE),0)","v":5711},{"$f":"IFERROR(VLOOKUP($A18,Filtro!$A$5:$AY$629,3,FALSE),0)","v":0}]
["P1207160","65 a 69 años",{"$f":"IFERROR(VLOOKUP($A19,Filtro!$A$5:$AY$629,2,FALSE),0)","v":2394},{"$f":"IFERROR(VLOOKUP($A19,Filtro!$A$5:$AY$629,3,FALSE),0)","v":0}]
["P1230001","70 a 74 años",{"$f":"IFERROR(VLOOKUP($A20,Filtro!$A$5:$AY$629,2,FALSE),0)","v":564},{"$f":"IFERROR(VLOOKUP($A20,Filtro!$A$5:$AY$629,3,FALSE),0)","v":0}]
["P1230002","75 a 79 años",{"$f":"IFERROR(VLOOKUP($A21,Filtro!$A$5:$AY$629,2,FALSE),0)","v":198},{"$f":"IFERROR(VLOOKUP($A21,Filtro!$A$5:$AY$629,3,FALSE),0)","v":0}]
["P1230003","80 y más años",{"$f":"IFERROR(VLOOKUP($A22,Filtro!$A$5:$AY$629,2,FALSE),0)","v":48},{"$f":"IFERROR(VLOOKUP($A22,Filtro!$A$5:$AY$629,3,FALSE),0)","v":0}]
[null,"TOTAL",{"$f":"SUM(C10:C22)","v":71893},{"$f":"SUM(D10:D22)","v":0}]
[null,"(*) FUENTE DE INFORMACIÓN: CITOEXPERT O REVICAN"]
[null,"SECCIÓN B. PROGRAMA DE CANCER DE CUELLO UTERINO: PAP REALIZADOS E INFORMADOS SEGÚN RESULTADOS Y GRUPOS DE EDAD\n(Examen realizados en la red pública)"]
[null,"GRUPO DE EDAD \n(en años)","PAP INFORMADOS SEGÚN RESULTADO"]
[null,null,"TOTAL","NORMALES","INADECUADOS Y ATIPICOS",null,"POSITIVOS",{"$nulls":5},"TOTAL PAP INFORMADOS EN TRANS MASCULINO "]
[{"$nulls":4},"INADECUADOS","ATIPICOS"," HPV","NIE I","NIE II"," NIE III","Ca. Inv. (Epidermoide)","Ca. Inv. (Adenocarcinoma)"]
["P1207170","Menor de 25 años",{"$f":"SUM(D29:L29)","v":1361},{"$f":"IFERROR(VLOOKUP($A29,Filtro!$A$5:$AY$629,3,FALSE),0)","v":1115},{"$f":"IFERROR(VLOOKUP($A29,Filtro!$A$5:$AY$629,4,FALSE),0)","v":170},{"$f":"IFERROR(VLOOKUP($A29,Filtro!$A$5:$AY$629,5,FALSE),0)","v":34},{"$f":"IFERROR(VLOOKUP($A29,Filtro!$A$5:$AY$629,6,FALSE),0)","v":13},{"$f":"IFERROR(VLOOKUP($A29,Filtro!$A$5:$AY$629,7,FALSE),0)","v":17},{"$f":"IFERROR(VLOOKUP($A29,Filtro!$A$5:$AY$629,8,FALSE),0)","v":10},{"$f":"IFERROR(VLOOKUP($A29,Filtro!$A$5:$AY$629,9,FALSE),0)","v":2},{"$f":"IFERROR(VLOOKUP($A29,Filtro!$A$5:$AY$629,10,FALSE),0)","v":0},{"$f":"IFERROR(VLOOKUP($A29,Filtro!$A$5:$AY$629,11,FALSE),0)","v":0},{"$f":"IFERROR(VLOOKUP($A29,Filtro!$A$5:$AY$629,12,FALSE),0)","v":0}]
["P1207010","25 a 29 años ",{"$f":"SUM(D30:L30)","v":2685},{"$f":"IFERROR(VLOOKUP($A30,Filtro!$A$5:$AY$629,3,FALSE),0)","v":2238},{"$f":"IFERROR(VLOOKUP($A30,Filtro!$A$5:$AY$629,4,FALSE),0)","v":320},{"$f":"IFERROR(VLOOKUP($A30,Filtro!$A$5:$AY$629,5,FALSE),0)","v":73},{"$f":"IFERROR(VLOOKUP($A30,Filtro!$A$5:$AY$629,6,FALSE),0)","v":18},{"$f":"IFERROR(VLOOKUP($A30,Filtro!$A$5:$AY$629,7,FALSE),0)","v":21},{"$f":"IFERROR(VLOOKUP($A30,Filtro!$A$5:$AY$629,8,FALSE),0)","v":5},{"$f":"IFERROR(VLOOKUP($A30,Filtro!$A$5:$AY$629,9,FALSE),0)","v":8},{"$f":"IFERROR(VLOOKUP($A30,Filtro!$A$5:$AY$629,10,FALSE),0)","v":1},{"$f":"IFERROR(VLOOKUP($A30,Filtro!$A$5:$AY$629,11,FALSE),0)","v":1},{"$f":"IFERROR(VLOOKUP($A30,Filtro!$A$5:$AY$629,12,FALSE),0)","v":0}]
["P1207020","30 a 34 años",2816,{"$f":"IFERROR(VLOOKUP($A31,Filtro!$A$5:$AY$629,3,FALSE),0)","v":2324},{"$f":"IFERROR(VLOOKUP($A31,Filtro!$A$5:$AY$629,4,FALSE),0)","v":286},{"$f":"IFERROR(VLOOKUP($A31,Filtro!$A$5:$AY$629,5,FALSE),0)","v":53},{"$f":"IFERROR(VLOOKUP($A31,Filtro!$A$5:$AY$629,6,FALSE),0)","v":102},{"$f":"IFERROR(VLOOKUP($A31,Filtro!$A$5:$AY$629,7,FALSE),0)","v":15},{"$f":"IFERROR(VLOOKUP($A31,Filtro!$A$5:$AY$629,8,FALSE),0)","v":11},{"$f":"IFERROR(VLOOKUP($A31,Filtro!$A$5:$AY$629,9,FALSE),0)","v":23},{"$f":"IFERROR(VLOOKUP($A31,Filtro!$A$5:$AY$629,10,FALSE),0)","v":1},{"$f":"IFERROR(VLOOKUP($A31,Filtro!$A$5:$AY$629,11,FALSE),0)","v":1},{"$f":"IFERROR(VLOOKUP($A31,Filtro!$A$5:$AY$629,12,FALSE),0)","v":0}]
["P1208020","35 a 39 años",2487,{"$f":"IFERROR(VLOOKUP($A32,Filtro!$A$5:$AY$629,3,FALSE),0)","v":2042},{"$f":"IFERROR(VLOOKUP($A32,Filtro!$A$5:$AY$629,4,FALSE),0)","v":243},{"$f":"IFERROR(VLOOKUP($A32,Filtro!$A$5:$AY$629,5,FALSE),0)","v":52},{"$f":"IFERROR(VLOOKUP($A32,Filtro!$A$5:$AY$629,6,FALSE),0)","v":112},{"$f":"IFERROR(VLOOKUP($A32,Filtro!$A$5:$AY$629,7,FALSE),0)","v":12},{"$f":"IFERROR(VLOOKUP($A32,Filtro!$A$5:$AY$629,8,FALSE),0)","v":8},{"$f":"IFERROR(VLOOKUP($A32,Filtro!$A$5:$AY$629,9,FALSE),0)","v":15},{"$f":"IFERROR(VLOOKUP($A32,Filtro!$A$5:$AY$629,10,FALSE),0)","v":3},{"$f":"IFERROR(VLOOKUP($A32,Filtro!$A$5:$AY$629,11,FALSE),0)","v":0},{"$f":"IFERROR(VLOOKUP($A32,Filtro!$A$5:$AY$629,12,FALSE),0)","v":0}]
["P1208030","40 a 44 años",2321,{"$f":"IFERROR(VLOOKUP($A33,Filtro!$A$5:$AY$629,3,FALSE),0)","v":1950},{"$f":"IFERROR(VLOOKUP($A33,Filtro!$A$5:$AY$629,4,FALSE),0)","v":204},{"$f":"IFERROR(VLOOKUP($A33,Filtro!$A$5:$AY$629,5,FALSE),0)","v":38},{"$f":"IFERROR(VLOOKUP($A33,Filtro!$A$5:$AY$629,6,FALSE),0)","v":92},{"$f":"IFERROR(VLOOKUP($A33,Filtro!$A$5:$AY$629,7,FALSE),0)","v":10},{"$f":"IFERROR(VLOOKUP($A33,Filtro!$A$5:$AY$629,8,FALSE),0)","v":6},{"$f":"IFERROR(VLOOKUP($A33,Filtro!$A$5:$AY$629,9,FALSE),0)","v":19},{"$f":"IFERROR(VLOOKUP($A33,Filtro!$A$5:$AY$629,10,FALSE),0)","v":2},{"$f":"IFERROR(VLOOKUP($A33,Filtro!$A$5:$AY$629,11,FALSE),0)","v":0},{"$f":"IFERROR(VLOOKUP($A33,Filtro!$A$5:$AY$629,12,FALSE),0)","v":0}]
["P1208040","45 a 49 años",2350,{"$f":"IFERROR(VLOOKUP($A34,Filtro!$A$5:$AY$629,3,FALSE),0)","v":2022},{"$f":"IFERROR(VLOOKUP($A34,Filtro!$A$5:$AY$629,4,FALSE),0)","v":181},{"$f":"IFERROR(VLOOKUP($A34,Filtro!$A$5:$AY$629,5,FALSE),0)","v":46},{"$f":"IFERROR(VLOOKUP($A34,Filtro!$A$5:$AY$629,6,FALSE),0)","v":80},{"$f":"IFERROR(VLOOKUP($A34,Filtro!$A$5:$AY$629,7,FALSE),0)","v":7},{"$f":"IFERROR(VLOOKUP($A34,Filtro!$A$5:$AY$629,8,FALSE),0)","v":3},{"$f":"IFERROR(VLOOKUP($A34,Filtro!$A$5:$AY$629,9,FALSE),0)","v":8},{"$f":"IFERROR(VLOOKUP($A34,Filtro!$A$5:$AY$629,10,FALSE),0)","v":3},{"$f":"IFERROR(VLOOKUP($A34,Filtro!$A$5:$AY$629,11,FALSE),0)","v":0},{"$f":"IFERROR(VLOOKUP($A34,Filtro!$A$5:$AY$629,12,FALSE),0)","v":0}]
["P1208050","50 a 54 años",2199,{"$f":"IFERROR(VLOOKUP($A35,Filtro!$A$5:$AY$629,3,FALSE),0)","v":1938},{"$f":"IFERROR(VLOOKUP($A35,Filtro!$A$5:$AY$629,4,FALSE),0)","v":165},{"$f":"IFERROR(VLOOKUP($A35,Filtro!$A$5:$AY$629,5,FALSE),0)","v":25},{"$f":"IFERROR(VLOOKUP($A35,Filtro!$A$5:$AY$629,6,FALSE),0)","v":58},{"$f":"IFERROR(VLOOKUP($A35,Filtro!$A$5:$AY$629,7,FALSE),0)","v":3},{"$f":"IFERROR(VLOOKUP($A35,Filtro!$A$5:$AY$629,8,FALSE),0)","v":2},{"$f":"IFERROR(VLOOKUP($A35,Filtro!$A$5:$AY$629,9,FALSE),0)","v":7},{"$f":"IFERROR(VLOOKUP($A35,Filtro!$A$5:$AY$629,10,FALSE),0)","v":1},{"$f":"IFERROR(VLOOKUP($A35,Filtro!$A$5:$AY$629,11,FALSE),0)","v":0},{"$f":"IFERROR(VLOOKUP($A35,Filtro!$A$5:$AY$629,12,FALSE),0)","v":0}]
["P1208060","55 a 59 años",2141,{"$f":"IFERROR(VLOOKUP($A36,Filtro!$A$5:$AY$629,3,FALSE),0)","v":1824},{"$f":"IFERROR(VLOOKUP($A36,Filtro!$A$5:$AY$629,4,FALSE),0)","v":191},{"$f":"IFERROR(VLOOKUP($A36,Filtro!$A$5:$AY$629,5,FALSE),0)","v":31},{"$f":"IFERROR(VLOOKUP($A36,Filtro!$A$5:$AY$629,6,FALSE),0)","v":85},{"$f":"IFERROR(VLOOKUP($A36,Filtro!$A$5:$AY$629,7,FALSE),0)","v":1},{"$f":"IFERROR(VLOOKUP($A36,Filtro!$A$5:$AY$629,8,FALSE),0)","v":4},{"$f":"IFERROR(VLOOKUP($A36,Filtro!$A$5:$AY$629,9,FALSE),0)","v":4},{"$f":"IFERROR(VLOOKUP($A36,Filtro!$A$5:$AY$629,10,FALSE),0)","v":1},{"$f":"IFERROR(VLOOKUP($A36,Filtro!$A$5:$AY$629,11,FALSE),0)","v":0},{"$f":"IFERROR(VLOOKUP($A36,Filtro!$A$5:$AY$629,12,FALSE),0)","v":0}]
["P1208070","60 a 64 años",{"$f":"SUM(D37:L37)","v":1718},{"$f":"IFERROR(VLOOKUP($A37,Filtro!$A$5:$AY$629,3,FALSE),0)","v":1500},{"$f":"IFERROR(VLOOKUP($A37,Filtro!$A$5:$AY$629,4,FALSE),0)","v":146},{"$f":"IFERROR(VLOOKUP($A37,Filtro!$A$5:$AY$629,5,FALSE),0)","v":19},{"$f":"IFERROR(VLOOKUP($A37,Filtro!$A$5:$AY$629,6,FALSE),0)","v":47},{"$f":"IFERROR(VLOOKUP($A37,Filtro!$A$5:$AY$629,7,FALSE),0)","v":2},{"$f":"IFERROR(VLOOKUP($A37,Filtro!$A$5:$AY$629,8,FALSE),0)","v":0},{"$f":"IFERROR(VLOOKUP($A37,Filtro!$A$5:$AY$629,9,FALSE),0)","v":2},{"$f":"IFERROR(VLOOKUP($A37,Filtro!$A$5:$AY$629,10,FALSE),0)","v":1},{"$f":"IFERROR(VLOOKUP($A37,Filtro!$A$5:$AY$629,11,FALSE),0)","v":1},{"$f":"IFERROR(VLOOKUP($A37,Filtro!$A$5:$AY$629,12,FALSE),0)","v":0}]
["P1208080","65 a 69 años",635,{"$f":"IFERROR(VLOOKUP($A38,Filtro!$A$5:$AY$629,3,FALSE),0)","v":570},{"$f":"IFERROR(VLOOKUP($A38,Filtro!$A$5:$AY$629,4,FALSE),0)","v":53},{"$f":"IFERROR(VLOOKUP($A38,Filtro!$A$5:$AY$629,5,FALSE),0)","v":7},{"$f":"IFERROR(VLOOKUP($A38,Filtro!$A$5:$AY$629,6,FALSE),0)","v":2},{"$f":"IFERROR(VLOOKUP($A38,Filtro!$A$5:$AY$629,7,FALSE),0)","v":1},{"$f":"IFERROR(VLOOKUP($A38,Filtro!$A$5:$AY$629,8,FALSE),0)","v":0},{"$f":"IFERROR(VLOOKUP($A38,Filtro!$A$5:$AY$629,9,FALSE),0)","v":1},{"$f":"IFERROR(VLOOKUP($A38,Filtro!$A$5:$AY$629,10,FALSE),0)","v":0},{"$f":"IFERROR(VLOOKUP($A38,Filtro!$A$5:$AY$629,11,FALSE),0)","v":1},{"$f":"IFERROR(VLOOKUP($A38,Filtro!$A$5:$AY$629,12,FALSE),0)","v":0}]
["P1208090","70 a 74 años",176,{"$f":"IFERROR(VLOOKUP($A39,Filtro!$A$5:$AY$629,3,FALSE),0)","v":164},{"$f":"IFERROR(VLOOKUP($A39,Filtro!$A$5:$AY$629,4,FALSE),0)","v":5},{"$f":"IFERROR(VLOOKUP($A39,Filtro!$A$5:$AY$629,5,FALSE),0)","v":5},{"$f":"IFERROR(VLOOKUP($A39,Filtro!$A$5:$AY$629,6,FALSE),0)","v":0},{"$f":"IFERROR(VLOOKUP($A39,Filtro!$A$5:$AY$629,7,FALSE),0)","v":2},{"$f":"IFERROR(VLOOKUP($A39,Filtro!$A$5:$AY$629,8,FALSE),0)","v":0},{"$f":"IFERROR(VLOOKUP($A39,Filtro!$A$5:$AY$629,9,FALSE),0)","v":0},{"$f":"IFERROR(VLOOKUP($A39,Filtro!$A$5:$AY$629,10,FALSE),0)","v":0},{"$f":"IFERROR(VLOOKUP($A39,Filtro!$A$5:$AY$629,11,FALSE),0)","v":0},{"$f":"IFERROR(VLOOKUP($A39,Filtro!$A$5:$AY$629,12,FALSE),0)","v":0}]
["P1208100","75 a 79 años",48,{"$f":"IFERROR(VLOOKUP($A40,Filtro!$A$5:$AY$629,3,FALSE),0)","v":46},{"$f":"IFERROR(VLOOKUP($A40,Filtro!$A$5:$AY$629,4,FALSE),0)","v":1},{"$f":"IFERROR(VLOOKUP($A40,Filtro!$A$5:$AY$629,5,FALSE),0)","v":1},{"$f":"IFERROR(VLOOKUP($A40,Filtro!$A$5:$AY$629,6,FALSE),0)","v":0},{"$f":"IFERROR(VLOOKUP($A40,Filtro!$A$5:$AY$629,7,FALSE),0)","v":0},{"$f":"IFERROR(VLOOKUP($A40,Filtro!$A$5:$AY$629,8,FALSE),0)","v":0},{"$f":"IFERROR(VLOOKUP($A40,Filtro!$A$5:$AY$629,9,FALSE),0)","v":0},{"$f":"IFERROR(VLOOKUP($A40,Filtro!$A$5:$AY$629,10,FALSE),0)","v":0},{"$f":"IFERROR(VLOOKUP($A40,Filtro!$A$5:$AY$629,11,FALSE),0)","v":0},{"$f":"IFERROR(VLOOKUP($A40,Filtro!$A$5:$AY$629,12,FALSE),0)","v":0}]
["P1230004","80 y más años",9,{"$f":"IFERROR(VLOOKUP($A41,Filtro!$A$5:$AY$629,3,FALSE),0)","v":9},{"$f":"IFERROR(VLOOKUP($A41,Filtro!$A$5:$AY$629,4,FALSE),0)","v":0},{"$f":"IFERROR(VLOOKUP($A41,Filtro!$A$5:$AY$629,5,FALSE),0)","v":0},{"$f":"IFERROR(VLOOKUP($A41,Filtro!$A$5:$AY$629,6,FALSE),0)","v":0},{"$f":"IFERROR(VLOOKUP($A41,Filtro!$A$5:$AY$629,7,FALSE),0)","v":0},{"$f":"IFERROR(VLOOKUP($A41,Filtro!$A$5:$AY$629,8,FALSE),0)","v":0},{"$f":"IFERROR(VLOOKUP($A41,Filtro!$A$5:$AY$629,9,FALSE),0)","v":0},{"$f":"IFERROR(VLOOKUP($A41,Filtro!$A$5:$AY$629,10,FALSE),0)","v":0},{"$f":"IFERROR(VLOOKUP($A41,Filtro!$A$5:$AY$629,11,FALSE),0)","v":0},{"$f":"IFERROR(VLOOKUP($A41,Filtro!$A$5:$AY$629,12,FALSE),0)","v":0}]
[null,"TOTAL",{"$f":"SUM(D42:L42)","v":20946},{"$f":"SUM(D29:D41)","v":17742},{"$f":"SUM(E29:E41)","v":1965},384,609,91,49,89,13,4,{"$f":"SUM(M29:M41)","v":0}]
[null,"(*) FUENTE DE INFORMACIÓN: CITOEXPERT O REVICAN"]
[null,"SECCIÓN B.1 PROGRAMA DE CANCER DE CUELLO UTERINO: PAP REALIZADOS E INFORMADOS SEGÚN RESULTADOS Y GRUPOS DE EDAD\n(Examen realizados en extrasistema)"]
[null,"GRUPO DE EDAD \n(en años)","PAP INFORMADOS SEGÚN RESULTADO"]
[null,null,"TOTAL","NORMALES","INADECUADOS Y ATIPICOS",null,"POSITIVOS",{"$nulls":5},"TOTAL PAP INFORMADOS EN TRANS MASCULINO "]
[{"$nulls":4},"INADECUADOS","ATIPICOS"," HPV","NIE I","NIE II"," NIE III","Ca. Inv. (Epidermoide)","Ca. Inv. (Adenocarcinoma)"]
["P1220091","Menor de 25 años",{"$f":"SUM(D48:L48)","v":5},{"$f":"IFERROR(VLOOKUP($A48,Filtro!$A$5:$AY$629,3,FALSE),0)","v":3},{"$f":"IFERROR(VLOOKUP($A48,Filtro!$A$5:$AY$629,4,FALSE),0)","v":0},{"$f":"IFERROR(VLOOKUP($A48,Filtro!$A$5:$AY$629,5,FALSE),0)","v":1},{"$f":"IFERROR(VLOOKUP($A48,Filtro!$A$5:$AY$629,6,FALSE),0)","v":0},{"$f":"IFERROR(VLOOKUP($A48,Filtro!$A$5:$AY$629,7,FALSE),0)","v":0},{"$f":"IFERROR(VLOOKUP($A48,Filtro!$A$5:$AY$629,8,FALSE),0)","v":0},{"$f":"IFERROR(VLOOKUP($A48,Filtro!$A$5:$AY$629,9,FALSE),0)","v":1},{"$f":"IFERROR(VLOOKUP($A48,Filtro!$A$5:$AY$629,10,FALSE),0)","v":0},{"$f":"IFERROR(VLOOKUP($A48,Filtro!$A$5:$AY$629,11,FALSE),0)","v":0},{"$f":"IFERROR(VLOOKUP($A48,Filtro!$A$5:$AY$629,12,FALSE),0)","v":0}]
["P1220092","25 a 29 años ",{"$f":"SUM(D49:L49)","v":10},{"$f":"IFERROR(VLOOKUP($A49,Filtro!$A$5:$AY$629,3,FALSE),0)","v":7},{"$f":"IFERROR(VLOOKUP($A49,Filtro!$A$5:$AY$629,4,FALSE),0)","v":0},{"$f":"IFERROR(VLOOKUP($A49,Filtro!$A$5:$AY$629,5,FALSE),0)","v":1},{"$f":"IFERROR(VLOOKUP($A49,Filtro!$A$5:$AY$629,6,FALSE),0)","v":0},{"$f":"IFERROR(VLOOKUP($A49,Filtro!$A$5:$AY$629,7,FALSE),0)","v":1},{"$f":"IFERROR(VLOOKUP($A49,Filtro!$A$5:$AY$629,8,FALSE),0)","v":0},{"$f":"IFERROR(VLOOKUP($A49,Filtro!$A$5:$AY$629,9,FALSE),0)","v":1},{"$f":"IFERROR(VLOOKUP($A49,Filtro!$A$5:$AY$629,10,FALSE),0)","v":0},{"$f":"IFERROR(VLOOKUP($A49,Filtro!$A$5:$AY$629,11,FALSE),0)","v":0},{"$f":"IFERROR(VLOOKUP($A49,Filtro!$A$5:$AY$629,12,FALSE),0)","v":0}]
["P1220093","30 a 34 años",{"$f":"SUM(D50:L50)","v":15},{"$f":"IFERROR(VLOOKUP($A50,Filtro!$A$5:$AY$629,3,FALSE),0)","v":12},{"$f":"IFERROR(VLOOKUP($A50,Filtro!$A$5:$AY$629,4,FALSE),0)","v":0},{"$f":"IFERROR(VLOOKUP($A50,Filtro!$A$5:$AY$629,5,FALSE),0)","v":0},{"$f":"IFERROR(VLOOKUP($A50,Filtro!$A$5:$AY$629,6,FALSE),0)","v":0},{"$f":"IFERROR(VLOOKUP($A50,Filtro!$A$5:$AY$629,7,FALSE),0)","v":3},{"$f":"IFERROR(VLOOKUP($A50,Filtro!$A$5:$AY$629,8,FALSE),0)","v":0},{"$f":"IFERROR(VLOOKUP($A50,Filtro!$A$5:$AY$629,9,FALSE),0)","v":0},{"$f":"IFERROR(VLOOKUP($A50,Filtro!$A$5:$AY$629,10,FALSE),0)","v":0},{"$f":"IFERROR(VLOOKUP($A50,Filtro!$A$5:$AY$629,11,FALSE),0)","v":0},{"$f":"IFERROR(VLOOKUP($A50,Filtro!$A$5:$AY$629,12,FALSE),0)","v":0}]
["P1220094","35 a 39 años",14,{"$f":"IFERROR(VLOOKUP($A51,Filtro!$A$5:$AY$629,3,FALSE),0)","v":11},{"$f":"IFERROR(VLOOKUP($A51,Filtro!$A$5:$AY$629,4,FALSE),0)","v":0},{"$f":"IFERROR(VLOOKUP($A51,Filtro!$A$5:$AY$629,5,FALSE),0)","v":0},{"$f":"IFERROR(VLOOKUP($A51,Filtro!$A$5:$AY$629,6,FALSE),0)","v":0},{"$f":"IFERROR(VLOOKUP($A51,Filtro!$A$5:$AY$629,7,FALSE),0)","v":1},{"$f":"IFERROR(VLOOKUP($A51,Filtro!$A$5:$AY$629,8,FALSE),0)","v":1},{"$f":"IFERROR(VLOOKUP($A51,Filtro!$A$5:$AY$629,9,FALSE),0)","v":1},{"$f":"IFERROR(VLOOKUP($A51,Filtro!$A$5:$AY$629,10,FALSE),0)","v":0},{"$f":"IFERROR(VLOOKUP($A51,Filtro!$A$5:$AY$629,11,FALSE),0)","v":0},{"$f":"IFERROR(VLOOKUP($A51,Filtro!$A$5:$AY$629,12,FALSE),0)","v":0}]
["P1220095","40 a 44 años",19,{"$f":"IFERROR(VLOOKUP($A52,Filtro!$A$5:$AY$629,3,FALSE),0)","v":15},{"$f":"IFERROR(VLOOKUP($A52,Filtro!$A$5:$AY$629,4,FALSE),0)","v":0},{"$f":"IFERROR(VLOOKUP($A52,Filtro!$A$5:$AY$629,5,FALSE),0)","v":1},{"$f":"IFERROR(VLOOKUP($A52,Filtro!$A$5:$AY$629,6,FALSE),0)","v":0},{"$f":"IFERROR(VLOOKUP($A52,Filtro!$A$5:$AY$629,7,FALSE),0)","v":1},{"$f":"IFERROR(VLOOKUP($A52,Filtro!$A$5:$AY$629,8,FALSE),0)","v":1},{"$f":"IFERROR(VLOOKUP($A52,Filtro!$A$5:$AY$629,9,FALSE),0)","v":1},{"$f":"IFERROR(VLOOKUP($A52,Filtro!$A$5:$AY$629,10,FALSE),0)","v":0},{"$f":"IFERROR(VLOOKUP($A52,Filtro!$A$5:$AY$629,11,FALSE),0)","v":0},{"$f":"IFERROR(VLOOKUP($A52,Filtro!$A$5:$AY$629,12,FALSE),0)","v":0}]
["P1220096","45 a 49 años",14,{"$f":"IFERROR(VLOOKUP($A53,Filtro!$A$5:$AY$629,3,FALSE),0)","v":11},{"$f":"IFERROR(VLOOKUP($A53,Filtro!$A$5:$AY$629,4,FALSE),0)","v":1},{"$f":"IFERROR(VLOOKUP($A53,Filtro!$A$5:$AY$629,5,FALSE),0)","v":0},{"$f":"IFERROR(VLOOKUP($A53,Filtro!$A$5:$AY$629,6,FALSE),0)","v":0},{"$f":"IFERROR(VLOOKUP($A53,Filtro!$A$5:$AY$629,7,FALSE),0)","v":1},{"$f":"IFERROR(VLOOKUP($A53,Filtro!$A$5:$AY$629,8,FALSE),0)","v":1},{"$f":"IFERROR(VLOOKUP($A53,Filtro!$A$5:$AY$629,9,FALSE),0)","v":0},{"$f":"IFERROR(VLOOKUP($A53,Filtro!$A$5:$AY$629,10,FALSE),0)","v":0},{"$f":"IFERROR(VLOOKUP($A53,Filtro!$A$5:$AY$629,11,FALSE),0)","v":0},{"$f":"IFERROR(VLOOKUP($A53,Filtro!$A$5:$AY$629,12,FALSE),0)","v":0}]
["P1220097","50 a 54 años",14,{"$f":"IFERROR(VLOOKUP($A54,Filtro!$A$5:$AY$629,3,FALSE),0)","v":9},{"$f":"IFERROR(VLOOKUP($A54,Filtro!$A$5:$AY$629,4,FALSE),0)","v":0},{"$f":"IFERROR(VLOOKUP($A54,Filtro!$A$5:$AY$629,5,FALSE),0)","v":0},{"$f":"IFERROR(VLOOKUP($A54,Filtro!$A$5:$AY$629,6,FALSE),0)","v":1},{"$f":"IFERROR(VLOOKUP($A54,Filtro!$A$5:$AY$629,7,FALSE),0)","v":1},{"$f":"IFERROR(VLOOKUP($A54,Filtro!$A$5:$AY$629,8,FALSE),0)","v":1},{"$f":"IFERROR(VLOOKUP($A54,Filtro!$A$5:$AY$629,9,FALSE),0)","v":0},{"$f":"IFERROR(VLOOKUP($A54,Filtro!$A$5:$AY$629,10,FALSE),0)","v":1},{"$f":"IFERROR(VLOOKUP($A54,Filtro!$A$5:$AY$629,11,FALSE),0)","v":1},{"$f":"IFERROR(VLOOKUP($A54,Filtro!$A$5:$AY$629,12,FALSE),0)","v":0}]
["P1220098","55 a 59 años",6,{"$f":"IFERROR(VLOOKUP($A55,Filtro!$A$5:$AY$629,3,FALSE),0)","v":5},{"$f":"IFERROR(VLOOKUP($A55,Filtro!$A$5:$AY$629,4,FALSE),0)","v":0},{"$f":"IFERROR(VLOOKUP($A55,Filtro!$A$5:$AY$629,5,FALSE),0)","v":1},{"$f":"IFERROR(VLOOKUP($A55,Filtro!$A$5:$AY$629,6,FALSE),0)","v":0},{"$f":"IFERROR(VLOOKUP($A55,Filtro!$A$5:$AY$629,7,FALSE),0)","v":0},{"$f":"IFERROR(VLOOKUP($A55,Filtro!$A$5:$AY$629,8,FALSE),0)","v":0},{"$f":"IFERROR(VLOOKUP($A55,Filtro!$A$5:$AY$629,9,FALSE),0)","v":0},{"$f":"IFERROR(VLOOKUP($A55,Filtro!$A$5:$AY$629,10,FALSE),0)","v":0},{"$f":"IFERROR(VLOOKUP($A55,Filtro!$A$5:$AY$629,11,FALSE),0)","v":0},{"$f":"IFERROR(VLOOKUP($A55,Filtro!$A$5:$AY$629,12,FALSE),0)","v":0}]
["P1220099","60 a 64 años",1,{"$f":"IFERROR(VLOOKUP($A56,Filtro!$A$5:$AY$629,3,FALSE),0)","v":1},{"$f":"IFERROR(VLOOKUP($A56,Filtro!$A$5:$AY$629,4,FALSE),0)","v":0},{"$f":"IFERROR(VLOOKUP($A56,Filtro!$A$5:$AY$629,5,FALSE),0)","v":0},{"$f":"IFERROR(VLOOKUP($A56,Filtro!$A$5:$AY$629,6,FALSE),0)","v":0},{"$f":"IFERROR(VLOOKUP($A56,Filtro!$A$5:$AY$629,7,FALSE),0)","v":0},{"$f":"IFERROR(VLOOKUP($A56,Filtro!$A$5:$AY$629,8,FALSE),0)","v":0},{"$f":"IFERROR(VLOOKUP($A56,Filtro!$A$5:$AY$629,9,FALSE),0)","v":0},{"$f":"IFERROR(VLOOKUP($A56,Filtro!$A$5:$AY$629,10,FALSE),0)","v":0},{"$f":"IFERROR(VLOOKUP($A56,Filtro!$A$5:$AY$629,11,FALSE),0)","v":0},{"$f":"IFERROR(VLOOKUP($A56,Filtro!$A$5:$AY$629,12,FALSE),0)","v":0}]
["P1220100","65 a 69 años",0,{"$f":"IFERROR(VLOOKUP($A57,Filtro!$A$5:$AY$629,3,FALSE),0)","v":0},{"$f":"IFERROR(VLOOKUP($A57,Filtro!$A$5:$AY$629,4,FALSE),0)","v":0},{"$f":"IFERROR(VLOOKUP($A57,Filtro!$A$5:$AY$629,5,FALSE),0)","v":0},{"$f":"IFERROR(VLOOKUP($A57,Filtro!$A$5:$AY$629,6,FALSE),0)","v":0},{"$f":"IFERROR(VLOOKUP($A57,Filtro!$A$5:$AY$629,7,FALSE),0)","v":0},{"$f":"IFERROR(VLOOKUP($A57,Filtro!$A$5:$AY$629,8,FALSE),0)","v":0},{"$f":"IFERROR(VLOOKUP($A57,Filtro!$A$5:$AY$629,9,FALSE),0)","v":0},{"$f":"IFERROR(VLOOKUP($A57,Filtro!$A$5:$AY$629,10,FALSE),0)","v":0},{"$f":"IFERROR(VLOOKUP($A57,Filtro!$A$5:$AY$629,11,FALSE),0)","v":0},{"$f":"IFERROR(VLOOKUP($A57,Filtro!$A$5:$AY$629,12,FALSE),0)","v":0}]
["P1220101","70 a 74 años",{"$f":"SUM(D58:L58)","v":1},{"$f":"IFERROR(VLOOKUP($A58,Filtro!$A$5:$AY$629,3,FALSE),0)","v":0},{"$f":"IFERROR(VLOOKUP($A58,Filtro!$A$5:$AY$629,4,FALSE),0)","v":0},{"$f":"IFERROR(VLOOKUP($A58,Filtro!$A$5:$AY$629,5,FALSE),0)","v":0},{"$f":"IFERROR(VLOOKUP($A58,Filtro!$A$5:$AY$629,6,FALSE),0)","v":0},{"$f":"IFERROR(VLOOKUP($A58,Filtro!$A$5:$AY$629,7,FALSE),0)","v":0},{"$f":"IFERROR(VLOOKUP($A58,Filtro!$A$5:$AY$629,8,FALSE),0)","v":0},{"$f":"IFERROR(VLOOKUP($A58,Filtro!$A$5:$AY$629,9,FALSE),0)","v":0},{"$f":"IFERROR(VLOOKUP($A58,Filtro!$A$5:$AY$629,10,FALSE),0)","v":0},{"$f":"IFERROR(VLOOKUP($A58,Filtro!$A$5:$AY$629,11,FALSE),0)","v":1},{"$f":"IFERROR(VLOOKUP($A58,Filtro!$A$5:$AY$629,12,FALSE),0)","v":0}]
["P1220102","75 a 79 años",{"$f":"SUM(D59:L59)","v":0},{"$f":"IFERROR(VLOOKUP($A59,Filtro!$A$5:$AY$629,3,FALSE),0)","v":0},{"$f":"IFERROR(VLOOKUP($A59,Filtro!$A$5:$AY$629,4,FALSE),0)","v":0},{"$f":"IFERROR(VLOOKUP($A59,Filtro!$A$5:$AY$629,5,FALSE),0)","v":0},{"$f":"IFERROR(VLOOKUP($A59,Filtro!$A$5:$AY$629,6,FALSE),0)","v":0},{"$f":"IFERROR(VLOOKUP($A59,Filtro!$A$5:$AY$629,7,FALSE),0)","v":0},{"$f":"IFERROR(VLOOKUP($A59,Filtro!$A$5:$AY$629,8,FALSE),0)","v":0},{"$f":"IFERROR(VLOOKUP($A59,Filtro!$A$5:$AY$629,9,FALSE),0)","v":0},{"$f":"IFERROR(VLOOKUP($A59,Filtro!$A$5:$AY$629,10,FALSE),0)","v":0},{"$f":"IFERROR(VLOOKUP($A59,Filtro!$A$5:$AY$629,11,FALSE),0)","v":0},{"$f":"IFERROR(VLOOKUP($A59,Filtro!$A$5:$AY$629,12,FALSE),0)","v":0}]
["P1230005","80 y más años",{"$f":"SUM(D60:L60)","v":0},{"$f":"IFERROR(VLOOKUP($A60,Filtro!$A$5:$AY$629,3,FALSE),0)","v":0},{"$f":"IFERROR(VLOOKUP($A60,Filtro!$A$5:$AY$629,4,FALSE),0)","v":0},{"$f":"IFERROR(VLOOKUP($A60,Filtro!$A$5:$AY$629,5,FALSE),0)","v":0},{"$f":"IFERROR(VLOOKUP($A60,Filtro!$A$5:$AY$629,6,FALSE),0)","v":0},{"$f":"IFERROR(VLOOKUP($A60,Filtro!$A$5:$AY$629,7,FALSE),0)","v":0},{"$f":"IFERROR(VLOOKUP($A60,Filtro!$A$5:$AY$629,8,FALSE),0)","v":0},{"$f":"IFERROR(VLOOKUP($A60,Filtro!$A$5:$AY$629,9,FALSE),0)","v":0},{"$f":"IFERROR(VLOOKUP($A60,Filtro!$A$5:$AY$629,10,FALSE),0)","v":0},{"$f":"IFERROR(VLOOKUP($A60,Filtro!$A$5:$AY$629,11,FALSE),0)","v":0},{"$f":"IFERROR(VLOOKUP($A60,Filtro!$A$5:$AY$629,12,FALSE),0)","v":0}]
[null,"TOTAL",{"$f":"SUM(D61:L61)","v":99},{"$f":"SUM(D48:D60)","v":74},{"$f":"SUM(E48:E60)","v":1},{"$f":"SUM(F48:F60)","v":4},1,8,4,4,1,2,{"$f":"SUM(M48:M60)","v":0}]
[null,"(*) FUENTE DE INFORMACIÓN: CITOEXPERT O REVICAN"]
[null,"SECCION C: PROGRAMA DE CANCER DE MAMA: MUJERES CON MAMOGRAFÍA VIGENTE EN LOS ULTIMOS 2 AÑOS. "]
[null,"GRUPO DE EDAD \n(en años)","Mujeres con mamografia vigente  (Menor o igual a 2 años)"]
["P1207190","Menor de 35 años",{"$f":"IFERROR(VLOOKUP($A65,Filtro!$A$5:$AY$629,2,FALSE),0)","v":163}]
["P1220020","35 a 49 años",{"$f":"IFERROR(VLOOKUP($A66,Filtro!$A$5:$AY$629,2,FALSE),0)","v":10659}]
["P1220030","50 a 54 años",{"$f":"IFERROR(VLOOKUP($A67,Filtro!$A$5:$AY$629,2,FALSE),0)","v":6998}]
["P1207030","55 a 59 años",{"$f":"IFERROR(VLOOKUP($A68,Filtro!$A$5:$AY$629,2,FALSE),0)","v":6595}]
["P1207040","60 a 64 años",{"$f":"IFERROR(VLOOKUP($A69,Filtro!$A$5:$AY$629,2,FALSE),0)","v":5254}]
["P1207050","65 a 69 años",{"$f":"IFERROR(VLOOKUP($A70,Filtro!$A$5:$AY$629,2,FALSE),0)","v":2930}]
["P1207060","70 a 74 años",{"$f":"IFERROR(VLOOKUP($A71,Filtro!$A$5:$AY$629,2,FALSE),0)","v":1245}]
["P1207070","75 a 79 años",{"$f":"IFERROR(VLOOKUP($A72,Filtro!$A$5:$AY$629,2,FALSE),0)","v":466}]
["P1207080","80 y más años",{"$f":"IFERROR(VLOOKUP($A73,Filtro!$A$5:$AY$629,2,FALSE),0)","v":165}]
[null,"TOTAL",{"$f":"SUM(C65:C73)","v":34475}]
[null,"(*) FUENTE DE INFORMACIÓN: TARJETERO POBLACIONAL DE LA APS"]
[null,"SECCION D: PROGRAMA DE CANCER DE MAMA: NÚMERO DE MUJERES CON EXAMEN FÍSICO DE MAMA (VIGENTE)"]
[null,"GRUPO DE EDAD \n(en años)","Mujeres con EFM vigente\n"]
["P1207180","Menor de 35 años",{"$f":"IFERROR(VLOOKUP($A78,Filtro!$A$5:$AY$629,2,FALSE),0)","v":24064}]
["P1220070","35 a 49 años",{"$f":"IFERROR(VLOOKUP($A79,Filtro!$A$5:$AY$629,2,FALSE),0)","v":26273}]
["P1220090","50 a 54 años",{"$f":"IFERROR(VLOOKUP($A80,Filtro!$A$5:$AY$629,2,FALSE),0)","v":8522}]
["P1207090","55 a 59 años",{"$f":"IFERROR(VLOOKUP($A81,Filtro!$A$5:$AY$629,2,FALSE),0)","v":7941}]
["P1207100","60 a 64 años",{"$f":"IFERROR(VLOOKUP($A82,Filtro!$A$5:$AY$629,2,FALSE),0)","v":6222}]
["P1207110","65 a 69 años",{"$f":"IFERROR(VLOOKUP($A83,Filtro!$A$5:$AY$629,2,FALSE),0)","v":2747}]
["P1207120","70 a 74 años",{"$f":"IFERROR(VLOOKUP($A84,Filtro!$A$5:$AY$629,2,FALSE),0)","v":780}]
["P1207130","75 a 79 años",{"$f":"IFERROR(VLOOKUP($A85,Filtro!$A$5:$AY$629,2,FALSE),0)","v":257}]
["P1207140","80 y más años",{"$f":"IFERROR(VLOOKUP($A86,Filtro!$A$5:$AY$629,2,FALSE),0)","v":68}]
[null,"TOTAL",{"$f":"SUM(C78:C86)","v":76874}]
[null,"(*) FUENTE DE INFORMACIÓN: TARJETERO POBLACIONAL DE LA APS"]
[null,"SECCION E: PROGRAMA DE CANCER DE CUELLO UTERINO: POBLACIÓN CON VPH VIGENTE"]
[null,"GRUPOS DE EDAD (en años)","MUJERES\ncon Examen VPH Vigente \nen los ultimos 5 años","TRANS MASCULINO\ncon Examen VPH Vigente \nen los ultimos 5 años"]
["P1240010","30 a 34 años",{"$f":"IFERROR(VLOOKUP($A91,Filtro!$A$5:$AY$629,2,FALSE),0)","v":2782},{"$f":"IFERROR(VLOOKUP($A91,Filtro!$A$5:$AY$629,3,FALSE),0)","v":0}]
["P1240011","35 a 39 años",{"$f":"IFERROR(VLOOKUP($A92,Filtro!$A$5:$AY$629,2,FALSE),0)","v":2950},{"$f":"IFERROR(VLOOKUP($A92,Filtro!$A$5:$AY$629,3,FALSE),0)","v":0}]
["P1240012","40 a 44 años",{"$f":"IFERROR(VLOOKUP($A93,Filtro!$A$5:$AY$629,2,FALSE),0)","v":2577},{"$f":"IFERROR(VLOOKUP($A93,Filtro!$A$5:$AY$629,3,FALSE),0)","v":0}]
["P1240013","45 a 49 años",{"$f":"IFERROR(VLOOKUP($A94,Filtro!$A$5:$AY$629,2,FALSE),0)","v":2547},{"$f":"IFERROR(VLOOKUP($A94,Filtro!$A$5:$AY$629,3,FALSE),0)","v":0}]
["P1240014","50 a 54 años",{"$f":"IFERROR(VLOOKUP($A95,Filtro!$A$5:$AY$629,2,FALSE),0)","v":2342},{"$f":"IFERROR(VLOOKUP($A95,Filtro!$A$5:$AY$629,3,FALSE),0)","v":0}]
["P1240015","55 a 59 años",{"$f":"IFERROR(VLOOKUP($A96,Filtro!$A$5:$AY$629,2,FALSE),0)","v":2136},{"$f":"IFERROR(VLOOKUP($A96,Filtro!$A$5:$AY$629,3,FALSE),0)","v":0}]
["P1240016","60 a 64 años",{"$f":"IFERROR(VLOOKUP($A97,Filtro!$A$5:$AY$629,2,FALSE),0)","v":1500},{"$f":"IFERROR(VLOOKUP($A97,Filtro!$A$5:$AY$629,3,FALSE),0)","v":0}]
[null,"TOTAL",{"$f":"SUM(C91:C97)","v":16834},{"$f":"SUM(D91:D97)","v":0}]
[null,"SECCIÓN F: PROGRAMA DE CANCER DE CUELLO UTERINO: RESULTADOS DE VPH  REALIZADOS EN EL SISTEMA PUBLICO SEGÚN GRUPOS DE EDAD \n(Examen realizados en la red pública)"]
[null,"GRUPO DE EDAD \n(en años)","VPH INFORMADOS SEGÚN RESULTADO"]
[null,null,"TOTAL","VPH (-)","POSITIVOS",null,null,"TOTAL VPH  INFORMADOS EN TRANS MASCULINO "]
[{"$nulls":4},"VPH 16 (+)","VPH 18 (+)","VPH AR* (+) "]
["P1240017","30 a 34 años",{"$f":"SUM(D103:G103)","v":1719},{"$f":"IFERROR(VLOOKUP($A103,Filtro!$A$5:$AY$629,3,FALSE),0)","v":1321},{"$f":"IFERROR(VLOOKUP($A103,Filtro!$A$5:$AY$629,4,FALSE),0)","v":93},{"$f":"IFERROR(VLOOKUP($A103,Filtro!$A$5:$AY$629,5,FALSE),0)","v":23},{"$f":"IFERROR(VLOOKUP($A103,Filtro!$A$5:$AY$629,6,FALSE),0)","v":282},{"$f":"IFERROR(VLOOKUP($A103,Filtro!$A$5:$AY$629,7,FALSE),0)","v":0}]
["P1240018","35 a 39 años",{"$f":"SUM(D104:G104)","v":1826},{"$f":"IFERROR(VLOOKUP($A104,Filtro!$A$5:$AY$629,3,FALSE),0)","v":1533},{"$f":"IFERROR(VLOOKUP($A104,Filtro!$A$5:$AY$629,4,FALSE),0)","v":63},{"$f":"IFERROR(VLOOKUP($A104,Filtro!$A$5:$AY$629,5,FALSE),0)","v":24},{"$f":"IFERROR(VLOOKUP($A104,Filtro!$A$5:$AY$629,6,FALSE),0)","v":206},{"$f":"IFERROR(VLOOKUP($A104,Filtro!$A$5:$AY$629,7,FALSE),0)","v":0}]
["P1240019","40 a 44 años",1613,{"$f":"IFERROR(VLOOKUP($A105,Filtro!$A$5:$AY$629,3,FALSE),0)","v":1382},{"$f":"IFERROR(VLOOKUP($A105,Filtro!$A$5:$AY$629,4,FALSE),0)","v":65},{"$f":"IFERROR(VLOOKUP($A105,Filtro!$A$5:$AY$629,5,FALSE),0)","v":17},{"$f":"IFERROR(VLOOKUP($A105,Filtro!$A$5:$AY$629,6,FALSE),0)","v":149},{"$f":"IFERROR(VLOOKUP($A105,Filtro!$A$5:$AY$629,7,FALSE),0)","v":0}]
["P1240020","45 a 49 años",1565,{"$f":"IFERROR(VLOOKUP($A106,Filtro!$A$5:$AY$629,3,FALSE),0)","v":1383},{"$f":"IFERROR(VLOOKUP($A106,Filtro!$A$5:$AY$629,4,FALSE),0)","v":46},{"$f":"IFERROR(VLOOKUP($A106,Filtro!$A$5:$AY$629,5,FALSE),0)","v":7},{"$f":"IFERROR(VLOOKUP($A106,Filtro!$A$5:$AY$629,6,FALSE),0)","v":129},{"$f":"IFERROR(VLOOKUP($A106,Filtro!$A$5:$AY$629,7,FALSE),0)","v":0}]
["P1240021","50 a 54 años",1389,{"$f":"IFERROR(VLOOKUP($A107,Filtro!$A$5:$AY$629,3,FALSE),0)","v":1219},{"$f":"IFERROR(VLOOKUP($A107,Filtro!$A$5:$AY$629,4,FALSE),0)","v":59},{"$f":"IFERROR(VLOOKUP($A107,Filtro!$A$5:$AY$629,5,FALSE),0)","v":10},{"$f":"IFERROR(VLOOKUP($A107,Filtro!$A$5:$AY$629,6,FALSE),0)","v":101},{"$f":"IFERROR(VLOOKUP($A107,Filtro!$A$5:$AY$629,7,FALSE),0)","v":0}]
["P1240022","55 a 59 años",1334,{"$f":"IFERROR(VLOOKUP($A108,Filtro!$A$5:$AY$629,3,FALSE),0)","v":1178},{"$f":"IFERROR(VLOOKUP($A108,Filtro!$A$5:$AY$629,4,FALSE),0)","v":37},{"$f":"IFERROR(VLOOKUP($A108,Filtro!$A$5:$AY$629,5,FALSE),0)","v":10},{"$f":"IFERROR(VLOOKUP($A108,Filtro!$A$5:$AY$629,6,FALSE),0)","v":109},{"$f":"IFERROR(VLOOKUP($A108,Filtro!$A$5:$AY$629,7,FALSE),0)","v":0}]
["P1240023","60 a 64 años",882,{"$f":"IFERROR(VLOOKUP($A109,Filtro!$A$5:$AY$629,3,FALSE),0)","v":792},{"$f":"IFERROR(VLOOKUP($A109,Filtro!$A$5:$AY$629,4,FALSE),0)","v":26},{"$f":"IFERROR(VLOOKUP($A109,Filtro!$A$5:$AY$629,5,FALSE),0)","v":2},{"$f":"IFERROR(VLOOKUP($A109,Filtro!$A$5:$AY$629,6,FALSE),0)","v":62},{"$f":"IFERROR(VLOOKUP($A109,Filtro!$A$5:$AY$629,7,FALSE),0)","v":0}]
["P1240024","65 a 69 años",117,{"$f":"IFERROR(VLOOKUP($A110,Filtro!$A$5:$AY$629,3,FALSE),0)","v":107},{"$f":"IFERROR(VLOOKUP($A110,Filtro!$A$5:$AY$629,4,FALSE),0)","v":2},{"$f":"IFERROR(VLOOKUP($A110,Filtro!$A$5:$AY$629,5,FALSE),0)","v":2},{"$f":"IFERROR(VLOOKUP($A110,Filtro!$A$5:$AY$629,6,FALSE),0)","v":6},{"$f":"IFERROR(VLOOKUP($A110,Filtro!$A$5:$AY$629,7,FALSE),0)","v":0}]
["P1240025","70 a 74 años",2,{"$f":"IFERROR(VLOOKUP($A111,Filtro!$A$5:$AY$629,3,FALSE),0)","v":2},{"$f":"IFERROR(VLOOKUP($A111,Filtro!$A$5:$AY$629,4,FALSE),0)","v":0},{"$f":"IFERROR(VLOOKUP($A111,Filtro!$A$5:$AY$629,5,FALSE),0)","v":0},{"$f":"IFERROR(VLOOKUP($A111,Filtro!$A$5:$AY$629,6,FALSE),0)","v":0},{"$f":"IFERROR(VLOOKUP($A111,Filtro!$A$5:$AY$629,7,FALSE),0)","v":0}]
["P1240026","75 a 79 años",1,{"$f":"IFERROR(VLOOKUP($A112,Filtro!$A$5:$AY$629,3,FALSE),0)","v":0},{"$f":"IFERROR(VLOOKUP($A112,Filtro!$A$5:$AY$629,4,FALSE),0)","v":0},{"$f":"IFERROR(VLOOKUP($A112,Filtro!$A$5:$AY$629,5,FALSE),0)","v":0},{"$f":"IFERROR(VLOOKUP($A112,Filtro!$A$5:$AY$629,6,FALSE),0)","v":1},{"$f":"IFERROR(VLOOKUP($A112,Filtro!$A$5:$AY$629,7,FALSE),0)","v":0}]
["P1240027","80 y más años",0,{"$f":"IFERROR(VLOOKUP($A113,Filtro!$A$5:$AY$629,3,FALSE),0)","v":0},{"$f":"IFERROR(VLOOKUP($A113,Filtro!$A$5:$AY$629,4,FALSE),0)","v":0},{"$f":"IFERROR(VLOOKUP($A113,Filtro!$A$5:$AY$629,5,FALSE),0)","v":0},{"$f":"IFERROR(VLOOKUP($A113,Filtro!$A$5:$AY$629,6,FALSE),0)","v":0},{"$f":"IFERROR(VLOOKUP($A113,Filtro!$A$5:$AY$629,7,FALSE),0)","v":0}]
[null,"TOTAL",{"$f":"SUM(D114:G114)","v":10448},{"$f":"SUM(D103:D113)","v":8917},{"$f":"SUM(E103:E113)","v":391},{"$f":"SUM(F103:F113)","v":95},{"$f":"SUM(G103:G113)","v":1045},{"$f":"SUM(H103:H113)","v":0}]
[null,"* Agrupados Alto Riesgo"]
[null,"SECCIÓN F.1: PROGRAMA DE CANCER DE CUELLO UTERINO: RESULTADOS DE  VPH, REALIZADOS EN EL EXTRASISTEMA SEGÚN  GRUPOS DE EDAD\n(Exámenes realizados en extrasistema)"]
[null,"GRUPO DE EDAD \n(en años)","VPH INFORMADOS SEGÚN RESULTADO"]
[null,null,"TOTAL","VPH (-)","POSITIVOS",null,null,"TOTAL VPH  INFORMADOS EN TRANS MASCULINO "]
[{"$nulls":4},"VPH 16 (+)","VPH 18 (+)","VPH AR (+) "]
["P1240028","30 a 34 años",{"$f":"SUM(D120:G120)","v":3},{"$f":"IFERROR(VLOOKUP($A120,Filtro!$A$5:$AY$629,3,FALSE),0)","v":0},{"$f":"IFERROR(VLOOKUP($A120,Filtro!$A$5:$AY$629,4,FALSE),0)","v":1},{"$f":"IFERROR(VLOOKUP($A120,Filtro!$A$5:$AY$629,5,FALSE),0)","v":0},{"$f":"IFERROR(VLOOKUP($A120,Filtro!$A$5:$AY$629,6,FALSE),0)","v":2},{"$f":"IFERROR(VLOOKUP($A120,Filtro!$A$5:$AY$629,7,FALSE),0)","v":0}]
["P1240029","35 a 39 años",{"$f":"SUM(D121:G121)","v":0},{"$f":"IFERROR(VLOOKUP($A121,Filtro!$A$5:$AY$629,3,FALSE),0)","v":0},{"$f":"IFERROR(VLOOKUP($A121,Filtro!$A$5:$AY$629,4,FALSE),0)","v":0},{"$f":"IFERROR(VLOOKUP($A121,Filtro!$A$5:$AY$629,5,FALSE),0)","v":0},{"$f":"IFERROR(VLOOKUP($A121,Filtro!$A$5:$AY$629,6,FALSE),0)","v":0},{"$f":"IFERROR(VLOOKUP($A121,Filtro!$A$5:$AY$629,7,FALSE),0)","v":0}]
["P1240030","40 a 44 años",1,{"$f":"IFERROR(VLOOKUP($A122,Filtro!$A$5:$AY$629,3,FALSE),0)","v":1},{"$f":"IFERROR(VLOOKUP($A122,Filtro!$A$5:$AY$629,4,FALSE),0)","v":0},{"$f":"IFERROR(VLOOKUP($A122,Filtro!$A$5:$AY$629,5,FALSE),0)","v":0},{"$f":"IFERROR(VLOOKUP($A122,Filtro!$A$5:$AY$629,6,FALSE),0)","v":0},{"$f":"IFERROR(VLOOKUP($A122,Filtro!$A$5:$AY$629,7,FALSE),0)","v":0}]
["P1240031","45 a 49 años",0,{"$f":"IFERROR(VLOOKUP($A123,Filtro!$A$5:$AY$629,3,FALSE),0)","v":0},{"$f":"IFERROR(VLOOKUP($A123,Filtro!$A$5:$AY$629,4,FALSE),0)","v":0},{"$f":"IFERROR(VLOOKUP($A123,Filtro!$A$5:$AY$629,5,FALSE),0)","v":0},{"$f":"IFERROR(VLOOKUP($A123,Filtro!$A$5:$AY$629,6,FALSE),0)","v":0},{"$f":"IFERROR(VLOOKUP($A123,Filtro!$A$5:$AY$629,7,FALSE),0)","v":0}]
["P1240032","50 a 54 años",1,{"$f":"IFERROR(VLOOKUP($A124,Filtro!$A$5:$AY$629,3,FALSE),0)","v":0},{"$f":"IFERROR(VLOOKUP($A124,Filtro!$A$5:$AY$629,4,FALSE),0)","v":1},{"$f":"IFERROR(VLOOKUP($A124,Filtro!$A$5:$AY$629,5,FALSE),0)","v":0},{"$f":"IFERROR(VLOOKUP($A124,Filtro!$A$5:$AY$629,6,FALSE),0)","v":0},{"$f":"IFERROR(VLOOKUP($A124,Filtro!$A$5:$AY$629,7,FALSE),0)","v":0}]
["P1240033","55 a 59 años",2,{"$f":"IFERROR(VLOOKUP($A125,Filtro!$A$5:$AY$629,3,FALSE),0)","v":1},{"$f":"IFERROR(VLOOKUP($A125,Filtro!$A$5:$AY$629,4,FALSE),0)","v":0},{"$f":"IFERROR(VLOOKUP($A125,Filtro!$A$5:$AY$629,5,FALSE),0)","v":0},{"$f":"IFERROR(VLOOKUP($A125,Filtro!$A$5:$AY$629,6,FALSE),0)","v":1},{"$f":"IFERROR(VLOOKUP($A125,Filtro!$A$5:$AY$629,7,FALSE),0)","v":0}]
["P1240034","60 a 64 años",1,{"$f":"IFERROR(VLOOKUP($A126,Filtro!$A$5:$AY$629,3,FALSE),0)","v":1},{"$f":"IFERROR(VLOOKUP($A126,Filtro!$A$5:$AY$629,4,FALSE),0)","v":0},{"$f":"IFERROR(VLOOKUP($A126,Filtro!$A$5:$AY$629,5,FALSE),0)","v":0},{"$f":"IFERROR(VLOOKUP($A126,Filtro!$A$5:$AY$629,6,FALSE),0)","v":0},{"$f":"IFERROR(VLOOKUP($A126,Filtro!$A$5:$AY$629,7,FALSE),0)","v":0}]
["P1240035","65 a 69 años",0,{"$f":"IFERROR(VLOOKUP($A127,Filtro!$A$5:$AY$629,3,FALSE),0)","v":0},{"$f":"IFERROR(VLOOKUP($A127,Filtro!$A$5:$AY$629,4,FALSE),0)","v":0},{"$f":"IFERROR(VLOOKUP($A127,Filtro!$A$5:$AY$629,5,FALSE),0)","v":0},{"$f":"IFERROR(VLOOKUP($A127,Filtro!$A$5:$AY$629,6,FALSE),0)","v":0},{"$f":"IFERROR(VLOOKUP($A127,Filtro!$A$5:$AY$629,7,FALSE),0)","v":0}]
["P1240036","70 a 74 años",0,{"$f":"IFERROR(VLOOKUP($A128,Filtro!$A$5:$AY$629,3,FALSE),0)","v":0},{"$f":"IFERROR(VLOOKUP($A128,Filtro!$A$5:$AY$629,4,FALSE),0)","v":0},{"$f":"IFERROR(VLOOKUP($A128,Filtro!$A$5:$AY$629,5,FALSE),0)","v":0},{"$f":"IFERROR(VLOOKUP($A128,Filtro!$A$5:$AY$629,6,FALSE),0)","v":0},{"$f":"IFERROR(VLOOKUP($A128,Filtro!$A$5:$AY$629,7,FALSE),0)","v":0}]
["P1240037","75 a 79 años",0,{"$f":"IFERROR(VLOOKUP($A129,Filtro!$A$5:$AY$629,3,FALSE),0)","v":0},{"$f":"IFERROR(VLOOKUP($A129,Filtro!$A$5:$AY$629,4,FALSE),0)","v":0},{"$f":"IFERROR(VLOOKUP($A129,Filtro!$A$5:$AY$629,5,FALSE),0)","v":0},{"$f":"IFERROR(VLOOKUP($A129,Filtro!$A$5:$AY$629,6,FALSE),0)","v":0},{"$f":"IFERROR(VLOOKUP($A129,Filtro!$A$5:$AY$629,7,FALSE),0)","v":0}]
["P1240038","80 y más años",0,{"$f":"IFERROR(VLOOKUP($A130,Filtro!$A$5:$AY$629,3,FALSE),0)","v":0},{"$f":"IFERROR(VLOOKUP($A130,Filtro!$A$5:$AY$629,4,FALSE),0)","v":0},{"$f":"IFERROR(VLOOKUP($A130,Filtro!$A$5:$AY$629,5,FALSE),0)","v":0},{"$f":"IFERROR(VLOOKUP($A130,Filtro!$A$5:$AY$629,6,FALSE),0)","v":0},{"$f":"IFERROR(VLOOKUP($A130,Filtro!$A$5:$AY$629,7,FALSE),0)","v":0}]
[null,"TOTAL",{"$f":"SUM(D131:G131)","v":8},{"$f":"SUM(D120:D130)","v":3},{"$f":"SUM(E120:E130)","v":2},{"$f":"SUM(F120:F130)","v":0},{"$f":"SUM(G120:G130)","v":3},{"$f":"SUM(H120:H130)","v":0}]
{"$rows_empty":67}
[null,{"$f":"SUM(C10:D22,D29:M41,D48:M60,C65:C73,C78:C86,C91:D97,D103:H113,D120:H130)","v":231577},"datos"]
[null,{"$f":"SUM(BB$10:CA130)","v":0},"errores"]

{"sheet":"P13","index":12,"n_rows":40,"n_cols":72,"rows_kept":40,"merged":[[6,2,6,13],[8,1,10,1],[8,2,9,4],[8,5,8,16],[8,17,10,17],[8,18,10,18],[9,5,9,6],[9,7,9,8],[9,9,9,10],[9,11,9,12],[9,13,9,14],[9,15,9,16],[16,1,18,1],[16,2,17,4],[16,5,16,16],[16,17,18,17],[16,18,18,18],[16,19,18,19],[16,20,18,20],[17,5,17,6],[17,7,17,8],[17,9,17,10],[17,11,17,12],[17,13,17,14],[17,15,17,16]]}
[null,"DATOS DEL ESTABLECIMIENTO"]
[null,{"$f":"CONCATENATE(\"COMUNA: \",NOMBRE!$B$2,\" - \",\"( \",NOMBRE!$C$2,NOMBRE!$D$2,NOMBRE!$E$2,NOMBRE!$F$2,NOMBRE!$G$2,\" )\")","v":"COMUNA:  - (  )"}]
[null,{"$f":"CONCATENATE(\"ESTABLECIMIENTO/ESTRATEGIA: \",NOMBRE!$B$3,\" - \",\"( \",NOMBRE!$C$3,NOMBRE!$D$3,NOMBRE!$E$3,NOMBRE!$F$3,NOMBRE!$G$3,NOMBRE!$H$3,\" )\")","v":"ESTABLECIMIENTO/ESTRATEGIA:  - (  )"}]
[null,{"$f":"CONCATENATE(\"MES: \",NOMBRE!$B$6,\" - \",\"( \",NOMBRE!$C$6,NOMBRE!$D$6,\" )\")","v":"MES:  - (  )"}]
[null,{"$f":"CONCATENATE(\"AÑO: \",NOMBRE!$B$7)","v":"AÑO: 2023"}]
[]
[null,null,"REM-P13. NIÑOS, NIÑAS, ADOLESCENTES Y JÓVENES CON VULNERACIÓN DE DERECHOS Y/O INFRACCIÓN A LA LEY BAJO LA PROTECCIÓN DEL ESTADO EN ATENCIÓN"]
[null,"SECCIÓN A: NIÑOS, NIÑAS, ADOLESCENTES Y JÓVENES CON VULNERACIÓN DE DERECHOS Y/O INFRACIÓN A LA LEY EN CONTROL DE SALUD EN APS AL CORTE"]
[null,"Tipo de Programas SENAME","TOTAL",null,null,"POR EDAD ",{"$nulls":11},"Migrantes","Pueblos Originarios"]
[{"$nulls":5}," 0 - 4",null," 5 - 9",null," 10 - 14 ",null,"15 a 19",null,"20 - 24",null,"Mayor a 25 años"]
[null,null,"Ambos sexos","Hombre","Mujer","Hombre","Mujer","Hombre","Mujer","Hombre","Mujer","Hombre","Mujer","Hombre","Mujer","Hombre","Mujer"]
[null,"TOTAL",{"$f":"SUM(D12:E12)","v":3096},{"$f":"SUM(D13:D15)","v":1443},{"$f":"SUM(E13:E15)","v":1653},{"$f":"SUM(F13:F14)","v":351},{"$f":"SUM(G13:G15)","v":406},377,328,420,504,273,380,17,9,5,26,38,{"$f":"SUM(S13:S15)","v":48},{"$f":"BB12&BC12&BD12&BE12","v":""},{"$nulls":33},{"$f":"IF(BQ12=1,\" * El total de Migrantes no debe superar el total de población ingresada. \",\"\")","v":""},null,{"$f":"IF(BS12=1,\" * El total de Pueblos Originarios no debe superar el total de población ingresada. \",\"\")","v":""},{"$nulls":12},{"$f":"IF(R12>C12,1,0)","v":0},null,{"$f":"IF(S12>C12,1,0)","v":0}]
["P1310020","AMBULATORIO / SANCIÓN MEDIO LIBRE",{"$f":"SUM(D13:E13)","v":2870},{"$f":"+F13+H13+J13+L13+N13+P13","v":1315},{"$f":"+G13+I13+K13+M13+O13+Q13","v":1555},{"$f":"IFERROR(VLOOKUP($A13,Filtro!$A$5:$AY$629,5,FALSE),0)","v":332},{"$f":"IFERROR(VLOOKUP($A13,Filtro!$A$5:$AY$629,6,FALSE),0)","v":395},{"$f":"IFERROR(VLOOKUP($A13,Filtro!$A$5:$AY$629,7,FALSE),0)","v":353},{"$f":"IFERROR(VLOOKUP($A13,Filtro!$A$5:$AY$629,8,FALSE),0)","v":309},{"$f":"IFERROR(VLOOKUP($A13,Filtro!$A$5:$AY$629,9,FALSE),0)","v":390},{"$f":"IFERROR(VLOOKUP($A13,Filtro!$A$5:$AY$629,10,FALSE),0)","v":470},{"$f":"IFERROR(VLOOKUP($A13,Filtro!$A$5:$AY$629,11,FALSE),0)","v":223},{"$f":"IFERROR(VLOOKUP($A13,Filtro!$A$5:$AY$629,12,FALSE),0)","v":346},{"$f":"IFERROR(VLOOKUP($A13,Filtro!$A$5:$AY$629,13,FALSE),0)","v":12},{"$f":"IFERROR(VLOOKUP($A13,Filtro!$A$5:$AY$629,14,FALSE),0)","v":9},{"$f":"IFERROR(VLOOKUP($A13,Filtro!$A$5:$AY$629,15,FALSE),0)","v":5},{"$f":"IFERROR(VLOOKUP($A13,Filtro!$A$5:$AY$629,16,FALSE),0)","v":26},{"$f":"IFERROR(VLOOKUP($A13,Filtro!$A$5:$AY$629,17,FALSE),0)","v":33},{"$f":"IFERROR(VLOOKUP($A13,Filtro!$A$5:$AY$629,18,FALSE),0)","v":47}]
["P1310030","RESIDENCIALES",{"$f":"SUM(D14:E14)","v":199},{"$f":"+F14+H14+J14+L14+N14+P14","v":102},{"$f":"+G14+I14+K14+M14+O14+Q14","v":97},{"$f":"IFERROR(VLOOKUP($A14,Filtro!$A$5:$AY$629,5,FALSE),0)","v":19},{"$f":"IFERROR(VLOOKUP($A14,Filtro!$A$5:$AY$629,6,FALSE),0)","v":11},{"$f":"IFERROR(VLOOKUP($A14,Filtro!$A$5:$AY$629,7,FALSE),0)","v":24},{"$f":"IFERROR(VLOOKUP($A14,Filtro!$A$5:$AY$629,8,FALSE),0)","v":19},{"$f":"IFERROR(VLOOKUP($A14,Filtro!$A$5:$AY$629,9,FALSE),0)","v":29},{"$f":"IFERROR(VLOOKUP($A14,Filtro!$A$5:$AY$629,10,FALSE),0)","v":34},{"$f":"IFERROR(VLOOKUP($A14,Filtro!$A$5:$AY$629,11,FALSE),0)","v":30},{"$f":"IFERROR(VLOOKUP($A14,Filtro!$A$5:$AY$629,12,FALSE),0)","v":33},{"$f":"IFERROR(VLOOKUP($A14,Filtro!$A$5:$AY$629,13,FALSE),0)","v":0},{"$f":"IFERROR(VLOOKUP($A14,Filtro!$A$5:$AY$629,14,FALSE),0)","v":0},{"$f":"IFERROR(VLOOKUP($A14,Filtro!$A$5:$AY$629,15,FALSE),0)","v":0},{"$f":"IFERROR(VLOOKUP($A14,Filtro!$A$5:$AY$629,16,FALSE),0)","v":0},{"$f":"IFERROR(VLOOKUP($A14,Filtro!$A$5:$AY$629,17,FALSE),0)","v":4},{"$f":"IFERROR(VLOOKUP($A14,Filtro!$A$5:$AY$629,18,FALSE),0)","v":0},"",{"$nulls":33},{"$f":"IF(BQ14=1,\" * El total de Migrantes no debe superar el total de población ingresada. \",\"\")","v":""},{"$f":"IF(BR14=1,\"* No olvide ingresar la columna Migrantes (Digite Cero si no tiene). \",\"\")","v":""},{"$f":"IF(BS14=1,\" * El total de Pueblos Originarios no debe superar el total de población ingresada. \",\"\")","v":""},{"$f":"IF(BT14=1,\"* No olvide ingresar la columna Pueblos Originarios (Digite Cero si no tiene). \",\"\")","v":""},{"$nulls":11},{"$f":"IF(R14>C14,1,0)","v":0},{"$f":"IF(AND(C14<>0,R14=\"\"),1,0)","v":0},{"$f":"IF(S14>C14,1,0)","v":0},{"$f":"IF(AND(C14<>0,S14=\"\"),1,0)","v":0}]
["P1310040","CIP-CRC",{"$f":"SUM(D15:E15)","v":27},{"$f":"+F15+H15+J15+L15+N15+P15","v":26},{"$f":"+K15+M15+O15+Q15","v":1},0,0,0,0,{"$f":"IFERROR(VLOOKUP($A15,Filtro!$A$5:$AY$629,9,FALSE),0)","v":1},{"$f":"IFERROR(VLOOKUP($A15,Filtro!$A$5:$AY$629,10,FALSE),0)","v":0},{"$f":"IFERROR(VLOOKUP($A15,Filtro!$A$5:$AY$629,11,FALSE),0)","v":20},{"$f":"IFERROR(VLOOKUP($A15,Filtro!$A$5:$AY$629,12,FALSE),0)","v":1},{"$f":"IFERROR(VLOOKUP($A15,Filtro!$A$5:$AY$629,13,FALSE),0)","v":5},{"$f":"IFERROR(VLOOKUP($A15,Filtro!$A$5:$AY$629,14,FALSE),0)","v":0},{"$f":"IFERROR(VLOOKUP($A15,Filtro!$A$5:$AY$629,15,FALSE),0)","v":0},{"$f":"IFERROR(VLOOKUP($A15,Filtro!$A$5:$AY$629,16,FALSE),0)","v":0},{"$f":"IFERROR(VLOOKUP($A15,Filtro!$A$5:$AY$629,17,FALSE),0)","v":1},{"$f":"IFERROR(VLOOKUP($A15,Filtro!$A$5:$AY$629,18,FALSE),0)","v":1},"",{"$nulls":33},{"$f":"IF(BQ15=1,\" * El total de Migrantes no debe superar el total de población ingresada. \",\"\")","v":""},{"$f":"IF(BR15=1,\"* No olvide ingresar la columna Migrantes (Digite Cero si no tiene). \",\"\")","v":""},"","",{"$nulls":11},{"$f":"IF(R15>C15,1,0)","v":0},{"$f":"IF(AND(C15<>0,R15=\"\"),1,0)","v":0},0,{"$f":"IF(AND(C15<>0,S15=\"\"),1,0)","v":0}]
[null,"SECCIÓN B: VARIABLES DE SEGUIMIENTO A POBLACIÓN DEL SERVICIO DE PROTECCIÓN ESPECIALIZADA MEJOR NIÑEZ Y SENAME EN CONTROL DE SALUD EN APS AL CORTE"]
[null,"Variable","TOTAL",null,null,"POR EDAD ",{"$nulls":11},"Migrantes","Pueblos Originarios","Servicio de Protección Especializada","SENAME"]
[{"$nulls":5}," 0 - 4",null," 5 - 9",null," 10 - 14 ",null,"15 a 19",null,"20 a 24",null,"Mayor a 25 años"]
[null,null,"Ambos sexos","Hombre","Mujer","Hombre","Mujer","Hombre","Mujer","Hombre","Mujer","Hombre","Mujer","Hombre","Mujer","Hombre","Mujer"]
["P1310050","POBLACIÓN EN CONTROL CON MÉTODO DE REGULACIÓN DE FERTILIDAD",{"$f":"SUM(D20:E20)","v":442},{"$f":"+J20+L20+N20+P20","v":8},{"$f":"+K20+M20+O20+Q20","v":434},0,0,0,0,{"$f":"IFERROR(VLOOKUP($A20,Filtro!$A$5:$AY$629,9,FALSE),0)","v":4},{"$f":"IFERROR(VLOOKUP($A20,Filtro!$A$5:$AY$629,10,FALSE),0)","v":48},{"$f":"IFERROR(VLOOKUP($A20,Filtro!$A$5:$AY$629,11,FALSE),0)","v":4},{"$f":"IFERROR(VLOOKUP($A20,Filtro!$A$5:$AY$629,12,FALSE),0)","v":136},{"$f":"IFERROR(VLOOKUP($A20,Filtro!$A$5:$AY$629,13,FALSE),0)","v":0},{"$f":"IFERROR(VLOOKUP($A20,Filtro!$A$5:$AY$629,14,FALSE),0)","v":55},{"$f":"IFERROR(VLOOKUP($A20,Filtro!$A$5:$AY$629,15,FALSE),0)","v":0},{"$f":"IFERROR(VLOOKUP($A20,Filtro!$A$5:$AY$629,16,FALSE),0)","v":195},{"$f":"IFERROR(VLOOKUP($A20,Filtro!$A$5:$AY$629,17,FALSE),0)","v":5},{"$f":"IFERROR(VLOOKUP($A20,Filtro!$A$5:$AY$629,18,FALSE),0)","v":10},{"$f":"IFERROR(VLOOKUP($A20,Filtro!$A$5:$AY$629,19,FALSE),0)","v":129},{"$f":"IFERROR(VLOOKUP($A20,Filtro!$A$5:$AY$629,20,FALSE),0)","v":30},{"$nulls":32},{"$f":"IF(BQ20=1,\" * El total de Migrantes no debe superar el total de población ingresada. \",\"\")","v":""},{"$f":"IF(BR20=1,\"* No olvide ingresar la columna Migrantes (Digite Cero si no tiene). \",\"\")","v":""},{"$f":"IF(BS20=1,\" * El total de Pueblos Originarios no debe superar el total de población ingresada. \",\"\")","v":""},{"$f":"IF(BT20=1,\"* No olvide ingresar la columna Pueblos Originarios (Digite Cero si no tiene). \",\"\")","v":""},{"$nulls":11},{"$f":"IF(R20>C20,1,0)","v":0},{"$f":"IF(AND(C20<>0,R20=\"\"),1,0)","v":0},{"$f":"IF(S20>C20,1,0)","v":0},{"$f":"IF(AND(C20<>0,S20=\"\"),1,0)","v":0}]
["P1310060","GESTANTES EN CONTROL CON RIESGO PSICOSOCIAL",21,{"$f":"+J21+L21+N21+P21","v":7},{"$f":"+K21+M21+O21+Q21","v":14},0,0,0,0,{"$f":"IFERROR(VLOOKUP($A21,Filtro!$A$5:$AY$629,9,FALSE),0)","v":1},{"$f":"IFERROR(VLOOKUP($A21,Filtro!$A$5:$AY$629,10,FALSE),0)","v":3},{"$f":"IFERROR(VLOOKUP($A21,Filtro!$A$5:$AY$629,11,FALSE),0)","v":4},{"$f":"IFERROR(VLOOKUP($A21,Filtro!$A$5:$AY$629,12,FALSE),0)","v":10},{"$f":"IFERROR(VLOOKUP($A21,Filtro!$A$5:$AY$629,13,FALSE),0)","v":2},{"$f":"IFERROR(VLOOKUP($A21,Filtro!$A$5:$AY$629,14,FALSE),0)","v":0},{"$f":"IFERROR(VLOOKUP($A21,Filtro!$A$5:$AY$629,15,FALSE),0)","v":0},{"$f":"IFERROR(VLOOKUP($A21,Filtro!$A$5:$AY$629,16,FALSE),0)","v":1},{"$f":"IFERROR(VLOOKUP($A21,Filtro!$A$5:$AY$629,17,FALSE),0)","v":0},{"$f":"IFERROR(VLOOKUP($A21,Filtro!$A$5:$AY$629,18,FALSE),0)","v":0},{"$f":"IFERROR(VLOOKUP($A21,Filtro!$A$5:$AY$629,19,FALSE),0)","v":21},{"$f":"IFERROR(VLOOKUP($A21,Filtro!$A$5:$AY$629,20,FALSE),0)","v":0},{"$nulls":32},"","","","",{"$nulls":11},0,0,0,0]
["P1310070","POBLACIÓN INFANTIL EN CONTROL",660,{"$f":"+F22+H22","v":335},{"$f":"+G22+I22","v":325},{"$f":"IFERROR(VLOOKUP($A22,Filtro!$A$5:$AY$629,5,FALSE),0)","v":140},{"$f":"IFERROR(VLOOKUP($A22,Filtro!$A$5:$AY$629,6,FALSE),0)","v":144},{"$f":"IFERROR(VLOOKUP($A22,Filtro!$A$5:$AY$629,7,FALSE),0)","v":195},{"$f":"IFERROR(VLOOKUP($A22,Filtro!$A$5:$AY$629,8,FALSE),0)","v":181},0,0,0,0,0,0,0,0,{"$f":"IFERROR(VLOOKUP($A22,Filtro!$A$5:$AY$629,17,FALSE),0)","v":5},{"$f":"IFERROR(VLOOKUP($A22,Filtro!$A$5:$AY$629,18,FALSE),0)","v":12},{"$f":"IFERROR(VLOOKUP($A22,Filtro!$A$5:$AY$629,19,FALSE),0)","v":434},{"$f":"IFERROR(VLOOKUP($A22,Filtro!$A$5:$AY$629,20,FALSE),0)","v":36},{"$nulls":32},"","","","",{"$nulls":11},0,0,0,0]
["P1310080","POBLACIÓN EN CONTROL DE SALUD INTEGRAL DE ADOLESCENTES SEGÚN ÁREA DE RIESGO",533,{"$f":"+J23+L23+N23+P23","v":239},{"$f":"+K23+M23+O23+Q23","v":294},0,0,0,0,{"$f":"IFERROR(VLOOKUP($A23,Filtro!$A$5:$AY$629,9,FALSE),0)","v":157},{"$f":"IFERROR(VLOOKUP($A23,Filtro!$A$5:$AY$629,10,FALSE),0)","v":194},{"$f":"IFERROR(VLOOKUP($A23,Filtro!$A$5:$AY$629,11,FALSE),0)","v":82},{"$f":"IFERROR(VLOOKUP($A23,Filtro!$A$5:$AY$629,12,FALSE),0)","v":100},{"$f":"IFERROR(VLOOKUP($A23,Filtro!$A$5:$AY$629,13,FALSE),0)","v":0},{"$f":"IFERROR(VLOOKUP($A23,Filtro!$A$5:$AY$629,14,FALSE),0)","v":0},{"$f":"IFERROR(VLOOKUP($A23,Filtro!$A$5:$AY$629,15,FALSE),0)","v":0},{"$f":"IFERROR(VLOOKUP($A23,Filtro!$A$5:$AY$629,16,FALSE),0)","v":0},{"$f":"IFERROR(VLOOKUP($A23,Filtro!$A$5:$AY$629,17,FALSE),0)","v":7},{"$f":"IFERROR(VLOOKUP($A23,Filtro!$A$5:$AY$629,18,FALSE),0)","v":11},{"$f":"IFERROR(VLOOKUP($A23,Filtro!$A$5:$AY$629,19,FALSE),0)","v":423},{"$f":"IFERROR(VLOOKUP($A23,Filtro!$A$5:$AY$629,20,FALSE),0)","v":32},{"$nulls":32},"","","","",{"$nulls":11},0,0,0,0]
["P1310090","POBLACIÓN EN CONTROL DE SALUD MENTAL",1257,{"$f":"+F24+H24+J24+L24+N24+P24","v":580},{"$f":"+G24+I24+K24+M24+O24+Q24","v":677},{"$f":"IFERROR(VLOOKUP($A24,Filtro!$A$5:$AY$629,5,FALSE),0)","v":12},{"$f":"IFERROR(VLOOKUP($A24,Filtro!$A$5:$AY$629,6,FALSE),0)","v":14},{"$f":"IFERROR(VLOOKUP($A24,Filtro!$A$5:$AY$629,7,FALSE),0)","v":179},{"$f":"IFERROR(VLOOKUP($A24,Filtro!$A$5:$AY$629,8,FALSE),0)","v":148},{"$f":"IFERROR(VLOOKUP($A24,Filtro!$A$5:$AY$629,9,FALSE),0)","v":201},{"$f":"IFERROR(VLOOKUP($A24,Filtro!$A$5:$AY$629,10,FALSE),0)","v":272},{"$f":"IFERROR(VLOOKUP($A24,Filtro!$A$5:$AY$629,11,FALSE),0)","v":171},{"$f":"IFERROR(VLOOKUP($A24,Filtro!$A$5:$AY$629,12,FALSE),0)","v":217},{"$f":"IFERROR(VLOOKUP($A24,Filtro!$A$5:$AY$629,13,FALSE),0)","v":13},{"$f":"IFERROR(VLOOKUP($A24,Filtro!$A$5:$AY$629,14,FALSE),0)","v":7},{"$f":"IFERROR(VLOOKUP($A24,Filtro!$A$5:$AY$629,15,FALSE),0)","v":4},{"$f":"IFERROR(VLOOKUP($A24,Filtro!$A$5:$AY$629,16,FALSE),0)","v":19},{"$f":"IFERROR(VLOOKUP($A24,Filtro!$A$5:$AY$629,17,FALSE),0)","v":18},{"$f":"IFERROR(VLOOKUP($A24,Filtro!$A$5:$AY$629,18,FALSE),0)","v":10},{"$f":"IFERROR(VLOOKUP($A24,Filtro!$A$5:$AY$629,19,FALSE),0)","v":794},{"$f":"IFERROR(VLOOKUP($A24,Filtro!$A$5:$AY$629,20,FALSE),0)","v":293},{"$nulls":32},"","","","",{"$nulls":11},0,0,0,0]
["P1320010","POBLACIÓN EN PROGRAMA DE ACOMPAÑAMIENTO PSICOSOCIAL",{"$f":"SUM(D25:E25)","v":159},{"$f":"+F25+H25+J25+L25+N25","v":69},{"$f":"+G25+I25+K25+M25+O25","v":90},{"$f":"IFERROR(VLOOKUP($A25,Filtro!$A$5:$AY$629,5,FALSE),0)","v":9},{"$f":"IFERROR(VLOOKUP($A25,Filtro!$A$5:$AY$629,6,FALSE),0)","v":18},{"$f":"IFERROR(VLOOKUP($A25,Filtro!$A$5:$AY$629,7,FALSE),0)","v":22},{"$f":"IFERROR(VLOOKUP($A25,Filtro!$A$5:$AY$629,8,FALSE),0)","v":21},{"$f":"IFERROR(VLOOKUP($A25,Filtro!$A$5:$AY$629,9,FALSE),0)","v":25},{"$f":"IFERROR(VLOOKUP($A25,Filtro!$A$5:$AY$629,10,FALSE),0)","v":27},{"$f":"IFERROR(VLOOKUP($A25,Filtro!$A$5:$AY$629,11,FALSE),0)","v":12},{"$f":"IFERROR(VLOOKUP($A25,Filtro!$A$5:$AY$629,12,FALSE),0)","v":24},{"$f":"IFERROR(VLOOKUP($A25,Filtro!$A$5:$AY$629,13,FALSE),0)","v":1},{"$f":"IFERROR(VLOOKUP($A25,Filtro!$A$5:$AY$629,14,FALSE),0)","v":0},0,0,{"$f":"IFERROR(VLOOKUP($A25,Filtro!$A$5:$AY$629,17,FALSE),0)","v":2},{"$f":"IFERROR(VLOOKUP($A25,Filtro!$A$5:$AY$629,18,FALSE),0)","v":4},{"$f":"IFERROR(VLOOKUP($A25,Filtro!$A$5:$AY$629,19,FALSE),0)","v":105},{"$f":"IFERROR(VLOOKUP($A25,Filtro!$A$5:$AY$629,20,FALSE),0)","v":20},{"$nulls":32},"","","","",{"$nulls":11},0,0,0,0]
[]
[]
["CODIGOS ELIMINADOS"]
["P1310010"]
["P1320030"]
["P1320040"]
["P1320050"]
[]
[]
[]
[]
[]
[]
[null,{"$f":"SUM(C12:Q15,C20:Q25)","v":27792},"datos"]
[null,{"$f":"SUM(BQ5:BT25)","v":0},"errores"]